{"text_format":"1","workbook":"xlsx","n_sheets":15,"sheets":["EF","BD","FU","Inconsistencias","CRI-M","COG-M","CRI-RYP","COG-RYP","CF","CA","EA","Plantilla","CRI-DE","COG-FF","CTG-FF"],"not_rendered":{"charts":4,"images":1,"macros":1,"external_links":0,"defined_names":14,"comments":4,"pivot_tables":0},"unopened":[],"bounds":{"document_bytes":16777216,"sheet_cells":100000,"rows_first":2000,"rows_last":500,"rows_between":2000,"halvings":0,"cell_chars":16384,"cell_head_chars":4096},"cells_cut":0,"cells_raw":0,"read":"whole","date_system":"1900"}

{"sheet":"EF","index":0,"n_rows":1001,"n_cols":22,"rows_kept":1001,"cut":false,"hidden":true,"merged":[]}
["ente","ámbito","activo","ente_mayor","tema","Clase","Tipo","Año de creación","Año de cierre","Número de contrato","clv_2019",null,null,null,null,null,"Municipio","Región","Población 2015","Población 2020","Clave","Concepto"]
["Secretaría General de Gobierno","Estatal","Sí","000","Gobierno","Ejecutivo","Dependencia ",1959,"NA","NA",100200,null,{"$f":"COUNTIF($A$2:$A$1001,\"<=\"&A2)","v":469},1,{"$f":"INDEX($A$2:$A$1001,MATCH(N2,$M$2:$M$1001,0))","v":"Acatic"},null,"Acatic","Altos Sur",21530,23175,"PAI","Presupuesto inicial"]
["Secretaría de Planeación, Administración y Finanzas","Estatal","No","000","Economía","Ejecutivo","Dependencia",2013,2018,"NA",100300,null,459,2,"Acatlán de Juárez",null,"Acatlán de Juárez","Lagunas",22261,25250,"1GF","Primer informe de avances de gestión financiera"]
["Secretaría de Educación","Estatal","Sí","000","Educación","Ejecutivo","Dependencia",1989,"NA","NA",100400,null,448,3,"Administración de Estacionómetros para la Asistencia Social del Municipio de Zapotlán el Grande",null,"Ahualulco de Mercado","Valles",23362,23630,"2GF","Segundo informe de avances de gestión financiera"]
["Secretaría de Salud","Estatal","Sí","000","Salud","Ejecutivo","Dependencia",1989,"NA","NA",100500,null,461,4,"Agencia de Energía del Estado de Jalisco",null,"Amacueca","Lagunas",5385,5743,"1M","Modificación al presupuesto No. 1"]
["Secretaría de Infraestructura y Obra Pública","Estatal","Sí","000","Territorio","Ejecutivo","Dependencia",2013,"NA","NA",100600,null,452,5,"Agencia Estatal de Entretenimiento de Jalisco",null,"Amatitán","Valles",15344,16490,"2M","Modificación al presupuesto No. 2"]
["Secretaría de Desarrollo Económico","Estatal","Sí","000","Economía","Ejecutivo","Dependencia",2013,"NA","NA",100700,null,445,6,"Agencia Integral de Regulación de Emisiones",null,"Ameca","Valles",60951,60386,"3M","Modificación al presupuesto No. 3"]
["Secretaría de Turismo","Estatal","Sí","000","Economía","Ejecutivo","Dependencia",1989,"NA","NA",100800,null,463,7,"Agencia Metropolitana de Bosques Urbanos del Área Metropolitana de Guadalajara ",null,"San Juanito de Escobedo","Valles",9420,9433,"4M","Modificación al presupuesto No. 4"]
["Secretaría de Desarrollo Rural","Estatal","No","000","Economía","Ejecutivo","Dependencia",2013,2018,"NA",100900,null,446,8,"Agencia Metropolitana de Seguridad Pública del Área Metropolitana de Guadalajara",null,"Arandas","Altos Sur",77116,80609,"5M","Modificación al presupuesto No. 5"]
["Secretaría de Medio Ambiente y Desarrollo Territorial","Estatal","Sí","000","Medio ambiente","Ejecutivo","Dependencia",2013,"NA","NA",101000,null,455,9,"Agencia Metropolitana de Servicios de Infraestructura para la Movilidad del Área Metropolitana de Guadalajara ",null,"El Arenal","Valles",19900,21115,"6M","Modificación al presupuesto No. 6"]
["Secretaría de Desarrollo e Integración Social","Estatal","No","000","Asistencia social","Ejecutivo","Dependencia",2013,2018,"NA",101100,null,444,10,"Agencia para el Desarrollo de Industrias Creativas y Digitales",null,"Atemajac de Brizuela","Lagunas",6717,7758,"7M","Modificación al presupuesto No. 7"]
["Secretaría de Innovación, Ciencia y Tecnología","Estatal","Sí","000","Educación","Ejecutivo","Dependencia",2013,"NA","NA",101200,null,453,11,"Agua y Saneamiento del Municipio de Tepatitlán",null,"Atengo","Sierra de Amula",5475,5599,"8M","Modificación al presupuesto No. 8"]
["Secretaría de Cultura","Estatal","Sí","000","Cultura","Ejecutivo","Dependencia",1989,"NA","NA",101300,null,443,12,"Ahualulco de Mercado",null,"Atenguillo","Costa Sierra Occidental",3899,4176,"9M","Modificación al presupuesto No. 9"]
["Secretaría del Trabajo y Previsión Social","Estatal","Sí","000","Economía","Ejecutivo","Dependencia",1989,"NA","NA",101400,null,466,13,"Albergue \"Las Cuadritas\" Fray Antonio Alcalde",null,"Atotonilco el Alto","Ciénega ",60480,64009,"10M","Modificación al presupuesto No. 10"]
["Secretaría de Movilidad","Estatal","No","000","Territorio","Ejecutivo","Dependencia",2013,2018,"NA",101500,null,456,14,"Amacueca",null,"Atoyac","Lagunas",8264,8689,"11M","Modificación al presupuesto No. 11"]
["Fiscalía Estatal","Estatal","Sí","000","Seguridad","Ejecutivo","Dependencia",2013,"NA","NA",101600,null,286,15,"Amatitán",null,"Autlán de Navarro","Sierra de Amula",60572,64931,"12M","Modificación al presupuesto No. 12"]
["Contraloría del Estado","Estatal","NA","000","Gobierno","Ejecutivo","Dependencia",1984,"NA","NA",101800,null,73,16,"Ameca",null,"Ayotlán","Ciénega",37963,41552,"13M","Modificación al presupuesto No. 13"]
["Unidades Administrativas de Apoyo al Gobernador del Estado","Estatal","Sí","000","Gobierno","Ejecutivo","Dependencia",1983,"NA","NA",101900,null,537,17,"Arandas",null,"Ayutla","Sierra de Amula",12453,12880,"14M","Modificación al presupuesto No. 14"]
["Tribunal de Arbitraje y Escalafón","Estatal","Sí","000","Justicia","Ejecutivo","Dependencia",2003,"NA","NA",102000,null,529,18,"Asociación Intermunicipal para la Protección del Medio Ambiente y el Desarrollo Sustentable del Lago de Chapala",null,"La Barca","Ciénega",65055,67937,"15M","Modificación al presupuesto No. 15"]
["Secretaría de Desarrollo Urbano","Estatal","No","000","Territorio","Ejecutivo","Dependencia",1989,2013,"NA",102100,null,447,19,"Atemajac de Brizuela",null,"Bolaños","Norte",7341,7043,"16M","Modificación al presupuesto No. 16"]
["Secretaría de Finanzas","Estatal","No","000","Economía","Ejecutivo","Dependencia",1989,2013,"NA",102200,null,449,20,"Atengo",null,"Cabo Corrientes","Costa Sierra Occidental",10303,10940,"17M","Modificación al presupuesto No. 17"]
["Secretaría de Planeación","Estatal","No","000","Gobierno","Ejecutivo","Dependencia",1989,2013,"NA",102300,null,457,21,"Atenguillo",null,"Casimiro Castillo","Costa Sur",21584,20548,"18M","Modificación al presupuesto No. 18"]
["Consejo Económico y Social del Estado de Jalisco para el Desarrollo y Competitividad","Estatal","No","000","Economía","Ejecutivo","Dependencia",2004,2018,"NA",103000,null,54,22,"Atotonilco el Alto",null,"Cihuatlán","Costa Sur",41300,40139,"19M","Modificación al presupuesto No. 19"]
["Secretaría de Promoción Económica","Estatal","No","000","Economía","Ejecutivo","Dependencia",1989,2013,"NA",103400,null,460,23,"Atoyac",null,"Zapotlán el Grande","Sur",105423,115141,"20M","Modificación al presupuesto No. 20"]
["Secretaría de Administración","Estatal","Sí","000","Gobierno","Ejecutivo","Dependencia",2018,"NA","NA",103500,null,441,24,"Auditoría Superior del Estado de Jalisco",null,"Cocula","Lagunas",26687,29267,"21M","Modificación al presupuesto No. 21"]
["Secretaría de Administración","Estatal","No","000","Gobierno","Ejecutivo","Dependencia",1989,2013,"NA",103500,null,441,25,"Autlán de Navarro",null,"Colotlán","Norte",17865,19689,"22M","Modificación al presupuesto No. 22"]
["Secretaría de Planeación y Participación Ciudadana","Estatal","Sí","000","Gobierno","Ejecutivo","Dependencia",2018,"NA","NA",103600,null,458,26,"Ayotlán",null,"Concepción de Buenos Aires","Sureste",5933,6334,"23M","Modificación al presupuesto No. 23"]
["Secretaría de Seguridad","Estatal","Sí","000","Seguridad","Ejecutivo","Dependencia",2018,"NA","NA",103700,null,462,27,"Ayutla",null,"Cuautitlán de García Barragán","Costa Sur",18138,18370,"24M","Modificación al presupuesto No. 24"]
["Secretaría de Gestión Integral del Agua","Estatal","Sí","000","Medio ambiente","Ejecutivo","Dependencia",2018,"NA","NA",103800,null,450,28,"Bolaños",null,"Cuautla","Sierra de Amula",2120,2166,"25M","Modificación al presupuesto No. 25"]
["Secretaría de Igualdad Sustantiva","Estatal","Sí","000","Asistencia social","Ejecutivo","Dependencia",2018,"NA","NA",103900,null,451,29,"Bosque la Primavera",null,"Cuquío","Centro",17980,17820,"26M","Modificación al presupuesto No. 26"]
["Secretaría de Vialidad y Transporte","Estatal","No","000","Territorio","Ejecutivo","Dependencia",1989,2013,"NA",104000,null,464,30,"Cabo Corrientes",null,"Chapala","Sureste",50738,55196,"27M","Modificación al presupuesto No. 27"]
["Coordinación General Estratégica de Seguridad","Estatal","Sí","000","Seguridad","Ejecutivo","Dependencia",2018,"NA","NA",104200,null,77,31,"Cañadas de Obregón",null,"Chimaltitán","Norte",3383,3270,"28M","Modificación al presupuesto No. 28"]
["Coordinación General Estratégica de Desarrollo Social","Estatal","Sí","000","Asistencia social","Ejecutivo","Dependencia",2018,"NA","NA",104300,null,75,32,"Casimiro Castillo",null,"Chiquilistlán","Sierra de Amula",6102,5983,"29M","Modificación al presupuesto No. 29"]
["Coordinación General Estratégica de Crecimiento y Desarrollo Económico","Estatal","Sí","000","Economía","Ejecutivo","Dependencia",2018,"NA","NA",104400,null,74,33,"Centro de Atención para las Víctimas del Delito",null,"Degollado","Ciénega",21479,21226,"30M","Modificación al presupuesto No. 30"]
["Coordinación General Estratégica de Gestión del Territorio","Estatal","Sí","000","Territorio","Ejecutivo","Dependencia",2018,"NA","NA",104500,null,76,34,"Centro de Coordinación, Comando, Control, Comunicaciones y Cómputo del Estado de Jalisco",null,"Ejutla","Sierra de Amula",2082,1981,"CPAI","Complementaria al presupuesto inicial"]
["Secretaría de la Hacienda Pública","Estatal","Sí","000","Economía","Ejecutivo","Dependencia",2018,"NA","NA",104600,null,454,35,"Centro de Estimulación para Personas con Discapacidad Intelectual de Tlajomulco de Zúñiga",null,"Encarnación de Díaz","Altos Norte",53555,53039,"C1GF","Complementaria al primer informe de avances de gestión financiera"]
["Secretaría de Agricultura y Desarrollo Rural","Estatal","Sí","000","Economía","Ejecutivo","Dependencia",2018,"NA","NA",104700,null,442,36,"Chapala",null,"Etzatlán","Valles",19847,20011,"C2GF","Complementaria al segundo informe de avances de gestión financiera"]
["Secretaría del Sistema de Asistencia Social","Estatal","Sí","000","Asistencia social","Ejecutivo","Dependencia",2018,"NA","NA",104800,null,465,37,"Chimaltitán",null,"El Grullo","Sierra de Amula",23845,25920,"C1M","Complementaria a la modificación al presupuesto No. 1"]
["Secretaría del Transporte","Estatal","Sí","000","Territorio","Ejecutivo","Dependencia",2018,"NA","NA",104900,null,467,38,"Chiquilistlán",null,"Guachinango","Costa Sierra Occidente",4184,4199,"C2M","Complementaria a la modificación al presupuesto No. 2"]
["Universidad de Guadalajara","Estatal","Sí","000","Educación","Ejecutivo","Organismo Público Descentralizado",1925,"NA","NA",200100,null,540,39,"Cihuatlán",null,"Guadalajara","Centro",1460148,1385629,"C3M","Complementaria a la modificación al presupuesto No. 3"]
["Instituto Jalisciense de Asistencia Social","Estatal","No","000","Asistencia social","Ejecutivo","Organismo Público Descentralizado",1959,2019,"NA",200200,null,322,40,"Cocula",null,"Hostotipaquillo","Valles",9761,8732,"C4M","Complementaria a la modificación al presupuesto No. 4"]
["Sistema para el Desarrollo Integral de la Familia del Estado de Jalisco","Estatal","Sí","000","Asistencia social","Ejecutivo","Organismo Público Descentralizado",1977,"NA","NA",200300,null,505,41,"Colegio de Bachilleres del Estado de Jalisco",null,"Huejúcar","Norte",5633,5920,"C5M","Complementaria a la modificación al presupuesto No. 5"]
["Sistema de Transporte Colectivo de la Zona Metropolitana (SITECOZOME)","Estatal","No","000","Territorio","Ejecutivo","Organismo Público Descentralizado",1978,2018,"NA",200400,null,497,42,"Colegio de Educación Profesional Técnica del Estado de Jalisco",null,"Huejuquilla el Alto","Norte",8787,10015,"C6M","Complementaria a la modificación al presupuesto No. 6"]
["Hogar Juan Cruz Ruíz de Cabañas y Crespo","Estatal","Sí","000","Asistencia social","Ejecutivo","Organismo Público Descentralizado",1980,"NA","NA",200500,null,291,43,"Colegio de Estudios Científicos y Tecnológicos del Estado de Jalisco",null,"La Huerta","Costa Sur",24563,23258,"C7M","Complementaria a la modificación al presupuesto No. 7"]
["Instituto Cultural Cabañas","Estatal","Sí","000","Cultura","Ejecutivo","Organismo Público Descentralizado",1980,"NA","NA",200600,null,297,44,"Colotlán",null,"Ixtlahuacán de los Membrillos","Centro",53045,67969,"C8M","Complementaria a la modificación al presupuesto No. 8"]
["Industria Jalisciense de Rehabilitación Social","Estatal","Sí","000","Justicia","Ejecutivo","Organismo Público Descentralizado",1981,"NA","NA",200700,null,296,45,"Comisión de Arbitraje Médico del Estado de Jalisco",null,"Ixtlahuacán del Río","Centro",19070,20465,"C9M","Complementaria a la modificación al presupuesto No. 9"]
["Consejo Forestal y de la Fauna del Estado de Jalisco","Estatal","No","000","Medio ambiente","Ejecutivo","Organismo Público Descentralizado",1987,2017,"NA",200800,null,60,46,"Comisión de Valuación del Estado de Jalisco",null,"Jalostotitlán","Altos Sur",33777,32678,"C10M","Complementaria a la modificación al presupuesto No. 10"]
["Consejo Estatal para el Desarrollo Turístico del Estado de Jalisco","Estatal","NA","000","Economía","Ejecutivo","Organismo Público Descentralizado",1989,"NA","NA",200900,null,58,47,"Comisión Estatal de Agua y Saneamiento de Jalisco",null,"Jamay","Ciénega",24753,24894,"C11M","Complementaria a la modificación al presupuesto No. 11"]
["Consejo Estatal para el Fomento Deportivo","Estatal","Sí","000","Otro","Ejecutivo","Organismo Público Descentralizado",1989,"NA","NA",201000,null,59,48,"Comisión Estatal de Derechos Humanos Jalisco",null,"Jesús María","Altos Sur",19469,18982,"C12M","Complementaria a la modificación al presupuesto No. 12"]
["Patronato de las Fiestas de Octubre de la Zona Metropolitana de Guadalajara","Estatal","No","000","Cultura","Ejecutivo","Organismo Público Descentralizado",1989,2019,"NA",201100,null,410,49,"Comisión Estatal del Agua de Jalisco",null,"Jilotlán de los Dolores","Sur",9917,9425,"C13M","Complementaria a la modificación al presupuesto No. 13"]
["Sistema Estatal de Tren Eléctrico Urbano","Estatal","Sí","000","Territorio","Ejecutivo","Organismo Público Descentralizado",1989,"NA","NA",201200,null,498,50,"Comisión Estatal Indígena",null,"Jocotepec","Sureste",46521,47105,"C14M","Complementaria a la modificación al presupuesto No. 14"]
["Instituto Jalisciense de Cancerología","Estatal","Sí","000","Salud","Ejecutivo","Organismo Público Descentralizado",1990,"NA","NA",201300,null,323,51,"Concepción de Buenos Aires",null,"Juanacatlán","Centro",17955,30855,"C15M","Complementaria a la modificación al presupuesto No. 15"]
["Parque Metropolitano de Guadalajara","Estatal","Sí","000","Medio ambiente","Ejecutivo","Organismo Público Descentralizado",1990,"NA","NA",201400,null,409,52,"Congreso del Estado de Jalisco",null,"Juchitlán","Sierra de Amula",5638,5534,"C16M","Complementaria a la modificación al presupuesto No. 16"]
["Servicios y Transportes","Estatal","Sí","000","Territorio","Ejecutivo","Organismo Público Descentralizado",1990,"NA","NA",201500,null,471,53,"Consejo de la Judicatura del Estado",null,"Lagos de Moreno","Altos Norte",164981,172403,"C17M","Complementaria a la modificación al presupuesto No. 17"]
["Instituto de Estudios del Federalismo Prisciliano Sánchez","Estatal","No","000","Educación","Ejecutivo","Organismo Público Descentralizado",1995,2017,"NA",201600,null,303,54,"Consejo Económico y Social del Estado de Jalisco para el Desarrollo y Competitividad",null,"El Limón","Sierra de Amula",5379,5368,"C18M","Complementaria a la modificación al presupuesto No. 18"]
["Colegio de Bachilleres del Estado de Jalisco","Estatal","Sí","000","Educación","Ejecutivo","Organismo Público Descentralizado",1997,"NA","NA",201700,null,41,55,"Consejo Estatal de Ciencia y Tecnología de Jalisco",null,"Magdalena","Valles",22643,21781,"C19M","Complementaria a la modificación al presupuesto No. 19"]
["Colegio de Estudios Científicos y Tecnológicos del Estado de Jalisco","Estatal","Sí","000","Educación","Ejecutivo","Organismo Público Descentralizado",1997,"NA","NA",201800,null,43,56,"Consejo Estatal de Promoción Económica",null,"Santa María del Oro","Sureste",2028,1815,"C20M","Complementaria a la modificación al presupuesto No. 20"]
["Hospital Civil de Guadalajara","Estatal","Sí","000","Educación","Ejecutivo","Organismo Público Descentralizado",1997,"NA","NA",201900,null,292,57,"Consejo Estatal de Trasplantes de Órganos y Tejidos",null,"La Manzanilla de la Paz","Sureste",3688,4099,"C21M","Complementaria a la modificación al presupuesto No. 21"]
["Instituto de Información Territorial del Estado de Jalisco","Estatal","No","000","Territorio","Ejecutivo","Organismo Público Descentralizado",1997,2013,"NA",202000,null,307,58,"Consejo Estatal para el Desarrollo Turístico del Estado de Jalisco",null,"Mascota","Costa Sierra Occidental",14477,14451,"C22M","Complementaria a la modificación al presupuesto No. 22"]
["Servicios de Salud Jalisco","Estatal","Sí","000","Salud","Ejecutivo","Organismo Público Descentralizado",1997,"NA","NA",202100,null,470,59,"Consejo Estatal para el Fomento Deportivo",null,"Mazamitla","Sureste",13799,14043,"C23M","Complementaria a la modificación al presupuesto No. 23"]
["Centro de Atención para las Víctimas del Delito","Estatal","Sí","000","Justicia","Ejecutivo","Organismo Público Descentralizado",1998,"NA","NA",202200,null,33,60,"Consejo Forestal y de la Fauna del Estado de Jalisco",null,"Mexticacán","Altos Sur",5088,5307,"C24M","Complementaria a la modificación al presupuesto No. 24"]
["Colegio de Educación Profesional Técnica del Estado de Jalisco","Estatal","Sí","000","Educación","Ejecutivo","Organismo Público Descentralizado",1998,"NA","NA",202300,null,42,61,"Consejo Municipal contra las Adicciones en San Pedro Tlaquepaque",null,"Mezquitic","Norte",19452,22083,"C25M","Complementaria a la modificación al presupuesto No. 25"]
["Comisión de Valuación del Estado de Jalisco","Estatal","No","000","Economía","Ejecutivo","Organismo Público Descentralizado",1998,2017,"NA",202400,null,46,62,"Consejo Municipal del Deporte de Ahualulco de Mercado",null,"Mixtlán","Costa Sierra Occidental",3526,3638,"C26M","Complementaria a la modificación al presupuesto No. 26"]
["Instituto Jalisciense de Ciencias Forenses","Estatal","Sí","000","Justicia","Ejecutivo","Organismo Público Descentralizado",1998,"NA","NA",202500,null,324,63,"Consejo Municipal del Deporte de Degollado, Jalisco",null,"Ocotlán","Ciénega",99461,106050,"C27M","Complementaria a la modificación al presupuesto No. 27"]
["Organismo Operador del Parque de la Solidaridad y Roberto Montenegro","Estatal","Sí","000","Medio ambiente","Ejecutivo","Organismo Público Descentralizado",1998,"NA","NA",202600,null,405,64,"Consejo Municipal del Deporte de Guadalajara",null,"Ojuelos de Jalisco","Altos Norte  ",32357,33588,"C28M","Complementaria a la modificación al presupuesto No. 28"]
["Consejo Estatal de Trasplantes de Órganos y Tejidos","Estatal","Sí","000","Salud","Ejecutivo","Organismo Público Descentralizado",1999,"NA","NA",202700,null,57,65,"Consejo Municipal del Deporte de Jocotepec",null,"Pihuamo","Sur",11192,11386,"C29M","Complementaria a la modificación al presupuesto No. 29"]
["Instituto de Fomento al Comercio Exterior del Estado de Jalisco","Estatal","No","000","Economía","Ejecutivo","Organismo Público Descentralizado",1999,2018,"NA",202800,null,304,66,"Consejo Municipal del Deporte de La Barca",null,"Poncitlán","Ciénega",51944,53659,"C30M","Complementaria a la modificación al presupuesto No. 30"]
["Instituto de Formación para el Trabajo del Estado de Jalisco","Estatal","Sí","000","Economía","Ejecutivo","Organismo Público Descentralizado",1999,"NA","NA",202900,null,305,67,"Consejo Municipal del Deporte de Puerto Vallarta",null,"Puerto Vallarta","Costa Sierra Occidental",275640,291839,"MCM","Modificación cuenta detallada de movimientos de fondos mensual"]
["Sistema Jalisciense de Radio y Televisión","Estatal","Sí","000","Otro","Ejecutivo","Organismo Público Descentralizado",1999,"NA","NA",203000,null,504,68,"Consejo Municipal del Deporte de San Pedro Tlaquepaque",null,"Villa Purificación","Costa Sur",10704,11303,"MCS","Modificación corte semestral"]
["Unidad Estatal de Protección Civil y Bomberos","Estatal","Sí","000","Seguridad","Ejecutivo","Organismo Público Descentralizado",1999,"NA","NA",203100,null,536,69,"Consejo Municipal del Deporte de Tonalá",null,"Quitupan","Sureste",8379,7734,"MCA","Modificación corte anual"]
["Universidad Tecnológica de Jalisco","Estatal","Sí","000","Educación","Ejecutivo","Organismo Público Descentralizado",1999,"NA","NA",203200,null,542,70,"Consejo Municipal del Deporte de Yahualica de González Gallo",null,"El Salto","Centro",183437,232852,"DV","Documento diverso"]
["Comisión Estatal de Agua y Saneamiento de Jalisco","Estatal","No","000","Medio ambiente","Ejecutivo","Organismo Público Descentralizado",2000,2007,"NA",203300,null,47,71,"Consejo Municipal del Deporte de Zapopan",null,"San Cristóbal de la Barranca","Centro",3117,2924,"IAD","Informe anual de desempeño"]
["Consejo Estatal de Ciencia y Tecnología de Jalisco","Estatal","Sí","000","Educación","Ejecutivo","Organismo Público Descentralizado",2000,"NA","NA",203400,null,55,72,"Consejo Social de Cooperación para el Desarrollo Urbano de Guadalajara",null,"San Diego de Alejandría","Altos Norte",7349,7609,"CIAD","Complementaria al informe anual de desempeño"]
["Comisión de Arbitraje Médico del Estado de Jalisco","Estatal","Sí","000","Justicia","Ejecutivo","Organismo Público Descentralizado",2001,"NA","NA",203500,null,45,73,"Contraloría del Estado",null,"San Juan de los Lagos","Altos Norte",69725,72230,"EF","Estados financieros"]
["Instituto Jalisciense de las Mujeres","Estatal","No","000","Asistencia social","Ejecutivo","Organismo Público Descentralizado",2001,2018,"NA",203600,null,327,74,"Coordinación General Estratégica de Crecimiento y Desarrollo Económico",null,"San Julián","Altos Sur",15890,16792,"CEF","Complementaria a los estados financieros"]
["Instituto Tecnológico Superior de Arandas","Estatal","No","000","Educación","Ejecutivo","Organismo Público Descentralizado",2001,2015,"NA",203700,null,359,75,"Coordinación General Estratégica de Desarrollo Social",null,"San Marcos","Valles",3783,3791]
["Instituto Tecnológico Superior de Chapala","Estatal","No","000","Educación","Ejecutivo","Organismo Público Descentralizado",2001,2015,"NA",203800,null,360,76,"Coordinación General Estratégica de Gestión del Territorio",null,"San Martín de Bolaños","Norte",3122,3095]
["Instituto Tecnológico Superior de Lagos de Moreno","Estatal","No","000","Educación","Ejecutivo","Organismo Público Descentralizado",2001,2015,"NA",203900,null,363,77,"Coordinación General Estratégica de Seguridad",null,"San Martín Hidalgo","Lagunas",27777,28102]
["Instituto Tecnológico Superior de Puerto Vallarta","Estatal","No","000","Educación","Ejecutivo","Organismo Público Descentralizado",2001,2015,"NA",204000,null,365,78,"Cruz Roja Delegación Jalisco",null,"San Miguel el Alto","Altos Sur",32960,31965]
["Instituto Tecnológico Superior de Zapopan","Estatal","No","000","Educación","Ejecutivo","Organismo Público Descentralizado",2001,2015,"NA",204100,null,369,79,"Cuautitlán de García Barragán",null,"Gómez Farías","Sur",14278,16431]
["Procuraduría de Desarrollo Urbano","Estatal","Sí","000","Territorio","Ejecutivo","Organismo Público Descentralizado",2001,"NA","NA",204200,null,418,80,"Cuautla",null,"San Sebastián del Oeste","Costa Sierra Occidental",5643,5086]
["Escuela de Conservación y Restauración de Occidente","Estatal","Sí","000","Cultura","Ejecutivo","Organismo Público Descentralizado",2002,"NA","NA",204300,null,215,81,"Cuquío",null,"Santa María de los Ángeles","Norte",3033,3515]
["Instituto de Artesanía Jalisciense","Estatal","No","000","Cultura","Ejecutivo","Organismo Público Descentralizado",2002,2018,"NA",204400,null,300,82,"Degollado",null,"Sayula","Lagunas",36778,37186]
["Instituto Jalisciense de la Juventud","Estatal","No","000","Asistencia social","Ejecutivo","Organismo Público Descentralizado",2002,2018,"NA",204500,null,325,83,"DIF Municipal de Acatic",null,"Tala","Valles",80365,87690]
["Universidad Tecnológica de la Zona Metropolitana de Guadalajara","Estatal","Sí","000","Educación","Ejecutivo","Organismo Público Descentralizado",2003,"NA","NA",204600,null,543,84,"DIF Municipal de Acatlán de Juárez",null,"Talpa de Allende","Costa Sierra Occidental",15126,14997]
["Consejo Estatal de Promoción Económica","Estatal","Sí","000","Economía","Ejecutivo","Organismo Público Descentralizado",2004,"NA","NA",204700,null,56,85,"DIF Municipal de Ahualulco de Mercado",null,"Tamazula de Gordiano","Sur",38396,38955]
["Instituto Estatal para la Educación de Jóvenes y Adultos","Estatal","Sí","000","Educación","Ejecutivo","Organismo Público Descentralizado",2004,"NA","NA",204800,null,321,86,"DIF Municipal de Amacueca",null,"Tapalpa","Lagunas",19506,21245]
["Instituto Tecnológico José Mario Molina Pasquel y Henríquez de El Grullo","Estatal","No","000","Educación","Ejecutivo","Organismo Público Descentralizado",2004,2015,"NA",204900,null,358,87,"DIF Municipal de Amatitán",null,"Tecalitlán","Sur",16579,16705]
["Instituto Tecnológico Superior de Tequila","Estatal","No","000","Educación","Ejecutivo","Organismo Público Descentralizado",2004,2015,"NA",205000,null,368,88,"DIF Municipal de Ameca",null,"Tecolotlán","Sierra de Amula",17257,16603]
["Instituto Tecnológico Superior de Zapotlanejo","Estatal","No","000","Educación","Ejecutivo","Organismo Público Descentralizado",2004,2015,"NA",205100,null,370,89,"DIF Municipal de Arandas",null,"Techaluta de Montenegro","Lagunas",3703,4072]
["Universidad Politécnica de la Zona Metropolitana de Guadalajara","Estatal","Sí","000","Educación","Ejecutivo","Organismo Público Descentralizado",2004,"NA","NA",205200,null,541,90,"DIF Municipal de Atemajac de Brizuela",null,"Tenamaxtlán","Sierra de Amula",7005,7302]
["Procuraduría Social del Estado","Estatal","Sí","000","Asistencia social","Ejecutivo","Organismo Público Descentralizado",2006,"NA","NA",205300,null,419,91,"DIF Municipal de Atengo",null,"Teocaltiche","Altos Norte  ",41278,39839]
["Comisión Estatal del Agua de Jalisco","Estatal","Sí","000","Medio ambiente","Ejecutivo","Organismo Público Descentralizado",2007,"NA","NA",205400,null,49,92,"DIF Municipal de Atenguillo",null,"Teocuitatlán de Corona","Lagunas",10317,11039]
["Comisión Estatal Indígena","Estatal","Sí","000","Otro","Ejecutivo","Organismo Público Descentralizado",2007,"NA","NA",205500,null,50,93,"DIF Municipal de Atotonilco el Alto",null,"Tepatitlán de Morelos","Altos Sur",141322,150190]
["Instituto Tecnológico Superior de La Huerta","Estatal","No","000","Educación","Ejecutivo","Organismo Público Descentralizado",2007,2015,"NA",205600,null,362,94,"DIF Municipal de Atoyac",null,"Tequila","Valles",42009,44353]
["Instituto Tecnológico Superior de Tamazula de Gordiano","Estatal","No","000","Educación","Ejecutivo","Organismo Público Descentralizado",2007,2015,"NA",205700,null,367,95,"DIF Municipal de Autlán de Navarro",null,"Teuchitlán","Valles",9608,9647]
["Instituto de Pensiones del Estado de Jalisco","Estatal","Sí","000","Asistencia social","Ejecutivo","Organismo Público Descentralizado",2009,"NA","NA",205800,null,318,96,"DIF Municipal de Ayotlán",null,"Tizapán el Alto","Sureste",20961,22758]
["Instituto Tecnológico Superior de Cocula","Estatal","No","000","Educación","Ejecutivo","Organismo Público Descentralizado",2009,2015,"NA",205900,null,361,97,"DIF Municipal de Ayutla",null,"Tlajomulco de Zúñiga","Centro",549442,727750]
["Instituto Tecnológico Superior de Mascota","Estatal","No","000","Educación","Ejecutivo","Organismo Público Descentralizado",2009,2015,"NA",206000,null,364,98,"DIF Municipal de Bolaños",null,"San Pedro Tlaquepaque","Centro",664193,687127]
["Instituto Tecnológico Superior de Tala","Estatal","No","000","Educación","Ejecutivo","Organismo Público Descentralizado",2009,2015,"NA",206100,null,366,99,"DIF Municipal de Cabo Corrientes",null,"Tolimán","Sur",10310,11219]
["Instituto Jalisciense del Adulto Mayor","Estatal","No","000","Asistencia social","Ejecutivo","Organismo Público Descentralizado",2011,2018,"NA",206200,null,328,100,"DIF Municipal de Cañadas de Obregón",null,"Tomatlán","Costa Sur",35824,36316]
["Bosque la Primavera","Estatal","Sí","000","Medio ambiente","Ejecutivo","Organismo Público Descentralizado",2013,"NA","NA",206300,null,29,101,"DIF Municipal de Casimiro Castillo",null,"Tonalá","Centro",536111,569913]
["Instituto de Información Estadística y Geográfica del Estado de Jalisco","Estatal","Sí","000","Otro","Ejecutivo","Organismo Público Descentralizado",2013,"NA","NA",206400,null,306,102,"DIF Municipal de Chapala",null,"Tonaya","Sierra de Amula",5960,5961]
["Instituto de Infraestructura Física Educativa del Estado de Jalisco","Estatal","Sí","000","Educación","Ejecutivo","Organismo Público Descentralizado",2013,"NA","NA",206500,null,308,103,"DIF Municipal de Chimaltitán",null,"Tonila","Sur",7256,7565]
["Instituto de Movilidad y Transporte del Estado de Jalisco","Estatal","No","000","Territorio","Ejecutivo","Organismo Público Descentralizado",2013,2018,"NA",206600,null,317,104,"DIF Municipal de Chiquilistlán",null,"Totatiche","Norte",4412,4180]
["Instituto Jalisciense del Emprendedor","Estatal","No","000","Economía","Ejecutivo","Organismo Público Descentralizado",2013,2018,"NA",206700,null,329,105,"DIF Municipal de Cihuatlán",null,"Tototlán","Ciénega",23171,23573]
["Instituto Jalisciense de la Vivienda","Estatal","Sí","000","Territorio","Ejecutivo","Organismo Público Descentralizado",2014,"NA","NA",206800,null,326,106,"DIF Municipal de Cocula",null,"Tuxcacuesco","Sierra de Amula",4229,5482]
["Instituto Tecnológico José Mario Molina Pasquel y Henríquez","Estatal","Sí","000","Educación","Ejecutivo","Organismo Público Descentralizado",2015,"NA","NA",206900,null,357,107,"DIF Municipal de Colotlán",null,"Tuxcueca","Sureste",6156,6702]
["Régimen Estatal de Protección Social en Salud de Jalisco","Estatal","Sí","000","Salud","Ejecutivo","Organismo Público Descentralizado",2015,"NA","NA",207000,null,423,108,"DIF Municipal de Concepción de Buenos Aires",null,"Tuxpan","Sur",34182,37518]
["Agencia de Energía del Estado de Jalisco","Estatal","Sí","000","Medio ambiente","Ejecutivo","Organismo Público Descentralizado",2016,"NA","NA",207100,null,4,109,"DIF Municipal de Cuautitlán de García Barragán",null,"Unión de San Antonio","Altos Norte  ",17325,19069]
["Secretaría Ejecutiva del Sistema Estatal Anticorrupción","Estatal","Sí","000","Rendición de cuentas","Ejecutivo","Organismo Público Descentralizado",2017,"NA","NA",207200,null,468,110,"DIF Municipal de Cuautla",null,"Unión de Tula","Sierra de Amula",13446,13799]
["Centro de Coordinación, Comando, Control, Comunicaciones y Cómputo del Estado de Jalisco","Estatal","Sí","000","Seguridad","Ejecutivo","Organismo Público Descentralizado",2018,"NA","NA",207300,null,34,111,"DIF Municipal de Cuquío",null,"Valle de Guadalupe","Altos Sur",6924,6627]
["Agencia Estatal de Entretenimiento de Jalisco","Estatal","Sí","000","Cultura","Ejecutivo","Organismo Público Descentralizado",2019,"NA","NA",207400,null,5,112,"DIF Municipal de Degollado",null,"Valle de Juárez","Sureste",5389,6151]
["Agencia Integral de Regulación de Emisiones","Estatal","Sí","000","Medio ambiente","Ejecutivo","Organismo Público Descentralizado",2019,"NA","NA",207500,null,6,113,"DIF Municipal de Ejutla",null,"San Gabriel","Sur",16105,16548]
["Agencia para el Desarrollo de Industrias Creativas y Digitales","Estatal","Sí","000","Educación","Ejecutivo","Organismo Público Descentralizado",2019,"NA","NA",null,null,10,114,"DIF Municipal de El Arenal",null,"Villa Corona","Lagunas",17824,19063]
["Museos, Exposiciones y Galerías de Jalisco","Estatal","Sí","000","Cultura","Ejecutivo","Organismo Público Descentralizado",2019,"NA","NA",207700,null,401,115,"DIF Municipal de El Grullo",null,"Villa Guerrero","Norte",5417,5525]
["Fideicomiso Irrevocable de Garantía, Administración y Fuente de Pago \"INVEX\" Solucash","Estatal","Sí","000","Economía","Ejecutivo","Fideicomiso",1978,"NA","2958-06-41",300100,null,255,116,"DIF Municipal de El Limón",null,"Villa Hidalgo","Altos Norte",20257,20088]
["Fideicomiso Revocable de Inversión y Administración del Programa Nacional de Becas y Financiamiento (Pronabes/Manutención)","Estatal","Sí","000","Economía","Ejecutivo","Fideicomiso",1985,"NA",833,300200,null,279,117,"DIF Municipal de El Salto",null,"Cañadas de Obregón","Altos Sur",4110,4388]
["Fideicomiso Fondo de Apoyo al Proyecto de Tecnologías Educativas y de Información para Maestros de Educación Básica del Estado de Jalisco","Estatal","Sí","000","Cultura","Ejecutivo","Fideicomiso",1988,"NA","16605-000",300300,null,240,118,"DIF Municipal de Encarnación de Díaz",null,"Yahualica de González Gallo","Altos Sur ",22586,22394]
["Fideicomiso Revocable de Inversión, Administración y Fuente de Pago Fondo Evalúa Jalisco","Multiestatal o Federal","Sí","000","Economía","Ejecutivo","Fideicomiso",1991,"NA","11660-0",300400,null,282,119,"DIF Municipal de Etzatlán",null,"Zacoalco de Torres","Lagunas",28205,30472]
["Fideicomiso Sistema Estatal de Ahorro para el Retiro de los Servidores Públicos del Estado de Jalisco","Estatal","Sí","000","Territorio","Ejecutivo","Fideicomiso",1994,"NA",18968,300500,null,283,120,"DIF Municipal de Gómez Farías",null,"Zapopan","Centro",1332272,1476491]
["Fideicomiso Irrevocable de Administración y Fuente de Pago entre SIAPA y Santander","Estatal","Sí","000","Economía","Ejecutivo","Fideicomiso",1995,"NA","2702-01-42",300600,null,248,121,"DIF Municipal de Guachinango",null,"Zapotiltic","Sur",29190,33713]
["Fideicomiso Maestro Ciudad Creativa Digital","Estatal","Sí","000","Economía","Ejecutivo","Fideicomiso con estructura",1995,"NA","38863-0",300700,null,258,122,"DIF Municipal de Guadalajara",null,"Zapotitlán de Vadillo","Sur",7027,7466]
["Fideicomiso de la Orquesta Filarmónica del Estado de Jalisco","Estatal","Sí","000","Cultura","Ejecutivo","Fideicomiso con estructura",1996,"NA",100321975,300800,null,230,123,"DIF Municipal de Hostotipaquillo",null,"Zapotlán del Rey","Ciénega ",17893,19279]
["Fideicomiso Irrevocable de Administración y Pago \"Batallón La Ringlera\"","Estatal","Sí","000","Economía","Ejecutivo","Fideicomiso",1996,"NA",1064051,300900,null,251,124,"DIF Municipal de Huejúcar",null,"Zapotlanejo","Centro",68519,64806]
["Fideicomiso Vive Incluyente","Estatal","Sí","000","Economía","Ejecutivo","Fideicomiso",1996,"NA",473660,301000,null,285,125,"DIF Municipal de Huejuquilla el Alto",null,"San Ignacio Cerro Gordo","Altos Sur",18952,18341]
["Fideicomiso Comisión de Filmaciones del Estado de Jalisco","Estatal","Sí","000","Medio ambiente","Ejecutivo","Fideicomiso",1997,"NA",283101,301100,null,220,126,"DIF Municipal de Ixtlahuacán de los Membrillos"]
["Fideicomiso de Pensiones y Jubilaciones de los Servidores Públicos de Base del Organismo Público Descentralizado del Hospital Civil de Guadalajara","Estatal","Sí","000","Cultura","Ejecutivo","Fideicomiso",1997,"NA","574-3",301200,null,231,127,"DIF Municipal de Ixtlahuacán del Río"]
["Fideicomiso Revocable de Administración, Inversión y Fuente de Pago para la Atención de los Jaliscienses en el Extranjero (Migrantes)","Estatal","Sí","000","Territorio","Ejecutivo","Fideicomiso",1997,"NA","29016-3",301300,null,278,128,"DIF Municipal de Jalostotitlán"]
["Fideicomiso de Apoyo de Seguridad Social","Estatal","Sí","000","Asistencia social","Ejecutivo","Fideicomiso",1998,"NA",294280,301400,null,223,129,"DIF Municipal de Jamay"]
["Fideicomiso de Turismo de la Zona Metropolitana de Guadalajara","Estatal","Sí","000","Cultura","Ejecutivo","Fideicomiso",1998,"NA",18087,301500,null,232,130,"DIF Municipal de Jesús María"]
["Fideicomiso Público de Administración e Inversión \"Fondo Metropolitano Ciudad de Guadalajara\"","Estatal","Sí","000","Economía","Ejecutivo","Fideicomiso",1998,"NA",1065406,301600,null,269,131,"DIF Municipal de Jilotlán de los Dolores"]
["Fideicomiso Revocable de Inversión y Administración Fondo Estatal de Fomento para la Cultura y las Artes","Estatal","Sí","000","Medio ambiente","Ejecutivo","Fideicomiso",1998,"NA",785675,301700,null,280,132,"DIF Municipal de Jocotepec"]
["Fideicomiso Premio IJAS","Estatal","NA","000","Medio ambiente","Ejecutivo","Fideicomiso",1999,"NA","100005-000",301800,null,268,133,"DIF Municipal de Juanacatlán"]
["Fideicomiso Irrevocable de Inversión y Fuente de Pago \"Fondo Estatal de Desastres Naturales Jalisco\"","Estatal","NA","000","Medio ambiente","Ejecutivo","Fideicomiso",2000,"NA",19496,301900,null,257,134,"DIF Municipal de Juchitlán"]
["Fideicomiso Irrevocable de Administración y Pago \"Adquisición de Vagones para la Línea 1 del Tren eléctrico Urbano de Guadalajara\"","Estatal","No","000","Economía","Ejecutivo","Fideicomiso",2001,2016,18958,302000,null,250,135,"DIF Municipal de La Barca"]
["Fideicomiso Público de Administración e Inversión Fondo Mixto CONACYT-Gobierno del Estado de Jalisco","Estatal","Sí","000","Educación","Ejecutivo","Fideicomiso",2001,"NA",100322213,302100,null,271,136,"DIF Municipal de La Huerta"]
["Fideicomiso Público Irrevocable de Administración e Inversión \"Fondo Metropolitano de Puerto Vallarta\"","Estatal","Sí","000","Educación",null,"Fideicomiso",2001,"NA",100322114,302200,null,272,137,"DIF Municipal de La Manzanilla de la Paz"]
["Fideicomiso Público Revocable de Administración y Medio de Pago del Nuevo Sistema de Justicia Penal y Juicios Orales del Estado de Jalisco","Estatal","Sí","000","Educación",null,"Fideicomiso",2001,"NA","106790-5",302300,null,274,138,"DIF Municipal de Lagos de Moreno"]
["Fideicomiso Irrevocable de Administración y Fuente de Pago con (SANTANDER-BANORTE)","Estatal","Sí","000","Economía","Ejecutivo","Fideicomiso",2002,"NA","106648-8",302400,null,246,139,"DIF Municipal de Magdalena"]
["Fideicomiso para el Desarrollo Rural del Estado de Jalisco","Estatal","Sí","000","Educación","Ejecutivo","Fideicomiso",2002,"NA",80278,302500,null,264,140,"DIF Municipal de Mascota"]
["Fideicomiso Público Revocable de Administración y Fuente de Pago Fuerza Única y de Seguridad Pública del Estado de Jalisco","Estatal","Sí","000","Cultura",null,"Fideicomiso",2002,"NA","295-7",302600,null,273,141,"DIF Municipal de Mazamitla"]
["Fideicomiso Sistema Macrobús","Estatal","Sí","000","Territorio","Ejecutivo","Fideicomiso",2002,"NA",2049,302700,null,284,142,"DIF Municipal de Mexticacán"]
["Fideicomiso de Inversión y Fuente de Pago para la Administración de Recursos Asignados al Programa Especial Denominado \"Caracol\"","Estatal","Sí","000","Economía","Ejecutivo","Fideicomiso",2006,"NA","2000972-001",302800,null,228,143,"DIF Municipal de Mezquitic"]
["Fideicomiso de Turismo de los Municipios del Interior del Estado de Jalisco","Estatal","Sí","000","Cultura","Ejecutivo","Fideicomiso",2006,"NA","106644-5",302900,null,233,144,"DIF Municipal de Mixtlán"]
["Fideicomiso Fondo de Apoyo al Programa Especial de Financiamiento a la Vivienda para el Magisterio en el Estado","Estatal","Sí","000","Medio ambiente","Ejecutivo","Fideicomiso",2008,"NA","013315-4",303000,null,239,145,"DIF Municipal de Ocotlán"]
["Fideicomiso Irrevocable de Garantía y Administración \"Fondo de Garantía Agropecuaria del Estado de Jalisco\"","Estatal","No","000","Otro","Ejecutivo","Fideicomiso",2008,2015,100322189,303100,null,254,146,"DIF Municipal de Ojuelos de Jalisco"]
["Fideicomiso para el Desarrollo de Infraestructura y Equipamiento Deportivo de Diversas Obligaciones de Pago a cargo del Gobierno del Estado","Estatal","Sí","000","Territorio","Ejecutivo","Fideicomiso",2008,"NA",2134,303200,null,261,147,"DIF Municipal de Pihuamo"]
["Fideicomiso para el Desarrollo de los Sistemas de Enseñanza Vivencial e Indagatoria de la Ciencia en el Estado de Jalisco (SEVIC Jalisco)","Federal","Sí",999,"Educación","Ejecutivo","Fideicomiso",2008,"NA",2001577001,303300,null,263,148,"DIF Municipal de Poncitlán"]
["Fideicomiso del Centro Cultural Universitario","Estatal","No","000","Asistencia social","Ejecutivo","Fideicomiso",2009,2016,"106808-1",303400,null,236,149,"DIF Municipal de Puerto Vallarta"]
["Fideicomiso Fondo Jalisco de Fomento Empresarial","Estatal","Sí","000","Economía","Ejecutivo","Fideicomiso con estructura",2009,"NA","2001733-1",303500,null,242,150,"DIF Municipal de Quitupan"]
["Fideicomiso Irrevocable de Administración y Pago con Banamex","Estatal","Sí","000","Medio ambiente","Ejecutivo","Fideicomiso",2009,"NA",2157,303600,null,252,151,"DIF Municipal de San Cristóbal de la Barranca"]
["Fideicomiso Revocable de Administración e Inversión \"Por mi Jalisco\"","Estatal","NA","000","Territorio",null,"Fideicomiso",2009,"NA","NF",303700,null,276,152,"DIF Municipal de San Diego de Alejandría"]
["Fideicomiso de Inversión y Administración del \"Fondo Estatal de Protección al Ambiente del Estado de Jalisco\"","Estatal","Sí","000","Asistencia social","Ejecutivo","Fideicomiso",2010,"NA",100322445,303800,null,226,153,"DIF Municipal de San Gabriel"]
["Fideicomiso Irrevocable de Administración y Fuente de Pago con Santander","Estatal","Sí","000","Territorio","Ejecutivo","Fideicomiso",2010,"NA","10080-12-184",303900,null,247,154,"DIF Municipal de San Ignacio Cerro Gordo"]
["Fideicomiso para la Administración del Programa de Desarrollo Forestal de Jalisco","Estatal","Sí","000","Territorio","Ejecutivo","Fideicomiso con estructura",2010,"NA",2181,304000,null,265,155,"DIF Municipal de San Juan de los Lagos"]
["Fideicomiso del Fondo Metropolitano de Ocotlán","Estatal","Sí","000","Territorio","Ejecutivo","Fideicomiso",2011,"NA",2190,304100,null,237,156,"DIF Municipal de San Juanito de Escobedo"]
["Fideicomiso Fondo de Garantía de las Empresas de Solidaridad del Estado de Jalisco","Estatal","Sí","000","Economía","Ejecutivo","Fideicomiso",2011,"NA",2001874,304200,null,241,157,"DIF Municipal de San Julián"]
["Fideicomiso para el Desarrollo de la Región Centro Occidente","Estatal","Sí","000","Territorio","Ejecutivo","Fideicomiso",2011,"NA",2190,304300,null,262,158,"DIF Municipal de San Marcos"]
["Fideicomiso Nuevo Sistema de Justicia Penal para el Estado de Jalisco","Estatal","NA","000","Asistencia social","Ejecutivo","Fideicomiso",2012,"NA","1723-7",304400,null,260,159,"DIF Municipal de San Martín de Bolaños"]
["Fideicomiso Revocable de Inversión y Asignación de Recursos \"Programa Escuelas de Calidad\"","Estatal","Sí","000","Otro","Ejecutivo","Fideicomiso",2012,"NA","16215-06-295",304500,null,281,160,"DIF Municipal de San Martín Hidalgo"]
["Fondo de Seguridad Pública en el Estado de Jalisco","Estatal","NA","000","Seguridad","Ejecutivo","Fideicomiso",2013,"NA","NA",304600,null,287,161,"DIF Municipal de San Miguel el Alto"]
["Fideicomiso Bosque de la Primavera","Estatal","Sí","000","Cultura","Ejecutivo","Fideicomiso",2014,"NA",18306,304700,null,218,162,"DIF Municipal de San Pedro Tlaquepaque"]
["Fideicomiso de Turismo de San Juan de los Lagos","Estatal","Sí","000","Territorio","Ejecutivo","Fideicomiso",2015,"NA",2248,304800,null,235,163,"DIF Municipal de San Sebastián del Oeste"]
["Fideicomiso Irrevocable de Administración y Fuente de Pago Línea de Crédito Global Municipal","Estatal","Sí","000","Economía","Ejecutivo","Fideicomiso",2015,"NA",2407,304900,null,249,164,"DIF Municipal de Santa María de los Ángeles"]
["Fideicomiso para la Protección del Estero del Salado y Desarrollo de las Áreas Colindantes","Estatal","Sí","000","Seguridad","Ejecutivo","Fideicomiso",2015,"NA",10907,305000,null,266,165,"DIF Municipal de Santa María del Oro"]
["Fideicomiso Público Revocable para el Relleno Sanitario de la Zona Metropolitana de Guadalajara (PICACHOS)","Estatal","Sí","000","Educación",null,"Fideicomiso",2015,"NA",10824,305100,null,275,166,"DIF Municipal de Sayula"]
["Fideicomiso de Desarrollo Urbano de Jalisco","Estatal","Sí","000","Medio ambiente","Ejecutivo","Fideicomiso con estructura",2016,"NA",18250,305200,null,224,167,"DIF Municipal de Tala"]
["Fideicomiso Irrevocable \"Fondo Mixto para el Desarrollo y Publicidad Turística de Ciudades Coloniales\"","Estatal","Sí","000","Economía","Ejecutivo","Fideicomiso",2016,"NA","2003432-1",305300,null,244,168,"DIF Municipal de Talpa de Allende"]
["Fideicomiso de la Alianza para el Campo en el Estado de Jalisco","Estatal","Sí","000","Economía","Ejecutivo","Fideicomiso",2016,"NA",3087,305400,null,229,169,"DIF Municipal de Tamazula de Gordiano"]
["Fideicomiso Irrevocable de Administración y Pago Fondo de Aportaciones para la Infraestructura Social","Estatal","Sí","000","Justicia","Ejecutivo","Fideicomiso",2016,"NA",11332,305500,null,253,170,"DIF Municipal de Tapalpa"]
["Fideicomiso Plan Múltiple de Beneficios para los Trabajadores del Gobierno del Estado - FPBTGE","Estatal","Sí","000","Justicia","Ejecutivo","Fideicomiso",2016,"NA",11332,305600,null,267,171,"DIF Municipal de Tecalitlán"]
["Fideicomiso Público de Administración e Inversión \"Fondo Metropolitano de Ocotlán\"","Estatal","Sí","000","Asistencia social","Ejecutivo","Fideicomiso",2016,"NA","2003467-1",305700,null,270,172,"DIF Municipal de Techaluta de Montenegro"]
["Fideicomiso de Administración Irrevocable del Proyecto Maestro de Rehabilitación de la Imagen Urbana de Tequila Jalisco","Estatal","Sí","000","Territorio","Ejecutivo","Fideicomiso",2017,"NA",9830,305800,null,221,173,"DIF Municipal de Tecolotlán"]
["Fideicomiso del Fondo Metropolitano de Puerto Vallarta y Bahía de Banderas","Estatal","Sí","000","Territorio","Ejecutivo","Fideicomiso",2017,"NA",2181,305900,null,238,174,"DIF Municipal de Tenamaxtlán"]
["Fideicomiso Irrevocable de Administración y Fuente Alterna de Pago para la Reestructura de la Deuda del SIAPA","Estatal","Sí","000","Otro","Ejecutivo","Fideicomiso",2017,"NA",108647,306000,null,245,175,"DIF Municipal de Teocaltiche"]
["Fideicomiso de Inversión y Administración para la Mejora de la Seguridad Vial","Estatal","Sí","000","Territorio","Ejecutivo","Fideicomiso",2018,"NA","2003993-1",306100,null,227,176,"DIF Municipal de Teocuitatlán de Corona"]
["Congreso del Estado de Jalisco","Estatal","Sí","000","Gobierno","Legislativo","Órgano",1861,"NA","NA",400100,null,52,177,"DIF Municipal de Tepatitlán de Morelos"]
["Auditoría Superior del Estado de Jalisco","Estatal","Sí","000","Gobierno","Legislativo","Órgano",2004,"NA","NA",400200,null,24,178,"DIF Municipal de Tequila"]
["Supremo Tribunal de Justicia","Estatal","Sí","000","Justicia","Judicial","Órgano",1917,"NA","NA",500100,null,506,179,"DIF Municipal de Teuchitlán"]
["Consejo de la Judicatura del Estado","Estatal","Sí","000","Justicia","Judicial","Órgano",1997,"NA","NA",500200,null,53,180,"DIF Municipal de Tizapán el Alto"]
["Tribunal Electoral del Poder Judicial del Estado de Jalisco","Estatal","No","000","Justicia","Judicial","Órgano",1997,2014,"NA",500300,null,532,181,"DIF Municipal de Tlajomulco de Zúñiga"]
["Instituto de Justicia Alternativa","Estatal","Sí","000","Justicia","Judicial","Órgano",2012,"NA","NA",500400,null,309,182,"DIF Municipal de Tolimán"]
["Comisión Estatal de Derechos Humanos Jalisco","Estatal","Sí","000","Otro","Autónomo","Órgano",1997,"NA","NA",600100,null,48,183,"DIF Municipal de Tomatlán"]
["Instituto Electoral y de Participación Ciudadana del Estado de Jalisco","Estatal","Sí","000","Electoral","Autónomo","Órgano",2008,"NA","NA",600200,null,320,184,"DIF Municipal de Tonalá"]
["Tribunal Electoral del Estado de Jalisco","Estatal","Sí","000","Justicia","Autónomo","Órgano",2014,"NA","NA",600300,null,531,185,"DIF Municipal de Tonaya"]
["Instituto de Transparencia, Información Pública y Protección de Datos Personales del Estado de Jalisco","Estatal","Sí","000","Rendición de cuentas","Autónomo","Órgano",2015,"NA","NA",600400,null,319,186,"DIF Municipal de Tonila"]
["Tribunal de Justicia Administrativa","Estatal","Sí","000","Justicia","Autónomo","Órgano",2018,"NA","NA",600500,null,530,187,"DIF Municipal de Totatiche"]
["Junta Intermunicipal del Medio Ambiente para la Gestión Integral de la Cuenca Baja del Río Ayuquila","Intermunicipal","Sí",999,"Medio ambiente","Ejecutivo","Organismo Público Descentralizado",2007,"NA","NA",700001,null,390,188,"DIF Municipal de Tototlán"]
["Sistema Intermunicipal de Manejo de Residuos (SIMAR SURESTE)","Intermunicipal","Sí",999,"Medio ambiente","Ejecutivo","Organismo Público Descentralizado",2008,"NA","NA",700002,null,501,189,"DIF Municipal de Tuxcacuesco"]
["Asociación Intermunicipal para la Protección del Medio Ambiente y el Desarrollo Sustentable del Lago de Chapala","Intermunicipal","Sí",999,"Medio ambiente","Ejecutivo","Organismo Público Descentralizado",2009,"NA","NA",700003,null,18,190,"DIF Municipal de Tuxcueca"]
["Instituto Metropolitano de Planeación","Intermunicipal","Sí",999,"Territorio","Ejecutivo","Organismo Público Descentralizado",2009,"NA","NA",700004,null,330,191,"DIF Municipal de Tuxpan"]
["Junta Intermunicipal de Medio Ambiente para la Gestión Integral de la Cuenca del Río Coahuayana","Intermunicipal","Sí",999,"Medio ambiente","Ejecutivo","Organismo Público Descentralizado",2009,"NA","NA",700005,null,387,192,"DIF Municipal de Unión de San Antonio"]
["Sistema Intermunicipal de los Servicios de Agua Potable y Alcantarillado","Intermunicipal","Sí",999,"Medio ambiente","Ejecutivo","Organismo Público Descentralizado",2009,"NA","NA",700006,null,500,193,"DIF Municipal de Unión de Tula"]
["Sistema Intermunicipal de Manejo de Residuos Sur-Sureste (SIMAR Sur-Sureste)","Intermunicipal","Sí",999,"Medio ambiente","Ejecutivo","Organismo Público Descentralizado",2009,"NA","NA",700007,null,503,194,"DIF Municipal de Valle de Guadalupe"]
["Junta Intermunicipal de Medio Ambiente de Sierra Occidental y Costa","Intermunicipal","Sí",999,"Medio ambiente","Ejecutivo","Organismo Público Descentralizado",2012,"NA","NA",700008,null,384,195,"DIF Municipal de Valle de Juárez"]
["Junta Intermunicipal de Medio Ambiente de la Costa Sur","Intermunicipal","Sí",999,"Medio ambiente","Ejecutivo","Organismo Público Descentralizado",2013,"NA","NA",700009,null,383,196,"DIF Municipal de Villa Corona"]
["Sistema Intermunicipal de Manejo de Residuos Lagunas (SIMAR Lagunas)","Intermunicipal","Sí",999,"Medio ambiente","Ejecutivo","Organismo Público Descentralizado",2013,"NA","NA",700010,null,502,197,"DIF Municipal de Villa Guerrero"]
["Junta Intermunicipal de Medio Ambiente Altos Sur","Intermunicipal","Sí",999,"Medio ambiente","Ejecutivo","Organismo Público Descentralizado",2014,"NA","NA",700011,null,382,198,"DIF Municipal de Villa Hidalgo"]
["Agencia Metropolitana de Seguridad Pública del Área Metropolitana de Guadalajara","Intermunicipal","No",999,"Seguridad","Ejecutivo","Organismo Público Descentralizado",2016,2018,"Convenio Específico de Coordinación y Asociación Metropolitana",700012,null,8,199,"DIF Municipal de Villa Purificación"]
["Junta Intermunicipal de Medio Ambiente para la Gestión Integral de la Región Norte del Estado de Jalisco","Intermunicipal","Sí",999,"Medio ambiente","Ejecutivo","Organismo Público Descentralizado",2017,"NA","NA",700013,null,388,200,"DIF Municipal de Yahualica de González Gallo"]
["Junta Intermunicipal de Medio Ambiente para la Gestión Integral de la Región Valles","Intermunicipal","Sí",999,"Medio ambiente","Ejecutivo","Organismo Público Descentralizado",2017,"NA","NA",700014,null,389,201,"DIF Municipal de Zacoalco de Torres"]
["Junta Intermunicipal de Medio Ambiente Lagunas","Intermunicipal","Sí",999,"Medio ambiente","Ejecutivo","Organismo Público Descentralizado",2019,"NA","NA",700015,null,386,202,"DIF Municipal de Zapopan"]
["Acatic","Municipal","Sí","001","Gobierno","Ejecutivo","Dependencia",1824,"NA","NA",700100,null,1,203,"DIF Municipal de Zapotiltic"]
["DIF Municipal de Acatic","Municipal","Sí","001","Asistencia social","Ejecutivo","Organismo Público Descentralizado",1987,"NA","NA",700101,null,83,204,"DIF Municipal de Zapotitlán de Vadillo"]
["Acatlán de Juárez","Municipal","Sí","002","Gobierno","Ejecutivo","Dependencia",1891,"NA","NA",700200,null,2,205,"DIF Municipal de Zapotlán del Rey"]
["DIF Municipal de Acatlán de Juárez","Municipal","Sí","002","Asistencia social","Ejecutivo","Organismo Público Descentralizado",1985,"NA","NA",700201,null,84,206,"DIF Municipal de Zapotlán el Grande"]
["Ahualulco de Mercado","Municipal","Sí","003","Gobierno","Ejecutivo","Dependencia",1844,"NA","NA",700300,null,12,207,"DIF Municipal de Zapotlanejo"]
["DIF Municipal de Ahualulco de Mercado","Municipal","Sí","003","Asistencia social","Ejecutivo","Organismo Público Descentralizado",1986,"NA","NA",700301,null,85,208,"Ejutla"]
["Consejo Municipal del Deporte de Ahualulco de Mercado","Municipal","Sí","003","Otro","Ejecutivo","Organismo Público Descentralizado",2001,"NA","NA",700302,null,62,209,"El Arenal"]
["Amacueca","Municipal","Sí","004","Gobierno","Ejecutivo","Dependencia",1824,"NA","NA",700400,null,14,210,"El Colegio de Jalisco A.C."]
["DIF Municipal de Amacueca","Municipal","Sí","004","Asistencia social","Ejecutivo","Organismo Público Descentralizado",1986,"NA","NA",700401,null,86,211,"El Grullo"]
["Sistema de Agua Potable, Alcantarillado y Saneamiento del Municipio de Amacueca (SAPASA)","Municipal","No","004","Medio ambiente","Ejecutivo","Organismo Público Descentralizado",2008,2019,"NA",700402,null,479,212,"El Limón"]
["Amatitán","Municipal","Sí","005","Gobierno","Ejecutivo","Dependencia",1824,"NA","NA",700500,null,15,213,"El Salto"]
["DIF Municipal de Amatitán","Municipal","Sí","005","Asistencia social","Ejecutivo","Organismo Público Descentralizado",1986,"NA","NA",700501,null,87,214,"Encarnación de Díaz"]
["Ameca","Municipal","Sí","006","Gobierno","Ejecutivo","Dependencia",1824,"NA","NA",700600,null,16,215,"Escuela de Conservación y Restauración de Occidente"]
["DIF Municipal de Ameca","Municipal","Sí","006","Asistencia social","Ejecutivo","Organismo Público Descentralizado",1985,"NA","NA",700601,null,88,216,"Estado de Jalisco"]
["Sistema de Agua Potable Alcantarillado y Saneamiento del Municipio de Ameca","Municipal","Sí","006","Medio ambiente","Ejecutivo","Organismo Público Descentralizado",2007,"NA","NA",700602,null,474,217,"Etzatlán"]
["San Juanito de Escobedo","Municipal","Sí","007","Gobierno","Ejecutivo","Dependencia",1939,"NA","NA",700700,null,429,218,"Fideicomiso Bosque de la Primavera"]
["DIF Municipal de San Juanito de Escobedo","Municipal","Sí","007","Asistencia social","Ejecutivo","Organismo Público Descentralizado",1986,"NA","NA",700701,null,156,219,"Fideicomiso Coeficiente de Utilización del Suelo"]
["Arandas","Municipal","Sí","008","Gobierno","Ejecutivo","Dependencia",1875,"NA","NA",700800,null,17,220,"Fideicomiso Comisión de Filmaciones del Estado de Jalisco"]
["DIF Municipal de Arandas","Municipal","Sí","008","Asistencia social","Ejecutivo","Organismo Público Descentralizado",1986,"NA","NA",700801,null,89,221,"Fideicomiso de Administración Irrevocable del Proyecto Maestro de Rehabilitación de la Imagen Urbana de Tequila Jalisco"]
["Sistema de Agua Potable, Alcantarillado y Saneamiento del Municipio de Arandas","Municipal","Sí","008","Medio ambiente","Ejecutivo","Organismo Público Descentralizado",2006,"NA","NA",700802,null,480,222,"Fideicomiso de Administración, Garantía y Fuente de Pago para la concesión de Alumbrado Público del Municipio de Zapopan"]
["El Arenal","Municipal","Sí","009","Gobierno","Ejecutivo","Dependencia",1923,"NA","NA",700900,null,209,223,"Fideicomiso de Apoyo de Seguridad Social"]
["DIF Municipal de El Arenal","Municipal","Sí","009","Asistencia social","Ejecutivo","Organismo Público Descentralizado",1986,"NA","NA",700901,null,114,224,"Fideicomiso de Desarrollo Urbano de Jalisco"]
["Atemajac de Brizuela","Municipal","Sí","010","Gobierno","Ejecutivo","Dependencia",1884,"NA","NA",701000,null,19,225,"Fideicomiso de Equipamiento e Infraestructura Urbana y Vial en la Zona del Bajío"]
["DIF Municipal de Atemajac de Brizuela","Municipal","Sí","010","Asistencia social","Ejecutivo","Organismo Público Descentralizado",1986,"NA","NA",701001,null,90,226,"Fideicomiso de Inversión y Administración del \"Fondo Estatal de Protección al Ambiente del Estado de Jalisco\""]
["Atengo","Municipal","Sí","011","Gobierno","Ejecutivo","Dependencia",1918,"NA","NA",701100,null,20,227,"Fideicomiso de Inversión y Administración para la Mejora de la Seguridad Vial"]
["DIF Municipal de Atengo","Municipal","Sí","011","Asistencia social","Ejecutivo","Organismo Público Descentralizado",1986,"NA","NA",701101,null,91,228,"Fideicomiso de Inversión y Fuente de Pago para la Administración de Recursos Asignados al Programa Especial Denominado \"Caracol\""]
["Atenguillo","Municipal","Sí","012","Gobierno","Ejecutivo","Dependencia",1885,"NA","NA",701200,null,21,229,"Fideicomiso de la Alianza para el Campo en el Estado de Jalisco"]
["DIF Municipal de Atenguillo","Municipal","Sí","012","Asistencia social","Ejecutivo","Organismo Público Descentralizado",1986,"NA","NA",701201,null,92,230,"Fideicomiso de la Orquesta Filarmónica del Estado de Jalisco"]
["Atotonilco el Alto","Municipal","Sí","013","Gobierno","Ejecutivo","Dependencia",1824,"NA","NA",701300,null,22,231,"Fideicomiso de Pensiones y Jubilaciones de los Servidores Públicos de Base del Organismo Público Descentralizado del Hospital Civil de Guadalajara"]
["DIF Municipal de Atotonilco el Alto","Municipal","Sí","013","Asistencia social","Ejecutivo","Organismo Público Descentralizado",1985,"NA","NA",701301,null,93,232,"Fideicomiso de Turismo de la Zona Metropolitana de Guadalajara"]
["Sistema de Agua Potable, Alcantarillado y Saneamiento del Municipio de Atotonilco el Alto (SAPAMA)","Municipal","Sí","013","Medio ambiente","Ejecutivo","Organismo Público Descentralizado",2015,"NA","NA",701302,null,481,233,"Fideicomiso de Turismo de los Municipios del Interior del Estado de Jalisco"]
["Atoyac","Municipal","Sí","014","Gobierno","Ejecutivo","Dependencia",1824,"NA","NA",701400,null,23,234,"Fideicomiso de Turismo de Puerto Vallarta"]
["DIF Municipal de Atoyac","Municipal","Sí","014","Asistencia social","Ejecutivo","Organismo Público Descentralizado",1986,"NA","NA",701401,null,94,235,"Fideicomiso de Turismo de San Juan de los Lagos"]
["Autlán de Navarro","Municipal","Sí","015","Gobierno","Ejecutivo","Dependencia",1824,"NA","NA",701500,null,25,236,"Fideicomiso del Centro Cultural Universitario"]
["DIF Municipal de Autlán de Navarro","Municipal","Sí","015","Asistencia social","Ejecutivo","Organismo Público Descentralizado",1985,"NA","NA",701501,null,95,237,"Fideicomiso del Fondo Metropolitano de Ocotlán"]
["Instituto Municipal de la Mujer del Municipio de Autlán de Navarro","Municipal","Sí","015","Asistencia social","Ejecutivo","Organismo Público Descentralizado",2016,"NA","NA",701502,null,337,238,"Fideicomiso del Fondo Metropolitano de Puerto Vallarta y Bahía de Banderas"]
["Ayotlán","Municipal","Sí","016","Gobierno","Ejecutivo","Dependencia",1824,"NA","NA",701600,null,26,239,"Fideicomiso Fondo de Apoyo al Programa Especial de Financiamiento a la Vivienda para el Magisterio en el Estado"]
["DIF Municipal de Ayotlán","Municipal","Sí","016","Asistencia social","Ejecutivo","Organismo Público Descentralizado",1986,"NA","NA",701601,null,96,240,"Fideicomiso Fondo de Apoyo al Proyecto de Tecnologías Educativas y de Información para Maestros de Educación Básica del Estado de Jalisco"]
["Ayutla","Municipal","Sí","017","Gobierno","Ejecutivo","Dependencia",1885,"NA","NA",701700,null,27,241,"Fideicomiso Fondo de Garantía de las Empresas de Solidaridad del Estado de Jalisco"]
["DIF Municipal de Ayutla","Municipal","NA","017","Asistencia social","Ejecutivo","Organismo Público Descentralizado",1986,"NA","NA",701701,null,97,242,"Fideicomiso Fondo Jalisco de Fomento Empresarial"]
["La Barca","Municipal","Sí","018","Gobierno","Ejecutivo","Dependencia",1824,"NA","NA",701800,null,391,243,"Fideicomiso Hecho por Mujeres de Zapopan"]
["DIF Municipal de La Barca","Municipal","Sí","018","Asistencia social","Ejecutivo","Organismo Público Descentralizado",1985,"NA","NA",701801,null,135,244,"Fideicomiso Irrevocable \"Fondo Mixto para el Desarrollo y Publicidad Turística de Ciudades Coloniales\""]
["Consejo Municipal del Deporte de La Barca","Municipal","Sí","018","Otro","Ejecutivo","Organismo Público Descentralizado",1999,"NA","NA",701802,null,66,245,"Fideicomiso Irrevocable de Administración y Fuente Alterna de Pago para la Reestructura de la Deuda del SIAPA"]
["Sistema Barquense de Agua Potable, Alcantarillado y Saneamiento","Municipal","Sí","018","Medio ambiente","Ejecutivo","Organismo Público Descentralizado",2004,"NA","NA",701803,null,473,246,"Fideicomiso Irrevocable de Administración y Fuente de Pago con (SANTANDER-BANORTE)"]
["Instituto Municipal de la Mujer en La Barca","Municipal","Sí","018","Asistencia social","Ejecutivo","Organismo Público Descentralizado",2013,"NA","NA",701804,null,338,247,"Fideicomiso Irrevocable de Administración y Fuente de Pago con Santander"]
["Bolaños","Municipal","Sí","019","Gobierno","Ejecutivo","Dependencia",1885,"NA","NA",701900,null,28,248,"Fideicomiso Irrevocable de Administración y Fuente de Pago entre SIAPA y Santander"]
["DIF Municipal de Bolaños","Municipal","Sí","019","Asistencia social","Ejecutivo","Organismo Público Descentralizado",1988,"NA","NA",701901,null,98,249,"Fideicomiso Irrevocable de Administración y Fuente de Pago Línea de Crédito Global Municipal"]
["Cabo Corrientes","Municipal","Sí","020","Gobierno","Ejecutivo","Dependencia",1944,"NA","NA",702000,null,30,250,"Fideicomiso Irrevocable de Administración y Pago \"Adquisición de Vagones para la Línea 1 del Tren eléctrico Urbano de Guadalajara\""]
["DIF Municipal de Cabo Corrientes","Municipal","Sí","020","Asistencia social","Ejecutivo","Organismo Público Descentralizado",1986,"NA","NA",702001,null,99,251,"Fideicomiso Irrevocable de Administración y Pago \"Batallón La Ringlera\""]
["Casimiro Castillo","Municipal","Sí","021","Gobierno","Ejecutivo","Dependencia",1943,"NA","NA",702100,null,32,252,"Fideicomiso Irrevocable de Administración y Pago con Banamex"]
["DIF Municipal de Casimiro Castillo","Municipal","Sí","021","Asistencia social","Ejecutivo","Organismo Público Descentralizado",1986,"NA","NA",702101,null,101,253,"Fideicomiso Irrevocable de Administración y Pago Fondo de Aportaciones para la Infraestructura Social"]
["Cihuatlán","Municipal","Sí","022","Gobierno","Ejecutivo","Dependencia",1904,"NA","NA",702200,null,39,254,"Fideicomiso Irrevocable de Garantía y Administración \"Fondo de Garantía Agropecuaria del Estado de Jalisco\""]
["DIF Municipal de Cihuatlán","Municipal","Sí","022","Asistencia social","Ejecutivo","Organismo Público Descentralizado",1986,"NA","NA",702201,null,105,255,"Fideicomiso Irrevocable de Garantía, Administración y Fuente de Pago \"INVEX\" Solucash"]
["Zapotlán el Grande","Municipal","Sí","023","Gobierno","Ejecutivo","Dependencia",1824,"NA","NA",702300,null,{"$f":"COUNTIF($A$2:$A$1001,\"<=\"&A257)","v":556},256,{"$f":"INDEX($A$2:$A$1001,MATCH(N257,$M$2:$M$1001,0))","v":"Fideicomiso Irrevocable de Garantía, Administración y Fuente de Pago (Zapopan)"}]
["DIF Municipal de Zapotlán el Grande","Municipal","Sí","023","Asistencia social","Ejecutivo","Organismo Público Descentralizado",1985,"NA","NA",702301,null,206,257,"Fideicomiso Irrevocable de Inversión y Fuente de Pago \"Fondo Estatal de Desastres Naturales Jalisco\""]
["Instituto Zapotlense de la Juventud de Zapotlán el Grande","Municipal","Sí","023","Asistencia social","Ejecutivo","Organismo Público Descentralizado",2003,"NA","NA",702302,null,372,258,"Fideicomiso Maestro Ciudad Creativa Digital"]
["Sistema de Agua Potable, Alcantarillado y Saneamiento del Municipio de Zapotlán el Grande","Municipal","Sí","023","Medio ambiente","Ejecutivo","Organismo Público Descentralizado",2007,"NA","NA",702303,null,494,259,"Fideicomiso Maestro de Fomento Económico para el Municipio de Zapopan"]
["Instituto Municipal de la Mujer en Zapotlán el Grande","Municipal","Sí","023","Asistencia social","Ejecutivo","Organismo Público Descentralizado",2010,"NA","NA",702304,null,341,260,"Fideicomiso Nuevo Sistema de Justicia Penal para el Estado de Jalisco"]
["Administración de Estacionómetros para la Asistencia Social del Municipio de Zapotlán el Grande","Municipal","Sí","023","Territorio","Ejecutivo","Organismo Público Descentralizado",2013,"NA","NA",702305,null,3,261,"Fideicomiso para el Desarrollo de Infraestructura y Equipamiento Deportivo de Diversas Obligaciones de Pago a cargo del Gobierno del Estado"]
["Organismo Público Descentralizado Comité de la Feria de Zapotlán el Grande","Municipal","Sí","023","Cultura","Ejecutivo","Organismo Público Descentralizado",2014,"NA","NA",702306,null,406,262,"Fideicomiso para el Desarrollo de la Región Centro Occidente"]
["Cocula","Municipal","Sí","024","Gobierno","Ejecutivo","Dependencia",1824,"NA","NA",702400,null,40,263,"Fideicomiso para el Desarrollo de los Sistemas de Enseñanza Vivencial e Indagatoria de la Ciencia en el Estado de Jalisco (SEVIC Jalisco)"]
["DIF Municipal de Cocula","Municipal","Sí","024","Asistencia social","Ejecutivo","Organismo Público Descentralizado",1986,"NA","NA",702401,null,106,264,"Fideicomiso para el Desarrollo Rural del Estado de Jalisco"]
["Colotlán","Municipal","Sí","025","Gobierno","Ejecutivo","Dependencia",1824,"NA","NA",702500,null,44,265,"Fideicomiso para la Administración del Programa de Desarrollo Forestal de Jalisco"]
["DIF Municipal de Colotlán","Municipal","Sí","025","Asistencia social","Ejecutivo","Organismo Público Descentralizado",1985,"NA","NA",702501,null,107,266,"Fideicomiso para la Protección del Estero del Salado y Desarrollo de las Áreas Colindantes"]
["Sistema de Agua Potable, Alcantarillado y Saneamiento del Municipio de Colotlán","Municipal","Sí","025","Medio ambiente","Ejecutivo","Organismo Público Descentralizado",2008,"NA","NA",702502,null,483,267,"Fideicomiso Plan Múltiple de Beneficios para los Trabajadores del Gobierno del Estado - FPBTGE"]
["Concepción de Buenos Aires","Municipal","Sí","026","Gobierno","Ejecutivo","Dependencia",1888,"NA","NA",702600,null,51,268,"Fideicomiso Premio IJAS"]
["DIF Municipal de Concepción de Buenos Aires","Municipal","Sí","026","Asistencia social","Ejecutivo","Organismo Público Descentralizado",1987,"NA","NA",702601,null,108,269,"Fideicomiso Público de Administración e Inversión \"Fondo Metropolitano Ciudad de Guadalajara\""]
["Cuautitlán de García Barragán","Municipal","Sí","027","Gobierno","Ejecutivo","Dependencia",1946,"NA","NA",702700,null,79,270,"Fideicomiso Público de Administración e Inversión \"Fondo Metropolitano de Ocotlán\""]
["DIF Municipal de Cuautitlán de García Barragán","Municipal","Sí","027","Asistencia social","Ejecutivo","Organismo Público Descentralizado",1988,"NA","NA",702701,null,109,271,"Fideicomiso Público de Administración e Inversión Fondo Mixto CONACYT-Gobierno del Estado de Jalisco"]
["Cuautla","Municipal","Sí","028","Gobierno","Ejecutivo","Dependencia",1888,"NA","NA",702800,null,80,272,"Fideicomiso Público Irrevocable de Administración e Inversión \"Fondo Metropolitano de Puerto Vallarta\""]
["DIF Municipal de Cuautla","Municipal","Sí","028","Asistencia social","Ejecutivo","Organismo Público Descentralizado",1986,"NA","NA",702801,null,110,273,"Fideicomiso Público Revocable de Administración y Fuente de Pago Fuerza Única y de Seguridad Pública del Estado de Jalisco"]
["Cuquío","Municipal","Sí","029","Gobierno","Ejecutivo","Dependencia",1824,"NA","NA",702900,null,81,274,"Fideicomiso Público Revocable de Administración y Medio de Pago del Nuevo Sistema de Justicia Penal y Juicios Orales del Estado de Jalisco"]
["DIF Municipal de Cuquío","Municipal","Sí","029","Asistencia social","Ejecutivo","Organismo Público Descentralizado",1986,"NA","NA",702901,null,111,275,"Fideicomiso Público Revocable para el Relleno Sanitario de la Zona Metropolitana de Guadalajara (PICACHOS)"]
["Chapala","Municipal","Sí","030","Gobierno","Ejecutivo","Dependencia",1846,"NA","NA",703000,null,36,276,"Fideicomiso Revocable de Administración e Inversión \"Por mi Jalisco\""]
["DIF Municipal de Chapala","Municipal","Sí","030","Asistencia social","Ejecutivo","Organismo Público Descentralizado",1986,"NA","NA",703001,null,102,277,"Fideicomiso Revocable de Administración, Inversión y Fuente de Pago \"Av. Juan Palomar Arias\""]
["Chimaltitán","Municipal","Sí","031","Gobierno","Ejecutivo","Dependencia",1824,"NA","NA",703100,null,37,278,"Fideicomiso Revocable de Administración, Inversión y Fuente de Pago para la Atención de los Jaliscienses en el Extranjero (Migrantes)"]
["DIF Municipal de Chimaltitán","Municipal","Sí","031","Asistencia social","Ejecutivo","Organismo Público Descentralizado",1988,"NA","NA",703101,null,103,279,"Fideicomiso Revocable de Inversión y Administración del Programa Nacional de Becas y Financiamiento (Pronabes/Manutención)"]
["Chiquilistlán","Municipal","Sí","032","Gobierno","Ejecutivo","Dependencia",1824,"NA","NA",703200,null,38,280,"Fideicomiso Revocable de Inversión y Administración Fondo Estatal de Fomento para la Cultura y las Artes"]
["DIF Municipal de Chiquilistlán","Municipal","Sí","032","Asistencia social","Ejecutivo","Organismo Público Descentralizado",1989,"NA","NA",703201,null,104,281,"Fideicomiso Revocable de Inversión y Asignación de Recursos \"Programa Escuelas de Calidad\""]
["Degollado","Municipal","Sí","033","Gobierno","Ejecutivo","Dependencia",1861,"NA","NA",703300,null,82,282,"Fideicomiso Revocable de Inversión, Administración y Fuente de Pago Fondo Evalúa Jalisco"]
["DIF Municipal de Degollado","Municipal","Sí","033","Asistencia social","Ejecutivo","Organismo Público Descentralizado",1992,"NA","NA",703301,null,112,283,"Fideicomiso Sistema Estatal de Ahorro para el Retiro de los Servidores Públicos del Estado de Jalisco"]
["Consejo Municipal del Deporte de Degollado, Jalisco","Municipal","Sí","033","Asistencia social","Ejecutivo","Organismo Público Descentralizado",2011,"NA","NA",703302,null,63,284,"Fideicomiso Sistema Macrobús"]
["Ejutla","Municipal","Sí","034","Gobierno","Ejecutivo","Dependencia",1875,"NA","NA",703400,null,208,285,"Fideicomiso Vive Incluyente"]
["DIF Municipal de Ejutla","Municipal","Sí","034","Asistencia social","Ejecutivo","Organismo Público Descentralizado",1987,"NA","NA",703401,null,113,286,"Fiscalía Estatal"]
["Encarnación de Díaz","Municipal","Sí","035","Gobierno","Ejecutivo","Dependencia",1824,"NA","NA",703500,null,214,287,"Fondo de Seguridad Pública en el Estado de Jalisco"]
["DIF Municipal de Encarnación de Díaz","Municipal","Sí","035","Asistencia social","Ejecutivo","Organismo Público Descentralizado",1985,"NA","NA",703501,null,118,288,"Gómez Farías"]
["Etzatlán","Municipal","Sí","036","Gobierno","Ejecutivo","Dependencia",1844,"NA","NA",703600,null,217,289,"Guachinango"]
["DIF Municipal de Etzatlán","Municipal","Sí","036","Asistencia social","Ejecutivo","Organismo Público Descentralizado",1986,"NA","NA",703601,null,119,290,"Guadalajara"]
["El Grullo","Municipal","Sí","037","Gobierno","Ejecutivo","Dependencia",1912,"NA","NA",703700,null,211,291,"Hogar Juan Cruz Ruíz de Cabañas y Crespo"]
["DIF Municipal de El Grullo","Municipal","Sí","037","Asistencia social","Ejecutivo","Organismo Público Descentralizado",1986,"NA","NA",703701,null,115,292,"Hospital Civil de Guadalajara"]
["Instituto Municipal de las Mujeres de El Grullo","Municipal","Sí","037","Asistencia social","Ejecutivo","Organismo Público Descentralizado",2010,"NA","NA",703702,null,346,293,"Hostotipaquillo"]
["Guachinango","Municipal","Sí","038","Gobierno","Ejecutivo","Dependencia",1885,"NA","NA",703800,null,289,294,"Huejúcar"]
["DIF Municipal de Guachinango","Municipal","Sí","038","Asistencia social","Ejecutivo","Organismo Público Descentralizado",1987,"NA","NA",703801,null,121,295,"Huejuquilla el Alto"]
["Guadalajara","Municipal","Sí","039","Gobierno","Ejecutivo","Dependencia",1824,"NA","NA",703900,null,290,296,"Industria Jalisciense de Rehabilitación Social"]
["DIF Municipal de Guadalajara","Municipal","Sí","039","Asistencia social","Ejecutivo","Organismo Público Descentralizado",1985,"NA","NA",703901,null,122,297,"Instituto Cultural Cabañas"]
["Consejo Municipal del Deporte de Guadalajara","Municipal","Sí","039","Otro","Ejecutivo","Organismo Público Descentralizado",1998,"NA","NA",703902,null,64,298,"Instituto de Alternativas para los Jóvenes de Tlajomulco de Zúñiga"]
["Organismo Público Descentralizado Zoológico Guadalajara","Municipal","Sí","039","Medio ambiente","Ejecutivo","Organismo Público Descentralizado",1998,"NA","NA",703903,null,408,299,"Instituto de Alternativas para los Jóvenes de Tonalá"]
["Albergue \"Las Cuadritas\" Fray Antonio Alcalde","Municipal","Sí","039","Asistencia social","Ejecutivo","Organismo Público Descentralizado",2002,"NA","NA",703904,null,13,300,"Instituto de Artesanía Jalisciense"]
["Instituto Municipal de las Mujeres en Guadalajara","Municipal","Sí","039","Asistencia social","Ejecutivo","Organismo Público Descentralizado",2002,"NA","NA",703905,null,349,301,"Instituto de Atención a la Juventud Teocaltichense"]
["Instituto Municipal de Atención a la Juventud de Guadalajara","Municipal","Sí","039","Asistencia social","Ejecutivo","Organismo Público Descentralizado",2004,"NA","NA",703906,null,331,302,"Instituto de Cultura, Recreación y Deporte del Municipio de Tlajomulco de Zúñiga"]
["Consejo Social de Cooperación para el Desarrollo Urbano de Guadalajara","Municipal","Sí","039","Territorio","Ejecutivo","Organismo Público Descentralizado",2007,"NA","NA",703907,null,72,303,"Instituto de Estudios del Federalismo Prisciliano Sánchez"]
["Patronato del Centro Histórico, Barrios y Zonas Tradicionales de la ciudad de Guadalajara","Municipal","Sí","039","Cultura","Ejecutivo","Organismo Público Descentralizado",2007,"NA","NA",703908,null,414,304,"Instituto de Fomento al Comercio Exterior del Estado de Jalisco"]
["Instituto Municipal de la Vivienda de Guadalajara","Municipal","Sí","039","Territorio","Ejecutivo","Organismo Público Descentralizado",2010,"NA","NA",703909,null,345,305,"Instituto de Formación para el Trabajo del Estado de Jalisco"]
["Red de Bosques Urbanos de Guadalajara","Municipal","Sí","039","Medio ambiente","Ejecutivo","Organismo Público Descentralizado",2016,"NA","NA",703910,null,422,306,"Instituto de Información Estadística y Geográfica del Estado de Jalisco"]
["Hostotipaquillo","Municipal","Sí","040","Gobierno","Ejecutivo","Dependencia",1824,"NA","NA",704000,null,293,307,"Instituto de Información Territorial del Estado de Jalisco"]
["DIF Municipal de Hostotipaquillo","Municipal","Sí","040","Asistencia social","Ejecutivo","Organismo Público Descentralizado",1988,"NA","NA",704001,null,123,308,"Instituto de Infraestructura Física Educativa del Estado de Jalisco"]
["Huejúcar","Municipal","Sí","041","Gobierno","Ejecutivo","Dependencia",1861,"NA","NA",704100,null,294,309,"Instituto de Justicia Alternativa"]
["DIF Municipal de Huejúcar","Municipal","Sí","041","Asistencia social","Ejecutivo","Organismo Público Descentralizado",1988,"NA","NA",704101,null,124,310,"Instituto de la Juventud de La Barca"]
["Huejuquilla el Alto","Municipal","Sí","042","Gobierno","Ejecutivo","Dependencia",1861,"NA","NA",704200,null,295,311,"Instituto de la Juventud Jocotepec"]
["DIF Municipal de Huejuquilla el Alto","Municipal","Sí","042","Asistencia social","Ejecutivo","Organismo Público Descentralizado",1988,"NA","NA",704201,null,125,312,"Instituto de la Juventud San Gabriel"]
["La Huerta","Municipal","Sí","043","Gobierno","Ejecutivo","Dependencia",1943,"NA","NA",704300,null,392,313,"Instituto de la Juventud Yahualicense"]
["DIF Municipal de La Huerta","Municipal","Sí","043","Asistencia social","Ejecutivo","Organismo Público Descentralizado",1986,"NA","NA",704301,null,136,314,"Instituto de la Mujer de Teocaltiche"]
["Sistema De Agua Potable, Alcantarillado y Saneamiento del Municipio de La Huerta","Municipal","Sí","043","Medio ambiente","Ejecutivo","Dependencia",2010,"NA","NA",704302,null,486,315,"Instituto de la Mujer Tenamaxtlán"]
["Ixtlahuacán de los Membrillos","Municipal","Sí","044","Gobierno","Ejecutivo","Dependencia",1824,"NA","NA",704400,null,373,316,"Instituto de las Mujeres de Cuquío"]
["DIF Municipal de Ixtlahuacán de los Membrillos","Municipal","Sí","044","Asistencia social","Ejecutivo","Organismo Público Descentralizado",1987,"NA","NA",704401,null,126,317,"Instituto de Movilidad y Transporte del Estado de Jalisco"]
["Ixtlahuacán del Río","Municipal","Sí","045","Gobierno","Ejecutivo","Dependencia",1824,"NA","NA",704500,null,374,318,"Instituto de Pensiones del Estado de Jalisco"]
["DIF Municipal de Ixtlahuacán del Río","Municipal","Sí","045","Asistencia social","Ejecutivo","Organismo Público Descentralizado",1989,"NA","NA",704501,null,127,319,"Instituto de Transparencia, Información Pública y Protección de Datos Personales del Estado de Jalisco"]
["Jalostotitlán","Municipal","Sí","046","Gobierno","Ejecutivo","Dependencia",1824,"NA","NA",704600,null,375,320,"Instituto Electoral y de Participación Ciudadana del Estado de Jalisco"]
["DIF Municipal de Jalostotitlán","Municipal","Sí","046","Asistencia social","Ejecutivo","Organismo Público Descentralizado",1986,"NA","NA",704601,null,128,321,"Instituto Estatal para la Educación de Jóvenes y Adultos"]
["Jamay","Municipal","Sí","047","Gobierno","Ejecutivo","Dependencia",1824,"NA","NA",704700,null,376,322,"Instituto Jalisciense de Asistencia Social"]
["DIF Municipal de Jamay","Municipal","Sí","047","Asistencia social","Ejecutivo","Organismo Público Descentralizado",1988,"NA","NA",704701,null,129,323,"Instituto Jalisciense de Cancerología"]
["Sistema de Agua Potable, Alcantarillado y Saneamiento del Municipio de Jamay (SIMAPAS)","Municipal","Sí","047","Medio ambiente","Ejecutivo","Organismo Público Descentralizado",2014,"NA","NA",704702,null,485,324,"Instituto Jalisciense de Ciencias Forenses"]
["Instituto Municipal de las Mujeres en Jamay","Municipal","No","047","Asistencia social","Ejecutivo","Organismo Público Descentralizado",2015,2019,"NA",704703,null,350,325,"Instituto Jalisciense de la Juventud"]
["Jesús María","Municipal","Sí","048","Gobierno","Ejecutivo","Dependencia",1882,"NA","NA",704800,null,377,326,"Instituto Jalisciense de la Vivienda"]
["DIF Municipal de Jesús María","Municipal","Sí","048","Asistencia social","Ejecutivo","Organismo Público Descentralizado",1986,"NA","NA",704801,null,130,327,"Instituto Jalisciense de las Mujeres"]
["Jilotlán de los Dolores","Municipal","Sí","049","Gobierno","Ejecutivo","Dependencia",1849,"NA","NA",704900,null,378,328,"Instituto Jalisciense del Adulto Mayor"]
["DIF Municipal de Jilotlán de los Dolores","Municipal","Sí","049","Asistencia social","Ejecutivo","Organismo Público Descentralizado",1986,"NA","NA",704901,null,131,329,"Instituto Jalisciense del Emprendedor"]
["Instituto Municipal de la Mujer de Jilotlán","Municipal","Sí","049","Asistencia social","Ejecutivo","Organismo Público Descentralizado",2012,"NA","NA",704902,null,334,330,"Instituto Metropolitano de Planeación"]
["Jocotepec","Municipal","Sí","050","Gobierno","Ejecutivo","Dependencia",1824,"NA","NA",705000,null,379,331,"Instituto Municipal de Atención a la Juventud de Guadalajara"]
["DIF Municipal de Jocotepec","Municipal","Sí","050","Asistencia social","Ejecutivo","Organismo Público Descentralizado",1986,"NA","NA",705001,null,132,332,"Instituto Municipal de la Juventud en San Pedro Tlaquepaque"]
["Consejo Municipal del Deporte de Jocotepec","Municipal","Sí","050","Otro","Ejecutivo","Organismo Público Descentralizado",2007,"NA","NA",705002,null,65,333,"Instituto Municipal de la Juventud Mazamitla"]
["Instituto Para la Igualdad Sustantiva entre Hombres y Mujeres de Jocotepec","Municipal","Sí","050","Asistencia social","Ejecutivo","Organismo Público Descentralizado",2008,"NA","NA",705003,null,355,334,"Instituto Municipal de la Mujer de Jilotlán"]
["Juanacatlán","Municipal","Sí","051","Gobierno","Ejecutivo","Dependencia",1943,"NA","NA",705100,null,380,335,"Instituto Municipal de la Mujer de Tonalá"]
["DIF Municipal de Juanacatlán","Municipal","Sí","051","Asistencia social","Ejecutivo","Organismo Público Descentralizado",1987,"NA","NA",705101,null,133,336,"Instituto Municipal de la Mujer de Zapotitlán de Vadillo"]
["Juchitlán","Municipal","Sí","052","Gobierno","Ejecutivo","Dependencia",1837,"NA","NA",705200,null,381,337,"Instituto Municipal de la Mujer del Municipio de Autlán de Navarro"]
["DIF Municipal de Juchitlán","Municipal","Sí","052","Asistencia social","Ejecutivo","Organismo Público Descentralizado",1989,"NA","NA",705201,null,134,338,"Instituto Municipal de la Mujer en La Barca"]
["Lagos de Moreno","Municipal","Sí","053","Gobierno","Ejecutivo","Dependencia",1824,"NA","NA",705300,null,394,339,"Instituto Municipal de la Mujer en San Diego de Alejandría"]
["DIF Municipal de Lagos de Moreno","Municipal","Sí","053","Asistencia social","Ejecutivo","Organismo Público Descentralizado",1985,"NA","NA",705301,null,138,340,"Instituto Municipal de la Mujer en San Ignacio Cerro Gordo"]
["Patronato de las Instalaciones de la Feria de Lagos de Moreno","Municipal","Sí","053","Cultura","Ejecutivo","Organismo Público Descentralizado",2013,"NA","NA",705302,null,411,341,"Instituto Municipal de la Mujer en Zapotlán el Grande"]
["Instituto Municipal de Planeación de Lagos de Moreno","Municipal","Sí","053","Territorio","Ejecutivo","Organismo Público Descentralizado",2016,"NA","NA",705303,null,354,342,"Instituto Municipal de la Mujer Pihuamense en Pihuamo"]
["El Limón","Municipal","Sí","054","Gobierno","Ejecutivo","Dependencia",1921,"NA","NA",705400,null,212,343,"Instituto Municipal de la Mujer Tlajomulquense de Tlajomulco de Zúñiga"]
["DIF Municipal de El Limón","Municipal","Sí","054","Asistencia social","Ejecutivo","Organismo Público Descentralizado",1986,"NA","NA",705401,null,116,344,"Instituto Municipal de la Mujer Yahualicense de Yahualica de González Gallo"]
["Magdalena","Municipal","Sí","055","Gobierno","Ejecutivo","Dependencia",1824,"NA","NA",705500,null,395,345,"Instituto Municipal de la Vivienda de Guadalajara"]
["DIF Municipal de Magdalena","Municipal","Sí","055","Asistencia social","Ejecutivo","Organismo Público Descentralizado",1986,"NA","NA",705501,null,139,346,"Instituto Municipal de las Mujeres de El Grullo"]
["Sistema de Agua Potable, Alcantarillado y Saneamiento de Magdalena","Municipal","Sí","055","Medio ambiente","Ejecutivo","Dependencia",2014,"NA","NA",705502,null,478,347,"Instituto Municipal de las Mujeres de Mazamitla"]
["Santa María del Oro","Municipal","Sí","056","Gobierno","Ejecutivo","Dependencia",1938,"NA","NA",705600,null,438,348,"Instituto Municipal de las Mujeres de San Julián"]
["DIF Municipal de Santa María del Oro","Municipal","Sí","056","Asistencia social","Ejecutivo","Organismo Público Descentralizado",1989,"NA","NA",705601,null,165,349,"Instituto Municipal de las Mujeres en Guadalajara"]
["La Manzanilla de la Paz","Municipal","Sí","057","Gobierno","Ejecutivo","Dependencia",1909,"NA","NA",705700,null,393,350,"Instituto Municipal de las Mujeres en Jamay"]
["DIF Municipal de La Manzanilla de la Paz","Municipal","Sí","057","Asistencia social","Ejecutivo","Organismo Público Descentralizado",1989,"NA","NA",705701,null,137,351,"Instituto Municipal de las Mujeres Tamazulenses"]
["Mascota","Municipal","Sí","058","Gobierno","Ejecutivo","Dependencia",1824,"NA","NA",705800,null,396,352,"Instituto Municipal de las Mujeres y para la Igualdad Sustantiva en San Pedro Tlaquepaque"]
["DIF Municipal de Mascota","Municipal","Sí","058","Asistencia social","Ejecutivo","Organismo Público Descentralizado",1986,"NA","NA",705801,null,140,353,"Instituto Municipal de las Mujeres Zapopanas para la Igualdad Sustantiva"]
["Sistema de Agua Potable y Alcantarillado de Mascota","Municipal","Sí","058","Medio ambiente","Ejecutivo","Organismo Público Descentralizado",2014,"NA","NA",705802,null,475,354,"Instituto Municipal de Planeación de Lagos de Moreno"]
["Mazamitla","Municipal","Sí","059","Gobierno","Ejecutivo","Dependencia",1870,"NA","NA",705900,null,397,355,"Instituto Para la Igualdad Sustantiva entre Hombres y Mujeres de Jocotepec"]
["DIF Municipal de Mazamitla","Municipal","Sí","059","Asistencia social","Ejecutivo","Organismo Público Descentralizado",1989,"NA","NA",705901,null,141,356,"Instituto Tecalitlense de la Mujer"]
["Sistema de Agua Potable, Alcantarillados y Saneamiento del Municipio de Mazamitla","Municipal","Sí","059","Medio ambiente","Ejecutivo","Organismo Público Descentralizado",2016,"NA","NA",705902,null,495,357,"Instituto Tecnológico José Mario Molina Pasquel y Henríquez"]
["Mexticacán","Municipal","Sí","060","Gobierno","Ejecutivo","Dependencia",1824,"NA","NA",706000,null,398,358,"Instituto Tecnológico José Mario Molina Pasquel y Henríquez de El Grullo"]
["DIF Municipal de Mexticacán","Municipal","Sí","060","Asistencia social","Ejecutivo","Organismo Público Descentralizado",1987,"NA","NA",706001,null,142,359,"Instituto Tecnológico Superior de Arandas"]
["Mezquitic","Municipal","Sí","061","Gobierno","Ejecutivo","Dependencia",1880,"NA","NA",706100,null,399,360,"Instituto Tecnológico Superior de Chapala"]
["DIF Municipal de Mezquitic","Municipal","Sí","061","Asistencia social","Ejecutivo","Organismo Público Descentralizado",1986,"NA","NA",706101,null,143,361,"Instituto Tecnológico Superior de Cocula"]
["Mixtlán","Municipal","Sí","062","Gobierno","Ejecutivo","Dependencia",1938,"NA","NA",706200,null,400,362,"Instituto Tecnológico Superior de La Huerta"]
["DIF Municipal de Mixtlán","Municipal","Sí","062","Asistencia social","Ejecutivo","Organismo Público Descentralizado",1987,"NA","NA",706201,null,144,363,"Instituto Tecnológico Superior de Lagos de Moreno"]
["Ocotlán","Municipal","Sí","063","Gobierno","Ejecutivo","Dependencia",1824,"NA","NA",706300,null,403,364,"Instituto Tecnológico Superior de Mascota"]
["DIF Municipal de Ocotlán","Municipal","Sí","063","Asistencia social","Ejecutivo","Organismo Público Descentralizado",1986,"NA","NA",706301,null,145,365,"Instituto Tecnológico Superior de Puerto Vallarta"]
["Ojuelos de Jalisco","Municipal","Sí","064","Gobierno","Ejecutivo","Dependencia",1862,"NA","NA",706400,null,404,366,"Instituto Tecnológico Superior de Tala"]
["DIF Municipal de Ojuelos de Jalisco","Municipal","Sí","064","Asistencia social","Ejecutivo","Organismo Público Descentralizado",1997,"NA","NA",706401,null,146,367,"Instituto Tecnológico Superior de Tamazula de Gordiano"]
["Pihuamo","Municipal","Sí","065","Gobierno","Ejecutivo","Dependencia",1824,"NA","NA",706500,null,416,368,"Instituto Tecnológico Superior de Tequila"]
["DIF Municipal de Pihuamo","Municipal","Sí","065","Asistencia social","Ejecutivo","Organismo Público Descentralizado",1986,"NA","NA",706501,null,147,369,"Instituto Tecnológico Superior de Zapopan"]
["Instituto Municipal de la Mujer Pihuamense en Pihuamo","Municipal","Sí","065","Asistencia social","Ejecutivo","Organismo Público Descentralizado",2012,"NA","NA",706502,null,342,370,"Instituto Tecnológico Superior de Zapotlanejo"]
["Poncitlán","Municipal","Sí","066","Gobierno","Ejecutivo","Dependencia",1824,"NA","NA",706600,null,417,371,"Instituto Vallartense de Cultura"]
["DIF Municipal de Poncitlán","Municipal","Sí","066","Asistencia social","Ejecutivo","Organismo Público Descentralizado",1985,"NA","NA",706601,null,148,372,"Instituto Zapotlense de la Juventud de Zapotlán el Grande"]
["Puerto Vallarta","Municipal","Sí","067","Gobierno","Ejecutivo","Dependencia",1918,"NA","NA",706700,null,420,373,"Ixtlahuacán de los Membrillos"]
["DIF Municipal de Puerto Vallarta","Municipal","Sí","067","Asistencia social","Ejecutivo","Organismo Público Descentralizado",1985,"NA","NA",706701,null,149,374,"Ixtlahuacán del Río"]
["Fideicomiso de Turismo de Puerto Vallarta","Municipal","Sí","067","Economía","Ejecutivo","Fideicomiso",1996,"NA","F/2177",706702,null,234,375,"Jalostotitlán"]
["Sistema de los Servicios de Agua Potable, Drenaje y Alcantarillado de Puerto Vallarta","Municipal","Sí","067","Medio ambiente","Ejecutivo","Organismo Público Descentralizado",1997,"NA","NA",706703,null,496,376,"Jamay"]
["Patronato del Centro Histórico y Franja Turística de Puerto Vallarta","Municipal","Sí","067","Economía","Ejecutivo","Organismo Público Descentralizado",2006,"NA","NA",706704,null,413,377,"Jesús María"]
["Consejo Municipal del Deporte de Puerto Vallarta","Municipal","Sí","067","Otro","Ejecutivo","Organismo Público Descentralizado",2007,"NA","NA",706705,null,67,378,"Jilotlán de los Dolores"]
["Instituto Vallartense de Cultura","Municipal","Sí","067","Cultura","Ejecutivo","Organismo Público Descentralizado",2011,"NA","NA",706706,null,371,379,"Jocotepec"]
["Villa Purificación","Municipal","Sí","068","Gobierno","Ejecutivo","Dependencia",1871,"NA","NA",706800,null,549,380,"Juanacatlán"]
["DIF Municipal de Villa Purificación","Municipal","Sí","068","Asistencia social","Ejecutivo","Organismo Público Descentralizado",1986,"NA","NA",706801,null,199,381,"Juchitlán"]
["Quitupan","Municipal","Sí","069","Gobierno","Ejecutivo","Dependencia",1824,"NA","NA",706900,null,421,382,"Junta Intermunicipal de Medio Ambiente Altos Sur"]
["DIF Municipal de Quitupan","Municipal","Sí","069","Asistencia social","Ejecutivo","Organismo Público Descentralizado",1988,"NA","NA",706901,null,150,383,"Junta Intermunicipal de Medio Ambiente de la Costa Sur"]
["El Salto","Municipal","Sí","070","Gobierno","Ejecutivo","Dependencia",1943,"NA","NA",707000,null,213,384,"Junta Intermunicipal de Medio Ambiente de Sierra Occidental y Costa"]
["DIF Municipal de El Salto","Municipal","Sí","070","Asistencia social","Ejecutivo","Organismo Público Descentralizado",1985,"NA","NA",707001,null,117,385,"Junta Intermunicipal de Medio Ambiente del Ayuquila Alto (JIMA Ayuquila Alto)"]
["San Cristóbal de la Barranca","Municipal","Sí","071","Gobierno","Ejecutivo","Dependencia",1824,"NA","NA",707100,null,424,386,"Junta Intermunicipal de Medio Ambiente Lagunas"]
["DIF Municipal de San Cristóbal de la Barranca","Municipal","Sí","071","Asistencia social","Ejecutivo","Organismo Público Descentralizado",1988,"NA","NA",707101,null,151,387,"Junta Intermunicipal de Medio Ambiente para la Gestión Integral de la Cuenca del Río Coahuayana"]
["San Diego de Alejandría","Municipal","Sí","072","Gobierno","Ejecutivo","Dependencia",1885,"NA","NA",707200,null,425,388,"Junta Intermunicipal de Medio Ambiente para la Gestión Integral de la Región Norte del Estado de Jalisco"]
["DIF Municipal de San Diego de Alejandría","Municipal","Sí","072","Asistencia social","Ejecutivo","Organismo Público Descentralizado",1987,"NA","NA",707201,null,152,389,"Junta Intermunicipal de Medio Ambiente para la Gestión Integral de la Región Valles"]
["Instituto Municipal de la Mujer en San Diego de Alejandría","Municipal","Sí","072","Asistencia social","Ejecutivo","Organismo Público Descentralizado",2009,"NA","NA",707202,null,339,390,"Junta Intermunicipal del Medio Ambiente para la Gestión Integral de la Cuenca Baja del Río Ayuquila"]
["San Juan de los Lagos","Municipal","Sí","073","Gobierno","Ejecutivo","Dependencia",1824,"NA","NA",707300,null,428,391,"La Barca"]
["DIF Municipal de San Juan de los Lagos","Municipal","Sí","073","Asistencia social","Ejecutivo","Organismo Público Descentralizado",1985,"NA","NA",707301,null,155,392,"La Huerta"]
["San Julián","Municipal","Sí","074","Gobierno","Ejecutivo","Dependencia",1912,"NA","NA",707400,null,430,393,"La Manzanilla de la Paz"]
["DIF Municipal de San Julián","Municipal","Sí","074","Asistencia social","Ejecutivo","Organismo Público Descentralizado",1987,"NA","NA",707401,null,157,394,"Lagos de Moreno"]
["Instituto Municipal de las Mujeres de San Julián","Municipal","Sí","074","Asistencia social","Ejecutivo","Organismo Público Descentralizado",2007,"NA","NA",707402,null,348,395,"Magdalena"]
["Sistema de Agua Potable, Alcantarillado y Saneamiento del Municipio de San Julián (SAPAJ)","Municipal","Sí","074","Medio ambiente","Ejecutivo","Organismo Público Descentralizado",2009,"NA","NA",707403,null,488,396,"Mascota"]
["San Marcos","Municipal","Sí","075","Gobierno","Ejecutivo","Dependencia",1907,"NA","NA",707500,null,431,397,"Mazamitla"]
["DIF Municipal de San Marcos","Municipal","NA","075","Asistencia social","Ejecutivo","Organismo Público Descentralizado",1986,"NA","NA",707501,null,158,398,"Mexticacán"]
["San Martín de Bolaños","Municipal","Sí","076","Gobierno","Ejecutivo","Dependencia",1824,"NA","NA",707600,null,432,399,"Mezquitic"]
["DIF Municipal de San Martín de Bolaños","Municipal","Sí","076","Asistencia social","Ejecutivo","Organismo Público Descentralizado",1987,"NA","NA",707601,null,159,400,"Mixtlán"]
["San Martín Hidalgo","Municipal","Sí","077","Gobierno","Ejecutivo","Dependencia",1824,"NA","NA",707700,null,433,401,"Museos, Exposiciones y Galerías de Jalisco"]
["DIF Municipal de San Martín Hidalgo","Municipal","Sí","077","Asistencia social","Ejecutivo","Organismo Público Descentralizado",1986,"NA","NA",707701,null,160,402,"O.P.D. Comité del Carnaval Sayula"]
["Sistema de Agua Potable, Alcantarillado y Saneamiento del Municipio de San Martín Hidalgo","Municipal","Sí","077","Medio ambiente",null,"Organismo Público Descentralizado",2010,"NA","NA",707702,null,489,403,"Ocotlán"]
["San Miguel el Alto","Municipal","Sí","078","Gobierno","Ejecutivo","Dependencia",1824,"NA","NA",707800,null,434,404,"Ojuelos de Jalisco"]
["DIF Municipal de San Miguel el Alto","Municipal","Sí","078","Asistencia social","Ejecutivo","Organismo Público Descentralizado",1986,"NA","NA",707801,null,161,405,"Organismo Operador del Parque de la Solidaridad y Roberto Montenegro"]
["Sistema de Agua Potable, Alcantarillado y Saneamiento del Municipio de San Miguel el Alto (SAPASMA)","Municipal","Sí","078","Medio ambiente","Ejecutivo","Organismo Público Descentralizado",2013,"NA","NA",707802,null,490,406,"Organismo Público Descentralizado Comité de la Feria de Zapotlán el Grande"]
["Gómez Farías","Municipal","Sí","079","Gobierno","Ejecutivo","Dependencia",1869,"NA","NA",707900,null,288,407,"Organismo Público Descentralizado Servicios de Salud del Municipio de Zapopan"]
["DIF Municipal de Gómez Farías","Municipal","Sí","079","Asistencia social","Ejecutivo","Organismo Público Descentralizado",1987,"NA","NA",707901,null,120,408,"Organismo Público Descentralizado Zoológico Guadalajara"]
["San Sebastián del Oeste","Municipal","Sí","080","Gobierno","Ejecutivo","Dependencia",1824,"NA","NA",708000,null,436,409,"Parque Metropolitano de Guadalajara"]
["DIF Municipal de San Sebastián del Oeste","Municipal","Sí","080","Asistencia social","Ejecutivo","Organismo Público Descentralizado",1986,"NA","NA",708001,null,163,410,"Patronato de las Fiestas de Octubre de la Zona Metropolitana de Guadalajara"]
["Santa María de los Ángeles","Municipal","Sí","081","Gobierno","Ejecutivo","Dependencia",1861,"NA","NA",708100,null,437,411,"Patronato de las Instalaciones de la Feria de Lagos de Moreno"]
["DIF Municipal de Santa María de los Ángeles","Municipal","Sí","081","Asistencia social","Ejecutivo","Organismo Público Descentralizado",1988,"NA","NA",708101,null,164,412,"Patronato del Centro Histórico y Barrios Tradicionales de Tonalá, Jalisco \"Tonalá Mágico\""]
["Sayula","Municipal","Sí","082","Gobierno","Ejecutivo","Dependencia",1824,"NA","NA",708200,null,439,413,"Patronato del Centro Histórico y Franja Turística de Puerto Vallarta"]
["DIF Municipal de Sayula","Municipal","Sí","082","Asistencia social","Ejecutivo","Organismo Público Descentralizado",1986,"NA","NA",708201,null,166,414,"Patronato del Centro Histórico, Barrios y Zonas Tradicionales de la ciudad de Guadalajara"]
["O.P.D. Comité del Carnaval Sayula","Municipal","Sí","082","Cultura","Ejecutivo","Organismo Público Descentralizado",2018,"NA","NA",708202,null,402,415,"Patronato Nacional de la Cerámica"]
["Tala","Municipal","Sí","083","Gobierno","Ejecutivo","Dependencia",1824,"NA","NA",708300,null,507,416,"Pihuamo"]
["DIF Municipal de Tala","Municipal","Sí","083","Asistencia social","Ejecutivo","Organismo Público Descentralizado",1986,"NA","NA",708301,null,167,417,"Poncitlán"]
["Talpa de Allende","Municipal","Sí","084","Gobierno","Ejecutivo","Dependencia",1824,"NA","NA",708400,null,508,418,"Procuraduría de Desarrollo Urbano"]
["DIF Municipal de Talpa de Allende","Municipal","Sí","084","Asistencia social","Ejecutivo","Organismo Público Descentralizado",1986,"NA","NA",708401,null,168,419,"Procuraduría Social del Estado"]
["Sistema de Agua Potable, Alcantarillado y Saneamiento del Municipio de Talpa de Allende","Municipal","Sí","084","Medio ambiente","Ejecutivo","Organismo Público Descentralizado",2014,"NA","NA",708402,null,491,420,"Puerto Vallarta"]
["Tamazula de Gordiano","Municipal","Sí","085","Gobierno","Ejecutivo","Dependencia",1824,"NA","NA",708500,null,509,421,"Quitupan"]
["DIF Municipal de Tamazula de Gordiano","Municipal","Sí","085","Asistencia social","Ejecutivo","Organismo Público Descentralizado",1985,"NA","NA",708501,null,169,422,"Red de Bosques Urbanos de Guadalajara"]
["Instituto Municipal de las Mujeres Tamazulenses","Municipal","Sí","085","Asistencia social","Ejecutivo","Organismo Público Descentralizado",2012,"NA","NA",708502,null,351,423,"Régimen Estatal de Protección Social en Salud de Jalisco"]
["Sistema de Agua Potable y Alcantarillado de Tamazula de Gordiano","Municipal","Sí","085","Medio ambiente","Ejecutivo","Organismo Público Descentralizado",2019,"NA","NA",708503,null,476,424,"San Cristóbal de la Barranca"]
["Tapalpa","Municipal","Sí","086","Gobierno","Ejecutivo","Dependencia",1825,"NA","NA",708600,null,510,425,"San Diego de Alejandría"]
["DIF Municipal de Tapalpa","Municipal","Sí","086","Asistencia social","Ejecutivo","Organismo Público Descentralizado",1988,"NA","NA",708601,null,170,426,"San Gabriel"]
["Sistema Integral de Agua de Tapalpa","Municipal","Sí","086","Medio ambiente","Ejecutivo","Organismo Público Descentralizado",2014,"NA","NA",708602,null,499,427,"San Ignacio Cerro Gordo"]
["Tecalitlán","Municipal","Sí","087","Gobierno","Ejecutivo","Dependencia",1824,"NA","NA",708700,null,511,428,"San Juan de los Lagos"]
["DIF Municipal de Tecalitlán","Municipal","Sí","087","Asistencia social","Ejecutivo","Organismo Público Descentralizado",1987,"NA","NA",708701,null,171,429,"San Juanito de Escobedo"]
["Instituto Tecalitlense de la Mujer","Municipal","Sí","087","Asistencia social","Ejecutivo","Organismo Público Descentralizado",2013,"NA","NA",708702,null,356,430,"San Julián"]
["Tecolotlán","Municipal","Sí","088","Gobierno","Ejecutivo","Dependencia",1824,"NA","NA",708800,null,513,431,"San Marcos"]
["DIF Municipal de Tecolotlán","Municipal","Sí","088","Asistencia social","Ejecutivo","Organismo Público Descentralizado",1986,"NA","NA",708801,null,173,432,"San Martín de Bolaños"]
["Techaluta de Montenegro","Municipal","Sí","089","Gobierno","Ejecutivo","Dependencia",1824,"NA","NA",708900,null,512,433,"San Martín Hidalgo"]
["DIF Municipal de Techaluta de Montenegro","Municipal","Sí","089","Asistencia social","Ejecutivo","Organismo Público Descentralizado",1987,"NA","NA",708901,null,172,434,"San Miguel el Alto"]
["Tenamaxtlán","Municipal","Sí","090","Gobierno","Ejecutivo","Dependencia",1824,"NA","NA",709000,null,514,435,"San Pedro Tlaquepaque"]
["DIF Municipal de Tenamaxtlán","Municipal","Sí","090","Asistencia social","Ejecutivo","Organismo Público Descentralizado",1986,"NA","NA",709001,null,174,436,"San Sebastián del Oeste"]
["Instituto de la Mujer Tenamaxtlán","Municipal","Sí","090","Asistencia social","Ejecutivo","Organismo Público Descentralizado",2015,"NA","NA",709002,null,315,437,"Santa María de los Ángeles"]
["Teocaltiche","Municipal","Sí","091","Gobierno","Ejecutivo","Dependencia",1824,"NA","NA",709100,null,515,438,"Santa María del Oro"]
["DIF Municipal de Teocaltiche","Municipal","Sí","091","Asistencia social","Ejecutivo","Organismo Público Descentralizado",1987,"NA","NA",709101,null,175,439,"Sayula"]
["Instituto de Atención a la Juventud Teocaltichense","Municipal","Sí","091","Asistencia social","Ejecutivo","Organismo Público Descentralizado",2010,"NA","NA",709102,null,301,440,{"$error":"#N/A"}]
["Instituto de la Mujer de Teocaltiche","Municipal","Sí","091","Asistencia social","Ejecutivo","Organismo Público Descentralizado",2010,"NA","NA",709103,null,314,441,"Secretaría de Administración"]
["Teocuitatlán de Corona","Municipal","Sí","092","Gobierno","Ejecutivo","Dependencia",1844,"NA","NA",709200,null,516,442,"Secretaría de Agricultura y Desarrollo Rural"]
["DIF Municipal de Teocuitatlán de Corona","Municipal","Sí","092","Asistencia social","Ejecutivo","Organismo Público Descentralizado",1989,"NA","NA",709201,null,176,443,"Secretaría de Cultura"]
["Tepatitlán de Morelos","Municipal","Sí","093","Gobierno","Ejecutivo","Dependencia",1824,"NA","NA",709300,null,517,444,"Secretaría de Desarrollo e Integración Social"]
["DIF Municipal de Tepatitlán de Morelos","Municipal","Sí","093","Asistencia social","Ejecutivo","Organismo Público Descentralizado",1987,"NA","NA",709301,null,177,445,"Secretaría de Desarrollo Económico"]
["Agua y Saneamiento del Municipio de Tepatitlán","Municipal","Sí","093","Medio ambiente","Ejecutivo","Organismo Público Descentralizado",2007,"NA","NA",709302,null,11,446,"Secretaría de Desarrollo Rural"]
["Tequila","Municipal","Sí","094","Gobierno","Ejecutivo","Dependencia",1824,"NA","NA",709400,null,518,447,"Secretaría de Desarrollo Urbano"]
["DIF Municipal de Tequila","Municipal","Sí","094","Asistencia social","Ejecutivo","Organismo Público Descentralizado",1986,"NA","NA",709401,null,178,448,"Secretaría de Educación"]
["Teuchitlán","Municipal","Sí","095","Gobierno","Ejecutivo","Dependencia",1824,"NA","NA",709500,null,519,449,"Secretaría de Finanzas"]
["DIF Municipal de Teuchitlán","Municipal","Sí","095","Asistencia social","Ejecutivo","Organismo Público Descentralizado",1987,"NA","NA",709501,null,179,450,"Secretaría de Gestión Integral del Agua"]
["Tizapán el Alto","Municipal","Sí","096","Gobierno","Ejecutivo","Dependencia",1824,"NA","NA",709600,null,520,451,"Secretaría de Igualdad Sustantiva"]
["DIF Municipal de Tizapán el Alto","Municipal","Sí","096","Asistencia social","Ejecutivo","Organismo Público Descentralizado",1987,"NA","NA",709601,null,180,452,"Secretaría de Infraestructura y Obra Pública"]
["Tlajomulco de Zúñiga","Municipal","Sí","097","Gobierno","Ejecutivo","Dependencia",1824,"NA","NA",709700,null,521,453,"Secretaría de Innovación, Ciencia y Tecnología"]
["DIF Municipal de Tlajomulco de Zúñiga","Municipal","Sí","097","Asistencia social","Ejecutivo","Organismo Público Descentralizado",1985,"NA","NA",709701,null,181,454,"Secretaría de la Hacienda Pública"]
["Instituto de Cultura, Recreación y Deporte del Municipio de Tlajomulco de Zúñiga","Municipal","Sí","097","Cultura","Ejecutivo","Organismo Público Descentralizado",2010,"NA","NA",709702,null,302,455,"Secretaría de Medio Ambiente y Desarrollo Territorial"]
["Instituto Municipal de la Mujer Tlajomulquense de Tlajomulco de Zúñiga","Municipal","Sí","097","Asistencia social","Ejecutivo","Organismo Público Descentralizado",2010,"NA","NA",709703,null,343,456,"Secretaría de Movilidad"]
["Centro de Estimulación para Personas con Discapacidad Intelectual de Tlajomulco de Zúñiga","Municipal","Sí","097","Salud","Ejecutivo","Organismo Público Descentralizado",2013,"NA","NA",709704,null,35,457,"Secretaría de Planeación"]
["Instituto de Alternativas para los Jóvenes de Tlajomulco de Zúñiga","Municipal","Sí","097","Asistencia social","Ejecutivo","Organismo Público Descentralizado",2013,"NA","NA",709705,null,298,458,"Secretaría de Planeación y Participación Ciudadana"]
["San Pedro Tlaquepaque","Municipal","Sí","098","Gobierno","Ejecutivo","Dependencia",1824,"NA","NA",709800,null,435,459,"Secretaría de Planeación, Administración y Finanzas"]
["DIF Municipal de San Pedro Tlaquepaque","Municipal","Sí","098","Asistencia social","Ejecutivo","Organismo Público Descentralizado",1985,"NA","NA",709801,null,162,460,"Secretaría de Promoción Económica"]
["Consejo Municipal contra las Adicciones en San Pedro Tlaquepaque","Municipal","Sí","098","Salud","Ejecutivo","Organismo Público Descentralizado",2010,"NA","NA",709802,null,61,461,"Secretaría de Salud"]
["Instituto Municipal de la Juventud en San Pedro Tlaquepaque","Municipal","Sí","098","Asistencia social","Ejecutivo","Organismo Público Descentralizado",2010,"NA","NA",709803,null,332,462,"Secretaría de Seguridad"]
["Instituto Municipal de las Mujeres y para la Igualdad Sustantiva en San Pedro Tlaquepaque","Municipal","Sí","098","Asistencia social","Ejecutivo","Organismo Público Descentralizado",2010,"NA","NA",709804,null,352,463,"Secretaría de Turismo"]
["Patronato Nacional de la Cerámica","Municipal","Sí","098","Cultura","Ejecutivo","Organismo Público Descentralizado",2010,"NA","NA",709805,null,415,464,"Secretaría de Vialidad y Transporte"]
["Consejo Municipal del Deporte de San Pedro Tlaquepaque","Municipal","Sí","098","Otro","Ejecutivo","Organismo Público Descentralizado",2012,"NA","NA",709806,null,68,465,"Secretaría del Sistema de Asistencia Social"]
["Tolimán","Municipal","Sí","099","Gobierno","Ejecutivo","Dependencia",1895,"NA","NA",709900,null,522,466,"Secretaría del Trabajo y Previsión Social"]
["DIF Municipal de Tolimán","Municipal","Sí","099","Asistencia social","Ejecutivo","Organismo Público Descentralizado",1987,"NA","NA",709901,null,182,467,"Secretaría del Transporte"]
["Tomatlán","Municipal","Sí",100,"Gobierno","Ejecutivo","Dependencia",1824,"NA","NA",710000,null,523,468,"Secretaría Ejecutiva del Sistema Estatal Anticorrupción"]
["DIF Municipal de Tomatlán","Municipal","Sí",100,"Asistencia social","Ejecutivo","Organismo Público Descentralizado",1988,"NA","NA",710001,null,183,469,"Secretaría General de Gobierno"]
["Tonalá","Municipal","Sí",101,"Gobierno","Ejecutivo","Dependencia",1824,"NA","NA",710100,null,524,470,"Servicios de Salud Jalisco"]
["DIF Municipal de Tonalá","Municipal","Sí",101,"Asistencia social","Ejecutivo","Organismo Público Descentralizado",1985,"NA","NA",710101,null,184,471,"Servicios y Transportes"]
["Instituto de Alternativas para los Jóvenes de Tonalá","Municipal","Sí",101,"Asistencia social","Ejecutivo","Organismo Público Descentralizado",2008,"NA","NA",710102,null,299,472,"Sistema Administrativo Municipal de Agua Potable y Alcantarillado de Ixtlahuacán de los Membrillos"]
["Consejo Municipal del Deporte de Tonalá","Municipal","Sí",101,"Otro","Ejecutivo","Organismo Público Descentralizado",2009,"NA","NA",710103,null,69,473,"Sistema Barquense de Agua Potable, Alcantarillado y Saneamiento"]
["Instituto Municipal de la Mujer de Tonalá","Municipal","Sí",101,"Asistencia social","Ejecutivo","Organismo Público Descentralizado",2011,"NA","NA",710104,null,335,474,"Sistema de Agua Potable Alcantarillado y Saneamiento del Municipio de Ameca"]
["Patronato del Centro Histórico y Barrios Tradicionales de Tonalá, Jalisco \"Tonalá Mágico\"","Municipal","Sí",101,"Cultura","Ejecutivo","Organismo Público Descentralizado",2018,"NA","NA",710105,null,412,475,"Sistema de Agua Potable y Alcantarillado de Mascota"]
["Tonaya","Municipal","Sí",102,"Gobierno","Ejecutivo","Dependencia",1824,"NA","NA",710200,null,525,476,"Sistema de Agua Potable y Alcantarillado de Tamazula de Gordiano"]
["DIF Municipal de Tonaya","Municipal","Sí",102,"Asistencia social","Ejecutivo","Organismo Público Descentralizado",1986,"NA","NA",710201,null,185,477,"Sistema de Agua Potable y Alcantarillado del Municipio de Unión de Tula"]
["Tonila","Municipal","Sí",103,"Gobierno","Ejecutivo","Dependencia",1824,"NA","NA",710300,null,526,478,"Sistema de Agua Potable, Alcantarillado y Saneamiento de Magdalena"]
["DIF Municipal de Tonila","Municipal","Sí",103,"Asistencia social","Ejecutivo","Organismo Público Descentralizado",1986,"NA","NA",710301,null,186,479,"Sistema de Agua Potable, Alcantarillado y Saneamiento del Municipio de Amacueca (SAPASA)"]
["Totatiche","Municipal","Sí",104,"Gobierno","Ejecutivo","Dependencia",1861,"NA","NA",710400,null,527,480,"Sistema de Agua Potable, Alcantarillado y Saneamiento del Municipio de Arandas"]
["DIF Municipal de Totatiche","Municipal","Sí",104,"Asistencia social","Ejecutivo","Organismo Público Descentralizado",1988,"NA","NA",710401,null,187,481,"Sistema de Agua Potable, Alcantarillado y Saneamiento del Municipio de Atotonilco el Alto (SAPAMA)"]
["Tototlán","Municipal","Sí",105,"Gobierno","Ejecutivo","Dependencia",1824,"NA","NA",710500,null,528,482,"Sistema de Agua Potable, Alcantarillado y Saneamiento del Municipio de Chapala (SIMAPA)"]
["DIF Municipal de Tototlán","Municipal","Sí",105,"Asistencia social","Ejecutivo","Organismo Público Descentralizado",1986,"NA","NA",710501,null,188,483,"Sistema de Agua Potable, Alcantarillado y Saneamiento del Municipio de Colotlán"]
["Sistema de Agua Potable, Alcantarillado y Saneamiento del Municipio de Tototlán","Municipal","Sí",105,"Medio ambiente","Ejecutivo","Organismo Público Descentralizado",1987,"NA","NA",710502,null,492,484,"Sistema de Agua Potable, Alcantarillado y Saneamiento del Municipio de Degollado (SIAPADEG)"]
["Tuxcacuesco","Municipal","Sí",106,"Gobierno","Ejecutivo","Dependencia",1824,"NA","NA",710600,null,533,485,"Sistema de Agua Potable, Alcantarillado y Saneamiento del Municipio de Jamay (SIMAPAS)"]
["DIF Municipal de Tuxcacuesco","Municipal","Sí",106,"Asistencia social","Ejecutivo","Organismo Público Descentralizado",1988,"NA","NA",710601,null,189,486,"Sistema De Agua Potable, Alcantarillado y Saneamiento del Municipio de La Huerta"]
["Tuxcueca","Municipal","Sí",107,"Gobierno","Ejecutivo","Dependencia",1886,"NA","NA",710700,null,534,487,"Sistema de Agua Potable, Alcantarillado y Saneamiento del Municipio de San Ignacio Cerro Gordo"]
["DIF Municipal de Tuxcueca","Municipal","Sí",107,"Asistencia social","Ejecutivo","Organismo Público Descentralizado",1988,"NA","NA",710701,null,190,488,"Sistema de Agua Potable, Alcantarillado y Saneamiento del Municipio de San Julián (SAPAJ)"]
["Tuxpan","Municipal","Sí",108,"Gobierno","Ejecutivo","Dependencia",1825,"NA","NA",710800,null,535,489,"Sistema de Agua Potable, Alcantarillado y Saneamiento del Municipio de San Martín Hidalgo"]
["DIF Municipal de Tuxpan","Municipal","Sí",108,"Asistencia social","Ejecutivo","Organismo Público Descentralizado",1986,"NA","NA",710801,null,191,490,"Sistema de Agua Potable, Alcantarillado y Saneamiento del Municipio de San Miguel el Alto (SAPASMA)"]
["Unión de San Antonio","Municipal","Sí",109,"Gobierno","Ejecutivo","Dependencia",1824,"NA","NA",710900,null,538,491,"Sistema de Agua Potable, Alcantarillado y Saneamiento del Municipio de Talpa de Allende"]
["DIF Municipal de Unión de San Antonio","Municipal","Sí",109,"Asistencia social","Ejecutivo","Organismo Público Descentralizado",1985,"NA","NA",710901,null,192,492,"Sistema de Agua Potable, Alcantarillado y Saneamiento del Municipio de Tototlán"]
["Unión de Tula","Municipal","Sí",110,"Gobierno","Ejecutivo","Dependencia",1824,"NA","NA",711000,null,539,493,"Sistema de Agua Potable, Alcantarillado y Saneamiento del Municipio de Villa Hidalgo"]
["DIF Municipal de Unión de Tula","Municipal","Sí",110,"Asistencia social","Ejecutivo","Organismo Público Descentralizado",1986,"NA","NA",711001,null,193,494,"Sistema de Agua Potable, Alcantarillado y Saneamiento del Municipio de Zapotlán el Grande"]
["Sistema de Agua Potable y Alcantarillado del Municipio de Unión de Tula","Municipal","Sí",110,"Medio ambiente","Ejecutivo","Organismo Público Descentralizado",2008,"NA","NA",711002,null,477,495,"Sistema de Agua Potable, Alcantarillados y Saneamiento del Municipio de Mazamitla"]
["Valle de Guadalupe","Municipal","Sí",111,"Gobierno","Ejecutivo","Dependencia",1922,"NA","NA",711100,null,544,496,"Sistema de los Servicios de Agua Potable, Drenaje y Alcantarillado de Puerto Vallarta"]
["DIF Municipal de Valle de Guadalupe","Municipal","Sí",111,"Asistencia social","Ejecutivo","Organismo Público Descentralizado",1986,"NA","NA",711101,null,194,497,"Sistema de Transporte Colectivo de la Zona Metropolitana (SITECOZOME)"]
["Valle de Juárez","Municipal","Sí",112,"Gobierno","Ejecutivo","Dependencia",1895,"NA","NA",711200,null,545,498,"Sistema Estatal de Tren Eléctrico Urbano"]
["DIF Municipal de Valle de Juárez","Municipal","Sí",112,"Asistencia social","Ejecutivo","Organismo Público Descentralizado",1986,"NA","NA",711201,null,195,499,"Sistema Integral de Agua de Tapalpa"]
["San Gabriel","Municipal","Sí",113,"Gobierno","Ejecutivo","Dependencia",1845,"NA","NA",711300,null,426,500,"Sistema Intermunicipal de los Servicios de Agua Potable y Alcantarillado"]
["DIF Municipal de San Gabriel","Municipal","NA",113,"Asistencia social","Ejecutivo","Organismo Público Descentralizado",1988,"NA","NA",711301,null,153,501,"Sistema Intermunicipal de Manejo de Residuos (SIMAR SURESTE)"]
["Instituto de la Juventud San Gabriel","Municipal","NA",113,"Asistencia social","Ejecutivo","Organismo Público Descentralizado",2016,"NA","NA",711302,null,312,502,"Sistema Intermunicipal de Manejo de Residuos Lagunas (SIMAR Lagunas)"]
["Villa Corona","Municipal","Sí",114,"Gobierno","Ejecutivo","Dependencia",1918,"NA","NA",711400,null,546,503,"Sistema Intermunicipal de Manejo de Residuos Sur-Sureste (SIMAR Sur-Sureste)"]
["DIF Municipal de Villa Corona","Municipal","Sí",114,"Asistencia social","Ejecutivo","Organismo Público Descentralizado",1985,"NA","NA",711401,null,196,504,"Sistema Jalisciense de Radio y Televisión"]
["Villa Guerrero","Municipal","Sí",115,"Gobierno","Ejecutivo","Dependencia",1921,"NA","NA",711500,null,547,505,"Sistema para el Desarrollo Integral de la Familia del Estado de Jalisco"]
["DIF Municipal de Villa Guerrero","Municipal","Sí",115,"Asistencia social","Ejecutivo","Organismo Público Descentralizado",1986,"NA","NA",711501,null,197,506,"Supremo Tribunal de Justicia"]
["Villa Hidalgo","Municipal","Sí",116,"Gobierno","Ejecutivo","Dependencia",1869,"NA","NA",711600,null,548,507,"Tala"]
["DIF Municipal de Villa Hidalgo","Municipal","Sí",116,"Asistencia social","Ejecutivo","Organismo Público Descentralizado",1986,"NA","NA",711601,null,198,508,"Talpa de Allende"]
["Sistema de Agua Potable, Alcantarillado y Saneamiento del Municipio de Villa Hidalgo","Municipal","Sí",116,"Medio ambiente","Ejecutivo","Organismo Público Descentralizado",2008,"NA","NA",711602,null,493,509,"Tamazula de Gordiano"]
["Cañadas de Obregón","Municipal","Sí",117,"Gobierno","Ejecutivo","Dependencia",1903,"NA","NA",711700,null,31,510,"Tapalpa"]
["DIF Municipal de Cañadas de Obregón","Municipal","Sí",117,"Asistencia social","Ejecutivo","Organismo Público Descentralizado",1987,"NA","NA",711701,null,{"$f":"COUNTIF($A$2:$A$1001,\"<=\"&A512)","v":100},511,{"$f":"INDEX($A$2:$A$1001,MATCH(N512,$M$2:$M$1001,0))","v":"Tecalitlán"}]
["Yahualica de González Gallo","Municipal","Sí",118,"Gobierno","Ejecutivo","Dependencia",1824,"NA","NA",711800,null,550,512,"Techaluta de Montenegro"]
["DIF Municipal de Yahualica de González Gallo","Municipal","Sí",118,"Asistencia social","Ejecutivo","Organismo Público Descentralizado",1986,"NA","NA",711801,null,200,513,"Tecolotlán"]
["Instituto de la Juventud Yahualicense","Municipal","NA",118,"Asistencia social","Ejecutivo","Organismo Público Descentralizado",2005,"NA","NA",711802,null,313,514,"Tenamaxtlán"]
["Instituto Municipal de la Mujer Yahualicense de Yahualica de González Gallo","Municipal","NA",118,"Asistencia social","Ejecutivo","Organismo Público Descentralizado",2005,"NA","NA",711803,null,344,515,"Teocaltiche"]
["Consejo Municipal del Deporte de Yahualica de González Gallo","Municipal","Sí",118,"Otro","Ejecutivo","Organismo Público Descentralizado",2016,"NA","NA",711804,null,70,516,"Teocuitatlán de Corona"]
["Zacoalco de Torres","Municipal","Sí",119,"Gobierno","Ejecutivo","Dependencia",1824,"NA","NA",711900,null,551,517,"Tepatitlán de Morelos"]
["DIF Municipal de Zacoalco de Torres","Municipal","Sí",119,"Asistencia social","Ejecutivo","Organismo Público Descentralizado",1987,"NA","NA",711901,null,201,518,"Tequila"]
["Zapopan","Municipal","Sí",120,"Gobierno","Ejecutivo","Dependencia",1824,"NA","NA",712000,null,552,519,"Teuchitlán"]
["DIF Municipal de Zapopan","Municipal","Sí",120,"Asistencia social","Ejecutivo","Organismo Público Descentralizado",1985,"NA","NA",712001,null,202,520,"Tizapán el Alto"]
["Consejo Municipal del Deporte de Zapopan","Municipal","Sí",120,"Asistencia social","Ejecutivo","Organismo Público Descentralizado",1998,"NA",169871,712002,null,71,521,"Tlajomulco de Zúñiga"]
["Organismo Público Descentralizado Servicios de Salud del Municipio de Zapopan","Municipal","Sí",120,"Salud","Ejecutivo","Organismo Público Descentralizado",2001,"NA","F2001817",712003,null,407,522,"Tolimán"]
["Fideicomiso Irrevocable de Garantía, Administración y Fuente de Pago (Zapopan)","Municipal","Sí",120,"Economía","Ejecutivo","Fideicomiso",2005,2018,100323120,712004,null,256,523,"Tomatlán"]
["Instituto Municipal de las Mujeres Zapopanas para la Igualdad Sustantiva","Municipal","Sí",120,"Asistencia social","Ejecutivo","Organismo Público Descentralizado",2006,"NA","F/00111",712005,null,353,524,"Tonalá"]
["Fideicomiso de Equipamiento e Infraestructura Urbana y Vial en la Zona del Bajío","Municipal","Sí",120,"Territorio","Ejecutivo","Fideicomiso",2010,"NA","106807-3",712006,null,225,525,"Tonaya"]
["Fideicomiso Maestro de Fomento Económico para el Municipio de Zapopan","Municipal","Sí",120,"Economía","Ejecutivo","Fideicomiso",2010,"NA","co-001/2015",712007,null,259,526,"Tonila"]
["Fideicomiso Revocable de Administración, Inversión y Fuente de Pago \"Av. Juan Palomar Arias\"","Municipal","Sí",120,"Territorio","Ejecutivo","Fideicomiso",2015,"NA","NA",712008,null,277,527,"Totatiche"]
["Fideicomiso Coeficiente de Utilización del Suelo","Municipal","Sí",120,"Territorio","Ejecutivo","Fideicomiso",2016,"NA","NA",712009,null,219,528,"Tototlán"]
["Fideicomiso Hecho por Mujeres de Zapopan","Municipal","No",120,"Economía","Ejecutivo","Fideicomiso",2016,"NA","NA",712010,null,243,529,"Tribunal de Arbitraje y Escalafón"]
["Fideicomiso de Administración, Garantía y Fuente de Pago para la concesión de Alumbrado Público del Municipio de Zapopan","Municipal","Sí",120,"Territorio","Ejecutivo","Fideicomiso",2017,"NA",236192,712011,null,222,530,"Tribunal de Justicia Administrativa"]
["Zapotiltic","Municipal","Sí",121,"Gobierno","Ejecutivo","Dependencia",1824,"NA","NA",712100,null,553,531,"Tribunal Electoral del Estado de Jalisco"]
["DIF Municipal de Zapotiltic","Municipal","Sí",121,"Asistencia social","Ejecutivo","Organismo Público Descentralizado",1985,"NA","NA",712101,null,203,532,"Tribunal Electoral del Poder Judicial del Estado de Jalisco"]
["Zapotitlán de Vadillo","Municipal","Sí",122,"Gobierno","Ejecutivo","Dependencia",1886,"NA","NA",712200,null,554,533,"Tuxcacuesco"]
["DIF Municipal de Zapotitlán de Vadillo","Municipal","Sí",122,"Asistencia social","Ejecutivo","Organismo Público Descentralizado",1987,"NA","NA",712201,null,204,534,"Tuxcueca"]
["Zapotlán del Rey","Municipal","Sí",123,"Gobierno","Ejecutivo","Dependencia",1913,"NA","NA",712300,null,555,535,"Tuxpan"]
["DIF Municipal de Zapotlán del Rey","Municipal","Sí",123,"Asistencia social","Ejecutivo","Organismo Público Descentralizado",1988,"NA","NA",712301,null,205,536,"Unidad Estatal de Protección Civil y Bomberos"]
["Zapotlanejo","Municipal","Sí",124,"Gobierno","Ejecutivo","Dependencia",1824,"NA","NA",712400,null,557,537,"Unidades Administrativas de Apoyo al Gobernador del Estado"]
["DIF Municipal de Zapotlanejo","Municipal","Sí",124,"Asistencia social","Ejecutivo","Organismo Público Descentralizado",1985,"NA","NA",712401,null,207,538,"Unión de San Antonio"]
["San Ignacio Cerro Gordo","Municipal","Sí",125,"Gobierno","Ejecutivo","Dependencia",2005,"NA","NA",712500,null,427,539,"Unión de Tula"]
["DIF Municipal de San Ignacio Cerro Gordo","Municipal","Sí",125,"Asistencia social","Ejecutivo","Organismo Público Descentralizado",2007,"NA","NA",712501,null,154,540,"Universidad de Guadalajara"]
["Sistema de Agua Potable, Alcantarillado y Saneamiento del Municipio de San Ignacio Cerro Gordo","Municipal","Sí",125,"Medio ambiente","Ejecutivo","Organismo Público Descentralizado",2008,"NA","NA",712502,null,487,541,"Universidad Politécnica de la Zona Metropolitana de Guadalajara"]
["Instituto Municipal de la Mujer en San Ignacio Cerro Gordo","Municipal","NA",125,"Asistencia social","Ejecutivo","Organismo Público Descentralizado",2010,"NA","NA",712503,null,340,542,"Universidad Tecnológica de Jalisco"]
["Estado de Jalisco","Estatal","Sí","000","Gobierno","Ejecutivo","Dependencia",1824,"NA","NA","000000",null,216,543,"Universidad Tecnológica de la Zona Metropolitana de Guadalajara"]
["Cruz Roja Delegación Jalisco","Estatal","Sí","000","Salud","NA","Otro",1911,"NA","NA","000001",null,78,544,"Valle de Guadalupe"]
["El Colegio de Jalisco A.C.","Estatal","Sí","000","Educación","NA","Otro",1982,"NA","NA","000002",null,210,545,"Valle de Juárez"]
["Instituto de la Juventud de La Barca","Municipal","NA","018","Asistencia social","Ejecutivo","NA","NF","NA","NA","NA",null,310,546,"Villa Corona"]
["Instituto de la Juventud Jocotepec","Municipal","Sí","050","Asistencia social","Ejecutivo","Organismo Público Descentralizado","NF","NA","NA","NA",null,311,547,"Villa Guerrero"]
["Instituto de las Mujeres de Cuquío","Municipal","Sí","029","Asistencia social","Ejecutivo","NA","NA","NA","NA","NA",null,316,548,"Villa Hidalgo"]
["Instituto Municipal de la Juventud Mazamitla","Municipal","Sí","059","Asistencia social","Ejecutivo","NA","NA","NA","NA","NA",null,333,549,"Villa Purificación"]
["Instituto Municipal de la Mujer de Zapotitlán de Vadillo","Municipal","Sí",122,"Asistencia social","Ejecutivo","NA","NA","NA","NA","NA",null,336,550,"Yahualica de González Gallo"]
["Instituto Municipal de las Mujeres de Mazamitla","Municipal","Sí","059","Asistencia social","Ejecutivo","NA","NA","NA","NA","NA",null,347,551,"Zacoalco de Torres"]
["Sistema Administrativo Municipal de Agua Potable y Alcantarillado de Ixtlahuacán de los Membrillos","Municipal","Sí","044","Medio ambiente","Ejecutivo","NA","NA","NA","NA","NA",null,472,552,"Zapopan"]
["Sistema de Agua Potable, Alcantarillado y Saneamiento del Municipio de Chapala (SIMAPA)","Municipal","Sí","030","Medio ambiente","Ejecutivo","NA","NA","NA","NA","NA",null,482,553,"Zapotiltic"]
["Sistema de Agua Potable, Alcantarillado y Saneamiento del Municipio de Degollado (SIAPADEG)","Municipal","Sí","033","Medio ambiente","Ejecutivo","NA","NA","NA","NA","NA",null,484,554,"Zapotitlán de Vadillo"]
["Agencia Metropolitana de Servicios de Infraestructura para la Movilidad del Área Metropolitana de Guadalajara ","Intermunicipal","Sí",999,"Territorio","Ejecutivo","Organismo Público Descentralizado",2019,"NA","Número 47. Sección IV. Tomo CCCXCV",700016,null,9,555,"Zapotlán del Rey"]
["Agencia Metropolitana de Bosques Urbanos del Área Metropolitana de Guadalajara ","Intermunicipal","Sí",999,"Medio ambiente","Ejecutivo","Organismo Público Descentralizado",2019,"NA","Número 47. Sección IV. Tomo CCCXCV",700017,null,7,556,"Zapotlán el Grande"]
["Junta Intermunicipal de Medio Ambiente del Ayuquila Alto (JIMA Ayuquila Alto)","Intermunicipal","Sí",999,"Medio ambiente","Ejecutivo","Organismo Público Descentralizado",2020,"NA","Número 39. Sección XI. Tomo CCCXCVII",700018,null,385,557,"Zapotlanejo"]
[null,null,null,null,null,null,null,null,null,null,null,null,0,558,{"$error":"#N/A"}]
[null,null,null,null,null,null,null,null,null,null,null,null,0,559,{"$error":"#N/A"}]
[null,null,null,null,null,null,null,null,null,null,null,null,0,560,{"$error":"#N/A"}]
[null,null,null,null,null,null,null,null,null,null,null,null,0,561,{"$error":"#N/A"}]
[null,null,null,null,null,null,null,null,null,null,null,null,0,562,{"$error":"#N/A"}]
[null,null,null,null,null,null,null,null,null,null,null,null,0,563,{"$error":"#N/A"}]
[null,null,null,null,null,null,null,null,null,null,null,null,0,564,{"$error":"#N/A"}]
[null,null,null,null,null,null,null,null,null,null,null,null,0,565,{"$error":"#N/A"}]
[null,null,null,null,null,null,null,null,null,null,null,null,0,566,{"$error":"#N/A"}]
[null,null,null,null,null,null,null,null,null,null,null,null,0,567,{"$error":"#N/A"}]
[null,null,null,null,null,null,null,null,null,null,null,null,0,568,{"$error":"#N/A"}]
[null,null,null,null,null,null,null,null,null,null,null,null,0,569,{"$error":"#N/A"}]
[null,null,null,null,null,null,null,null,null,null,null,null,0,570,{"$error":"#N/A"}]
[null,null,null,null,null,null,null,null,null,null,null,null,0,571,{"$error":"#N/A"}]
[null,null,null,null,null,null,null,null,null,null,null,null,0,572,{"$error":"#N/A"}]
[null,null,null,null,null,null,null,null,null,null,null,null,0,573,{"$error":"#N/A"}]
[null,null,null,null,null,null,null,null,null,null,null,null,0,574,{"$error":"#N/A"}]
[null,null,null,null,null,null,null,null,null,null,null,null,0,575,{"$error":"#N/A"}]
[null,null,null,null,null,null,null,null,null,null,null,null,0,576,{"$error":"#N/A"}]
[null,null,null,null,null,null,null,null,null,null,null,null,0,577,{"$error":"#N/A"}]
[null,null,null,null,null,null,null,null,null,null,null,null,0,578,{"$error":"#N/A"}]
[null,null,null,null,null,null,null,null,null,null,null,null,0,579,{"$error":"#N/A"}]
[null,null,null,null,null,null,null,null,null,null,null,null,0,580,{"$error":"#N/A"}]
[null,null,null,null,null,null,null,null,null,null,null,null,0,581,{"$error":"#N/A"}]
[null,null,null,null,null,null,null,null,null,null,null,null,0,582,{"$error":"#N/A"}]
[null,null,null,null,null,null,null,null,null,null,null,null,0,583,{"$error":"#N/A"}]
[null,null,null,null,null,null,null,null,null,null,null,null,0,584,{"$error":"#N/A"}]
[null,null,null,null,null,null,null,null,null,null,null,null,0,585,{"$error":"#N/A"}]
[null,null,null,null,null,null,null,null,null,null,null,null,0,586,{"$error":"#N/A"}]
[null,null,null,null,null,null,null,null,null,null,null,null,0,587,{"$error":"#N/A"}]
[null,null,null,null,null,null,null,null,null,null,null,null,0,588,{"$error":"#N/A"}]
[null,null,null,null,null,null,null,null,null,null,null,null,0,589,{"$error":"#N/A"}]
[null,null,null,null,null,null,null,null,null,null,null,null,0,590,{"$error":"#N/A"}]
[null,null,null,null,null,null,null,null,null,null,null,null,0,591,{"$error":"#N/A"}]
[null,null,null,null,null,null,null,null,null,null,null,null,0,592,{"$error":"#N/A"}]
[null,null,null,null,null,null,null,null,null,null,null,null,0,593,{"$error":"#N/A"}]
[null,null,null,null,null,null,null,null,null,null,null,null,0,594,{"$error":"#N/A"}]
[null,null,null,null,null,null,null,null,null,null,null,null,0,595,{"$error":"#N/A"}]
[null,null,null,null,null,null,null,null,null,null,null,null,0,596,{"$error":"#N/A"}]
[null,null,null,null,null,null,null,null,null,null,null,null,0,597,{"$error":"#N/A"}]
[null,null,null,null,null,null,null,null,null,null,null,null,0,598,{"$error":"#N/A"}]
[null,null,null,null,null,null,null,null,null,null,null,null,0,599,{"$error":"#N/A"}]
[null,null,null,null,null,null,null,null,null,null,null,null,0,600,{"$error":"#N/A"}]
[null,null,null,null,null,null,null,null,null,null,null,null,0,601,{"$error":"#N/A"}]
[null,null,null,null,null,null,null,null,null,null,null,null,0,602,{"$error":"#N/A"}]
[null,null,null,null,null,null,null,null,null,null,null,null,0,603,{"$error":"#N/A"}]
[null,null,null,null,null,null,null,null,null,null,null,null,0,604,{"$error":"#N/A"}]
[null,null,null,null,null,null,null,null,null,null,null,null,0,605,{"$error":"#N/A"}]
[null,null,null,null,null,null,null,null,null,null,null,null,0,606,{"$error":"#N/A"}]
[null,null,null,null,null,null,null,null,null,null,null,null,0,607,{"$error":"#N/A"}]
[null,null,null,null,null,null,null,null,null,null,null,null,0,608,{"$error":"#N/A"}]
[null,null,null,null,null,null,null,null,null,null,null,null,0,609,{"$error":"#N/A"}]
[null,null,null,null,null,null,null,null,null,null,null,null,0,610,{"$error":"#N/A"}]
[null,null,null,null,null,null,null,null,null,null,null,null,0,611,{"$error":"#N/A"}]
[null,null,null,null,null,null,null,null,null,null,null,null,0,612,{"$error":"#N/A"}]
[null,null,null,null,null,null,null,null,null,null,null,null,0,613,{"$error":"#N/A"}]
[null,null,null,null,null,null,null,null,null,null,null,null,0,614,{"$error":"#N/A"}]
[null,null,null,null,null,null,null,null,null,null,null,null,0,615,{"$error":"#N/A"}]
[null,null,null,null,null,null,null,null,null,null,null,null,0,616,{"$error":"#N/A"}]
[null,null,null,null,null,null,null,null,null,null,null,null,0,617,{"$error":"#N/A"}]
[null,null,null,null,null,null,null,null,null,null,null,null,0,618,{"$error":"#N/A"}]
[null,null,null,null,null,null,null,null,null,null,null,null,0,619,{"$error":"#N/A"}]
[null,null,null,null,null,null,null,null,null,null,null,null,0,620,{"$error":"#N/A"}]
[null,null,null,null,null,null,null,null,null,null,null,null,0,621,{"$error":"#N/A"}]
[null,null,null,null,null,null,null,null,null,null,null,null,0,622,{"$error":"#N/A"}]
[null,null,null,null,null,null,null,null,null,null,null,null,0,623,{"$error":"#N/A"}]
[null,null,null,null,null,null,null,null,null,null,null,null,0,624,{"$error":"#N/A"}]
[null,null,null,null,null,null,null,null,null,null,null,null,0,625,{"$error":"#N/A"}]
[null,null,null,null,null,null,null,null,null,null,null,null,0,626,{"$error":"#N/A"}]
[null,null,null,null,null,null,null,null,null,null,null,null,0,627,{"$error":"#N/A"}]
[null,null,null,null,null,null,null,null,null,null,null,null,0,628,{"$error":"#N/A"}]
[null,null,null,null,null,null,null,null,null,null,null,null,0,629,{"$error":"#N/A"}]
[null,null,null,null,null,null,null,null,null,null,null,null,0,630,{"$error":"#N/A"}]
[null,null,null,null,null,null,null,null,null,null,null,null,0,631,{"$error":"#N/A"}]
[null,null,null,null,null,null,null,null,null,null,null,null,0,632,{"$error":"#N/A"}]
[null,null,null,null,null,null,null,null,null,null,null,null,0,633,{"$error":"#N/A"}]
[null,null,null,null,null,null,null,null,null,null,null,null,0,634,{"$error":"#N/A"}]
[null,null,null,null,null,null,null,null,null,null,null,null,0,635,{"$error":"#N/A"}]
[null,null,null,null,null,null,null,null,null,null,null,null,0,636,{"$error":"#N/A"}]
[null,null,null,null,null,null,null,null,null,null,null,null,0,637,{"$error":"#N/A"}]
[null,null,null,null,null,null,null,null,null,null,null,null,0,638,{"$error":"#N/A"}]
[null,null,null,null,null,null,null,null,null,null,null,null,0,639,{"$error":"#N/A"}]
[null,null,null,null,null,null,null,null,null,null,null,null,0,640,{"$error":"#N/A"}]
[null,null,null,null,null,null,null,null,null,null,null,null,0,641,{"$error":"#N/A"}]
[null,null,null,null,null,null,null,null,null,null,null,null,0,642,{"$error":"#N/A"}]
[null,null,null,null,null,null,null,null,null,null,null,null,0,643,{"$error":"#N/A"}]
[null,null,null,null,null,null,null,null,null,null,null,null,0,644,{"$error":"#N/A"}]
[null,null,null,null,null,null,null,null,null,null,null,null,0,645,{"$error":"#N/A"}]
[null,null,null,null,null,null,null,null,null,null,null,null,0,646,{"$error":"#N/A"}]
[null,null,null,null,null,null,null,null,null,null,null,null,0,647,{"$error":"#N/A"}]
[null,null,null,null,null,null,null,null,null,null,null,null,0,648,{"$error":"#N/A"}]
[null,null,null,null,null,null,null,null,null,null,null,null,0,649,{"$error":"#N/A"}]
[null,null,null,null,null,null,null,null,null,null,null,null,0,650,{"$error":"#N/A"}]
[null,null,null,null,null,null,null,null,null,null,null,null,0,651,{"$error":"#N/A"}]
[null,null,null,null,null,null,null,null,null,null,null,null,0,652,{"$error":"#N/A"}]
[null,null,null,null,null,null,null,null,null,null,null,null,0,653,{"$error":"#N/A"}]
[null,null,null,null,null,null,null,null,null,null,null,null,0,654,{"$error":"#N/A"}]
[null,null,null,null,null,null,null,null,null,null,null,null,0,655,{"$error":"#N/A"}]
[null,null,null,null,null,null,null,null,null,null,null,null,0,656,{"$error":"#N/A"}]
[null,null,null,null,null,null,null,null,null,null,null,null,0,657,{"$error":"#N/A"}]
[null,null,null,null,null,null,null,null,null,null,null,null,0,658,{"$error":"#N/A"}]
[null,null,null,null,null,null,null,null,null,null,null,null,0,659,{"$error":"#N/A"}]
[null,null,null,null,null,null,null,null,null,null,null,null,0,660,{"$error":"#N/A"}]
[null,null,null,null,null,null,null,null,null,null,null,null,0,661,{"$error":"#N/A"}]
[null,null,null,null,null,null,null,null,null,null,null,null,0,662,{"$error":"#N/A"}]
[null,null,null,null,null,null,null,null,null,null,null,null,0,663,{"$error":"#N/A"}]
[null,null,null,null,null,null,null,null,null,null,null,null,0,664,{"$error":"#N/A"}]
[null,null,null,null,null,null,null,null,null,null,null,null,0,665,{"$error":"#N/A"}]
[null,null,null,null,null,null,null,null,null,null,null,null,0,666,{"$error":"#N/A"}]
[null,null,null,null,null,null,null,null,null,null,null,null,0,667,{"$error":"#N/A"}]
[null,null,null,null,null,null,null,null,null,null,null,null,0,668,{"$error":"#N/A"}]
[null,null,null,null,null,null,null,null,null,null,null,null,0,669,{"$error":"#N/A"}]
[null,null,null,null,null,null,null,null,null,null,null,null,0,670,{"$error":"#N/A"}]
[null,null,null,null,null,null,null,null,null,null,null,null,0,671,{"$error":"#N/A"}]
[null,null,null,null,null,null,null,null,null,null,null,null,0,672,{"$error":"#N/A"}]
[null,null,null,null,null,null,null,null,null,null,null,null,0,673,{"$error":"#N/A"}]
[null,null,null,null,null,null,null,null,null,null,null,null,0,674,{"$error":"#N/A"}]
[null,null,null,null,null,null,null,null,null,null,null,null,0,675,{"$error":"#N/A"}]
[null,null,null,null,null,null,null,null,null,null,null,null,0,676,{"$error":"#N/A"}]
[null,null,null,null,null,null,null,null,null,null,null,null,0,677,{"$error":"#N/A"}]
[null,null,null,null,null,null,null,null,null,null,null,null,0,678,{"$error":"#N/A"}]
[null,null,null,null,null,null,null,null,null,null,null,null,0,679,{"$error":"#N/A"}]
[null,null,null,null,null,null,null,null,null,null,null,null,0,680,{"$error":"#N/A"}]
[null,null,null,null,null,null,null,null,null,null,null,null,0,681,{"$error":"#N/A"}]
[null,null,null,null,null,null,null,null,null,null,null,null,0,682,{"$error":"#N/A"}]
[null,null,null,null,null,null,null,null,null,null,null,null,0,683,{"$error":"#N/A"}]
[null,null,null,null,null,null,null,null,null,null,null,null,0,684,{"$error":"#N/A"}]
[null,null,null,null,null,null,null,null,null,null,null,null,0,685,{"$error":"#N/A"}]
[null,null,null,null,null,null,null,null,null,null,null,null,0,686,{"$error":"#N/A"}]
[null,null,null,null,null,null,null,null,null,null,null,null,0,687,{"$error":"#N/A"}]
[null,null,null,null,null,null,null,null,null,null,null,null,0,688,{"$error":"#N/A"}]
[null,null,null,null,null,null,null,null,null,null,null,null,0,689,{"$error":"#N/A"}]
[null,null,null,null,null,null,null,null,null,null,null,null,0,690,{"$error":"#N/A"}]
[null,null,null,null,null,null,null,null,null,null,null,null,0,691,{"$error":"#N/A"}]
[null,null,null,null,null,null,null,null,null,null,null,null,0,692,{"$error":"#N/A"}]
[null,null,null,null,null,null,null,null,null,null,null,null,0,693,{"$error":"#N/A"}]
[null,null,null,null,null,null,null,null,null,null,null,null,0,694,{"$error":"#N/A"}]
[null,null,null,null,null,null,null,null,null,null,null,null,0,695,{"$error":"#N/A"}]
[null,null,null,null,null,null,null,null,null,null,null,null,0,696,{"$error":"#N/A"}]
[null,null,null,null,null,null,null,null,null,null,null,null,0,697,{"$error":"#N/A"}]
[null,null,null,null,null,null,null,null,null,null,null,null,0,698,{"$error":"#N/A"}]
[null,null,null,null,null,null,null,null,null,null,null,null,0,699,{"$error":"#N/A"}]
[null,null,null,null,null,null,null,null,null,null,null,null,0,700,{"$error":"#N/A"}]
[null,null,null,null,null,null,null,null,null,null,null,null,0,701,{"$error":"#N/A"}]
[null,null,null,null,null,null,null,null,null,null,null,null,0,702,{"$error":"#N/A"}]
[null,null,null,null,null,null,null,null,null,null,null,null,0,703,{"$error":"#N/A"}]
[null,null,null,null,null,null,null,null,null,null,null,null,0,704,{"$error":"#N/A"}]
[null,null,null,null,null,null,null,null,null,null,null,null,0,705,{"$error":"#N/A"}]
[null,null,null,null,null,null,null,null,null,null,null,null,0,706,{"$error":"#N/A"}]
[null,null,null,null,null,null,null,null,null,null,null,null,0,707,{"$error":"#N/A"}]
[null,null,null,null,null,null,null,null,null,null,null,null,0,708,{"$error":"#N/A"}]
[null,null,null,null,null,null,null,null,null,null,null,null,0,709,{"$error":"#N/A"}]
[null,null,null,null,null,null,null,null,null,null,null,null,0,710,{"$error":"#N/A"}]
[null,null,null,null,null,null,null,null,null,null,null,null,0,711,{"$error":"#N/A"}]
[null,null,null,null,null,null,null,null,null,null,null,null,0,712,{"$error":"#N/A"}]
[null,null,null,null,null,null,null,null,null,null,null,null,0,713,{"$error":"#N/A"}]
[null,null,null,null,null,null,null,null,null,null,null,null,0,714,{"$error":"#N/A"}]
[null,null,null,null,null,null,null,null,null,null,null,null,0,715,{"$error":"#N/A"}]
[null,null,null,null,null,null,null,null,null,null,null,null,0,716,{"$error":"#N/A"}]
[null,null,null,null,null,null,null,null,null,null,null,null,0,717,{"$error":"#N/A"}]
[null,null,null,null,null,null,null,null,null,null,null,null,0,718,{"$error":"#N/A"}]
[null,null,null,null,null,null,null,null,null,null,null,null,0,719,{"$error":"#N/A"}]
[null,null,null,null,null,null,null,null,null,null,null,null,0,720,{"$error":"#N/A"}]
[null,null,null,null,null,null,null,null,null,null,null,null,0,721,{"$error":"#N/A"}]
[null,null,null,null,null,null,null,null,null,null,null,null,0,722,{"$error":"#N/A"}]
[null,null,null,null,null,null,null,null,null,null,null,null,0,723,{"$error":"#N/A"}]
[null,null,null,null,null,null,null,null,null,null,null,null,0,724,{"$error":"#N/A"}]
[null,null,null,null,null,null,null,null,null,null,null,null,0,725,{"$error":"#N/A"}]
[null,null,null,null,null,null,null,null,null,null,null,null,0,726,{"$error":"#N/A"}]
[null,null,null,null,null,null,null,null,null,null,null,null,0,727,{"$error":"#N/A"}]
[null,null,null,null,null,null,null,null,null,null,null,null,0,728,{"$error":"#N/A"}]
[null,null,null,null,null,null,null,null,null,null,null,null,0,729,{"$error":"#N/A"}]
[null,null,null,null,null,null,null,null,null,null,null,null,0,730,{"$error":"#N/A"}]
[null,null,null,null,null,null,null,null,null,null,null,null,0,731,{"$error":"#N/A"}]
[null,null,null,null,null,null,null,null,null,null,null,null,0,732,{"$error":"#N/A"}]
[null,null,null,null,null,null,null,null,null,null,null,null,0,733,{"$error":"#N/A"}]
[null,null,null,null,null,null,null,null,null,null,null,null,0,734,{"$error":"#N/A"}]
[null,null,null,null,null,null,null,null,null,null,null,null,0,735,{"$error":"#N/A"}]
[null,null,null,null,null,null,null,null,null,null,null,null,0,736,{"$error":"#N/A"}]
[null,null,null,null,null,null,null,null,null,null,null,null,0,737,{"$error":"#N/A"}]
[null,null,null,null,null,null,null,null,null,null,null,null,0,738,{"$error":"#N/A"}]
[null,null,null,null,null,null,null,null,null,null,null,null,0,739,{"$error":"#N/A"}]
[null,null,null,null,null,null,null,null,null,null,null,null,0,740,{"$error":"#N/A"}]
[null,null,null,null,null,null,null,null,null,null,null,null,0,741,{"$error":"#N/A"}]
[null,null,null,null,null,null,null,null,null,null,null,null,0,742,{"$error":"#N/A"}]
[null,null,null,null,null,null,null,null,null,null,null,null,0,743,{"$error":"#N/A"}]
[null,null,null,null,null,null,null,null,null,null,null,null,0,744,{"$error":"#N/A"}]
[null,null,null,null,null,null,null,null,null,null,null,null,0,745,{"$error":"#N/A"}]
[null,null,null,null,null,null,null,null,null,null,null,null,0,746,{"$error":"#N/A"}]
[null,null,null,null,null,null,null,null,null,null,null,null,0,747,{"$error":"#N/A"}]
[null,null,null,null,null,null,null,null,null,null,null,null,0,748,{"$error":"#N/A"}]
[null,null,null,null,null,null,null,null,null,null,null,null,0,749,{"$error":"#N/A"}]
[null,null,null,null,null,null,null,null,null,null,null,null,0,750,{"$error":"#N/A"}]
[null,null,null,null,null,null,null,null,null,null,null,null,0,751,{"$error":"#N/A"}]
[null,null,null,null,null,null,null,null,null,null,null,null,0,752,{"$error":"#N/A"}]
[null,null,null,null,null,null,null,null,null,null,null,null,0,753,{"$error":"#N/A"}]
[null,null,null,null,null,null,null,null,null,null,null,null,0,754,{"$error":"#N/A"}]
[null,null,null,null,null,null,null,null,null,null,null,null,0,755,{"$error":"#N/A"}]
[null,null,null,null,null,null,null,null,null,null,null,null,0,756,{"$error":"#N/A"}]
[null,null,null,null,null,null,null,null,null,null,null,null,0,757,{"$error":"#N/A"}]
[null,null,null,null,null,null,null,null,null,null,null,null,0,758,{"$error":"#N/A"}]
[null,null,null,null,null,null,null,null,null,null,null,null,0,759,{"$error":"#N/A"}]
[null,null,null,null,null,null,null,null,null,null,null,null,0,760,{"$error":"#N/A"}]
[null,null,null,null,null,null,null,null,null,null,null,null,0,761,{"$error":"#N/A"}]
[null,null,null,null,null,null,null,null,null,null,null,null,0,762,{"$error":"#N/A"}]
[null,null,null,null,null,null,null,null,null,null,null,null,0,763,{"$error":"#N/A"}]
[null,null,null,null,null,null,null,null,null,null,null,null,0,764,{"$error":"#N/A"}]
[null,null,null,null,null,null,null,null,null,null,null,null,0,765,{"$error":"#N/A"}]
[null,null,null,null,null,null,null,null,null,null,null,null,{"$f":"COUNTIF($A$2:$A$1001,\"<=\"&A767)","v":0},766,{"$f":"INDEX($A$2:$A$1001,MATCH(N767,$M$2:$M$1001,0))","v":{"$error":"#N/A"}}]
[null,null,null,null,null,null,null,null,null,null,null,null,0,767,{"$error":"#N/A"}]
[null,null,null,null,null,null,null,null,null,null,null,null,0,768,{"$error":"#N/A"}]
[null,null,null,null,null,null,null,null,null,null,null,null,0,769,{"$error":"#N/A"}]
[null,null,null,null,null,null,null,null,null,null,null,null,0,770,{"$error":"#N/A"}]
[null,null,null,null,null,null,null,null,null,null,null,null,0,771,{"$error":"#N/A"}]
[null,null,null,null,null,null,null,null,null,null,null,null,0,772,{"$error":"#N/A"}]
[null,null,null,null,null,null,null,null,null,null,null,null,0,773,{"$error":"#N/A"}]
[null,null,null,null,null,null,null,null,null,null,null,null,0,774,{"$error":"#N/A"}]
[null,null,null,null,null,null,null,null,null,null,null,null,0,775,{"$error":"#N/A"}]
[null,null,null,null,null,null,null,null,null,null,null,null,0,776,{"$error":"#N/A"}]
[null,null,null,null,null,null,null,null,null,null,null,null,0,777,{"$error":"#N/A"}]
[null,null,null,null,null,null,null,null,null,null,null,null,0,778,{"$error":"#N/A"}]
[null,null,null,null,null,null,null,null,null,null,null,null,0,779,{"$error":"#N/A"}]
[null,null,null,null,null,null,null,null,null,null,null,null,0,780,{"$error":"#N/A"}]
[null,null,null,null,null,null,null,null,null,null,null,null,0,781,{"$error":"#N/A"}]
[null,null,null,null,null,null,null,null,null,null,null,null,0,782,{"$error":"#N/A"}]
[null,null,null,null,null,null,null,null,null,null,null,null,0,783,{"$error":"#N/A"}]
[null,null,null,null,null,null,null,null,null,null,null,null,0,784,{"$error":"#N/A"}]
[null,null,null,null,null,null,null,null,null,null,null,null,0,785,{"$error":"#N/A"}]
[null,null,null,null,null,null,null,null,null,null,null,null,0,786,{"$error":"#N/A"}]
[null,null,null,null,null,null,null,null,null,null,null,null,0,787,{"$error":"#N/A"}]
[null,null,null,null,null,null,null,null,null,null,null,null,0,788,{"$error":"#N/A"}]
[null,null,null,null,null,null,null,null,null,null,null,null,0,789,{"$error":"#N/A"}]
[null,null,null,null,null,null,null,null,null,null,null,null,0,790,{"$error":"#N/A"}]
[null,null,null,null,null,null,null,null,null,null,null,null,0,791,{"$error":"#N/A"}]
[null,null,null,null,null,null,null,null,null,null,null,null,0,792,{"$error":"#N/A"}]
[null,null,null,null,null,null,null,null,null,null,null,null,0,793,{"$error":"#N/A"}]
[null,null,null,null,null,null,null,null,null,null,null,null,0,794,{"$error":"#N/A"}]
[null,null,null,null,null,null,null,null,null,null,null,null,0,795,{"$error":"#N/A"}]
[null,null,null,null,null,null,null,null,null,null,null,null,0,796,{"$error":"#N/A"}]
[null,null,null,null,null,null,null,null,null,null,null,null,0,797,{"$error":"#N/A"}]
[null,null,null,null,null,null,null,null,null,null,null,null,0,798,{"$error":"#N/A"}]
[null,null,null,null,null,null,null,null,null,null,null,null,0,799,{"$error":"#N/A"}]
[null,null,null,null,null,null,null,null,null,null,null,null,0,800,{"$error":"#N/A"}]
[null,null,null,null,null,null,null,null,null,null,null,null,0,801,{"$error":"#N/A"}]
[null,null,null,null,null,null,null,null,null,null,null,null,0,802,{"$error":"#N/A"}]
[null,null,null,null,null,null,null,null,null,null,null,null,0,803,{"$error":"#N/A"}]
[null,null,null,null,null,null,null,null,null,null,null,null,0,804,{"$error":"#N/A"}]
[null,null,null,null,null,null,null,null,null,null,null,null,0,805,{"$error":"#N/A"}]
[null,null,null,null,null,null,null,null,null,null,null,null,0,806,{"$error":"#N/A"}]
[null,null,null,null,null,null,null,null,null,null,null,null,0,807,{"$error":"#N/A"}]
[null,null,null,null,null,null,null,null,null,null,null,null,0,808,{"$error":"#N/A"}]
[null,null,null,null,null,null,null,null,null,null,null,null,0,809,{"$error":"#N/A"}]
[null,null,null,null,null,null,null,null,null,null,null,null,0,810,{"$error":"#N/A"}]
[null,null,null,null,null,null,null,null,null,null,null,null,0,811,{"$error":"#N/A"}]
[null,null,null,null,null,null,null,null,null,null,null,null,0,812,{"$error":"#N/A"}]
[null,null,null,null,null,null,null,null,null,null,null,null,0,813,{"$error":"#N/A"}]
[null,null,null,null,null,null,null,null,null,null,null,null,0,814,{"$error":"#N/A"}]
[null,null,null,null,null,null,null,null,null,null,null,null,0,815,{"$error":"#N/A"}]
[null,null,null,null,null,null,null,null,null,null,null,null,0,816,{"$error":"#N/A"}]
[null,null,null,null,null,null,null,null,null,null,null,null,0,817,{"$error":"#N/A"}]
[null,null,null,null,null,null,null,null,null,null,null,null,0,818,{"$error":"#N/A"}]
[null,null,null,null,null,null,null,null,null,null,null,null,0,819,{"$error":"#N/A"}]
[null,null,null,null,null,null,null,null,null,null,null,null,0,820,{"$error":"#N/A"}]
[null,null,null,null,null,null,null,null,null,null,null,null,0,821,{"$error":"#N/A"}]
[null,null,null,null,null,null,null,null,null,null,null,null,0,822,{"$error":"#N/A"}]
[null,null,null,null,null,null,null,null,null,null,null,null,0,823,{"$error":"#N/A"}]
[null,null,null,null,null,null,null,null,null,null,null,null,0,824,{"$error":"#N/A"}]
[null,null,null,null,null,null,null,null,null,null,null,null,0,825,{"$error":"#N/A"}]
[null,null,null,null,null,null,null,null,null,null,null,null,0,826,{"$error":"#N/A"}]
[null,null,null,null,null,null,null,null,null,null,null,null,0,827,{"$error":"#N/A"}]
[null,null,null,null,null,null,null,null,null,null,null,null,0,828,{"$error":"#N/A"}]
[null,null,null,null,null,null,null,null,null,null,null,null,0,829,{"$error":"#N/A"}]
[null,null,null,null,null,null,null,null,null,null,null,null,0,830,{"$error":"#N/A"}]
[null,null,null,null,null,null,null,null,null,null,null,null,0,831,{"$error":"#N/A"}]
[null,null,null,null,null,null,null,null,null,null,null,null,0,832,{"$error":"#N/A"}]
[null,null,null,null,null,null,null,null,null,null,null,null,0,833,{"$error":"#N/A"}]
[null,null,null,null,null,null,null,null,null,null,null,null,0,834,{"$error":"#N/A"}]
[null,null,null,null,null,null,null,null,null,null,null,null,0,835,{"$error":"#N/A"}]
[null,null,null,null,null,null,null,null,null,null,null,null,0,836,{"$error":"#N/A"}]
[null,null,null,null,null,null,null,null,null,null,null,null,0,837,{"$error":"#N/A"}]
[null,null,null,null,null,null,null,null,null,null,null,null,0,838,{"$error":"#N/A"}]
[null,null,null,null,null,null,null,null,null,null,null,null,0,839,{"$error":"#N/A"}]
[null,null,null,null,null,null,null,null,null,null,null,null,0,840,{"$error":"#N/A"}]
[null,null,null,null,null,null,null,null,null,null,null,null,0,841,{"$error":"#N/A"}]
[null,null,null,null,null,null,null,null,null,null,null,null,0,842,{"$error":"#N/A"}]
[null,null,null,null,null,null,null,null,null,null,null,null,0,843,{"$error":"#N/A"}]
[null,null,null,null,null,null,null,null,null,null,null,null,0,844,{"$error":"#N/A"}]
[null,null,null,null,null,null,null,null,null,null,null,null,0,845,{"$error":"#N/A"}]
[null,null,null,null,null,null,null,null,null,null,null,null,0,846,{"$error":"#N/A"}]
[null,null,null,null,null,null,null,null,null,null,null,null,0,847,{"$error":"#N/A"}]
[null,null,null,null,null,null,null,null,null,null,null,null,0,848,{"$error":"#N/A"}]
[null,null,null,null,null,null,null,null,null,null,null,null,0,849,{"$error":"#N/A"}]
[null,null,null,null,null,null,null,null,null,null,null,null,0,850,{"$error":"#N/A"}]
[null,null,null,null,null,null,null,null,null,null,null,null,0,851,{"$error":"#N/A"}]
[null,null,null,null,null,null,null,null,null,null,null,null,0,852,{"$error":"#N/A"}]
[null,null,null,null,null,null,null,null,null,null,null,null,0,853,{"$error":"#N/A"}]
[null,null,null,null,null,null,null,null,null,null,null,null,0,854,{"$error":"#N/A"}]
[null,null,null,null,null,null,null,null,null,null,null,null,0,855,{"$error":"#N/A"}]
[null,null,null,null,null,null,null,null,null,null,null,null,0,856,{"$error":"#N/A"}]
[null,null,null,null,null,null,null,null,null,null,null,null,0,857,{"$error":"#N/A"}]
[null,null,null,null,null,null,null,null,null,null,null,null,0,858,{"$error":"#N/A"}]
[null,null,null,null,null,null,null,null,null,null,null,null,0,859,{"$error":"#N/A"}]
[null,null,null,null,null,null,null,null,null,null,null,null,0,860,{"$error":"#N/A"}]
[null,null,null,null,null,null,null,null,null,null,null,null,0,861,{"$error":"#N/A"}]
[null,null,null,null,null,null,null,null,null,null,null,null,0,862,{"$error":"#N/A"}]
[null,null,null,null,null,null,null,null,null,null,null,null,0,863,{"$error":"#N/A"}]
[null,null,null,null,null,null,null,null,null,null,null,null,0,864,{"$error":"#N/A"}]
[null,null,null,null,null,null,null,null,null,null,null,null,0,865,{"$error":"#N/A"}]
[null,null,null,null,null,null,null,null,null,null,null,null,0,866,{"$error":"#N/A"}]
[null,null,null,null,null,null,null,null,null,null,null,null,0,867,{"$error":"#N/A"}]
[null,null,null,null,null,null,null,null,null,null,null,null,0,868,{"$error":"#N/A"}]
[null,null,null,null,null,null,null,null,null,null,null,null,0,869,{"$error":"#N/A"}]
[null,null,null,null,null,null,null,null,null,null,null,null,0,870,{"$error":"#N/A"}]
[null,null,null,null,null,null,null,null,null,null,null,null,0,871,{"$error":"#N/A"}]
[null,null,null,null,null,null,null,null,null,null,null,null,0,872,{"$error":"#N/A"}]
[null,null,null,null,null,null,null,null,null,null,null,null,0,873,{"$error":"#N/A"}]
[null,null,null,null,null,null,null,null,null,null,null,null,0,874,{"$error":"#N/A"}]
[null,null,null,null,null,null,null,null,null,null,null,null,0,875,{"$error":"#N/A"}]
[null,null,null,null,null,null,null,null,null,null,null,null,0,876,{"$error":"#N/A"}]
[null,null,null,null,null,null,null,null,null,null,null,null,0,877,{"$error":"#N/A"}]
[null,null,null,null,null,null,null,null,null,null,null,null,0,878,{"$error":"#N/A"}]
[null,null,null,null,null,null,null,null,null,null,null,null,0,879,{"$error":"#N/A"}]
[null,null,null,null,null,null,null,null,null,null,null,null,0,880,{"$error":"#N/A"}]
[null,null,null,null,null,null,null,null,null,null,null,null,0,881,{"$error":"#N/A"}]
[null,null,null,null,null,null,null,null,null,null,null,null,0,882,{"$error":"#N/A"}]
[null,null,null,null,null,null,null,null,null,null,null,null,0,883,{"$error":"#N/A"}]
[null,null,null,null,null,null,null,null,null,null,null,null,0,884,{"$error":"#N/A"}]
[null,null,null,null,null,null,null,null,null,null,null,null,0,885,{"$error":"#N/A"}]
[null,null,null,null,null,null,null,null,null,null,null,null,0,886,{"$error":"#N/A"}]
[null,null,null,null,null,null,null,null,null,null,null,null,0,887,{"$error":"#N/A"}]
[null,null,null,null,null,null,null,null,null,null,null,null,0,888,{"$error":"#N/A"}]
[null,null,null,null,null,null,null,null,null,null,null,null,0,889,{"$error":"#N/A"}]
[null,null,null,null,null,null,null,null,null,null,null,null,0,890,{"$error":"#N/A"}]
[null,null,null,null,null,null,null,null,null,null,null,null,0,891,{"$error":"#N/A"}]
[null,null,null,null,null,null,null,null,null,null,null,null,0,892,{"$error":"#N/A"}]
[null,null,null,null,null,null,null,null,null,null,null,null,0,893,{"$error":"#N/A"}]
[null,null,null,null,null,null,null,null,null,null,null,null,0,894,{"$error":"#N/A"}]
[null,null,null,null,null,null,null,null,null,null,null,null,0,895,{"$error":"#N/A"}]
[null,null,null,null,null,null,null,null,null,null,null,null,0,896,{"$error":"#N/A"}]
[null,null,null,null,null,null,null,null,null,null,null,null,0,897,{"$error":"#N/A"}]
[null,null,null,null,null,null,null,null,null,null,null,null,0,898,{"$error":"#N/A"}]
[null,null,null,null,null,null,null,null,null,null,null,null,0,899,{"$error":"#N/A"}]
[null,null,null,null,null,null,null,null,null,null,null,null,0,900,{"$error":"#N/A"}]
[null,null,null,null,null,null,null,null,null,null,null,null,0,901,{"$error":"#N/A"}]
[null,null,null,null,null,null,null,null,null,null,null,null,0,902,{"$error":"#N/A"}]
[null,null,null,null,null,null,null,null,null,null,null,null,0,903,{"$error":"#N/A"}]
[null,null,null,null,null,null,null,null,null,null,null,null,0,904,{"$error":"#N/A"}]
[null,null,null,null,null,null,null,null,null,null,null,null,0,905,{"$error":"#N/A"}]
[null,null,null,null,null,null,null,null,null,null,null,null,0,906,{"$error":"#N/A"}]
[null,null,null,null,null,null,null,null,null,null,null,null,0,907,{"$error":"#N/A"}]
[null,null,null,null,null,null,null,null,null,null,null,null,0,908,{"$error":"#N/A"}]
[null,null,null,null,null,null,null,null,null,null,null,null,0,909,{"$error":"#N/A"}]
[null,null,null,null,null,null,null,null,null,null,null,null,0,910,{"$error":"#N/A"}]
[null,null,null,null,null,null,null,null,null,null,null,null,0,911,{"$error":"#N/A"}]
[null,null,null,null,null,null,null,null,null,null,null,null,0,912,{"$error":"#N/A"}]
[null,null,null,null,null,null,null,null,null,null,null,null,0,913,{"$error":"#N/A"}]
[null,null,null,null,null,null,null,null,null,null,null,null,0,914,{"$error":"#N/A"}]
[null,null,null,null,null,null,null,null,null,null,null,null,0,915,{"$error":"#N/A"}]
[null,null,null,null,null,null,null,null,null,null,null,null,0,916,{"$error":"#N/A"}]
[null,null,null,null,null,null,null,null,null,null,null,null,0,917,{"$error":"#N/A"}]
[null,null,null,null,null,null,null,null,null,null,null,null,0,918,{"$error":"#N/A"}]
[null,null,null,null,null,null,null,null,null,null,null,null,0,919,{"$error":"#N/A"}]
[null,null,null,null,null,null,null,null,null,null,null,null,0,920,{"$error":"#N/A"}]
[null,null,null,null,null,null,null,null,null,null,null,null,0,921,{"$error":"#N/A"}]
[null,null,null,null,null,null,null,null,null,null,null,null,0,922,{"$error":"#N/A"}]
[null,null,null,null,null,null,null,null,null,null,null,null,0,923,{"$error":"#N/A"}]
[null,null,null,null,null,null,null,null,null,null,null,null,0,924,{"$error":"#N/A"}]
[null,null,null,null,null,null,null,null,null,null,null,null,0,925,{"$error":"#N/A"}]
[null,null,null,null,null,null,null,null,null,null,null,null,0,926,{"$error":"#N/A"}]
[null,null,null,null,null,null,null,null,null,null,null,null,0,927,{"$error":"#N/A"}]
[null,null,null,null,null,null,null,null,null,null,null,null,0,928,{"$error":"#N/A"}]
[null,null,null,null,null,null,null,null,null,null,null,null,0,929,{"$error":"#N/A"}]
[null,null,null,null,null,null,null,null,null,null,null,null,0,930,{"$error":"#N/A"}]
[null,null,null,null,null,null,null,null,null,null,null,null,0,931,{"$error":"#N/A"}]
[null,null,null,null,null,null,null,null,null,null,null,null,0,932,{"$error":"#N/A"}]
[null,null,null,null,null,null,null,null,null,null,null,null,0,933,{"$error":"#N/A"}]
[null,null,null,null,null,null,null,null,null,null,null,null,0,934,{"$error":"#N/A"}]
[null,null,null,null,null,null,null,null,null,null,null,null,0,935,{"$error":"#N/A"}]
[null,null,null,null,null,null,null,null,null,null,null,null,0,936,{"$error":"#N/A"}]
[null,null,null,null,null,null,null,null,null,null,null,null,0,937,{"$error":"#N/A"}]
[null,null,null,null,null,null,null,null,null,null,null,null,0,938,{"$error":"#N/A"}]
[null,null,null,null,null,null,null,null,null,null,null,null,0,939,{"$error":"#N/A"}]
[null,null,null,null,null,null,null,null,null,null,null,null,0,940,{"$error":"#N/A"}]
[null,null,null,null,null,null,null,null,null,null,null,null,0,941,{"$error":"#N/A"}]
[null,null,null,null,null,null,null,null,null,null,null,null,0,942,{"$error":"#N/A"}]
[null,null,null,null,null,null,null,null,null,null,null,null,0,943,{"$error":"#N/A"}]
[null,null,null,null,null,null,null,null,null,null,null,null,0,944,{"$error":"#N/A"}]
[null,null,null,null,null,null,null,null,null,null,null,null,0,945,{"$error":"#N/A"}]
[null,null,null,null,null,null,null,null,null,null,null,null,0,946,{"$error":"#N/A"}]
[null,null,null,null,null,null,null,null,null,null,null,null,0,947,{"$error":"#N/A"}]
[null,null,null,null,null,null,null,null,null,null,null,null,0,948,{"$error":"#N/A"}]
[null,null,null,null,null,null,null,null,null,null,null,null,0,949,{"$error":"#N/A"}]
[null,null,null,null,null,null,null,null,null,null,null,null,0,950,{"$error":"#N/A"}]
[null,null,null,null,null,null,null,null,null,null,null,null,0,951,{"$error":"#N/A"}]
[null,null,null,null,null,null,null,null,null,null,null,null,0,952,{"$error":"#N/A"}]
[null,null,null,null,null,null,null,null,null,null,null,null,0,953,{"$error":"#N/A"}]
[null,null,null,null,null,null,null,null,null,null,null,null,0,954,{"$error":"#N/A"}]
[null,null,null,null,null,null,null,null,null,null,null,null,0,955,{"$error":"#N/A"}]
[null,null,null,null,null,null,null,null,null,null,null,null,0,956,{"$error":"#N/A"}]
[null,null,null,null,null,null,null,null,null,null,null,null,0,957,{"$error":"#N/A"}]
[null,null,null,null,null,null,null,null,null,null,null,null,0,958,{"$error":"#N/A"}]
[null,null,null,null,null,null,null,null,null,null,null,null,0,959,{"$error":"#N/A"}]
[null,null,null,null,null,null,null,null,null,null,null,null,0,960,{"$error":"#N/A"}]
[null,null,null,null,null,null,null,null,null,null,null,null,0,961,{"$error":"#N/A"}]
[null,null,null,null,null,null,null,null,null,null,null,null,0,962,{"$error":"#N/A"}]
[null,null,null,null,null,null,null,null,null,null,null,null,0,963,{"$error":"#N/A"}]
[null,null,null,null,null,null,null,null,null,null,null,null,0,964,{"$error":"#N/A"}]
[null,null,null,null,null,null,null,null,null,null,null,null,0,965,{"$error":"#N/A"}]
[null,null,null,null,null,null,null,null,null,null,null,null,0,966,{"$error":"#N/A"}]
[null,null,null,null,null,null,null,null,null,null,null,null,0,967,{"$error":"#N/A"}]
[null,null,null,null,null,null,null,null,null,null,null,null,0,968,{"$error":"#N/A"}]
[null,null,null,null,null,null,null,null,null,null,null,null,0,969,{"$error":"#N/A"}]
[null,null,null,null,null,null,null,null,null,null,null,null,0,970,{"$error":"#N/A"}]
[null,null,null,null,null,null,null,null,null,null,null,null,0,971,{"$error":"#N/A"}]
[null,null,null,null,null,null,null,null,null,null,null,null,0,972,{"$error":"#N/A"}]
[null,null,null,null,null,null,null,null,null,null,null,null,0,973,{"$error":"#N/A"}]
[null,null,null,null,null,null,null,null,null,null,null,null,0,974,{"$error":"#N/A"}]
[null,null,null,null,null,null,null,null,null,null,null,null,0,975,{"$error":"#N/A"}]
[null,null,null,null,null,null,null,null,null,null,null,null,0,976,{"$error":"#N/A"}]
[null,null,null,null,null,null,null,null,null,null,null,null,0,977,{"$error":"#N/A"}]
[null,null,null,null,null,null,null,null,null,null,null,null,0,978,{"$error":"#N/A"}]
[null,null,null,null,null,null,null,null,null,null,null,null,0,979,{"$error":"#N/A"}]
[null,null,null,null,null,null,null,null,null,null,null,null,0,980,{"$error":"#N/A"}]
[null,null,null,null,null,null,null,null,null,null,null,null,0,981,{"$error":"#N/A"}]
[null,null,null,null,null,null,null,null,null,null,null,null,0,982,{"$error":"#N/A"}]
[null,null,null,null,null,null,null,null,null,null,null,null,0,983,{"$error":"#N/A"}]
[null,null,null,null,null,null,null,null,null,null,null,null,0,984,{"$error":"#N/A"}]
[null,null,null,null,null,null,null,null,null,null,null,null,0,985,{"$error":"#N/A"}]
[null,null,null,null,null,null,null,null,null,null,null,null,0,986,{"$error":"#N/A"}]
[null,null,null,null,null,null,null,null,null,null,null,null,0,987,{"$error":"#N/A"}]
[null,null,null,null,null,null,null,null,null,null,null,null,0,988,{"$error":"#N/A"}]
[null,null,null,null,null,null,null,null,null,null,null,null,0,989,{"$error":"#N/A"}]
[null,null,null,null,null,null,null,null,null,null,null,null,0,990,{"$error":"#N/A"}]
[null,null,null,null,null,null,null,null,null,null,null,null,0,991,{"$error":"#N/A"}]
[null,null,null,null,null,null,null,null,null,null,null,null,0,992,{"$error":"#N/A"}]
[null,null,null,null,null,null,null,null,null,null,null,null,0,993,{"$error":"#N/A"}]
[null,null,null,null,null,null,null,null,null,null,null,null,0,994,{"$error":"#N/A"}]
[null,null,null,null,null,null,null,null,null,null,null,null,0,995,{"$error":"#N/A"}]
[null,null,null,null,null,null,null,null,null,null,null,null,0,996,{"$error":"#N/A"}]
[null,null,null,null,null,null,null,null,null,null,null,null,0,997,{"$error":"#N/A"}]
[null,null,null,null,null,null,null,null,null,null,null,null,0,998,{"$error":"#N/A"}]
[null,null,null,null,null,null,null,null,null,null,null,null,0,999,{"$error":"#N/A"}]
[null,null,null,null,null,null,null,null,null,null,null,null,0,1000,{"$error":"#N/A"}]

{"sheet":"BD","index":1,"n_rows":3395,"n_cols":114,"rows_kept":3395,"cut":false,"hidden":true,"merged":[]}
["Código ente","Nombre","Ámbito","Activo","Tema","Clase","Tipo","Pob 2015","Pob 2020","Región","Año de creación","Año de cierre","No. Oficialía","Fecha oficialía","No. de oficio","Fecha oficio","No. Documentos","No. Medio electronico","Nombre remitente","Cargo remitente","Codigo de obligación","Obligación","Ejercicio obligación","Acta número","Fecha acuerdo","No. Acuerdo","$ según acta","$ según formatos","Resultado y proyección ingresos","Estimación ingresos","Resultado y proyección egresos","Egresos COG-CFF","Egresos CTG-FF-OG","CFG","CA","EA","Plantilla","Ficha evaluación desempeño","MIR","SIN MIR","Analisis 1","Analisis 2","Analisis 2A","Analisis 3","Analisis 3A",1101,1201,1202,1203,1701,1702,3101,4301,4302,4303,4308,4310,8100,8112,8201,8202,111,113,132,141,"Analisis 6","Analisis 7","Analisis 7A","Analisis 7B","Analisis 8",1,2,3,4,5,6,7,8,9,0,1000,2000,3000,4000,5000,6000,7000,8000,9000,"Inconsistencia 1","Inconsistencia 2","Inconsistencia 3","Inconsistencia 4","Inconsistencia 5","Inconsistencia 6","Inconsistencia 7","Inconsistencia 8","Inconsistencia 9","Inconsistencia 10","Inconsistencia 11","Inconsistencia 12","Inconsistencia 13","Inconsistencia 14","Inconsistencia 15","Inconsistencia 16","Inconsistencia 17","Inconsistencia 18","Observación 1","Observación 2","Observación 3","Observación 4","Fecha análisis","Elaboró","Revisó"]
[{"$f":"FU!B6","v":{"$error":"#N/A"}},{"$f":"FU!F6","v":0},{"$f":"FU!B9","v":{"$error":"#N/A"}},{"$f":"FU!I9","v":{"$error":"#N/A"}},{"$f":"FU!L9","v":{"$error":"#N/A"}},{"$f":"FU!R9","v":{"$error":"#N/A"}},{"$f":"FU!X9","v":{"$error":"#N/A"}},{"$f":"FU!B11","v":{"$error":"#N/A"}},{"$f":"FU!I11","v":{"$error":"#N/A"}},{"$f":"FU!P11","v":{"$error":"#N/A"}},{"$f":"FU!AB11","v":{"$error":"#N/A"}},{"$f":"FU!AH11","v":{"$error":"#N/A"}},{"$f":"FU!B16","v":0},{"$f":"FU!E16","v":"00:00:00"},{"$f":"FU!L16","v":0},{"$f":"FU!V16","v":"00:00:00"},{"$f":"FU!AA16","v":0},{"$f":"FU!AG16","v":0},{"$f":"FU!B18","v":0},{"$f":"FU!AA18","v":0},{"$f":"FU!B20","v":"PAI"},{"$f":"FU!E20","v":"Presupuesto inicial"},{"$f":"FU!AJ20","v":2021},{"$f":"FU!B25","v":0},{"$f":"FU!I25","v":"00:00:00"},{"$f":"FU!O25","v":0},{"$f":"FU!X25","v":0},{"$f":"FU!AF25","v":0},{"$f":"FU!B29","v":""},{"$f":"FU!B30","v":""},{"$f":"FU!B31","v":""},{"$f":"FU!B32","v":""},{"$f":"FU!B33","v":""},{"$f":"FU!B34","v":""},{"$f":"FU!B35","v":""},{"$f":"FU!B36","v":""},{"$f":"FU!B37","v":""},{"$f":"FU!B38","v":0},{"$f":"FU!B39","v":0},{"$f":"FU!B40","v":0},{"$f":"FU!AC44","v":0},{"$f":"FU!AC48","v":0},{"$f":"FU!AI48","v":0},{"$f":"FU!AC50","v":0},{"$f":"FU!AI50","v":0},{"$f":"FU!AB51","v":0},{"$f":"FU!AB52","v":0},{"$f":"FU!AB53","v":0},{"$f":"FU!AB54","v":0},{"$f":"FU!AE51","v":0},{"$f":"FU!AE52","v":0},{"$f":"FU!AE53","v":0},{"$f":"FU!AE54","v":0},{"$f":"FU!AH51","v":0},{"$f":"FU!AH52","v":0},{"$f":"FU!AH53","v":0},{"$f":"FU!AH54","v":0},{"$f":"FU!AK51","v":0},{"$f":"FU!AK52","v":0},{"$f":"FU!AK53","v":0},{"$f":"FU!AK54","v":0},{"$f":"FU!AB55","v":0},{"$f":"FU!AE55","v":0},{"$f":"FU!AH55","v":0},{"$f":"FU!AK55","v":0},{"$f":"FU!AC56","v":0},{"$f":"FU!AC58","v":0},{"$f":"FU!AG58","v":0},{"$f":"FU!AJ58","v":0},{"$f":"FU!AC59","v":0},{"$f":"FU!E70","v":0},{"$f":"FU!E69","v":0},{"$f":"FU!E68","v":0},{"$f":"FU!E67","v":0},{"$f":"FU!E66","v":0},{"$f":"FU!E65","v":0},{"$f":"FU!E64","v":0},{"$f":"FU!E63","v":0},{"$f":"FU!E62","v":0},{"$f":"FU!E61","v":0},{"$f":"FU!W62","v":0},{"$f":"FU!W63","v":0},{"$f":"FU!W64","v":0},{"$f":"FU!W65","v":0},{"$f":"FU!W66","v":0},{"$f":"FU!W67","v":0},{"$f":"FU!W68","v":0},{"$f":"FU!W69","v":0},{"$f":"FU!W70","v":0},{"$f":"FU!B79","v":""},{"$f":"FU!B80","v":1},{"$f":"FU!B81","v":""},{"$f":"FU!B82","v":""},{"$f":"FU!B83","v":""},{"$f":"FU!B84","v":""},{"$f":"FU!B85","v":""},{"$f":"FU!B86","v":""},{"$f":"FU!B87","v":""},{"$f":"FU!B88","v":""},{"$f":"FU!B89","v":""},{"$f":"FU!B90","v":""},{"$f":"FU!B91","v":""},{"$f":"FU!B92","v":""},{"$f":"FU!B93","v":""},{"$f":"FU!B94","v":""},{"$f":"FU!B95","v":""},{"$f":"FU!B96","v":""},{"$f":"FU!B99","v":0},{"$f":"FU!B101","v":0},{"$f":"FU!B103","v":0},{"$f":"FU!B105","v":0},{"$f":"FU!S108","v":0},{"$f":"FU!B112","v":0},{"$f":"FU!Z112","v":"L.C.P. Manuel Fonseca Villaseñor"}]
[]
[1000,"IMPUESTOS",null,{"$f":"'CRI-M'!P2","v":0}]
[1100,"Impuestos sobre los ingresos",null,{"$f":"'CRI-M'!P3","v":0}]
[1101,"Impuestos sobre espectáculos públicos",11,{"$f":"'CRI-M'!P4","v":0}]
[1200,"Impuestos sobre el patrimonio",null,{"$f":"'CRI-M'!P5","v":0}]
[1201,"Impuesto predial",11,{"$f":"'CRI-M'!P6","v":0}]
[1202,"Impuestos sobre transmisiones patrimoniales",11,{"$f":"'CRI-M'!P7","v":0}]
[1203,"Impuestos sobre negocios jurídicos",11,{"$f":"'CRI-M'!P8","v":0}]
[1300,"Impuestos sobre la producción, el consumo y las transacciones",null,{"$f":"'CRI-M'!P9","v":0}]
[1400,"Impuestos al comercio exterior",null,{"$f":"'CRI-M'!P10","v":0}]
[1500,"Impuestos sobre nóminas y asimilables",null,{"$f":"'CRI-M'!P11","v":0}]
[1600,"Impuestos ecológicos",null,{"$f":"'CRI-M'!P12","v":0}]
[1700,"Accesorios de impuestos",null,{"$f":"'CRI-M'!P13","v":0}]
[1701,"Recargos",11,{"$f":"'CRI-M'!P14","v":0}]
[1702,"Actualizaciones",11,{"$f":"'CRI-M'!P15","v":0}]
[1703,"Multas",11,{"$f":"'CRI-M'!P16","v":0}]
[1704,"Gastos de ejecución",11,{"$f":"'CRI-M'!P17","v":0}]
[1709,"Otros no especificados",11,{"$f":"'CRI-M'!P18","v":0}]
[1800,"Otros impuestos",null,{"$f":"'CRI-M'!P19","v":0}]
[1801,"Otros impuestos",11,{"$f":"'CRI-M'!P20","v":0}]
[2000,"CUOTAS Y APORTACIONES DE SEGURIDAD SOCIAL",null,{"$f":"'CRI-M'!P21","v":0}]
[2100,"Aportaciones para fondos de vivienda",null,{"$f":"'CRI-M'!P22","v":0}]
[2200,"Cuotas para la seguridad social",null,{"$f":"'CRI-M'!P23","v":0}]
[2300,"Cuotas de ahorro para el retiro",null,{"$f":"'CRI-M'!P24","v":0}]
[2400,"Otras cuotas y aportaciones para la seguridad social",null,{"$f":"'CRI-M'!P25","v":0}]
[2500,"Accesorios de cuotas y aportaciones de seguridad social",null,{"$f":"'CRI-M'!P26","v":0}]
[3000,"CONTRIBUCIONES DE MEJORAS",null,{"$f":"'CRI-M'!P27","v":0}]
[3100,"Contribuciones de mejoras por obras públicas",null,{"$f":"'CRI-M'!P28","v":0}]
[3101,"Contribuciones de mejoras por obras públicas",11,{"$f":"'CRI-M'!P29","v":0}]
[4000,"DERECHOS",null,{"$f":"'CRI-M'!P30","v":0}]
[4100,"Derechos por el uso, goce, aprovechamiento o explotación de bienes de dominio público",null,{"$f":"'CRI-M'!P31","v":0}]
[4101,"Derechos por el uso del piso",11,{"$f":"'CRI-M'!P32","v":0}]
[4102,"Derechos por el uso de los estacionamientos",11,{"$f":"'CRI-M'!P33","v":0}]
[4103,"Derechos de uso de cementerios y panteones municipales",11,{"$f":"'CRI-M'!P34","v":0}]
[4104,"Derechos de concesiones y demás inmuebles de propiedad municipal",11,{"$f":"'CRI-M'!P35","v":0}]
[4200,"Derechos a los hidrocarburos (Derogado)",null,{"$f":"'CRI-M'!P36","v":0}]
[4300,"Derechos por prestación de servicios",null,{"$f":"'CRI-M'!P37","v":0}]
[4301,"Derechos de licencias y permisos de giros",11,{"$f":"'CRI-M'!P38","v":0}]
[4302,"Derechos de licencias y permisos de anuncios",11,{"$f":"'CRI-M'!P39","v":0}]
[4303,"Derechos de licencias de construcción, reconstrucción, reparación o demolición de obras",11,{"$f":"'CRI-M'!P40","v":0}]
[4304,"Derechos de regularizaciones de los registros de obra",11,{"$f":"'CRI-M'!P41","v":0}]
[4305,"Derechos de alineamiento, designación de número oficial e inspección",11,{"$f":"'CRI-M'!P42","v":0}]
[4306,"Derechos de licencias de cambio de régimen de propiedad y urbanización",11,{"$f":"'CRI-M'!P43","v":0}]
[4307,"Derechos de servicios de obra",11,{"$f":"'CRI-M'!P44","v":0}]
[4308,"Derechos de servicios de sanidad",11,{"$f":"'CRI-M'!P45","v":0}]
[4309,"Derechos de servicio de limpieza, recolección, traslado, tratamiento y disposición final de residuos",11,{"$f":"'CRI-M'!P46","v":0}]
[4310,"Derechos de agua potable, drenaje, alcantarillado, tratamiento y disposición final de aguas residuales",11,{"$f":"'CRI-M'!P47","v":0}]
[4311,"Derechos del rastro",11,{"$f":"'CRI-M'!P48","v":0}]
[4312,"Derechos del registro civil",11,{"$f":"'CRI-M'!P49","v":0}]
[4313,"Derechos de las certificaciones",11,{"$f":"'CRI-M'!P50","v":0}]
[4314,"Derechos de los servicios de catastro",11,{"$f":"'CRI-M'!P51","v":0}]
[4400,"Otros derechos",null,{"$f":"'CRI-M'!P52","v":0}]
[4401,"Otros derechos",11,{"$f":"'CRI-M'!P53","v":0}]
[4500,"Accesorios de derechos",null,{"$f":"'CRI-M'!P54","v":0}]
[4501,"Recargos",11,{"$f":"'CRI-M'!P55","v":0}]
[4502,"Actualizaciones",11,{"$f":"'CRI-M'!P56","v":0}]
[4503,"Multas",11,{"$f":"'CRI-M'!P57","v":0}]
[4504,"Gastos de ejecución",11,{"$f":"'CRI-M'!P58","v":0}]
[4509,"Otros no especificados",11,{"$f":"'CRI-M'!P59","v":0}]
[5000,"PRODUCTOS",null,{"$f":"'CRI-M'!P60","v":0}]
[5100,"Productos",null,{"$f":"'CRI-M'!P61","v":0}]
[5101,"Uso, goce, aprovechamiento o explotación de bienes de dominio privado",11,{"$f":"'CRI-M'!P62","v":0}]
[5102,"Productos diversos",11,{"$f":"'CRI-M'!P63","v":0}]
[5200,"Productos de capital (Derogado)",null,{"$f":"'CRI-M'!P64","v":0}]
[6000,"APROVECHAMIENTOS",null,{"$f":"'CRI-M'!P65","v":0}]
[6100,"Aprovechamientos",null,{"$f":"'CRI-M'!P66","v":0}]
[6101,"Aprovechamientos de las sanciones, multas, honorarios y donativos",11,{"$f":"'CRI-M'!P67","v":0}]
[6102,"Aprovechamientos de las indemnizaciones a favor del municipio",11,{"$f":"'CRI-M'!P68","v":0}]
[6103,"Otros aprovechamientos",11,{"$f":"'CRI-M'!P69","v":0}]
[6200,"Aprovechamientos patrimoniales",null,{"$f":"'CRI-M'!P70","v":0}]
[6201,"Aprovechamientos por el uso o enajenación de bienes",11,{"$f":"'CRI-M'!P71","v":0}]
[6202,"Aprovechamientos por recuperación de capital o patrimonio invertido",11,{"$f":"'CRI-M'!P72","v":0}]
[6300,"Accesorios de aprovechamientos",null,{"$f":"'CRI-M'!P73","v":0}]
[6301,"Recargos",11,{"$f":"'CRI-M'!P74","v":0}]
[6302,"Actualizaciones",11,{"$f":"'CRI-M'!P75","v":0}]
[6303,"Multas",11,{"$f":"'CRI-M'!P76","v":0}]
[6304,"Gastos de ejecución",11,{"$f":"'CRI-M'!P77","v":0}]
[6309,"Otros no especificados",11,{"$f":"'CRI-M'!P78","v":0}]
[7000,"INGRESOS POR VENTAS DE BIENES, PRESTACIÓN DE SERVICIOS Y OTROS INGRESOS",null,{"$f":"'CRI-M'!P79","v":0}]
[7100,"Ingresos por venta de bienes y prestación de servicios de instituciones públicas de seguridad social",null,{"$f":"'CRI-M'!P80","v":0}]
[7101,"Ingresos por venta de bienes y prestación de servicios de instituciones públicas de seguridad social",14,{"$f":"'CRI-M'!P81","v":0}]
[7200,"Ingresos por venta de bienes y prestación de servicios de empresas productivas del estado",null,{"$f":"'CRI-M'!P82","v":0}]
[7300,"Ingresos por venta de bienes y prestación de servicios de entidades paraestatales y fideicomisos no empresariales y no financieros",null,{"$f":"'CRI-M'!P83","v":0}]
[7301,"Ingresos por venta de bienes y prestación de servicios de entidades paraestatales y fideicomisos no empresariales y no financieros",14,{"$f":"'CRI-M'!P84","v":0}]
[7400,"Ingresos por venta de bienes y prestación de servicios de entidades paraestatales empresariales no financieras con participación estatal mayoritaria",null,{"$f":"'CRI-M'!P85","v":0}]
[7500,"Ingresos por venta de bienes y prestación de servicios de entidades paraestatales empresariales financieras monetarias con participación estatal mayoritaria",null,{"$f":"'CRI-M'!P86","v":0}]
[7600,"Ingresos por venta de bienes y prestación de servicios de entidades paraestatales empresariales financieras no monetarias con participación estatal mayoritaria",null,{"$f":"'CRI-M'!P87","v":0}]
[7700,"Ingresos por venta de bienes y prestación de servicios de fideicomisos financieros públicos con participación estatal mayoritaria",null,{"$f":"'CRI-M'!P88","v":0}]
[7701,"Ingresos por venta de bienes y prestación de servicios de fideicomisos financieros públicos con participación estatal mayoritaria",14,{"$f":"'CRI-M'!P89","v":0}]
[7800,"Ingresos por venta de bienes y prestación de servicios de los poderes legislativo y judicial, y de los órganos autónomos",null,{"$f":"'CRI-M'!P90","v":0}]
[7900,"Otros ingresos",null,{"$f":"'CRI-M'!P91","v":0}]
[7901,"Otros ingresos",14,{"$f":"'CRI-M'!P92","v":0}]
[8000,"PARTICIPACIONES, APORTACIONES, CONVENIOS, INCENTIVOS DERIVADOS DE LA COLABORACIÓN FISCAL Y FONDOS DISTINTOS DE LAS APORTACIONES",null,{"$f":"'CRI-M'!P93","v":0}]
[8100,"Participaciones",null,{"$f":"'CRI-M'!P94","v":0}]
[8101,"Fondo general de participaciones (federal)",15,{"$f":"'CRI-M'!P95","v":0}]
[8102,"Fondo de fomento municipal (federal)",15,{"$f":"'CRI-M'!P96","v":0}]
[8103,"Fondo de fiscalización y recaudación (federal)",15,{"$f":"'CRI-M'!P97","v":0}]
[8104,"Fondo de compensación (federal)",15,{"$f":"'CRI-M'!P98","v":0}]
[8105,"Fondo de extracción de hidrocarburos (federal)",15,{"$f":"'CRI-M'!P99","v":0}]
[8106,"Impuesto especial sobre producción y servicios (federal)",15,{"$f":"'CRI-M'!P100","v":0}]
[8107,"0.136% de la recaudación federal participable (federal)",15,{"$f":"'CRI-M'!P101","v":0}]
[8108,"3.17% sobre extracción de petróleo (federal)",15,{"$f":"'CRI-M'!P102","v":0}]
[8109,"Gasolinas y diésel (federal)",15,{"$f":"'CRI-M'!P103","v":0}]
[8110,"Fondo del impuesto sobre la renta (federal)",15,{"$f":"'CRI-M'!P104","v":0}]
[8111,"Fondo de estabilización de los ingresos de las entidades federativas (federal)",15,{"$f":"'CRI-M'!P105","v":0}]
[8112,"Participaciones del estado",16,{"$f":"'CRI-M'!P106","v":0}]
[8200,"Aportaciones",null,{"$f":"'CRI-M'!P107","v":0}]
[8201,"Fondo de aportaciones para la infraestructura social municipal",25,{"$f":"'CRI-M'!P108","v":0}]
[8202,"Fondo de aportaciones para el fortalecimiento municipal",25,{"$f":"'CRI-M'!P109","v":0}]
[8300,"Convenios",null,{"$f":"'CRI-M'!P110","v":0}]
[8301,"Convenios de protección social en salud",17,{"$f":"'CRI-M'!P111","v":0}]
[8302,"Convenios de descentralizados",17,{"$f":"'CRI-M'!P112","v":0}]
[8303,"Convenio de reasignación",17,{"$f":"'CRI-M'!P113","v":0}]
[8304,"Otros convenios y subsidios (Con ingresos de libre disposición)",17,{"$f":"'CRI-M'!P114","v":0}]
[8304,"Otros convenios y subsidios (Con ingresos etiquetados federales)",25,{"$f":"'CRI-M'!P115","v":0}]
[8304,"Otros convenios y subsidios (Con ingresos etiquetados estatales)",26,{"$f":"'CRI-M'!P116","v":0}]
[8400,"Incentivos derivados de la colaboración fiscal",null,{"$f":"'CRI-M'!P117","v":0}]
[8401,"Tenencia o uso de vehículos",15,{"$f":"'CRI-M'!P118","v":0}]
[8402,"Fondo de compensación ISAN",15,{"$f":"'CRI-M'!P119","v":0}]
[8403,"Impuesto sobre automóviles nuevos",15,{"$f":"'CRI-M'!P120","v":0}]
[8404,"Fondo de compensación de repecos-intermedios",15,{"$f":"'CRI-M'!P121","v":0}]
[8405,"Otros incentivos económicos",15,{"$f":"'CRI-M'!P122","v":0}]
[8500,"Fondos distintos de aportaciones",null,{"$f":"'CRI-M'!P123","v":0}]
[8501,"Fondo para entidades federativas y municipios productores de hidrocarburos",25,{"$f":"'CRI-M'!P124","v":0}]
[8502,"Fondo minero",25,{"$f":"'CRI-M'!P125","v":0}]
[9000,"TRANSFERENCIAS, ASIGNACIONES, SUBSIDIOS Y SUBVENCIONES Y PENSIONES Y JUBILACIONES",null,{"$f":"'CRI-M'!P126","v":0}]
[9100,"Transferencias y asignaciones",null,{"$f":"'CRI-M'!P127","v":0}]
[9101,"Transferencias y asignaciones (Con ingresos de libre disposición)",17,{"$f":"'CRI-M'!P128","v":0}]
[9101,"Transferencias y asignaciones (Con ingresos etiquetados federales)",27,{"$f":"'CRI-M'!P129","v":0}]
[9101,"Transferencias y asignaciones (Con ingresos etiquetados estatales)",26,{"$f":"'CRI-M'!P130","v":0}]
[9200,"Transferencias al resto del sector público (derogado)",null,{"$f":"'CRI-M'!P131","v":0}]
[9300,"Subsidios y subvenciones",null,{"$f":"'CRI-M'!P132","v":0}]
[9301,"Subsidios y subvenciones (Con ingresos de libre disposición)",17,{"$f":"'CRI-M'!P133","v":0}]
[9301,"Subsidios y subvenciones (Con ingresos etiquetados federales)",27,{"$f":"'CRI-M'!P134","v":0}]
[9301,"Subsidios y subvenciones (Con ingresos etiquetados estatales)",26,{"$f":"'CRI-M'!P135","v":0}]
[9400,"Ayudas sociales (derogado)",null,{"$f":"'CRI-M'!P136","v":0}]
[9500,"Pensiones y jubilaciones",null,{"$f":"'CRI-M'!P137","v":0}]
[9501,"Pensiones y jubilaciones",17,{"$f":"'CRI-M'!P138","v":0}]
[9600,"Transferencias a fideicomisos, mandatos y análogos (derogado)",null,{"$f":"'CRI-M'!P139","v":0}]
[9700,"Transferencias del fondo mexicano del petróleo para la estabilización y el desarrollo",null,{"$f":"'CRI-M'!P140","v":0}]
[9701,"Transferencias del fondo mexicano del petróleo para la estabilización y el desarrollo",17,{"$f":"'CRI-M'!P141","v":0}]
[0,"INGRESOS DERIVADOS DE FINANCIAMIENTO",null,{"$f":"'CRI-M'!P142","v":0}]
[100,"Endeudamiento interno",null,{"$f":"'CRI-M'!P143","v":0}]
[200,"Endeudamiento externo",null,{"$f":"'CRI-M'!P144","v":0}]
[300,"Financiamiento interno",null,{"$f":"'CRI-M'!P145","v":0}]
[301,"Financiamiento interno",12,{"$f":"'CRI-M'!P146","v":0}]
["ESTIMACIÓN DE INGRESOS",null,null,{"$f":"'CRI-M'!P147","v":0}]
[1000,"SERVICIOS PERSONALES",null,{"$f":"'COG-M'!P2","v":0}]
[1100,"REMUNERACIONES AL PERSONAL DE CARÁCTER PERMANENTE",null,{"$f":"'COG-M'!P3","v":0}]
[111,"Dietas ",11,{"$f":"'COG-M'!P4","v":0}]
[null,null,12,{"$f":"'COG-M'!P5","v":0}]
[null,null,13,{"$f":"'COG-M'!P6","v":0}]
[null,null,14,{"$f":"'COG-M'!P7","v":0}]
[null,null,15,{"$f":"'COG-M'!P8","v":0}]
[null,null,16,{"$f":"'COG-M'!P9","v":0}]
[null,null,17,{"$f":"'COG-M'!P10","v":0}]
[null,null,25,{"$f":"'COG-M'!P11","v":0}]
[null,null,26,{"$f":"'COG-M'!P12","v":0}]
[null,null,27,{"$f":"'COG-M'!P13","v":0}]
[112,"Haberes",null,{"$f":"'COG-M'!P14","v":0}]
[113,"Sueldos base al personal permanente",11,{"$f":"'COG-M'!P15","v":0}]
[null,null,12,{"$f":"'COG-M'!P16","v":0}]
[null,null,13,{"$f":"'COG-M'!P17","v":0}]
[null,null,14,{"$f":"'COG-M'!P18","v":0}]
[null,null,15,{"$f":"'COG-M'!P19","v":0}]
[null,null,16,{"$f":"'COG-M'!P20","v":0}]
[null,null,17,{"$f":"'COG-M'!P21","v":0}]
[null,null,25,{"$f":"'COG-M'!P22","v":0}]
[null,null,26,{"$f":"'COG-M'!P23","v":0}]
[null,null,27,{"$f":"'COG-M'!P24","v":0}]
[114,"Remuneraciones por adscripción laboral en el extranjero",11,{"$f":"'COG-M'!P25","v":0}]
[null,null,12,{"$f":"'COG-M'!P26","v":0}]
[null,null,13,{"$f":"'COG-M'!P27","v":0}]
[null,null,14,{"$f":"'COG-M'!P28","v":0}]
[null,null,15,{"$f":"'COG-M'!P29","v":0}]
[null,null,16,{"$f":"'COG-M'!P30","v":0}]
[null,null,17,{"$f":"'COG-M'!P31","v":0}]
[null,null,25,{"$f":"'COG-M'!P32","v":0}]
[null,null,26,{"$f":"'COG-M'!P33","v":0}]
[null,null,27,{"$f":"'COG-M'!P34","v":0}]
[1200,"REMUNERACIONES AL PERSONAL DE CARÁCTER TRANSITORIO",null,{"$f":"'COG-M'!P35","v":0}]
[121,"Honorarios asimilables a salarios",11,{"$f":"'COG-M'!P36","v":0}]
[null,null,12,{"$f":"'COG-M'!P37","v":0}]
[null,null,13,{"$f":"'COG-M'!P38","v":0}]
[null,null,14,{"$f":"'COG-M'!P39","v":0}]
[null,null,15,{"$f":"'COG-M'!P40","v":0}]
[null,null,16,{"$f":"'COG-M'!P41","v":0}]
[null,null,17,{"$f":"'COG-M'!P42","v":0}]
[null,null,25,{"$f":"'COG-M'!P43","v":0}]
[null,null,26,{"$f":"'COG-M'!P44","v":0}]
[null,null,27,{"$f":"'COG-M'!P45","v":0}]
[122,"Sueldos base al personal eventual",11,{"$f":"'COG-M'!P46","v":0}]
[null,null,12,{"$f":"'COG-M'!P47","v":0}]
[null,null,13,{"$f":"'COG-M'!P48","v":0}]
[null,null,14,{"$f":"'COG-M'!P49","v":0}]
[null,null,15,{"$f":"'COG-M'!P50","v":0}]
[null,null,16,{"$f":"'COG-M'!P51","v":0}]
[null,null,17,{"$f":"'COG-M'!P52","v":0}]
[null,null,25,{"$f":"'COG-M'!P53","v":0}]
[null,null,26,{"$f":"'COG-M'!P54","v":0}]
[null,null,27,{"$f":"'COG-M'!P55","v":0}]
[123,"Retribuciones por servicios de carácter social",11,{"$f":"'COG-M'!P56","v":0}]
[null,null,12,{"$f":"'COG-M'!P57","v":0}]
[null,null,13,{"$f":"'COG-M'!P58","v":0}]
[null,null,14,{"$f":"'COG-M'!P59","v":0}]
[null,null,15,{"$f":"'COG-M'!P60","v":0}]
[null,null,16,{"$f":"'COG-M'!P61","v":0}]
[null,null,17,{"$f":"'COG-M'!P62","v":0}]
[null,null,25,{"$f":"'COG-M'!P63","v":0}]
[null,null,26,{"$f":"'COG-M'!P64","v":0}]
[null,null,27,{"$f":"'COG-M'!P65","v":0}]
[124,"Retribución a los representantes de los trabajadores y de los patrones en la Junta de Conciliación y Arbitraje",null,{"$f":"'COG-M'!P66","v":0}]
[1300,"REMUNERACIONES ADICIONALES Y ESPECIALES",null,{"$f":"'COG-M'!P67","v":0}]
[131,"Primas por años de servicios efectivos prestados",11,{"$f":"'COG-M'!P68","v":0}]
[null,null,12,{"$f":"'COG-M'!P69","v":0}]
[null,null,13,{"$f":"'COG-M'!P70","v":0}]
[null,null,14,{"$f":"'COG-M'!P71","v":0}]
[null,null,15,{"$f":"'COG-M'!P72","v":0}]
[null,null,16,{"$f":"'COG-M'!P73","v":0}]
[null,null,17,{"$f":"'COG-M'!P74","v":0}]
[null,null,25,{"$f":"'COG-M'!P75","v":0}]
[null,null,26,{"$f":"'COG-M'!P76","v":0}]
[null,null,27,{"$f":"'COG-M'!P77","v":0}]
[132,"Primas de vacaciones, dominical y gratificación de fin de año",11,{"$f":"'COG-M'!P78","v":0}]
[null,null,12,{"$f":"'COG-M'!P79","v":0}]
[null,null,13,{"$f":"'COG-M'!P80","v":0}]
[null,null,14,{"$f":"'COG-M'!P81","v":0}]
[null,null,15,{"$f":"'COG-M'!P82","v":0}]
[null,null,16,{"$f":"'COG-M'!P83","v":0}]
[null,null,17,{"$f":"'COG-M'!P84","v":0}]
[null,null,25,{"$f":"'COG-M'!P85","v":0}]
[null,null,26,{"$f":"'COG-M'!P86","v":0}]
[null,null,27,{"$f":"'COG-M'!P87","v":0}]
[133,"Horas extraordinarias",11,{"$f":"'COG-M'!P88","v":0}]
[null,null,12,{"$f":"'COG-M'!P89","v":0}]
[null,null,13,{"$f":"'COG-M'!P90","v":0}]
[null,null,14,{"$f":"'COG-M'!P91","v":0}]
[null,null,15,{"$f":"'COG-M'!P92","v":0}]
[null,null,16,{"$f":"'COG-M'!P93","v":0}]
[null,null,17,{"$f":"'COG-M'!P94","v":0}]
[null,null,25,{"$f":"'COG-M'!P95","v":0}]
[null,null,26,{"$f":"'COG-M'!P96","v":0}]
[null,null,27,{"$f":"'COG-M'!P97","v":0}]
[134,"Compensaciones",11,{"$f":"'COG-M'!P98","v":0}]
[null,null,12,{"$f":"'COG-M'!P99","v":0}]
[null,null,13,{"$f":"'COG-M'!P100","v":0}]
[null,null,14,{"$f":"'COG-M'!P101","v":0}]
[null,null,15,{"$f":"'COG-M'!P102","v":0}]
[null,null,16,{"$f":"'COG-M'!P103","v":0}]
[null,null,17,{"$f":"'COG-M'!P104","v":0}]
[null,null,25,{"$f":"'COG-M'!P105","v":0}]
[null,null,26,{"$f":"'COG-M'!P106","v":0}]
[null,null,27,{"$f":"'COG-M'!P107","v":0}]
[135,"Sobrehaberes",null,{"$f":"'COG-M'!P108","v":0}]
[136,"Asignaciones de técnico, de mando, por comisión, de vuelo y de técnico especial",null,{"$f":"'COG-M'!P109","v":0}]
[137,"Honorarios especiales",11,{"$f":"'COG-M'!P110","v":0}]
[null,null,12,{"$f":"'COG-M'!P111","v":0}]
[null,null,13,{"$f":"'COG-M'!P112","v":0}]
[null,null,14,{"$f":"'COG-M'!P113","v":0}]
[null,null,15,{"$f":"'COG-M'!P114","v":0}]
[null,null,16,{"$f":"'COG-M'!P115","v":0}]
[null,null,17,{"$f":"'COG-M'!P116","v":0}]
[null,null,25,{"$f":"'COG-M'!P117","v":0}]
[null,null,26,{"$f":"'COG-M'!P118","v":0}]
[null,null,27,{"$f":"'COG-M'!P119","v":0}]
[138,"Participaciones por vigilancia en el cumplimiento de la leyes y custodia de valores",11,{"$f":"'COG-M'!P120","v":0}]
[null,null,12,{"$f":"'COG-M'!P121","v":0}]
[null,null,13,{"$f":"'COG-M'!P122","v":0}]
[null,null,14,{"$f":"'COG-M'!P123","v":0}]
[null,null,15,{"$f":"'COG-M'!P124","v":0}]
[null,null,16,{"$f":"'COG-M'!P125","v":0}]
[null,null,17,{"$f":"'COG-M'!P126","v":0}]
[null,null,25,{"$f":"'COG-M'!P127","v":0}]
[null,null,26,{"$f":"'COG-M'!P128","v":0}]
[null,null,27,{"$f":"'COG-M'!P129","v":0}]
[1400,"SEGURIDAD SOCIAL",null,{"$f":"'COG-M'!P130","v":0}]
[141,"Aportaciones de seguridad social",11,{"$f":"'COG-M'!P131","v":0}]
[null,null,12,{"$f":"'COG-M'!P132","v":0}]
[null,null,13,{"$f":"'COG-M'!P133","v":0}]
[null,null,14,{"$f":"'COG-M'!P134","v":0}]
[null,null,15,{"$f":"'COG-M'!P135","v":0}]
[null,null,16,{"$f":"'COG-M'!P136","v":0}]
[null,null,17,{"$f":"'COG-M'!P137","v":0}]
[null,null,25,{"$f":"'COG-M'!P138","v":0}]
[null,null,26,{"$f":"'COG-M'!P139","v":0}]
[null,null,27,{"$f":"'COG-M'!P140","v":0}]
[142,"Aportaciones a fondos de vivienda",11,{"$f":"'COG-M'!P141","v":0}]
[null,null,12,{"$f":"'COG-M'!P142","v":0}]
[null,null,13,{"$f":"'COG-M'!P143","v":0}]
[null,null,14,{"$f":"'COG-M'!P144","v":0}]
[null,null,15,{"$f":"'COG-M'!P145","v":0}]
[null,null,16,{"$f":"'COG-M'!P146","v":0}]
[null,null,17,{"$f":"'COG-M'!P147","v":0}]
[null,null,25,{"$f":"'COG-M'!P148","v":0}]
[null,null,26,{"$f":"'COG-M'!P149","v":0}]
[null,null,27,{"$f":"'COG-M'!P150","v":0}]
[143,"Aportaciones al sistema para el retiro",11,{"$f":"'COG-M'!P151","v":0}]
[null,null,12,{"$f":"'COG-M'!P152","v":0}]
[null,null,13,{"$f":"'COG-M'!P153","v":0}]
[null,null,14,{"$f":"'COG-M'!P154","v":0}]
[null,null,15,{"$f":"'COG-M'!P155","v":0}]
[null,null,16,{"$f":"'COG-M'!P156","v":0}]
[null,null,17,{"$f":"'COG-M'!P157","v":0}]
[null,null,25,{"$f":"'COG-M'!P158","v":0}]
[null,null,26,{"$f":"'COG-M'!P159","v":0}]
[null,null,27,{"$f":"'COG-M'!P160","v":0}]
[144,"Aportaciones para seguros",11,{"$f":"'COG-M'!P161","v":0}]
[null,null,12,{"$f":"'COG-M'!P162","v":0}]
[null,null,13,{"$f":"'COG-M'!P163","v":0}]
[null,null,14,{"$f":"'COG-M'!P164","v":0}]
[null,null,15,{"$f":"'COG-M'!P165","v":0}]
[null,null,16,{"$f":"'COG-M'!P166","v":0}]
[null,null,17,{"$f":"'COG-M'!P167","v":0}]
[null,null,25,{"$f":"'COG-M'!P168","v":0}]
[null,null,26,{"$f":"'COG-M'!P169","v":0}]
[null,null,27,{"$f":"'COG-M'!P170","v":0}]
[1500,"OTRAS PRESTACIONES SOCIALES Y ECONÓMICAS",null,{"$f":"'COG-M'!P171","v":0}]
[151,"Cuotas para el fondo de ahorro y fondo de trabajo",11,{"$f":"'COG-M'!P172","v":0}]
[null,null,12,{"$f":"'COG-M'!P173","v":0}]
[null,null,13,{"$f":"'COG-M'!P174","v":0}]
[null,null,14,{"$f":"'COG-M'!P175","v":0}]
[null,null,15,{"$f":"'COG-M'!P176","v":0}]
[null,null,16,{"$f":"'COG-M'!P177","v":0}]
[null,null,17,{"$f":"'COG-M'!P178","v":0}]
[null,null,25,{"$f":"'COG-M'!P179","v":0}]
[null,null,26,{"$f":"'COG-M'!P180","v":0}]
[null,null,27,{"$f":"'COG-M'!P181","v":0}]
[152,"Indemnizaciones",11,{"$f":"'COG-M'!P182","v":0}]
[null,null,12,{"$f":"'COG-M'!P183","v":0}]
[null,null,13,{"$f":"'COG-M'!P184","v":0}]
[null,null,14,{"$f":"'COG-M'!P185","v":0}]
[null,null,15,{"$f":"'COG-M'!P186","v":0}]
[null,null,16,{"$f":"'COG-M'!P187","v":0}]
[null,null,17,{"$f":"'COG-M'!P188","v":0}]
[null,null,25,{"$f":"'COG-M'!P189","v":0}]
[null,null,26,{"$f":"'COG-M'!P190","v":0}]
[null,null,27,{"$f":"'COG-M'!P191","v":0}]
[153,"Prestaciones y haberes de retiro",11,{"$f":"'COG-M'!P192","v":0}]
[null,null,12,{"$f":"'COG-M'!P193","v":0}]
[null,null,13,{"$f":"'COG-M'!P194","v":0}]
[null,null,14,{"$f":"'COG-M'!P195","v":0}]
[null,null,15,{"$f":"'COG-M'!P196","v":0}]
[null,null,16,{"$f":"'COG-M'!P197","v":0}]
[null,null,17,{"$f":"'COG-M'!P198","v":0}]
[null,null,25,{"$f":"'COG-M'!P199","v":0}]
[null,null,26,{"$f":"'COG-M'!P200","v":0}]
[null,null,27,{"$f":"'COG-M'!P201","v":0}]
[154,"Prestaciones contractuales",11,{"$f":"'COG-M'!P202","v":0}]
[null,null,12,{"$f":"'COG-M'!P203","v":0}]
[null,null,13,{"$f":"'COG-M'!P204","v":0}]
[null,null,14,{"$f":"'COG-M'!P205","v":0}]
[null,null,15,{"$f":"'COG-M'!P206","v":0}]
[null,null,16,{"$f":"'COG-M'!P207","v":0}]
[null,null,17,{"$f":"'COG-M'!P208","v":0}]
[null,null,25,{"$f":"'COG-M'!P209","v":0}]
[null,null,26,{"$f":"'COG-M'!P210","v":0}]
[null,null,27,{"$f":"'COG-M'!P211","v":0}]
[155,"Apoyos a la capacitación de los servidores públicos",11,{"$f":"'COG-M'!P212","v":0}]
[null,null,12,{"$f":"'COG-M'!P213","v":0}]
[null,null,13,{"$f":"'COG-M'!P214","v":0}]
[null,null,14,{"$f":"'COG-M'!P215","v":0}]
[null,null,15,{"$f":"'COG-M'!P216","v":0}]
[null,null,16,{"$f":"'COG-M'!P217","v":0}]
[null,null,17,{"$f":"'COG-M'!P218","v":0}]
[null,null,25,{"$f":"'COG-M'!P219","v":0}]
[null,null,26,{"$f":"'COG-M'!P220","v":0}]
[null,null,27,{"$f":"'COG-M'!P221","v":0}]
[159,"Otras prestaciones sociales y económicas",11,{"$f":"'COG-M'!P222","v":0}]
[null,null,12,{"$f":"'COG-M'!P223","v":0}]
[null,null,13,{"$f":"'COG-M'!P224","v":0}]
[null,null,14,{"$f":"'COG-M'!P225","v":0}]
[null,null,15,{"$f":"'COG-M'!P226","v":0}]
[null,null,16,{"$f":"'COG-M'!P227","v":0}]
[null,null,17,{"$f":"'COG-M'!P228","v":0}]
[null,null,25,{"$f":"'COG-M'!P229","v":0}]
[null,null,26,{"$f":"'COG-M'!P230","v":0}]
[null,null,27,{"$f":"'COG-M'!P231","v":0}]
[1600,"PREVISIONES",null,{"$f":"'COG-M'!P232","v":0}]
[161,"Previsiones de carácter laboral, económica y de seguridad social",11,{"$f":"'COG-M'!P233","v":0}]
[null,null,12,{"$f":"'COG-M'!P234","v":0}]
[null,null,13,{"$f":"'COG-M'!P235","v":0}]
[null,null,14,{"$f":"'COG-M'!P236","v":0}]
[null,null,15,{"$f":"'COG-M'!P237","v":0}]
[null,null,16,{"$f":"'COG-M'!P238","v":0}]
[null,null,17,{"$f":"'COG-M'!P239","v":0}]
[null,null,25,{"$f":"'COG-M'!P240","v":0}]
[null,null,26,{"$f":"'COG-M'!P241","v":0}]
[null,null,27,{"$f":"'COG-M'!P242","v":0}]
[1700,"PAGO DE ESTÍMULOS A SERVIDORES PÚBLICOS",null,{"$f":"'COG-M'!P243","v":0}]
[171,"Estímulos",11,{"$f":"'COG-M'!P244","v":0}]
[null,null,12,{"$f":"'COG-M'!P245","v":0}]
[null,null,13,{"$f":"'COG-M'!P246","v":0}]
[null,null,14,{"$f":"'COG-M'!P247","v":0}]
[null,null,15,{"$f":"'COG-M'!P248","v":0}]
[null,null,16,{"$f":"'COG-M'!P249","v":0}]
[null,null,17,{"$f":"'COG-M'!P250","v":0}]
[null,null,25,{"$f":"'COG-M'!P251","v":0}]
[null,null,26,{"$f":"'COG-M'!P252","v":0}]
[null,null,27,{"$f":"'COG-M'!P253","v":0}]
[172,"Recompensas",11,{"$f":"'COG-M'!P254","v":0}]
[null,null,12,{"$f":"'COG-M'!P255","v":0}]
[null,null,13,{"$f":"'COG-M'!P256","v":0}]
[null,null,14,{"$f":"'COG-M'!P257","v":0}]
[null,null,15,{"$f":"'COG-M'!P258","v":0}]
[null,null,16,{"$f":"'COG-M'!P259","v":0}]
[null,null,17,{"$f":"'COG-M'!P260","v":0}]
[null,null,25,{"$f":"'COG-M'!P261","v":0}]
[null,null,26,{"$f":"'COG-M'!P262","v":0}]
[null,null,27,{"$f":"'COG-M'!P263","v":0}]
[2000,"MATERIALES Y SUMINISTROS",null,{"$f":"'COG-M'!P264","v":0}]
[2100,"MATERIALES DE ADMINISTRACIÓN, EMISIÓN DE DOCUMENTOS Y ARTÍCULOS OFICIALES",null,{"$f":"'COG-M'!P265","v":0}]
[211,"Materiales, útiles y equipos menores de oficina",11,{"$f":"'COG-M'!P266","v":0}]
[null,null,12,{"$f":"'COG-M'!P267","v":0}]
[null,null,13,{"$f":"'COG-M'!P268","v":0}]
[null,null,14,{"$f":"'COG-M'!P269","v":0}]
[null,null,15,{"$f":"'COG-M'!P270","v":0}]
[null,null,16,{"$f":"'COG-M'!P271","v":0}]
[null,null,17,{"$f":"'COG-M'!P272","v":0}]
[null,null,25,{"$f":"'COG-M'!P273","v":0}]
[null,null,26,{"$f":"'COG-M'!P274","v":0}]
[null,null,27,{"$f":"'COG-M'!P275","v":0}]
[212,"Materiales y útiles de impresión y reproducción",11,{"$f":"'COG-M'!P276","v":0}]
[null,null,12,{"$f":"'COG-M'!P277","v":0}]
[null,null,13,{"$f":"'COG-M'!P278","v":0}]
[null,null,14,{"$f":"'COG-M'!P279","v":0}]
[null,null,15,{"$f":"'COG-M'!P280","v":0}]
[null,null,16,{"$f":"'COG-M'!P281","v":0}]
[null,null,17,{"$f":"'COG-M'!P282","v":0}]
[null,null,25,{"$f":"'COG-M'!P283","v":0}]
[null,null,26,{"$f":"'COG-M'!P284","v":0}]
[null,null,27,{"$f":"'COG-M'!P285","v":0}]
[213,"Material estadístico y geográfico",11,{"$f":"'COG-M'!P286","v":0}]
[null,null,12,{"$f":"'COG-M'!P287","v":0}]
[null,null,13,{"$f":"'COG-M'!P288","v":0}]
[null,null,14,{"$f":"'COG-M'!P289","v":0}]
[null,null,15,{"$f":"'COG-M'!P290","v":0}]
[null,null,16,{"$f":"'COG-M'!P291","v":0}]
[null,null,17,{"$f":"'COG-M'!P292","v":0}]
[null,null,25,{"$f":"'COG-M'!P293","v":0}]
[null,null,26,{"$f":"'COG-M'!P294","v":0}]
[null,null,27,{"$f":"'COG-M'!P295","v":0}]
[214,"Materiales, útiles y equipos menores de tecnologías de la información y comunicaciones",11,{"$f":"'COG-M'!P296","v":0}]
[null,null,12,{"$f":"'COG-M'!P297","v":0}]
[null,null,13,{"$f":"'COG-M'!P298","v":0}]
[null,null,14,{"$f":"'COG-M'!P299","v":0}]
[null,null,15,{"$f":"'COG-M'!P300","v":0}]
[null,null,16,{"$f":"'COG-M'!P301","v":0}]
[null,null,17,{"$f":"'COG-M'!P302","v":0}]
[null,null,25,{"$f":"'COG-M'!P303","v":0}]
[null,null,26,{"$f":"'COG-M'!P304","v":0}]
[null,null,27,{"$f":"'COG-M'!P305","v":0}]
[215,"Material impreso e información digital",11,{"$f":"'COG-M'!P306","v":0}]
[null,null,12,{"$f":"'COG-M'!P307","v":0}]
[null,null,13,{"$f":"'COG-M'!P308","v":0}]
[null,null,14,{"$f":"'COG-M'!P309","v":0}]
[null,null,15,{"$f":"'COG-M'!P310","v":0}]
[null,null,16,{"$f":"'COG-M'!P311","v":0}]
[null,null,17,{"$f":"'COG-M'!P312","v":0}]
[null,null,25,{"$f":"'COG-M'!P313","v":0}]
[null,null,26,{"$f":"'COG-M'!P314","v":0}]
[null,null,27,{"$f":"'COG-M'!P315","v":0}]
[216,"Material de limpieza",11,{"$f":"'COG-M'!P316","v":0}]
[null,null,12,{"$f":"'COG-M'!P317","v":0}]
[null,null,13,{"$f":"'COG-M'!P318","v":0}]
[null,null,14,{"$f":"'COG-M'!P319","v":0}]
[null,null,15,{"$f":"'COG-M'!P320","v":0}]
[null,null,16,{"$f":"'COG-M'!P321","v":0}]
[null,null,17,{"$f":"'COG-M'!P322","v":0}]
[null,null,25,{"$f":"'COG-M'!P323","v":0}]
[null,null,26,{"$f":"'COG-M'!P324","v":0}]
[null,null,27,{"$f":"'COG-M'!P325","v":0}]
[217,"Materiales y útiles de enseñanza",11,{"$f":"'COG-M'!P326","v":0}]
[null,null,12,{"$f":"'COG-M'!P327","v":0}]
[null,null,13,{"$f":"'COG-M'!P328","v":0}]
[null,null,14,{"$f":"'COG-M'!P329","v":0}]
[null,null,15,{"$f":"'COG-M'!P330","v":0}]
[null,null,16,{"$f":"'COG-M'!P331","v":0}]
[null,null,17,{"$f":"'COG-M'!P332","v":0}]
[null,null,25,{"$f":"'COG-M'!P333","v":0}]
[null,null,26,{"$f":"'COG-M'!P334","v":0}]
[null,null,27,{"$f":"'COG-M'!P335","v":0}]
[218,"Materiales para el registro e identificación de bienes y personas",11,{"$f":"'COG-M'!P336","v":0}]
[null,null,12,{"$f":"'COG-M'!P337","v":0}]
[null,null,13,{"$f":"'COG-M'!P338","v":0}]
[null,null,14,{"$f":"'COG-M'!P339","v":0}]
[null,null,15,{"$f":"'COG-M'!P340","v":0}]
[null,null,16,{"$f":"'COG-M'!P341","v":0}]
[null,null,17,{"$f":"'COG-M'!P342","v":0}]
[null,null,25,{"$f":"'COG-M'!P343","v":0}]
[null,null,26,{"$f":"'COG-M'!P344","v":0}]
[null,null,27,{"$f":"'COG-M'!P345","v":0}]
[2200,"ALIMENTOS Y UTENSILIOS",null,{"$f":"'COG-M'!P346","v":0}]
[221,"Productos alimenticios para personas",11,{"$f":"'COG-M'!P347","v":0}]
[null,null,12,{"$f":"'COG-M'!P348","v":0}]
[null,null,13,{"$f":"'COG-M'!P349","v":0}]
[null,null,14,{"$f":"'COG-M'!P350","v":0}]
[null,null,15,{"$f":"'COG-M'!P351","v":0}]
[null,null,16,{"$f":"'COG-M'!P352","v":0}]
[null,null,17,{"$f":"'COG-M'!P353","v":0}]
[null,null,25,{"$f":"'COG-M'!P354","v":0}]
[null,null,26,{"$f":"'COG-M'!P355","v":0}]
[null,null,27,{"$f":"'COG-M'!P356","v":0}]
[222,"Productos alimenticios para animales",11,{"$f":"'COG-M'!P357","v":0}]
[null,null,12,{"$f":"'COG-M'!P358","v":0}]
[null,null,13,{"$f":"'COG-M'!P359","v":0}]
[null,null,14,{"$f":"'COG-M'!P360","v":0}]
[null,null,15,{"$f":"'COG-M'!P361","v":0}]
[null,null,16,{"$f":"'COG-M'!P362","v":0}]
[null,null,17,{"$f":"'COG-M'!P363","v":0}]
[null,null,25,{"$f":"'COG-M'!P364","v":0}]
[null,null,26,{"$f":"'COG-M'!P365","v":0}]
[null,null,27,{"$f":"'COG-M'!P366","v":0}]
[223,"Utensilios para el servicio de alimentación",11,{"$f":"'COG-M'!P367","v":0}]
[null,null,12,{"$f":"'COG-M'!P368","v":0}]
[null,null,13,{"$f":"'COG-M'!P369","v":0}]
[null,null,14,{"$f":"'COG-M'!P370","v":0}]
[null,null,15,{"$f":"'COG-M'!P371","v":0}]
[null,null,16,{"$f":"'COG-M'!P372","v":0}]
[null,null,17,{"$f":"'COG-M'!P373","v":0}]
[null,null,25,{"$f":"'COG-M'!P374","v":0}]
[null,null,26,{"$f":"'COG-M'!P375","v":0}]
[null,null,27,{"$f":"'COG-M'!P376","v":0}]
[2300,"MATERIAS PRIMAS Y MATERIALES DE PRODUCCIÓN Y COMERCIALIZACIÓN",null,{"$f":"'COG-M'!P377","v":0}]
[231,"Productos alimenticios, agropecuarios y forestales adquiridos como materia prima",null,{"$f":"'COG-M'!P378","v":0}]
[232,"Insumos textiles adquiridos como materia prima",null,{"$f":"'COG-M'!P379","v":0}]
[233,"Productos de papel, cartón e impresos adquiridos como materia prima",null,{"$f":"'COG-M'!P380","v":0}]
[234,"Combustibles, lubricantes, aditivos, carbón y sus derivados adquiridos como materia prima",null,{"$f":"'COG-M'!P381","v":0}]
[235,"Productos químicos, farmacéuticos y de laboratorio adquiridos como materia prima",null,{"$f":"'COG-M'!P382","v":0}]
[236,"Productos metálicos y a base de minerales no metálicos adquiridos como materia prima",null,{"$f":"'COG-M'!P383","v":0}]
[237,"Productos de cuero, piel, plástico y hule adquiridos como materia prima",null,{"$f":"'COG-M'!P384","v":0}]
[238,"Mercancías adquiridas para su comercialización",null,{"$f":"'COG-M'!P385","v":0}]
[239,"Otros productos adquiridos como materia prima",null,{"$f":"'COG-M'!P386","v":0}]
[2400,"MATERIALES Y ARTÍCULOS DE CONSTRUCCIÓN Y DE REPARACIÓN",null,{"$f":"'COG-M'!P387","v":0}]
[241,"Productos minerales no metálicos",11,{"$f":"'COG-M'!P388","v":0}]
[null,null,12,{"$f":"'COG-M'!P389","v":0}]
[null,null,13,{"$f":"'COG-M'!P390","v":0}]
[null,null,14,{"$f":"'COG-M'!P391","v":0}]
[null,null,15,{"$f":"'COG-M'!P392","v":0}]
[null,null,16,{"$f":"'COG-M'!P393","v":0}]
[null,null,17,{"$f":"'COG-M'!P394","v":0}]
[null,null,25,{"$f":"'COG-M'!P395","v":0}]
[null,null,26,{"$f":"'COG-M'!P396","v":0}]
[null,null,27,{"$f":"'COG-M'!P397","v":0}]
[242,"Cemento y productos de concreto",11,{"$f":"'COG-M'!P398","v":0}]
[null,null,12,{"$f":"'COG-M'!P399","v":0}]
[null,null,13,{"$f":"'COG-M'!P400","v":0}]
[null,null,14,{"$f":"'COG-M'!P401","v":0}]
[null,null,15,{"$f":"'COG-M'!P402","v":0}]
[null,null,16,{"$f":"'COG-M'!P403","v":0}]
[null,null,17,{"$f":"'COG-M'!P404","v":0}]
[null,null,25,{"$f":"'COG-M'!P405","v":0}]
[null,null,26,{"$f":"'COG-M'!P406","v":0}]
[null,null,27,{"$f":"'COG-M'!P407","v":0}]
[243,"Cal, yeso y productos de yeso",11,{"$f":"'COG-M'!P408","v":0}]
[null,null,12,{"$f":"'COG-M'!P409","v":0}]
[null,null,13,{"$f":"'COG-M'!P410","v":0}]
[null,null,14,{"$f":"'COG-M'!P411","v":0}]
[null,null,15,{"$f":"'COG-M'!P412","v":0}]
[null,null,16,{"$f":"'COG-M'!P413","v":0}]
[null,null,17,{"$f":"'COG-M'!P414","v":0}]
[null,null,25,{"$f":"'COG-M'!P415","v":0}]
[null,null,26,{"$f":"'COG-M'!P416","v":0}]
[null,null,27,{"$f":"'COG-M'!P417","v":0}]
[244,"Madera y productos de madera",11,{"$f":"'COG-M'!P418","v":0}]
[null,null,12,{"$f":"'COG-M'!P419","v":0}]
[null,null,13,{"$f":"'COG-M'!P420","v":0}]
[null,null,14,{"$f":"'COG-M'!P421","v":0}]
[null,null,15,{"$f":"'COG-M'!P422","v":0}]
[null,null,16,{"$f":"'COG-M'!P423","v":0}]
[null,null,17,{"$f":"'COG-M'!P424","v":0}]
[null,null,25,{"$f":"'COG-M'!P425","v":0}]
[null,null,26,{"$f":"'COG-M'!P426","v":0}]
[null,null,27,{"$f":"'COG-M'!P427","v":0}]
[245,"Vidrio y productos de vidrio",11,{"$f":"'COG-M'!P428","v":0}]
[null,null,12,{"$f":"'COG-M'!P429","v":0}]
[null,null,13,{"$f":"'COG-M'!P430","v":0}]
[null,null,14,{"$f":"'COG-M'!P431","v":0}]
[null,null,15,{"$f":"'COG-M'!P432","v":0}]
[null,null,16,{"$f":"'COG-M'!P433","v":0}]
[null,null,17,{"$f":"'COG-M'!P434","v":0}]
[null,null,25,{"$f":"'COG-M'!P435","v":0}]
[null,null,26,{"$f":"'COG-M'!P436","v":0}]
[null,null,27,{"$f":"'COG-M'!P437","v":0}]
[246,"Material eléctrico y electrónico",11,{"$f":"'COG-M'!P438","v":0}]
[null,null,12,{"$f":"'COG-M'!P439","v":0}]
[null,null,13,{"$f":"'COG-M'!P440","v":0}]
[null,null,14,{"$f":"'COG-M'!P441","v":0}]
[null,null,15,{"$f":"'COG-M'!P442","v":0}]
[null,null,16,{"$f":"'COG-M'!P443","v":0}]
[null,null,17,{"$f":"'COG-M'!P444","v":0}]
[null,null,25,{"$f":"'COG-M'!P445","v":0}]
[null,null,26,{"$f":"'COG-M'!P446","v":0}]
[null,null,27,{"$f":"'COG-M'!P447","v":0}]
[247,"Artículos metálicos para la construcción",11,{"$f":"'COG-M'!P448","v":0}]
[null,null,12,{"$f":"'COG-M'!P449","v":0}]
[null,null,13,{"$f":"'COG-M'!P450","v":0}]
[null,null,14,{"$f":"'COG-M'!P451","v":0}]
[null,null,15,{"$f":"'COG-M'!P452","v":0}]
[null,null,16,{"$f":"'COG-M'!P453","v":0}]
[null,null,17,{"$f":"'COG-M'!P454","v":0}]
[null,null,25,{"$f":"'COG-M'!P455","v":0}]
[null,null,26,{"$f":"'COG-M'!P456","v":0}]
[null,null,27,{"$f":"'COG-M'!P457","v":0}]
[248,"Materiales complementarios",11,{"$f":"'COG-M'!P458","v":0}]
[null,null,12,{"$f":"'COG-M'!P459","v":0}]
[null,null,13,{"$f":"'COG-M'!P460","v":0}]
[null,null,14,{"$f":"'COG-M'!P461","v":0}]
[null,null,15,{"$f":"'COG-M'!P462","v":0}]
[null,null,16,{"$f":"'COG-M'!P463","v":0}]
[null,null,17,{"$f":"'COG-M'!P464","v":0}]
[null,null,25,{"$f":"'COG-M'!P465","v":0}]
[null,null,26,{"$f":"'COG-M'!P466","v":0}]
[null,null,27,{"$f":"'COG-M'!P467","v":0}]
[249,"Otros materiales y artículos de construcción y reparación",11,{"$f":"'COG-M'!P468","v":0}]
[null,null,12,{"$f":"'COG-M'!P469","v":0}]
[null,null,13,{"$f":"'COG-M'!P470","v":0}]
[null,null,14,{"$f":"'COG-M'!P471","v":0}]
[null,null,15,{"$f":"'COG-M'!P472","v":0}]
[null,null,16,{"$f":"'COG-M'!P473","v":0}]
[null,null,17,{"$f":"'COG-M'!P474","v":0}]
[null,null,25,{"$f":"'COG-M'!P475","v":0}]
[null,null,26,{"$f":"'COG-M'!P476","v":0}]
[null,null,27,{"$f":"'COG-M'!P477","v":0}]
[2500,"PRODUCTOS QUÍMICOS, FARMACÉUTICOS Y DE LABORATORIO",null,{"$f":"'COG-M'!P478","v":0}]
[251,"Productos químicos básicos",11,{"$f":"'COG-M'!P479","v":0}]
[null,null,12,{"$f":"'COG-M'!P480","v":0}]
[null,null,13,{"$f":"'COG-M'!P481","v":0}]
[null,null,14,{"$f":"'COG-M'!P482","v":0}]
[null,null,15,{"$f":"'COG-M'!P483","v":0}]
[null,null,16,{"$f":"'COG-M'!P484","v":0}]
[null,null,17,{"$f":"'COG-M'!P485","v":0}]
[null,null,25,{"$f":"'COG-M'!P486","v":0}]
[null,null,26,{"$f":"'COG-M'!P487","v":0}]
[null,null,27,{"$f":"'COG-M'!P488","v":0}]
[252,"Fertilizantes, pesticidas y otros agroquímicos",11,{"$f":"'COG-M'!P489","v":0}]
[null,null,12,{"$f":"'COG-M'!P490","v":0}]
[null,null,13,{"$f":"'COG-M'!P491","v":0}]
[null,null,14,{"$f":"'COG-M'!P492","v":0}]
[null,null,15,{"$f":"'COG-M'!P493","v":0}]
[null,null,16,{"$f":"'COG-M'!P494","v":0}]
[null,null,17,{"$f":"'COG-M'!P495","v":0}]
[null,null,25,{"$f":"'COG-M'!P496","v":0}]
[null,null,26,{"$f":"'COG-M'!P497","v":0}]
[null,null,27,{"$f":"'COG-M'!P498","v":0}]
[253,"Medicinas y productos farmacéuticos",11,{"$f":"'COG-M'!P499","v":0}]
[null,null,12,{"$f":"'COG-M'!P500","v":0}]
[null,null,13,{"$f":"'COG-M'!P501","v":0}]
[null,null,14,{"$f":"'COG-M'!P502","v":0}]
[null,null,15,{"$f":"'COG-M'!P503","v":0}]
[null,null,16,{"$f":"'COG-M'!P504","v":0}]
[null,null,17,{"$f":"'COG-M'!P505","v":0}]
[null,null,25,{"$f":"'COG-M'!P506","v":0}]
[null,null,26,{"$f":"'COG-M'!P507","v":0}]
[null,null,27,{"$f":"'COG-M'!P508","v":0}]
[254,"Materiales, accesorios y suministros médicos",11,{"$f":"'COG-M'!P509","v":0}]
[null,null,12,{"$f":"'COG-M'!P510","v":0}]
[null,null,13,{"$f":"'COG-M'!P511","v":0}]
[null,null,14,{"$f":"'COG-M'!P512","v":0}]
[null,null,15,{"$f":"'COG-M'!P513","v":0}]
[null,null,16,{"$f":"'COG-M'!P514","v":0}]
[null,null,17,{"$f":"'COG-M'!P515","v":0}]
[null,null,25,{"$f":"'COG-M'!P516","v":0}]
[null,null,26,{"$f":"'COG-M'!P517","v":0}]
[null,null,27,{"$f":"'COG-M'!P518","v":0}]
[255,"Materiales, accesorios y suministros de laboratorio",11,{"$f":"'COG-M'!P519","v":0}]
[null,null,12,{"$f":"'COG-M'!P520","v":0}]
[null,null,13,{"$f":"'COG-M'!P521","v":0}]
[null,null,14,{"$f":"'COG-M'!P522","v":0}]
[null,null,15,{"$f":"'COG-M'!P523","v":0}]
[null,null,16,{"$f":"'COG-M'!P524","v":0}]
[null,null,17,{"$f":"'COG-M'!P525","v":0}]
[null,null,25,{"$f":"'COG-M'!P526","v":0}]
[null,null,26,{"$f":"'COG-M'!P527","v":0}]
[null,null,27,{"$f":"'COG-M'!P528","v":0}]
[256,"Fibras sintéticas, hules plásticos y derivados",11,{"$f":"'COG-M'!P529","v":0}]
[null,null,12,{"$f":"'COG-M'!P530","v":0}]
[null,null,13,{"$f":"'COG-M'!P531","v":0}]
[null,null,14,{"$f":"'COG-M'!P532","v":0}]
[null,null,15,{"$f":"'COG-M'!P533","v":0}]
[null,null,16,{"$f":"'COG-M'!P534","v":0}]
[null,null,17,{"$f":"'COG-M'!P535","v":0}]
[null,null,25,{"$f":"'COG-M'!P536","v":0}]
[null,null,26,{"$f":"'COG-M'!P537","v":0}]
[null,null,27,{"$f":"'COG-M'!P538","v":0}]
[259,"Otros productos químicos",11,{"$f":"'COG-M'!P539","v":0}]
[null,null,12,{"$f":"'COG-M'!P540","v":0}]
[null,null,13,{"$f":"'COG-M'!P541","v":0}]
[null,null,14,{"$f":"'COG-M'!P542","v":0}]
[null,null,15,{"$f":"'COG-M'!P543","v":0}]
[null,null,16,{"$f":"'COG-M'!P544","v":0}]
[null,null,17,{"$f":"'COG-M'!P545","v":0}]
[null,null,25,{"$f":"'COG-M'!P546","v":0}]
[null,null,26,{"$f":"'COG-M'!P547","v":0}]
[null,null,27,{"$f":"'COG-M'!P548","v":0}]
[2600,"COMBUSTIBLES, LUBRICANTES Y ADITIVOS",null,{"$f":"'COG-M'!P549","v":0}]
[261,"Combustibles, lubricantes y aditivos",11,{"$f":"'COG-M'!P550","v":0}]
[null,null,12,{"$f":"'COG-M'!P551","v":0}]
[null,null,13,{"$f":"'COG-M'!P552","v":0}]
[null,null,14,{"$f":"'COG-M'!P553","v":0}]
[null,null,15,{"$f":"'COG-M'!P554","v":0}]
[null,null,16,{"$f":"'COG-M'!P555","v":0}]
[null,null,17,{"$f":"'COG-M'!P556","v":0}]
[null,null,25,{"$f":"'COG-M'!P557","v":0}]
[null,null,26,{"$f":"'COG-M'!P558","v":0}]
[null,null,27,{"$f":"'COG-M'!P559","v":0}]
[262,"Carbón y sus derivados",11,{"$f":"'COG-M'!P560","v":0}]
[null,null,12,{"$f":"'COG-M'!P561","v":0}]
[null,null,13,{"$f":"'COG-M'!P562","v":0}]
[null,null,14,{"$f":"'COG-M'!P563","v":0}]
[null,null,15,{"$f":"'COG-M'!P564","v":0}]
[null,null,16,{"$f":"'COG-M'!P565","v":0}]
[null,null,17,{"$f":"'COG-M'!P566","v":0}]
[null,null,25,{"$f":"'COG-M'!P567","v":0}]
[null,null,26,{"$f":"'COG-M'!P568","v":0}]
[null,null,27,{"$f":"'COG-M'!P569","v":0}]
[2700,"VESTUARIO, BLANCOS, PRENDAS DE PROTECCIÓN Y ARTÍCULOS DEPORTIVOS",null,{"$f":"'COG-M'!P570","v":0}]
[271,"Vestuario y uniformes",11,{"$f":"'COG-M'!P571","v":0}]
[null,null,12,{"$f":"'COG-M'!P572","v":0}]
[null,null,13,{"$f":"'COG-M'!P573","v":0}]
[null,null,14,{"$f":"'COG-M'!P574","v":0}]
[null,null,15,{"$f":"'COG-M'!P575","v":0}]
[null,null,16,{"$f":"'COG-M'!P576","v":0}]
[null,null,17,{"$f":"'COG-M'!P577","v":0}]
[null,null,25,{"$f":"'COG-M'!P578","v":0}]
[null,null,26,{"$f":"'COG-M'!P579","v":0}]
[null,null,27,{"$f":"'COG-M'!P580","v":0}]
[272,"Prendas de seguridad y protección personal",11,{"$f":"'COG-M'!P581","v":0}]
[null,null,12,{"$f":"'COG-M'!P582","v":0}]
[null,null,13,{"$f":"'COG-M'!P583","v":0}]
[null,null,14,{"$f":"'COG-M'!P584","v":0}]
[null,null,15,{"$f":"'COG-M'!P585","v":0}]
[null,null,16,{"$f":"'COG-M'!P586","v":0}]
[null,null,17,{"$f":"'COG-M'!P587","v":0}]
[null,null,25,{"$f":"'COG-M'!P588","v":0}]
[null,null,26,{"$f":"'COG-M'!P589","v":0}]
[null,null,27,{"$f":"'COG-M'!P590","v":0}]
[273,"Artículos deportivos",11,{"$f":"'COG-M'!P591","v":0}]
[null,null,12,{"$f":"'COG-M'!P592","v":0}]
[null,null,13,{"$f":"'COG-M'!P593","v":0}]
[null,null,14,{"$f":"'COG-M'!P594","v":0}]
[null,null,15,{"$f":"'COG-M'!P595","v":0}]
[null,null,16,{"$f":"'COG-M'!P596","v":0}]
[null,null,17,{"$f":"'COG-M'!P597","v":0}]
[null,null,25,{"$f":"'COG-M'!P598","v":0}]
[null,null,26,{"$f":"'COG-M'!P599","v":0}]
[null,null,27,{"$f":"'COG-M'!P600","v":0}]
[274,"Productos textiles",11,{"$f":"'COG-M'!P601","v":0}]
[null,null,12,{"$f":"'COG-M'!P602","v":0}]
[null,null,13,{"$f":"'COG-M'!P603","v":0}]
[null,null,14,{"$f":"'COG-M'!P604","v":0}]
[null,null,15,{"$f":"'COG-M'!P605","v":0}]
[null,null,16,{"$f":"'COG-M'!P606","v":0}]
[null,null,17,{"$f":"'COG-M'!P607","v":0}]
[null,null,25,{"$f":"'COG-M'!P608","v":0}]
[null,null,26,{"$f":"'COG-M'!P609","v":0}]
[null,null,27,{"$f":"'COG-M'!P610","v":0}]
[275,"Blancos y otros productos textiles, excepto prendas de vestir",11,{"$f":"'COG-M'!P611","v":0}]
[null,null,12,{"$f":"'COG-M'!P612","v":0}]
[null,null,13,{"$f":"'COG-M'!P613","v":0}]
[null,null,14,{"$f":"'COG-M'!P614","v":0}]
[null,null,15,{"$f":"'COG-M'!P615","v":0}]
[null,null,16,{"$f":"'COG-M'!P616","v":0}]
[null,null,17,{"$f":"'COG-M'!P617","v":0}]
[null,null,25,{"$f":"'COG-M'!P618","v":0}]
[null,null,26,{"$f":"'COG-M'!P619","v":0}]
[null,null,27,{"$f":"'COG-M'!P620","v":0}]
[2800,"MATERIALES Y SUMINISTROS PARA SEGURIDAD",null,{"$f":"'COG-M'!P621","v":0}]
[281,"Sustancias y materiales explosivos",11,{"$f":"'COG-M'!P622","v":0}]
[null,null,12,{"$f":"'COG-M'!P623","v":0}]
[null,null,13,{"$f":"'COG-M'!P624","v":0}]
[null,null,14,{"$f":"'COG-M'!P625","v":0}]
[null,null,15,{"$f":"'COG-M'!P626","v":0}]
[null,null,16,{"$f":"'COG-M'!P627","v":0}]
[null,null,17,{"$f":"'COG-M'!P628","v":0}]
[null,null,25,{"$f":"'COG-M'!P629","v":0}]
[null,null,26,{"$f":"'COG-M'!P630","v":0}]
[null,null,27,{"$f":"'COG-M'!P631","v":0}]
[282,"Materiales de seguridad pública",11,{"$f":"'COG-M'!P632","v":0}]
[null,null,12,{"$f":"'COG-M'!P633","v":0}]
[null,null,13,{"$f":"'COG-M'!P634","v":0}]
[null,null,14,{"$f":"'COG-M'!P635","v":0}]
[null,null,15,{"$f":"'COG-M'!P636","v":0}]
[null,null,16,{"$f":"'COG-M'!P637","v":0}]
[null,null,17,{"$f":"'COG-M'!P638","v":0}]
[null,null,25,{"$f":"'COG-M'!P639","v":0}]
[null,null,26,{"$f":"'COG-M'!P640","v":0}]
[null,null,27,{"$f":"'COG-M'!P641","v":0}]
[283,"Prendas de protección para seguridad pública y nacional",11,{"$f":"'COG-M'!P642","v":0}]
[null,null,12,{"$f":"'COG-M'!P643","v":0}]
[null,null,13,{"$f":"'COG-M'!P644","v":0}]
[null,null,14,{"$f":"'COG-M'!P645","v":0}]
[null,null,15,{"$f":"'COG-M'!P646","v":0}]
[null,null,16,{"$f":"'COG-M'!P647","v":0}]
[null,null,17,{"$f":"'COG-M'!P648","v":0}]
[null,null,25,{"$f":"'COG-M'!P649","v":0}]
[null,null,26,{"$f":"'COG-M'!P650","v":0}]
[null,null,27,{"$f":"'COG-M'!P651","v":0}]
[2900,"HERRAMIENTAS, REFACCIONES Y ACCESORIOS MENORES",null,{"$f":"'COG-M'!P652","v":0}]
[291,"Herramientas menores",11,{"$f":"'COG-M'!P653","v":0}]
[null,null,12,{"$f":"'COG-M'!P654","v":0}]
[null,null,13,{"$f":"'COG-M'!P655","v":0}]
[null,null,14,{"$f":"'COG-M'!P656","v":0}]
[null,null,15,{"$f":"'COG-M'!P657","v":0}]
[null,null,16,{"$f":"'COG-M'!P658","v":0}]
[null,null,17,{"$f":"'COG-M'!P659","v":0}]
[null,null,25,{"$f":"'COG-M'!P660","v":0}]
[null,null,26,{"$f":"'COG-M'!P661","v":0}]
[null,null,27,{"$f":"'COG-M'!P662","v":0}]
[292,"Refacciones y accesorios menores de edificios",11,{"$f":"'COG-M'!P663","v":0}]
[null,null,12,{"$f":"'COG-M'!P664","v":0}]
[null,null,13,{"$f":"'COG-M'!P665","v":0}]
[null,null,14,{"$f":"'COG-M'!P666","v":0}]
[null,null,15,{"$f":"'COG-M'!P667","v":0}]
[null,null,16,{"$f":"'COG-M'!P668","v":0}]
[null,null,17,{"$f":"'COG-M'!P669","v":0}]
[null,null,25,{"$f":"'COG-M'!P670","v":0}]
[null,null,26,{"$f":"'COG-M'!P671","v":0}]
[null,null,27,{"$f":"'COG-M'!P672","v":0}]
[293,"Refacciones y accesorios menores de mobiliario  y equipo de administración, educacional y recreativo",11,{"$f":"'COG-M'!P673","v":0}]
[null,null,12,{"$f":"'COG-M'!P674","v":0}]
[null,null,13,{"$f":"'COG-M'!P675","v":0}]
[null,null,14,{"$f":"'COG-M'!P676","v":0}]
[null,null,15,{"$f":"'COG-M'!P677","v":0}]
[null,null,16,{"$f":"'COG-M'!P678","v":0}]
[null,null,17,{"$f":"'COG-M'!P679","v":0}]
[null,null,25,{"$f":"'COG-M'!P680","v":0}]
[null,null,26,{"$f":"'COG-M'!P681","v":0}]
[null,null,27,{"$f":"'COG-M'!P682","v":0}]
[294,"Refacciones y accesorios menores de equipo de cómputo y tecnologías de la información",11,{"$f":"'COG-M'!P683","v":0}]
[null,null,12,{"$f":"'COG-M'!P684","v":0}]
[null,null,13,{"$f":"'COG-M'!P685","v":0}]
[null,null,14,{"$f":"'COG-M'!P686","v":0}]
[null,null,15,{"$f":"'COG-M'!P687","v":0}]
[null,null,16,{"$f":"'COG-M'!P688","v":0}]
[null,null,17,{"$f":"'COG-M'!P689","v":0}]
[null,null,25,{"$f":"'COG-M'!P690","v":0}]
[null,null,26,{"$f":"'COG-M'!P691","v":0}]
[null,null,27,{"$f":"'COG-M'!P692","v":0}]
[295,"Refacciones y accesorios menores de equipo e instrumental médico y de laboratorio",11,{"$f":"'COG-M'!P693","v":0}]
[null,null,12,{"$f":"'COG-M'!P694","v":0}]
[null,null,13,{"$f":"'COG-M'!P695","v":0}]
[null,null,14,{"$f":"'COG-M'!P696","v":0}]
[null,null,15,{"$f":"'COG-M'!P697","v":0}]
[null,null,16,{"$f":"'COG-M'!P698","v":0}]
[null,null,17,{"$f":"'COG-M'!P699","v":0}]
[null,null,25,{"$f":"'COG-M'!P700","v":0}]
[null,null,26,{"$f":"'COG-M'!P701","v":0}]
[null,null,27,{"$f":"'COG-M'!P702","v":0}]
[296,"Refacciones y accesorios menores de equipo de transporte",11,{"$f":"'COG-M'!P703","v":0}]
[null,null,12,{"$f":"'COG-M'!P704","v":0}]
[null,null,13,{"$f":"'COG-M'!P705","v":0}]
[null,null,14,{"$f":"'COG-M'!P706","v":0}]
[null,null,15,{"$f":"'COG-M'!P707","v":0}]
[null,null,16,{"$f":"'COG-M'!P708","v":0}]
[null,null,17,{"$f":"'COG-M'!P709","v":0}]
[null,null,25,{"$f":"'COG-M'!P710","v":0}]
[null,null,26,{"$f":"'COG-M'!P711","v":0}]
[null,null,27,{"$f":"'COG-M'!P712","v":0}]
[297,"Refacciones y accesorios menores de equipo de defensa y seguridad",11,{"$f":"'COG-M'!P713","v":0}]
[null,null,12,{"$f":"'COG-M'!P714","v":0}]
[null,null,13,{"$f":"'COG-M'!P715","v":0}]
[null,null,14,{"$f":"'COG-M'!P716","v":0}]
[null,null,15,{"$f":"'COG-M'!P717","v":0}]
[null,null,16,{"$f":"'COG-M'!P718","v":0}]
[null,null,17,{"$f":"'COG-M'!P719","v":0}]
[null,null,25,{"$f":"'COG-M'!P720","v":0}]
[null,null,26,{"$f":"'COG-M'!P721","v":0}]
[null,null,27,{"$f":"'COG-M'!P722","v":0}]
[298,"Refacciones y accesorios menores de maquinaria y otros equipos",11,{"$f":"'COG-M'!P723","v":0}]
[null,null,12,{"$f":"'COG-M'!P724","v":0}]
[null,null,13,{"$f":"'COG-M'!P725","v":0}]
[null,null,14,{"$f":"'COG-M'!P726","v":0}]
[null,null,15,{"$f":"'COG-M'!P727","v":0}]
[null,null,16,{"$f":"'COG-M'!P728","v":0}]
[null,null,17,{"$f":"'COG-M'!P729","v":0}]
[null,null,25,{"$f":"'COG-M'!P730","v":0}]
[null,null,26,{"$f":"'COG-M'!P731","v":0}]
[null,null,27,{"$f":"'COG-M'!P732","v":0}]
[299,"Refacciones y accesorios menores otros bienes muebles",11,{"$f":"'COG-M'!P733","v":0}]
[null,null,12,{"$f":"'COG-M'!P734","v":0}]
[null,null,13,{"$f":"'COG-M'!P735","v":0}]
[null,null,14,{"$f":"'COG-M'!P736","v":0}]
[null,null,15,{"$f":"'COG-M'!P737","v":0}]
[null,null,16,{"$f":"'COG-M'!P738","v":0}]
[null,null,17,{"$f":"'COG-M'!P739","v":0}]
[null,null,25,{"$f":"'COG-M'!P740","v":0}]
[null,null,26,{"$f":"'COG-M'!P741","v":0}]
[null,null,27,{"$f":"'COG-M'!P742","v":0}]
[3000,"SERVICIOS GENERALES",null,{"$f":"'COG-M'!P743","v":0}]
[3100,"SERVICIOS BÁSICOS",null,{"$f":"'COG-M'!P744","v":0}]
[311,"Energía eléctrica",11,{"$f":"'COG-M'!P745","v":0}]
[null,null,12,{"$f":"'COG-M'!P746","v":0}]
[null,null,13,{"$f":"'COG-M'!P747","v":0}]
[null,null,14,{"$f":"'COG-M'!P748","v":0}]
[null,null,15,{"$f":"'COG-M'!P749","v":0}]
[null,null,16,{"$f":"'COG-M'!P750","v":0}]
[null,null,17,{"$f":"'COG-M'!P751","v":0}]
[null,null,25,{"$f":"'COG-M'!P752","v":0}]
[null,null,26,{"$f":"'COG-M'!P753","v":0}]
[null,null,27,{"$f":"'COG-M'!P754","v":0}]
[312,"Gas ",11,{"$f":"'COG-M'!P755","v":0}]
[null,null,12,{"$f":"'COG-M'!P756","v":0}]
[null,null,13,{"$f":"'COG-M'!P757","v":0}]
[null,null,14,{"$f":"'COG-M'!P758","v":0}]
[null,null,15,{"$f":"'COG-M'!P759","v":0}]
[null,null,16,{"$f":"'COG-M'!P760","v":0}]
[null,null,17,{"$f":"'COG-M'!P761","v":0}]
[null,null,25,{"$f":"'COG-M'!P762","v":0}]
[null,null,26,{"$f":"'COG-M'!P763","v":0}]
[null,null,27,{"$f":"'COG-M'!P764","v":0}]
[313,"Agua",11,{"$f":"'COG-M'!P765","v":0}]
[null,null,12,{"$f":"'COG-M'!P766","v":0}]
[null,null,13,{"$f":"'COG-M'!P767","v":0}]
[null,null,14,{"$f":"'COG-M'!P768","v":0}]
[null,null,15,{"$f":"'COG-M'!P769","v":0}]
[null,null,16,{"$f":"'COG-M'!P770","v":0}]
[null,null,17,{"$f":"'COG-M'!P771","v":0}]
[null,null,25,{"$f":"'COG-M'!P772","v":0}]
[null,null,26,{"$f":"'COG-M'!P773","v":0}]
[null,null,27,{"$f":"'COG-M'!P774","v":0}]
[314,"Telefonía tradicional",11,{"$f":"'COG-M'!P775","v":0}]
[null,null,12,{"$f":"'COG-M'!P776","v":0}]
[null,null,13,{"$f":"'COG-M'!P777","v":0}]
[null,null,14,{"$f":"'COG-M'!P778","v":0}]
[null,null,15,{"$f":"'COG-M'!P779","v":0}]
[null,null,16,{"$f":"'COG-M'!P780","v":0}]
[null,null,17,{"$f":"'COG-M'!P781","v":0}]
[null,null,25,{"$f":"'COG-M'!P782","v":0}]
[null,null,26,{"$f":"'COG-M'!P783","v":0}]
[null,null,27,{"$f":"'COG-M'!P784","v":0}]
[315,"Telefonía celular",11,{"$f":"'COG-M'!P785","v":0}]
[null,null,12,{"$f":"'COG-M'!P786","v":0}]
[null,null,13,{"$f":"'COG-M'!P787","v":0}]
[null,null,14,{"$f":"'COG-M'!P788","v":0}]
[null,null,15,{"$f":"'COG-M'!P789","v":0}]
[null,null,16,{"$f":"'COG-M'!P790","v":0}]
[null,null,17,{"$f":"'COG-M'!P791","v":0}]
[null,null,25,{"$f":"'COG-M'!P792","v":0}]
[null,null,26,{"$f":"'COG-M'!P793","v":0}]
[null,null,27,{"$f":"'COG-M'!P794","v":0}]
[316,"Servicios de telecomunicaciones y satélites",11,{"$f":"'COG-M'!P795","v":0}]
[null,null,12,{"$f":"'COG-M'!P796","v":0}]
[null,null,13,{"$f":"'COG-M'!P797","v":0}]
[null,null,14,{"$f":"'COG-M'!P798","v":0}]
[null,null,15,{"$f":"'COG-M'!P799","v":0}]
[null,null,16,{"$f":"'COG-M'!P800","v":0}]
[null,null,17,{"$f":"'COG-M'!P801","v":0}]
[null,null,25,{"$f":"'COG-M'!P802","v":0}]
[null,null,26,{"$f":"'COG-M'!P803","v":0}]
[null,null,27,{"$f":"'COG-M'!P804","v":0}]
[317,"Servicios de acceso de Internet, redes y procesamiento de información",11,{"$f":"'COG-M'!P805","v":0}]
[null,null,12,{"$f":"'COG-M'!P806","v":0}]
[null,null,13,{"$f":"'COG-M'!P807","v":0}]
[null,null,14,{"$f":"'COG-M'!P808","v":0}]
[null,null,15,{"$f":"'COG-M'!P809","v":0}]
[null,null,16,{"$f":"'COG-M'!P810","v":0}]
[null,null,17,{"$f":"'COG-M'!P811","v":0}]
[null,null,25,{"$f":"'COG-M'!P812","v":0}]
[null,null,26,{"$f":"'COG-M'!P813","v":0}]
[null,null,27,{"$f":"'COG-M'!P814","v":0}]
[318,"Servicios postales y telegráficos",11,{"$f":"'COG-M'!P815","v":0}]
[null,null,12,{"$f":"'COG-M'!P816","v":0}]
[null,null,13,{"$f":"'COG-M'!P817","v":0}]
[null,null,14,{"$f":"'COG-M'!P818","v":0}]
[null,null,15,{"$f":"'COG-M'!P819","v":0}]
[null,null,16,{"$f":"'COG-M'!P820","v":0}]
[null,null,17,{"$f":"'COG-M'!P821","v":0}]
[null,null,25,{"$f":"'COG-M'!P822","v":0}]
[null,null,26,{"$f":"'COG-M'!P823","v":0}]
[null,null,27,{"$f":"'COG-M'!P824","v":0}]
[319,"Servicios integrales y otros servicios",11,{"$f":"'COG-M'!P825","v":0}]
[null,null,12,{"$f":"'COG-M'!P826","v":0}]
[null,null,13,{"$f":"'COG-M'!P827","v":0}]
[null,null,14,{"$f":"'COG-M'!P828","v":0}]
[null,null,15,{"$f":"'COG-M'!P829","v":0}]
[null,null,16,{"$f":"'COG-M'!P830","v":0}]
[null,null,17,{"$f":"'COG-M'!P831","v":0}]
[null,null,25,{"$f":"'COG-M'!P832","v":0}]
[null,null,26,{"$f":"'COG-M'!P833","v":0}]
[null,null,27,{"$f":"'COG-M'!P834","v":0}]
[3200,"SERVICIOS DE ARRENDAMIENTO",null,{"$f":"'COG-M'!P835","v":0}]
[321,"Arrendamiento de terrenos",11,{"$f":"'COG-M'!P836","v":0}]
[null,null,12,{"$f":"'COG-M'!P837","v":0}]
[null,null,13,{"$f":"'COG-M'!P838","v":0}]
[null,null,14,{"$f":"'COG-M'!P839","v":0}]
[null,null,15,{"$f":"'COG-M'!P840","v":0}]
[null,null,16,{"$f":"'COG-M'!P841","v":0}]
[null,null,17,{"$f":"'COG-M'!P842","v":0}]
[null,null,25,{"$f":"'COG-M'!P843","v":0}]
[null,null,26,{"$f":"'COG-M'!P844","v":0}]
[null,null,27,{"$f":"'COG-M'!P845","v":0}]
[322,"Arrendamiento de edificios",11,{"$f":"'COG-M'!P846","v":0}]
[null,null,12,{"$f":"'COG-M'!P847","v":0}]
[null,null,13,{"$f":"'COG-M'!P848","v":0}]
[null,null,14,{"$f":"'COG-M'!P849","v":0}]
[null,null,15,{"$f":"'COG-M'!P850","v":0}]
[null,null,16,{"$f":"'COG-M'!P851","v":0}]
[null,null,17,{"$f":"'COG-M'!P852","v":0}]
[null,null,25,{"$f":"'COG-M'!P853","v":0}]
[null,null,26,{"$f":"'COG-M'!P854","v":0}]
[null,null,27,{"$f":"'COG-M'!P855","v":0}]
[323,"Arrendamiento de mobiliario y equipo de administración, educacional y recreativo",11,{"$f":"'COG-M'!P856","v":0}]
[null,null,12,{"$f":"'COG-M'!P857","v":0}]
[null,null,13,{"$f":"'COG-M'!P858","v":0}]
[null,null,14,{"$f":"'COG-M'!P859","v":0}]
[null,null,15,{"$f":"'COG-M'!P860","v":0}]
[null,null,16,{"$f":"'COG-M'!P861","v":0}]
[null,null,17,{"$f":"'COG-M'!P862","v":0}]
[null,null,25,{"$f":"'COG-M'!P863","v":0}]
[null,null,26,{"$f":"'COG-M'!P864","v":0}]
[null,null,27,{"$f":"'COG-M'!P865","v":0}]
[324,"Arrendamiento de equipo e instrumental médico y de laboratorio",11,{"$f":"'COG-M'!P866","v":0}]
[null,null,12,{"$f":"'COG-M'!P867","v":0}]
[null,null,13,{"$f":"'COG-M'!P868","v":0}]
[null,null,14,{"$f":"'COG-M'!P869","v":0}]
[null,null,15,{"$f":"'COG-M'!P870","v":0}]
[null,null,16,{"$f":"'COG-M'!P871","v":0}]
[null,null,17,{"$f":"'COG-M'!P872","v":0}]
[null,null,25,{"$f":"'COG-M'!P873","v":0}]
[null,null,26,{"$f":"'COG-M'!P874","v":0}]
[null,null,27,{"$f":"'COG-M'!P875","v":0}]
[325,"Arrendamiento de equipo de transporte",11,{"$f":"'COG-M'!P876","v":0}]
[null,null,12,{"$f":"'COG-M'!P877","v":0}]
[null,null,13,{"$f":"'COG-M'!P878","v":0}]
[null,null,14,{"$f":"'COG-M'!P879","v":0}]
[null,null,15,{"$f":"'COG-M'!P880","v":0}]
[null,null,16,{"$f":"'COG-M'!P881","v":0}]
[null,null,17,{"$f":"'COG-M'!P882","v":0}]
[null,null,25,{"$f":"'COG-M'!P883","v":0}]
[null,null,26,{"$f":"'COG-M'!P884","v":0}]
[null,null,27,{"$f":"'COG-M'!P885","v":0}]
[326,"Arrendamiento de maquinaria, otros equipos y herramientas",11,{"$f":"'COG-M'!P886","v":0}]
[null,null,12,{"$f":"'COG-M'!P887","v":0}]
[null,null,13,{"$f":"'COG-M'!P888","v":0}]
[null,null,14,{"$f":"'COG-M'!P889","v":0}]
[null,null,15,{"$f":"'COG-M'!P890","v":0}]
[null,null,16,{"$f":"'COG-M'!P891","v":0}]
[null,null,17,{"$f":"'COG-M'!P892","v":0}]
[null,null,25,{"$f":"'COG-M'!P893","v":0}]
[null,null,26,{"$f":"'COG-M'!P894","v":0}]
[null,null,27,{"$f":"'COG-M'!P895","v":0}]
[327,"Arrendamiento de activos intangibles",11,{"$f":"'COG-M'!P896","v":0}]
[null,null,12,{"$f":"'COG-M'!P897","v":0}]
[null,null,13,{"$f":"'COG-M'!P898","v":0}]
[null,null,14,{"$f":"'COG-M'!P899","v":0}]
[null,null,15,{"$f":"'COG-M'!P900","v":0}]
[null,null,16,{"$f":"'COG-M'!P901","v":0}]
[null,null,17,{"$f":"'COG-M'!P902","v":0}]
[null,null,25,{"$f":"'COG-M'!P903","v":0}]
[null,null,26,{"$f":"'COG-M'!P904","v":0}]
[null,null,27,{"$f":"'COG-M'!P905","v":0}]
[328,"Arrendamiento financiero",11,{"$f":"'COG-M'!P906","v":0}]
[null,null,12,{"$f":"'COG-M'!P907","v":0}]
[null,null,13,{"$f":"'COG-M'!P908","v":0}]
[null,null,14,{"$f":"'COG-M'!P909","v":0}]
[null,null,15,{"$f":"'COG-M'!P910","v":0}]
[null,null,16,{"$f":"'COG-M'!P911","v":0}]
[null,null,17,{"$f":"'COG-M'!P912","v":0}]
[null,null,25,{"$f":"'COG-M'!P913","v":0}]
[null,null,26,{"$f":"'COG-M'!P914","v":0}]
[null,null,27,{"$f":"'COG-M'!P915","v":0}]
[329,"Otros arrendamientos",11,{"$f":"'COG-M'!P916","v":0}]
[null,null,12,{"$f":"'COG-M'!P917","v":0}]
[null,null,13,{"$f":"'COG-M'!P918","v":0}]
[null,null,14,{"$f":"'COG-M'!P919","v":0}]
[null,null,15,{"$f":"'COG-M'!P920","v":0}]
[null,null,16,{"$f":"'COG-M'!P921","v":0}]
[null,null,17,{"$f":"'COG-M'!P922","v":0}]
[null,null,25,{"$f":"'COG-M'!P923","v":0}]
[null,null,26,{"$f":"'COG-M'!P924","v":0}]
[null,null,27,{"$f":"'COG-M'!P925","v":0}]
[3300,"SERVICIOS PROFESIONALES, CIENTÍFICOS, TÉCNICOS Y OTROS SERVICIOS",null,{"$f":"'COG-M'!P926","v":0}]
[331,"Servicios legales, de contabilidad, auditoría y relacionados",11,{"$f":"'COG-M'!P927","v":0}]
[null,null,12,{"$f":"'COG-M'!P928","v":0}]
[null,null,13,{"$f":"'COG-M'!P929","v":0}]
[null,null,14,{"$f":"'COG-M'!P930","v":0}]
[null,null,15,{"$f":"'COG-M'!P931","v":0}]
[null,null,16,{"$f":"'COG-M'!P932","v":0}]
[null,null,17,{"$f":"'COG-M'!P933","v":0}]
[null,null,25,{"$f":"'COG-M'!P934","v":0}]
[null,null,26,{"$f":"'COG-M'!P935","v":0}]
[null,null,27,{"$f":"'COG-M'!P936","v":0}]
[332,"Servicios de diseño, arquitectura, ingeniería y actividades relacionadas",11,{"$f":"'COG-M'!P937","v":0}]
[null,null,12,{"$f":"'COG-M'!P938","v":0}]
[null,null,13,{"$f":"'COG-M'!P939","v":0}]
[null,null,14,{"$f":"'COG-M'!P940","v":0}]
[null,null,15,{"$f":"'COG-M'!P941","v":0}]
[null,null,16,{"$f":"'COG-M'!P942","v":0}]
[null,null,17,{"$f":"'COG-M'!P943","v":0}]
[null,null,25,{"$f":"'COG-M'!P944","v":0}]
[null,null,26,{"$f":"'COG-M'!P945","v":0}]
[null,null,27,{"$f":"'COG-M'!P946","v":0}]
[333,"Servicios de consultoría administrativa, procesos, técnica y en tecnologías de la información",11,{"$f":"'COG-M'!P947","v":0}]
[null,null,12,{"$f":"'COG-M'!P948","v":0}]
[null,null,13,{"$f":"'COG-M'!P949","v":0}]
[null,null,14,{"$f":"'COG-M'!P950","v":0}]
[null,null,15,{"$f":"'COG-M'!P951","v":0}]
[null,null,16,{"$f":"'COG-M'!P952","v":0}]
[null,null,17,{"$f":"'COG-M'!P953","v":0}]
[null,null,25,{"$f":"'COG-M'!P954","v":0}]
[null,null,26,{"$f":"'COG-M'!P955","v":0}]
[null,null,27,{"$f":"'COG-M'!P956","v":0}]
[334,"Servicios de capacitación",11,{"$f":"'COG-M'!P957","v":0}]
[null,null,12,{"$f":"'COG-M'!P958","v":0}]
[null,null,13,{"$f":"'COG-M'!P959","v":0}]
[null,null,14,{"$f":"'COG-M'!P960","v":0}]
[null,null,15,{"$f":"'COG-M'!P961","v":0}]
[null,null,16,{"$f":"'COG-M'!P962","v":0}]
[null,null,17,{"$f":"'COG-M'!P963","v":0}]
[null,null,25,{"$f":"'COG-M'!P964","v":0}]
[null,null,26,{"$f":"'COG-M'!P965","v":0}]
[null,null,27,{"$f":"'COG-M'!P966","v":0}]
[335,"Servicios de investigación científica y desarrollo",11,{"$f":"'COG-M'!P967","v":0}]
[null,null,12,{"$f":"'COG-M'!P968","v":0}]
[null,null,13,{"$f":"'COG-M'!P969","v":0}]
[null,null,14,{"$f":"'COG-M'!P970","v":0}]
[null,null,15,{"$f":"'COG-M'!P971","v":0}]
[null,null,16,{"$f":"'COG-M'!P972","v":0}]
[null,null,17,{"$f":"'COG-M'!P973","v":0}]
[null,null,25,{"$f":"'COG-M'!P974","v":0}]
[null,null,26,{"$f":"'COG-M'!P975","v":0}]
[null,null,27,{"$f":"'COG-M'!P976","v":0}]
[336,"Servicios de apoyo administrativo, traducción, fotocopiado e impresión",11,{"$f":"'COG-M'!P977","v":0}]
[null,null,12,{"$f":"'COG-M'!P978","v":0}]
[null,null,13,{"$f":"'COG-M'!P979","v":0}]
[null,null,14,{"$f":"'COG-M'!P980","v":0}]
[null,null,15,{"$f":"'COG-M'!P981","v":0}]
[null,null,16,{"$f":"'COG-M'!P982","v":0}]
[null,null,17,{"$f":"'COG-M'!P983","v":0}]
[null,null,25,{"$f":"'COG-M'!P984","v":0}]
[null,null,26,{"$f":"'COG-M'!P985","v":0}]
[null,null,27,{"$f":"'COG-M'!P986","v":0}]
[337,"Servicios de protección y seguridad",11,{"$f":"'COG-M'!P987","v":0}]
[null,null,12,{"$f":"'COG-M'!P988","v":0}]
[null,null,13,{"$f":"'COG-M'!P989","v":0}]
[null,null,14,{"$f":"'COG-M'!P990","v":0}]
[null,null,15,{"$f":"'COG-M'!P991","v":0}]
[null,null,16,{"$f":"'COG-M'!P992","v":0}]
[null,null,17,{"$f":"'COG-M'!P993","v":0}]
[null,null,25,{"$f":"'COG-M'!P994","v":0}]
[null,null,26,{"$f":"'COG-M'!P995","v":0}]
[null,null,27,{"$f":"'COG-M'!P996","v":0}]
[338,"Servicios de vigilancia",11,{"$f":"'COG-M'!P997","v":0}]
[null,null,12,{"$f":"'COG-M'!P998","v":0}]
[null,null,13,{"$f":"'COG-M'!P999","v":0}]
[null,null,14,{"$f":"'COG-M'!P1000","v":0}]
[null,null,15,{"$f":"'COG-M'!P1001","v":0}]
[null,null,16,{"$f":"'COG-M'!P1002","v":0}]
[null,null,17,{"$f":"'COG-M'!P1003","v":0}]
[null,null,25,{"$f":"'COG-M'!P1004","v":0}]
[null,null,26,{"$f":"'COG-M'!P1005","v":0}]
[null,null,27,{"$f":"'COG-M'!P1006","v":0}]
[339,"Servicios profesionales, científicos y técnicos integrales",11,{"$f":"'COG-M'!P1007","v":0}]
[null,null,12,{"$f":"'COG-M'!P1008","v":0}]
[null,null,13,{"$f":"'COG-M'!P1009","v":0}]
[null,null,14,{"$f":"'COG-M'!P1010","v":0}]
[null,null,15,{"$f":"'COG-M'!P1011","v":0}]
[null,null,16,{"$f":"'COG-M'!P1012","v":0}]
[null,null,17,{"$f":"'COG-M'!P1013","v":0}]
[null,null,25,{"$f":"'COG-M'!P1014","v":0}]
[null,null,26,{"$f":"'COG-M'!P1015","v":0}]
[null,null,27,{"$f":"'COG-M'!P1016","v":0}]
[3400,"SERVICIOS FINANCIEROS, BANCARIOS Y COMERCIALES",null,{"$f":"'COG-M'!P1017","v":0}]
[341,"Servicios financieros y bancarios",11,{"$f":"'COG-M'!P1018","v":0}]
[null,null,12,{"$f":"'COG-M'!P1019","v":0}]
[null,null,13,{"$f":"'COG-M'!P1020","v":0}]
[null,null,14,{"$f":"'COG-M'!P1021","v":0}]
[null,null,15,{"$f":"'COG-M'!P1022","v":0}]
[null,null,16,{"$f":"'COG-M'!P1023","v":0}]
[null,null,17,{"$f":"'COG-M'!P1024","v":0}]
[null,null,25,{"$f":"'COG-M'!P1025","v":0}]
[null,null,26,{"$f":"'COG-M'!P1026","v":0}]
[null,null,27,{"$f":"'COG-M'!P1027","v":0}]
[342,"Servicios de cobranza, investigación crediticia y similar",11,{"$f":"'COG-M'!P1028","v":0}]
[null,null,12,{"$f":"'COG-M'!P1029","v":0}]
[null,null,13,{"$f":"'COG-M'!P1030","v":0}]
[null,null,14,{"$f":"'COG-M'!P1031","v":0}]
[null,null,15,{"$f":"'COG-M'!P1032","v":0}]
[null,null,16,{"$f":"'COG-M'!P1033","v":0}]
[null,null,17,{"$f":"'COG-M'!P1034","v":0}]
[null,null,25,{"$f":"'COG-M'!P1035","v":0}]
[null,null,26,{"$f":"'COG-M'!P1036","v":0}]
[null,null,27,{"$f":"'COG-M'!P1037","v":0}]
[343,"Servicios de recaudación, traslado y custodia de valores",11,{"$f":"'COG-M'!P1038","v":0}]
[null,null,12,{"$f":"'COG-M'!P1039","v":0}]
[null,null,13,{"$f":"'COG-M'!P1040","v":0}]
[null,null,14,{"$f":"'COG-M'!P1041","v":0}]
[null,null,15,{"$f":"'COG-M'!P1042","v":0}]
[null,null,16,{"$f":"'COG-M'!P1043","v":0}]
[null,null,17,{"$f":"'COG-M'!P1044","v":0}]
[null,null,25,{"$f":"'COG-M'!P1045","v":0}]
[null,null,26,{"$f":"'COG-M'!P1046","v":0}]
[null,null,27,{"$f":"'COG-M'!P1047","v":0}]
[344,"Seguros de responsabilidad patrimonial y fianzas",11,{"$f":"'COG-M'!P1048","v":0}]
[null,null,12,{"$f":"'COG-M'!P1049","v":0}]
[null,null,13,{"$f":"'COG-M'!P1050","v":0}]
[null,null,14,{"$f":"'COG-M'!P1051","v":0}]
[null,null,15,{"$f":"'COG-M'!P1052","v":0}]
[null,null,16,{"$f":"'COG-M'!P1053","v":0}]
[null,null,17,{"$f":"'COG-M'!P1054","v":0}]
[null,null,25,{"$f":"'COG-M'!P1055","v":0}]
[null,null,26,{"$f":"'COG-M'!P1056","v":0}]
[null,null,27,{"$f":"'COG-M'!P1057","v":0}]
[345,"Seguro de bienes patrimoniales",11,{"$f":"'COG-M'!P1058","v":0}]
[null,null,12,{"$f":"'COG-M'!P1059","v":0}]
[null,null,13,{"$f":"'COG-M'!P1060","v":0}]
[null,null,14,{"$f":"'COG-M'!P1061","v":0}]
[null,null,15,{"$f":"'COG-M'!P1062","v":0}]
[null,null,16,{"$f":"'COG-M'!P1063","v":0}]
[null,null,17,{"$f":"'COG-M'!P1064","v":0}]
[null,null,25,{"$f":"'COG-M'!P1065","v":0}]
[null,null,26,{"$f":"'COG-M'!P1066","v":0}]
[null,null,27,{"$f":"'COG-M'!P1067","v":0}]
[346,"Almacenaje, envase y embalaje",11,{"$f":"'COG-M'!P1068","v":0}]
[null,null,12,{"$f":"'COG-M'!P1069","v":0}]
[null,null,13,{"$f":"'COG-M'!P1070","v":0}]
[null,null,14,{"$f":"'COG-M'!P1071","v":0}]
[null,null,15,{"$f":"'COG-M'!P1072","v":0}]
[null,null,16,{"$f":"'COG-M'!P1073","v":0}]
[null,null,17,{"$f":"'COG-M'!P1074","v":0}]
[null,null,25,{"$f":"'COG-M'!P1075","v":0}]
[null,null,26,{"$f":"'COG-M'!P1076","v":0}]
[null,null,27,{"$f":"'COG-M'!P1077","v":0}]
[347,"Fletes y maniobras",11,{"$f":"'COG-M'!P1078","v":0}]
[null,null,12,{"$f":"'COG-M'!P1079","v":0}]
[null,null,13,{"$f":"'COG-M'!P1080","v":0}]
[null,null,14,{"$f":"'COG-M'!P1081","v":0}]
[null,null,15,{"$f":"'COG-M'!P1082","v":0}]
[null,null,16,{"$f":"'COG-M'!P1083","v":0}]
[null,null,17,{"$f":"'COG-M'!P1084","v":0}]
[null,null,25,{"$f":"'COG-M'!P1085","v":0}]
[null,null,26,{"$f":"'COG-M'!P1086","v":0}]
[null,null,27,{"$f":"'COG-M'!P1087","v":0}]
[348,"Comisiones por ventas",11,{"$f":"'COG-M'!P1088","v":0}]
[null,null,12,{"$f":"'COG-M'!P1089","v":0}]
[null,null,13,{"$f":"'COG-M'!P1090","v":0}]
[null,null,14,{"$f":"'COG-M'!P1091","v":0}]
[null,null,15,{"$f":"'COG-M'!P1092","v":0}]
[null,null,16,{"$f":"'COG-M'!P1093","v":0}]
[null,null,17,{"$f":"'COG-M'!P1094","v":0}]
[null,null,25,{"$f":"'COG-M'!P1095","v":0}]
[null,null,26,{"$f":"'COG-M'!P1096","v":0}]
[null,null,27,{"$f":"'COG-M'!P1097","v":0}]
[349,"Servicios financieros, bancarios y comerciales integrales",11,{"$f":"'COG-M'!P1098","v":0}]
[null,null,12,{"$f":"'COG-M'!P1099","v":0}]
[null,null,13,{"$f":"'COG-M'!P1100","v":0}]
[null,null,14,{"$f":"'COG-M'!P1101","v":0}]
[null,null,15,{"$f":"'COG-M'!P1102","v":0}]
[null,null,16,{"$f":"'COG-M'!P1103","v":0}]
[null,null,17,{"$f":"'COG-M'!P1104","v":0}]
[null,null,25,{"$f":"'COG-M'!P1105","v":0}]
[null,null,26,{"$f":"'COG-M'!P1106","v":0}]
[null,null,27,{"$f":"'COG-M'!P1107","v":0}]
[3500,"SERVICIOS DE INSTALACIÓN, REPARACIÓN, MANTENIMIENTO Y CONSERVACIÓN",null,{"$f":"'COG-M'!P1108","v":0}]
[351,"Conservación y mantenimiento menor de inmuebles",11,{"$f":"'COG-M'!P1109","v":0}]
[null,null,12,{"$f":"'COG-M'!P1110","v":0}]
[null,null,13,{"$f":"'COG-M'!P1111","v":0}]
[null,null,14,{"$f":"'COG-M'!P1112","v":0}]
[null,null,15,{"$f":"'COG-M'!P1113","v":0}]
[null,null,16,{"$f":"'COG-M'!P1114","v":0}]
[null,null,17,{"$f":"'COG-M'!P1115","v":0}]
[null,null,25,{"$f":"'COG-M'!P1116","v":0}]
[null,null,26,{"$f":"'COG-M'!P1117","v":0}]
[null,null,27,{"$f":"'COG-M'!P1118","v":0}]
[352,"Instalación, reparación y mantenimiento de mobiliario y equipo de administración, educacional y recreativo",11,{"$f":"'COG-M'!P1119","v":0}]
[null,null,12,{"$f":"'COG-M'!P1120","v":0}]
[null,null,13,{"$f":"'COG-M'!P1121","v":0}]
[null,null,14,{"$f":"'COG-M'!P1122","v":0}]
[null,null,15,{"$f":"'COG-M'!P1123","v":0}]
[null,null,16,{"$f":"'COG-M'!P1124","v":0}]
[null,null,17,{"$f":"'COG-M'!P1125","v":0}]
[null,null,25,{"$f":"'COG-M'!P1126","v":0}]
[null,null,26,{"$f":"'COG-M'!P1127","v":0}]
[null,null,27,{"$f":"'COG-M'!P1128","v":0}]
[353,"Instalación, reparación y mantenimiento de equipo de cómputo y tecnología de la información",11,{"$f":"'COG-M'!P1129","v":0}]
[null,null,12,{"$f":"'COG-M'!P1130","v":0}]
[null,null,13,{"$f":"'COG-M'!P1131","v":0}]
[null,null,14,{"$f":"'COG-M'!P1132","v":0}]
[null,null,15,{"$f":"'COG-M'!P1133","v":0}]
[null,null,16,{"$f":"'COG-M'!P1134","v":0}]
[null,null,17,{"$f":"'COG-M'!P1135","v":0}]
[null,null,25,{"$f":"'COG-M'!P1136","v":0}]
[null,null,26,{"$f":"'COG-M'!P1137","v":0}]
[null,null,27,{"$f":"'COG-M'!P1138","v":0}]
[354,"Instalación, reparación y mantenimiento de equipo e instrumental médico y de laboratorio",11,{"$f":"'COG-M'!P1139","v":0}]
[null,null,12,{"$f":"'COG-M'!P1140","v":0}]
[null,null,13,{"$f":"'COG-M'!P1141","v":0}]
[null,null,14,{"$f":"'COG-M'!P1142","v":0}]
[null,null,15,{"$f":"'COG-M'!P1143","v":0}]
[null,null,16,{"$f":"'COG-M'!P1144","v":0}]
[null,null,17,{"$f":"'COG-M'!P1145","v":0}]
[null,null,25,{"$f":"'COG-M'!P1146","v":0}]
[null,null,26,{"$f":"'COG-M'!P1147","v":0}]
[null,null,27,{"$f":"'COG-M'!P1148","v":0}]
[355,"Reparación y mantenimiento de equipo de transporte",11,{"$f":"'COG-M'!P1149","v":0}]
[null,null,12,{"$f":"'COG-M'!P1150","v":0}]
[null,null,13,{"$f":"'COG-M'!P1151","v":0}]
[null,null,14,{"$f":"'COG-M'!P1152","v":0}]
[null,null,15,{"$f":"'COG-M'!P1153","v":0}]
[null,null,16,{"$f":"'COG-M'!P1154","v":0}]
[null,null,17,{"$f":"'COG-M'!P1155","v":0}]
[null,null,25,{"$f":"'COG-M'!P1156","v":0}]
[null,null,26,{"$f":"'COG-M'!P1157","v":0}]
[null,null,27,{"$f":"'COG-M'!P1158","v":0}]
[356,"Reparación y mantenimiento de equipo de defensa y seguridad",11,{"$f":"'COG-M'!P1159","v":0}]
[null,null,12,{"$f":"'COG-M'!P1160","v":0}]
[null,null,13,{"$f":"'COG-M'!P1161","v":0}]
[null,null,14,{"$f":"'COG-M'!P1162","v":0}]
[null,null,15,{"$f":"'COG-M'!P1163","v":0}]
[null,null,16,{"$f":"'COG-M'!P1164","v":0}]
[null,null,17,{"$f":"'COG-M'!P1165","v":0}]
[null,null,25,{"$f":"'COG-M'!P1166","v":0}]
[null,null,26,{"$f":"'COG-M'!P1167","v":0}]
[null,null,27,{"$f":"'COG-M'!P1168","v":0}]
[357,"Instalación, reparación y mantenimiento de maquinaria, otros equipos y herramienta",11,{"$f":"'COG-M'!P1169","v":0}]
[null,null,12,{"$f":"'COG-M'!P1170","v":0}]
[null,null,13,{"$f":"'COG-M'!P1171","v":0}]
[null,null,14,{"$f":"'COG-M'!P1172","v":0}]
[null,null,15,{"$f":"'COG-M'!P1173","v":0}]
[null,null,16,{"$f":"'COG-M'!P1174","v":0}]
[null,null,17,{"$f":"'COG-M'!P1175","v":0}]
[null,null,25,{"$f":"'COG-M'!P1176","v":0}]
[null,null,26,{"$f":"'COG-M'!P1177","v":0}]
[null,null,27,{"$f":"'COG-M'!P1178","v":0}]
[358,"Servicios de limpieza y manejo de desechos",11,{"$f":"'COG-M'!P1179","v":0}]
[null,null,12,{"$f":"'COG-M'!P1180","v":0}]
[null,null,13,{"$f":"'COG-M'!P1181","v":0}]
[null,null,14,{"$f":"'COG-M'!P1182","v":0}]
[null,null,15,{"$f":"'COG-M'!P1183","v":0}]
[null,null,16,{"$f":"'COG-M'!P1184","v":0}]
[null,null,17,{"$f":"'COG-M'!P1185","v":0}]
[null,null,25,{"$f":"'COG-M'!P1186","v":0}]
[null,null,26,{"$f":"'COG-M'!P1187","v":0}]
[null,null,27,{"$f":"'COG-M'!P1188","v":0}]
[359,"Servicios de jardinería y fumigación",11,{"$f":"'COG-M'!P1189","v":0}]
[null,null,12,{"$f":"'COG-M'!P1190","v":0}]
[null,null,13,{"$f":"'COG-M'!P1191","v":0}]
[null,null,14,{"$f":"'COG-M'!P1192","v":0}]
[null,null,15,{"$f":"'COG-M'!P1193","v":0}]
[null,null,16,{"$f":"'COG-M'!P1194","v":0}]
[null,null,17,{"$f":"'COG-M'!P1195","v":0}]
[null,null,25,{"$f":"'COG-M'!P1196","v":0}]
[null,null,26,{"$f":"'COG-M'!P1197","v":0}]
[null,null,27,{"$f":"'COG-M'!P1198","v":0}]
[3600,"SERVICIOS DE COMUNICACIÓN SOCIAL Y PUBLICIDAD",null,{"$f":"'COG-M'!P1199","v":0}]
[361,"Difusión por radio, televisión y otros medios de mensajes sobre programas y actividades gubernamentales",11,{"$f":"'COG-M'!P1200","v":0}]
[null,null,12,{"$f":"'COG-M'!P1201","v":0}]
[null,null,13,{"$f":"'COG-M'!P1202","v":0}]
[null,null,14,{"$f":"'COG-M'!P1203","v":0}]
[null,null,15,{"$f":"'COG-M'!P1204","v":0}]
[null,null,16,{"$f":"'COG-M'!P1205","v":0}]
[null,null,17,{"$f":"'COG-M'!P1206","v":0}]
[null,null,25,{"$f":"'COG-M'!P1207","v":0}]
[null,null,26,{"$f":"'COG-M'!P1208","v":0}]
[null,null,27,{"$f":"'COG-M'!P1209","v":0}]
[362,"Difusión por radio,  televisión y otros medios de mensajes comerciales para promover la venta de bienes o servicios",11,{"$f":"'COG-M'!P1210","v":0}]
[null,null,12,{"$f":"'COG-M'!P1211","v":0}]
[null,null,13,{"$f":"'COG-M'!P1212","v":0}]
[null,null,14,{"$f":"'COG-M'!P1213","v":0}]
[null,null,15,{"$f":"'COG-M'!P1214","v":0}]
[null,null,16,{"$f":"'COG-M'!P1215","v":0}]
[null,null,17,{"$f":"'COG-M'!P1216","v":0}]
[null,null,25,{"$f":"'COG-M'!P1217","v":0}]
[null,null,26,{"$f":"'COG-M'!P1218","v":0}]
[null,null,27,{"$f":"'COG-M'!P1219","v":0}]
[363,"Servicios de creatividad, preproducción y producción de publicidad, excepto Internet",11,{"$f":"'COG-M'!P1220","v":0}]
[null,null,12,{"$f":"'COG-M'!P1221","v":0}]
[null,null,13,{"$f":"'COG-M'!P1222","v":0}]
[null,null,14,{"$f":"'COG-M'!P1223","v":0}]
[null,null,15,{"$f":"'COG-M'!P1224","v":0}]
[null,null,16,{"$f":"'COG-M'!P1225","v":0}]
[null,null,17,{"$f":"'COG-M'!P1226","v":0}]
[null,null,25,{"$f":"'COG-M'!P1227","v":0}]
[null,null,26,{"$f":"'COG-M'!P1228","v":0}]
[null,null,27,{"$f":"'COG-M'!P1229","v":0}]
[364,"Servicios de revelado de  fotografías",11,{"$f":"'COG-M'!P1230","v":0}]
[null,null,12,{"$f":"'COG-M'!P1231","v":0}]
[null,null,13,{"$f":"'COG-M'!P1232","v":0}]
[null,null,14,{"$f":"'COG-M'!P1233","v":0}]
[null,null,15,{"$f":"'COG-M'!P1234","v":0}]
[null,null,16,{"$f":"'COG-M'!P1235","v":0}]
[null,null,17,{"$f":"'COG-M'!P1236","v":0}]
[null,null,25,{"$f":"'COG-M'!P1237","v":0}]
[null,null,26,{"$f":"'COG-M'!P1238","v":0}]
[null,null,27,{"$f":"'COG-M'!P1239","v":0}]
[365,"Servicios de la industria fílmica, del sonido y del video",11,{"$f":"'COG-M'!P1240","v":0}]
[null,null,12,{"$f":"'COG-M'!P1241","v":0}]
[null,null,13,{"$f":"'COG-M'!P1242","v":0}]
[null,null,14,{"$f":"'COG-M'!P1243","v":0}]
[null,null,15,{"$f":"'COG-M'!P1244","v":0}]
[null,null,16,{"$f":"'COG-M'!P1245","v":0}]
[null,null,17,{"$f":"'COG-M'!P1246","v":0}]
[null,null,25,{"$f":"'COG-M'!P1247","v":0}]
[null,null,26,{"$f":"'COG-M'!P1248","v":0}]
[null,null,27,{"$f":"'COG-M'!P1249","v":0}]
[366,"Servicio de creación y difusión de contenido exclusivamente a través de Internet",11,{"$f":"'COG-M'!P1250","v":0}]
[null,null,12,{"$f":"'COG-M'!P1251","v":0}]
[null,null,13,{"$f":"'COG-M'!P1252","v":0}]
[null,null,14,{"$f":"'COG-M'!P1253","v":0}]
[null,null,15,{"$f":"'COG-M'!P1254","v":0}]
[null,null,16,{"$f":"'COG-M'!P1255","v":0}]
[null,null,17,{"$f":"'COG-M'!P1256","v":0}]
[null,null,25,{"$f":"'COG-M'!P1257","v":0}]
[null,null,26,{"$f":"'COG-M'!P1258","v":0}]
[null,null,27,{"$f":"'COG-M'!P1259","v":0}]
[369,"Otros servicios de información",11,{"$f":"'COG-M'!P1260","v":0}]
[null,null,12,{"$f":"'COG-M'!P1261","v":0}]
[null,null,13,{"$f":"'COG-M'!P1262","v":0}]
[null,null,14,{"$f":"'COG-M'!P1263","v":0}]
[null,null,15,{"$f":"'COG-M'!P1264","v":0}]
[null,null,16,{"$f":"'COG-M'!P1265","v":0}]
[null,null,17,{"$f":"'COG-M'!P1266","v":0}]
[null,null,25,{"$f":"'COG-M'!P1267","v":0}]
[null,null,26,{"$f":"'COG-M'!P1268","v":0}]
[null,null,27,{"$f":"'COG-M'!P1269","v":0}]
[3700,"SERVICIOS DE TRASLADO Y VIÁTICOS",null,{"$f":"'COG-M'!P1270","v":0}]
[371,"Pasajes aéreos",11,{"$f":"'COG-M'!P1271","v":0}]
[null,null,12,{"$f":"'COG-M'!P1272","v":0}]
[null,null,13,{"$f":"'COG-M'!P1273","v":0}]
[null,null,14,{"$f":"'COG-M'!P1274","v":0}]
[null,null,15,{"$f":"'COG-M'!P1275","v":0}]
[null,null,16,{"$f":"'COG-M'!P1276","v":0}]
[null,null,17,{"$f":"'COG-M'!P1277","v":0}]
[null,null,25,{"$f":"'COG-M'!P1278","v":0}]
[null,null,26,{"$f":"'COG-M'!P1279","v":0}]
[null,null,27,{"$f":"'COG-M'!P1280","v":0}]
[372,"Pasajes terrestres",11,{"$f":"'COG-M'!P1281","v":0}]
[null,null,12,{"$f":"'COG-M'!P1282","v":0}]
[null,null,13,{"$f":"'COG-M'!P1283","v":0}]
[null,null,14,{"$f":"'COG-M'!P1284","v":0}]
[null,null,15,{"$f":"'COG-M'!P1285","v":0}]
[null,null,16,{"$f":"'COG-M'!P1286","v":0}]
[null,null,17,{"$f":"'COG-M'!P1287","v":0}]
[null,null,25,{"$f":"'COG-M'!P1288","v":0}]
[null,null,26,{"$f":"'COG-M'!P1289","v":0}]
[null,null,27,{"$f":"'COG-M'!P1290","v":0}]
[373,"Pasajes marítimos, lacustres y fluviales",11,{"$f":"'COG-M'!P1291","v":0}]
[null,null,12,{"$f":"'COG-M'!P1292","v":0}]
[null,null,13,{"$f":"'COG-M'!P1293","v":0}]
[null,null,14,{"$f":"'COG-M'!P1294","v":0}]
[null,null,15,{"$f":"'COG-M'!P1295","v":0}]
[null,null,16,{"$f":"'COG-M'!P1296","v":0}]
[null,null,17,{"$f":"'COG-M'!P1297","v":0}]
[null,null,25,{"$f":"'COG-M'!P1298","v":0}]
[null,null,26,{"$f":"'COG-M'!P1299","v":0}]
[null,null,27,{"$f":"'COG-M'!P1300","v":0}]
[374,"Autotransporte",11,{"$f":"'COG-M'!P1301","v":0}]
[null,null,12,{"$f":"'COG-M'!P1302","v":0}]
[null,null,13,{"$f":"'COG-M'!P1303","v":0}]
[null,null,14,{"$f":"'COG-M'!P1304","v":0}]
[null,null,15,{"$f":"'COG-M'!P1305","v":0}]
[null,null,16,{"$f":"'COG-M'!P1306","v":0}]
[null,null,17,{"$f":"'COG-M'!P1307","v":0}]
[null,null,25,{"$f":"'COG-M'!P1308","v":0}]
[null,null,26,{"$f":"'COG-M'!P1309","v":0}]
[null,null,27,{"$f":"'COG-M'!P1310","v":0}]
[375,"Viáticos en el país",11,{"$f":"'COG-M'!P1311","v":0}]
[null,null,12,{"$f":"'COG-M'!P1312","v":0}]
[null,null,13,{"$f":"'COG-M'!P1313","v":0}]
[null,null,14,{"$f":"'COG-M'!P1314","v":0}]
[null,null,15,{"$f":"'COG-M'!P1315","v":0}]
[null,null,16,{"$f":"'COG-M'!P1316","v":0}]
[null,null,17,{"$f":"'COG-M'!P1317","v":0}]
[null,null,25,{"$f":"'COG-M'!P1318","v":0}]
[null,null,26,{"$f":"'COG-M'!P1319","v":0}]
[null,null,27,{"$f":"'COG-M'!P1320","v":0}]
[376,"Viáticos en el extranjero ",11,{"$f":"'COG-M'!P1321","v":0}]
[null,null,12,{"$f":"'COG-M'!P1322","v":0}]
[null,null,13,{"$f":"'COG-M'!P1323","v":0}]
[null,null,14,{"$f":"'COG-M'!P1324","v":0}]
[null,null,15,{"$f":"'COG-M'!P1325","v":0}]
[null,null,16,{"$f":"'COG-M'!P1326","v":0}]
[null,null,17,{"$f":"'COG-M'!P1327","v":0}]
[null,null,25,{"$f":"'COG-M'!P1328","v":0}]
[null,null,26,{"$f":"'COG-M'!P1329","v":0}]
[null,null,27,{"$f":"'COG-M'!P1330","v":0}]
[377,"Gastos de instalación y traslado de menaje",11,{"$f":"'COG-M'!P1331","v":0}]
[null,null,12,{"$f":"'COG-M'!P1332","v":0}]
[null,null,13,{"$f":"'COG-M'!P1333","v":0}]
[null,null,14,{"$f":"'COG-M'!P1334","v":0}]
[null,null,15,{"$f":"'COG-M'!P1335","v":0}]
[null,null,16,{"$f":"'COG-M'!P1336","v":0}]
[null,null,17,{"$f":"'COG-M'!P1337","v":0}]
[null,null,25,{"$f":"'COG-M'!P1338","v":0}]
[null,null,26,{"$f":"'COG-M'!P1339","v":0}]
[null,null,27,{"$f":"'COG-M'!P1340","v":0}]
[378,"Servicios integrales de traslado y viáticos",11,{"$f":"'COG-M'!P1341","v":0}]
[null,null,12,{"$f":"'COG-M'!P1342","v":0}]
[null,null,13,{"$f":"'COG-M'!P1343","v":0}]
[null,null,14,{"$f":"'COG-M'!P1344","v":0}]
[null,null,15,{"$f":"'COG-M'!P1345","v":0}]
[null,null,16,{"$f":"'COG-M'!P1346","v":0}]
[null,null,17,{"$f":"'COG-M'!P1347","v":0}]
[null,null,25,{"$f":"'COG-M'!P1348","v":0}]
[null,null,26,{"$f":"'COG-M'!P1349","v":0}]
[null,null,27,{"$f":"'COG-M'!P1350","v":0}]
[379,"Otros servicios de traslado y hospedaje",11,{"$f":"'COG-M'!P1351","v":0}]
[null,null,12,{"$f":"'COG-M'!P1352","v":0}]
[null,null,13,{"$f":"'COG-M'!P1353","v":0}]
[null,null,14,{"$f":"'COG-M'!P1354","v":0}]
[null,null,15,{"$f":"'COG-M'!P1355","v":0}]
[null,null,16,{"$f":"'COG-M'!P1356","v":0}]
[null,null,17,{"$f":"'COG-M'!P1357","v":0}]
[null,null,25,{"$f":"'COG-M'!P1358","v":0}]
[null,null,26,{"$f":"'COG-M'!P1359","v":0}]
[null,null,27,{"$f":"'COG-M'!P1360","v":0}]
[3800,"SERVICIOS OFICIALES",null,{"$f":"'COG-M'!P1361","v":0}]
[381,"Gastos de ceremonial",11,{"$f":"'COG-M'!P1362","v":0}]
[null,null,12,{"$f":"'COG-M'!P1363","v":0}]
[null,null,13,{"$f":"'COG-M'!P1364","v":0}]
[null,null,14,{"$f":"'COG-M'!P1365","v":0}]
[null,null,15,{"$f":"'COG-M'!P1366","v":0}]
[null,null,16,{"$f":"'COG-M'!P1367","v":0}]
[null,null,17,{"$f":"'COG-M'!P1368","v":0}]
[null,null,25,{"$f":"'COG-M'!P1369","v":0}]
[null,null,26,{"$f":"'COG-M'!P1370","v":0}]
[null,null,27,{"$f":"'COG-M'!P1371","v":0}]
[382,"Gastos de orden  social y cultural",11,{"$f":"'COG-M'!P1372","v":0}]
[null,null,12,{"$f":"'COG-M'!P1373","v":0}]
[null,null,13,{"$f":"'COG-M'!P1374","v":0}]
[null,null,14,{"$f":"'COG-M'!P1375","v":0}]
[null,null,15,{"$f":"'COG-M'!P1376","v":0}]
[null,null,16,{"$f":"'COG-M'!P1377","v":0}]
[null,null,17,{"$f":"'COG-M'!P1378","v":0}]
[null,null,25,{"$f":"'COG-M'!P1379","v":0}]
[null,null,26,{"$f":"'COG-M'!P1380","v":0}]
[null,null,27,{"$f":"'COG-M'!P1381","v":0}]
[383,"Congresos y convenciones",11,{"$f":"'COG-M'!P1382","v":0}]
[null,null,12,{"$f":"'COG-M'!P1383","v":0}]
[null,null,13,{"$f":"'COG-M'!P1384","v":0}]
[null,null,14,{"$f":"'COG-M'!P1385","v":0}]
[null,null,15,{"$f":"'COG-M'!P1386","v":0}]
[null,null,16,{"$f":"'COG-M'!P1387","v":0}]
[null,null,17,{"$f":"'COG-M'!P1388","v":0}]
[null,null,25,{"$f":"'COG-M'!P1389","v":0}]
[null,null,26,{"$f":"'COG-M'!P1390","v":0}]
[null,null,27,{"$f":"'COG-M'!P1391","v":0}]
[384,"Exposiciones",11,{"$f":"'COG-M'!P1392","v":0}]
[null,null,12,{"$f":"'COG-M'!P1393","v":0}]
[null,null,13,{"$f":"'COG-M'!P1394","v":0}]
[null,null,14,{"$f":"'COG-M'!P1395","v":0}]
[null,null,15,{"$f":"'COG-M'!P1396","v":0}]
[null,null,16,{"$f":"'COG-M'!P1397","v":0}]
[null,null,17,{"$f":"'COG-M'!P1398","v":0}]
[null,null,25,{"$f":"'COG-M'!P1399","v":0}]
[null,null,26,{"$f":"'COG-M'!P1400","v":0}]
[null,null,27,{"$f":"'COG-M'!P1401","v":0}]
[385,"Gastos de representación",11,{"$f":"'COG-M'!P1402","v":0}]
[null,null,12,{"$f":"'COG-M'!P1403","v":0}]
[null,null,13,{"$f":"'COG-M'!P1404","v":0}]
[null,null,14,{"$f":"'COG-M'!P1405","v":0}]
[null,null,15,{"$f":"'COG-M'!P1406","v":0}]
[null,null,16,{"$f":"'COG-M'!P1407","v":0}]
[null,null,17,{"$f":"'COG-M'!P1408","v":0}]
[null,null,25,{"$f":"'COG-M'!P1409","v":0}]
[null,null,26,{"$f":"'COG-M'!P1410","v":0}]
[null,null,27,{"$f":"'COG-M'!P1411","v":0}]
[3900,"OTROS SERVICIOS GENERALES",null,{"$f":"'COG-M'!P1412","v":0}]
[391,"Servicios funerarios y de cementerios",11,{"$f":"'COG-M'!P1413","v":0}]
[null,null,12,{"$f":"'COG-M'!P1414","v":0}]
[null,null,13,{"$f":"'COG-M'!P1415","v":0}]
[null,null,14,{"$f":"'COG-M'!P1416","v":0}]
[null,null,15,{"$f":"'COG-M'!P1417","v":0}]
[null,null,16,{"$f":"'COG-M'!P1418","v":0}]
[null,null,17,{"$f":"'COG-M'!P1419","v":0}]
[null,null,25,{"$f":"'COG-M'!P1420","v":0}]
[null,null,26,{"$f":"'COG-M'!P1421","v":0}]
[null,null,27,{"$f":"'COG-M'!P1422","v":0}]
[392,"Impuestos y derechos",11,{"$f":"'COG-M'!P1423","v":0}]
[null,null,12,{"$f":"'COG-M'!P1424","v":0}]
[null,null,13,{"$f":"'COG-M'!P1425","v":0}]
[null,null,14,{"$f":"'COG-M'!P1426","v":0}]
[null,null,15,{"$f":"'COG-M'!P1427","v":0}]
[null,null,16,{"$f":"'COG-M'!P1428","v":0}]
[null,null,17,{"$f":"'COG-M'!P1429","v":0}]
[null,null,25,{"$f":"'COG-M'!P1430","v":0}]
[null,null,26,{"$f":"'COG-M'!P1431","v":0}]
[null,null,27,{"$f":"'COG-M'!P1432","v":0}]
[393,"Impuestos y derechos de importación",11,{"$f":"'COG-M'!P1433","v":0}]
[null,null,12,{"$f":"'COG-M'!P1434","v":0}]
[null,null,13,{"$f":"'COG-M'!P1435","v":0}]
[null,null,14,{"$f":"'COG-M'!P1436","v":0}]
[null,null,15,{"$f":"'COG-M'!P1437","v":0}]
[null,null,16,{"$f":"'COG-M'!P1438","v":0}]
[null,null,17,{"$f":"'COG-M'!P1439","v":0}]
[null,null,25,{"$f":"'COG-M'!P1440","v":0}]
[null,null,26,{"$f":"'COG-M'!P1441","v":0}]
[null,null,27,{"$f":"'COG-M'!P1442","v":0}]
[394,"Sentencias y resoluciones por autoridad competente",11,{"$f":"'COG-M'!P1443","v":0}]
[null,null,12,{"$f":"'COG-M'!P1444","v":0}]
[null,null,13,{"$f":"'COG-M'!P1445","v":0}]
[null,null,14,{"$f":"'COG-M'!P1446","v":0}]
[null,null,15,{"$f":"'COG-M'!P1447","v":0}]
[null,null,16,{"$f":"'COG-M'!P1448","v":0}]
[null,null,17,{"$f":"'COG-M'!P1449","v":0}]
[null,null,25,{"$f":"'COG-M'!P1450","v":0}]
[null,null,26,{"$f":"'COG-M'!P1451","v":0}]
[null,null,27,{"$f":"'COG-M'!P1452","v":0}]
[395,"Penas, multas, accesorios y actualizaciones",11,{"$f":"'COG-M'!P1453","v":0}]
[null,null,12,{"$f":"'COG-M'!P1454","v":0}]
[null,null,13,{"$f":"'COG-M'!P1455","v":0}]
[null,null,14,{"$f":"'COG-M'!P1456","v":0}]
[null,null,15,{"$f":"'COG-M'!P1457","v":0}]
[null,null,16,{"$f":"'COG-M'!P1458","v":0}]
[null,null,17,{"$f":"'COG-M'!P1459","v":0}]
[null,null,25,{"$f":"'COG-M'!P1460","v":0}]
[null,null,26,{"$f":"'COG-M'!P1461","v":0}]
[null,null,27,{"$f":"'COG-M'!P1462","v":0}]
[396,"Otros gastos por responsabilidades",11,{"$f":"'COG-M'!P1463","v":0}]
[null,null,12,{"$f":"'COG-M'!P1464","v":0}]
[null,null,13,{"$f":"'COG-M'!P1465","v":0}]
[null,null,14,{"$f":"'COG-M'!P1466","v":0}]
[null,null,15,{"$f":"'COG-M'!P1467","v":0}]
[null,null,16,{"$f":"'COG-M'!P1468","v":0}]
[null,null,17,{"$f":"'COG-M'!P1469","v":0}]
[null,null,25,{"$f":"'COG-M'!P1470","v":0}]
[null,null,26,{"$f":"'COG-M'!P1471","v":0}]
[null,null,27,{"$f":"'COG-M'!P1472","v":0}]
[397,"Utilidades",null,{"$f":"'COG-M'!P1473","v":0}]
[398,"Impuesto sobre nómina y otros que se deriven de una relación laboral",11,{"$f":"'COG-M'!P1474","v":0}]
[null,null,12,{"$f":"'COG-M'!P1475","v":0}]
[null,null,13,{"$f":"'COG-M'!P1476","v":0}]
[null,null,14,{"$f":"'COG-M'!P1477","v":0}]
[null,null,15,{"$f":"'COG-M'!P1478","v":0}]
[null,null,16,{"$f":"'COG-M'!P1479","v":0}]
[null,null,17,{"$f":"'COG-M'!P1480","v":0}]
[null,null,25,{"$f":"'COG-M'!P1481","v":0}]
[null,null,26,{"$f":"'COG-M'!P1482","v":0}]
[null,null,27,{"$f":"'COG-M'!P1483","v":0}]
[399,"Otros servicios generales",11,{"$f":"'COG-M'!P1484","v":0}]
[null,null,12,{"$f":"'COG-M'!P1485","v":0}]
[null,null,13,{"$f":"'COG-M'!P1486","v":0}]
[null,null,14,{"$f":"'COG-M'!P1487","v":0}]
[null,null,15,{"$f":"'COG-M'!P1488","v":0}]
[null,null,16,{"$f":"'COG-M'!P1489","v":0}]
[null,null,17,{"$f":"'COG-M'!P1490","v":0}]
[null,null,25,{"$f":"'COG-M'!P1491","v":0}]
[null,null,26,{"$f":"'COG-M'!P1492","v":0}]
[null,null,27,{"$f":"'COG-M'!P1493","v":0}]
[4000,"TRANSFERENCIAS, ASIGNACIONES, SUBSIDIOS Y OTRAS  AYUDAS",null,{"$f":"'COG-M'!P1494","v":0}]
[4100,"TRANSFERENCIAS INTERNAS Y ASIGNACIONES AL SECTOR PÚBLICO",null,{"$f":"'COG-M'!P1495","v":0}]
[411,"Asignaciones presupuestarias al Poder Ejecutivo",null,{"$f":"'COG-M'!P1496","v":0}]
[412,"Asignaciones presupuestarias al Poder Legislativo",null,{"$f":"'COG-M'!P1497","v":0}]
[413,"Asignaciones presupuestarias al Poder Judicial",null,{"$f":"'COG-M'!P1498","v":0}]
[414,"Asignaciones presupuestarias a Órganos Autónomos",null,{"$f":"'COG-M'!P1499","v":0}]
[415,"Transferencias internas otorgadas a entidades paraestatales no empresariales y no financieras",11,{"$f":"'COG-M'!P1500","v":0}]
[null,null,12,{"$f":"'COG-M'!P1501","v":0}]
[null,null,13,{"$f":"'COG-M'!P1502","v":0}]
[null,null,14,{"$f":"'COG-M'!P1503","v":0}]
[null,null,15,{"$f":"'COG-M'!P1504","v":0}]
[null,null,16,{"$f":"'COG-M'!P1505","v":0}]
[null,null,17,{"$f":"'COG-M'!P1506","v":0}]
[null,null,25,{"$f":"'COG-M'!P1507","v":0}]
[null,null,26,{"$f":"'COG-M'!P1508","v":0}]
[null,null,27,{"$f":"'COG-M'!P1509","v":0}]
[416,"Transferencias internas otorgadas a entidades paraestatales empresariales y no financieras",null,{"$f":"'COG-M'!P1510","v":0}]
[417,"Transferencias internas otorgadas a fideicomisos públicos empresariales y no financieros",11,{"$f":"'COG-M'!P1511","v":0}]
[null,null,12,{"$f":"'COG-M'!P1512","v":0}]
[null,null,13,{"$f":"'COG-M'!P1513","v":0}]
[null,null,14,{"$f":"'COG-M'!P1514","v":0}]
[null,null,15,{"$f":"'COG-M'!P1515","v":0}]
[null,null,16,{"$f":"'COG-M'!P1516","v":0}]
[null,null,17,{"$f":"'COG-M'!P1517","v":0}]
[null,null,25,{"$f":"'COG-M'!P1518","v":0}]
[null,null,26,{"$f":"'COG-M'!P1519","v":0}]
[null,null,27,{"$f":"'COG-M'!P1520","v":0}]
[418,"Transferencias internas otorgadas a instituciones paraestatales públicas financieras",null,{"$f":"'COG-M'!P1521","v":0}]
[419,"Transferencias internas otorgadas a fideicomisos públicos financieros",null,{"$f":"'COG-M'!P1522","v":0}]
[4200,"TRANSFERENCIAS AL RESTO DEL SECTOR PÚBLICO",null,{"$f":"'COG-M'!P1523","v":0}]
[421,"Transferencias otorgadas a entidades paraestatales no empresariales y no financieras",11,{"$f":"'COG-M'!P1524","v":0}]
[null,null,12,{"$f":"'COG-M'!P1525","v":0}]
[null,null,13,{"$f":"'COG-M'!P1526","v":0}]
[null,null,14,{"$f":"'COG-M'!P1527","v":0}]
[null,null,15,{"$f":"'COG-M'!P1528","v":0}]
[null,null,16,{"$f":"'COG-M'!P1529","v":0}]
[null,null,17,{"$f":"'COG-M'!P1530","v":0}]
[null,null,25,{"$f":"'COG-M'!P1531","v":0}]
[null,null,26,{"$f":"'COG-M'!P1532","v":0}]
[null,null,27,{"$f":"'COG-M'!P1533","v":0}]
[422,"Transferencias otorgadas para entidades paraestatales empresariales y no financieras",null,{"$f":"'COG-M'!P1534","v":0}]
[423,"Transferencias otorgadas para instituciones paraestatales públicas financieras  ",null,{"$f":"'COG-M'!P1535","v":0}]
[424,"Transferencias otorgadas a entidades federativas y municipios",null,{"$f":"'COG-M'!P1536","v":0}]
[425,"Transferencias a fideicomisos de entidades federativas y municipios",null,{"$f":"'COG-M'!P1537","v":0}]
[4300,"SUBSIDIOS Y SUBVENCIONES",null,{"$f":"'COG-M'!P1538","v":0}]
[431,"Subsidios a la producción",11,{"$f":"'COG-M'!P1539","v":0}]
[null,null,12,{"$f":"'COG-M'!P1540","v":0}]
[null,null,13,{"$f":"'COG-M'!P1541","v":0}]
[null,null,14,{"$f":"'COG-M'!P1542","v":0}]
[null,null,15,{"$f":"'COG-M'!P1543","v":0}]
[null,null,16,{"$f":"'COG-M'!P1544","v":0}]
[null,null,17,{"$f":"'COG-M'!P1545","v":0}]
[null,null,25,{"$f":"'COG-M'!P1546","v":0}]
[null,null,26,{"$f":"'COG-M'!P1547","v":0}]
[null,null,27,{"$f":"'COG-M'!P1548","v":0}]
[432,"Subsidios a la distribución",11,{"$f":"'COG-M'!P1549","v":0}]
[null,null,12,{"$f":"'COG-M'!P1550","v":0}]
[null,null,13,{"$f":"'COG-M'!P1551","v":0}]
[null,null,14,{"$f":"'COG-M'!P1552","v":0}]
[null,null,15,{"$f":"'COG-M'!P1553","v":0}]
[null,null,16,{"$f":"'COG-M'!P1554","v":0}]
[null,null,17,{"$f":"'COG-M'!P1555","v":0}]
[null,null,25,{"$f":"'COG-M'!P1556","v":0}]
[null,null,26,{"$f":"'COG-M'!P1557","v":0}]
[null,null,27,{"$f":"'COG-M'!P1558","v":0}]
[433,"Subsidios a la inversión",11,{"$f":"'COG-M'!P1559","v":0}]
[null,null,12,{"$f":"'COG-M'!P1560","v":0}]
[null,null,13,{"$f":"'COG-M'!P1561","v":0}]
[null,null,14,{"$f":"'COG-M'!P1562","v":0}]
[null,null,15,{"$f":"'COG-M'!P1563","v":0}]
[null,null,16,{"$f":"'COG-M'!P1564","v":0}]
[null,null,17,{"$f":"'COG-M'!P1565","v":0}]
[null,null,25,{"$f":"'COG-M'!P1566","v":0}]
[null,null,26,{"$f":"'COG-M'!P1567","v":0}]
[null,null,27,{"$f":"'COG-M'!P1568","v":0}]
[434,"Subsidios a la prestación de servicios públicos",11,{"$f":"'COG-M'!P1569","v":0}]
[null,null,12,{"$f":"'COG-M'!P1570","v":0}]
[null,null,13,{"$f":"'COG-M'!P1571","v":0}]
[null,null,14,{"$f":"'COG-M'!P1572","v":0}]
[null,null,15,{"$f":"'COG-M'!P1573","v":0}]
[null,null,16,{"$f":"'COG-M'!P1574","v":0}]
[null,null,17,{"$f":"'COG-M'!P1575","v":0}]
[null,null,25,{"$f":"'COG-M'!P1576","v":0}]
[null,null,26,{"$f":"'COG-M'!P1577","v":0}]
[null,null,27,{"$f":"'COG-M'!P1578","v":0}]
[435,"Subsidios para cubrir diferenciales de tasas de interés",11,{"$f":"'COG-M'!P1579","v":0}]
[null,null,12,{"$f":"'COG-M'!P1580","v":0}]
[null,null,13,{"$f":"'COG-M'!P1581","v":0}]
[null,null,14,{"$f":"'COG-M'!P1582","v":0}]
[null,null,15,{"$f":"'COG-M'!P1583","v":0}]
[null,null,16,{"$f":"'COG-M'!P1584","v":0}]
[null,null,17,{"$f":"'COG-M'!P1585","v":0}]
[null,null,25,{"$f":"'COG-M'!P1586","v":0}]
[null,null,26,{"$f":"'COG-M'!P1587","v":0}]
[null,null,27,{"$f":"'COG-M'!P1588","v":0}]
[436,"Subsidios a la vivienda ",11,{"$f":"'COG-M'!P1589","v":0}]
[null,null,12,{"$f":"'COG-M'!P1590","v":0}]
[null,null,13,{"$f":"'COG-M'!P1591","v":0}]
[null,null,14,{"$f":"'COG-M'!P1592","v":0}]
[null,null,15,{"$f":"'COG-M'!P1593","v":0}]
[null,null,16,{"$f":"'COG-M'!P1594","v":0}]
[null,null,17,{"$f":"'COG-M'!P1595","v":0}]
[null,null,25,{"$f":"'COG-M'!P1596","v":0}]
[null,null,26,{"$f":"'COG-M'!P1597","v":0}]
[null,null,27,{"$f":"'COG-M'!P1598","v":0}]
[437,"Subvenciones al consumo",11,{"$f":"'COG-M'!P1599","v":0}]
[null,null,12,{"$f":"'COG-M'!P1600","v":0}]
[null,null,13,{"$f":"'COG-M'!P1601","v":0}]
[null,null,14,{"$f":"'COG-M'!P1602","v":0}]
[null,null,15,{"$f":"'COG-M'!P1603","v":0}]
[null,null,16,{"$f":"'COG-M'!P1604","v":0}]
[null,null,17,{"$f":"'COG-M'!P1605","v":0}]
[null,null,25,{"$f":"'COG-M'!P1606","v":0}]
[null,null,26,{"$f":"'COG-M'!P1607","v":0}]
[null,null,27,{"$f":"'COG-M'!P1608","v":0}]
[438,"Subsidios a entidades federativas y municipios",null,{"$f":"'COG-M'!P1609","v":0}]
[439,"Otros subsidios",11,{"$f":"'COG-M'!P1610","v":0}]
[null,null,12,{"$f":"'COG-M'!P1611","v":0}]
[null,null,13,{"$f":"'COG-M'!P1612","v":0}]
[null,null,14,{"$f":"'COG-M'!P1613","v":0}]
[null,null,15,{"$f":"'COG-M'!P1614","v":0}]
[null,null,16,{"$f":"'COG-M'!P1615","v":0}]
[null,null,17,{"$f":"'COG-M'!P1616","v":0}]
[null,null,25,{"$f":"'COG-M'!P1617","v":0}]
[null,null,26,{"$f":"'COG-M'!P1618","v":0}]
[null,null,27,{"$f":"'COG-M'!P1619","v":0}]
[4400,"AYUDAS SOCIALES",null,{"$f":"'COG-M'!P1620","v":0}]
[441,"Ayudas sociales a personas ",11,{"$f":"'COG-M'!P1621","v":0}]
[null,null,12,{"$f":"'COG-M'!P1622","v":0}]
[null,null,13,{"$f":"'COG-M'!P1623","v":0}]
[null,null,14,{"$f":"'COG-M'!P1624","v":0}]
[null,null,15,{"$f":"'COG-M'!P1625","v":0}]
[null,null,16,{"$f":"'COG-M'!P1626","v":0}]
[null,null,17,{"$f":"'COG-M'!P1627","v":0}]
[null,null,25,{"$f":"'COG-M'!P1628","v":0}]
[null,null,26,{"$f":"'COG-M'!P1629","v":0}]
[null,null,27,{"$f":"'COG-M'!P1630","v":0}]
[442,"Becas y otras ayudas para programas de capacitación",11,{"$f":"'COG-M'!P1631","v":0}]
[null,null,12,{"$f":"'COG-M'!P1632","v":0}]
[null,null,13,{"$f":"'COG-M'!P1633","v":0}]
[null,null,14,{"$f":"'COG-M'!P1634","v":0}]
[null,null,15,{"$f":"'COG-M'!P1635","v":0}]
[null,null,16,{"$f":"'COG-M'!P1636","v":0}]
[null,null,17,{"$f":"'COG-M'!P1637","v":0}]
[null,null,25,{"$f":"'COG-M'!P1638","v":0}]
[null,null,26,{"$f":"'COG-M'!P1639","v":0}]
[null,null,27,{"$f":"'COG-M'!P1640","v":0}]
[443,"Ayudas sociales a instituciones de enseñanza",11,{"$f":"'COG-M'!P1641","v":0}]
[null,null,12,{"$f":"'COG-M'!P1642","v":0}]
[null,null,13,{"$f":"'COG-M'!P1643","v":0}]
[null,null,14,{"$f":"'COG-M'!P1644","v":0}]
[null,null,15,{"$f":"'COG-M'!P1645","v":0}]
[null,null,16,{"$f":"'COG-M'!P1646","v":0}]
[null,null,17,{"$f":"'COG-M'!P1647","v":0}]
[null,null,25,{"$f":"'COG-M'!P1648","v":0}]
[null,null,26,{"$f":"'COG-M'!P1649","v":0}]
[null,null,27,{"$f":"'COG-M'!P1650","v":0}]
[444,"Ayudas sociales a actividades científicas o académicas",11,{"$f":"'COG-M'!P1651","v":0}]
[null,null,12,{"$f":"'COG-M'!P1652","v":0}]
[null,null,13,{"$f":"'COG-M'!P1653","v":0}]
[null,null,14,{"$f":"'COG-M'!P1654","v":0}]
[null,null,15,{"$f":"'COG-M'!P1655","v":0}]
[null,null,16,{"$f":"'COG-M'!P1656","v":0}]
[null,null,17,{"$f":"'COG-M'!P1657","v":0}]
[null,null,25,{"$f":"'COG-M'!P1658","v":0}]
[null,null,26,{"$f":"'COG-M'!P1659","v":0}]
[null,null,27,{"$f":"'COG-M'!P1660","v":0}]
[445,"Ayudas sociales a instituciones sin fines de lucro",11,{"$f":"'COG-M'!P1661","v":0}]
[null,null,12,{"$f":"'COG-M'!P1662","v":0}]
[null,null,13,{"$f":"'COG-M'!P1663","v":0}]
[null,null,14,{"$f":"'COG-M'!P1664","v":0}]
[null,null,15,{"$f":"'COG-M'!P1665","v":0}]
[null,null,16,{"$f":"'COG-M'!P1666","v":0}]
[null,null,17,{"$f":"'COG-M'!P1667","v":0}]
[null,null,25,{"$f":"'COG-M'!P1668","v":0}]
[null,null,26,{"$f":"'COG-M'!P1669","v":0}]
[null,null,27,{"$f":"'COG-M'!P1670","v":0}]
[446,"Ayudas sociales a cooperativas",11,{"$f":"'COG-M'!P1671","v":0}]
[null,null,12,{"$f":"'COG-M'!P1672","v":0}]
[null,null,13,{"$f":"'COG-M'!P1673","v":0}]
[null,null,14,{"$f":"'COG-M'!P1674","v":0}]
[null,null,15,{"$f":"'COG-M'!P1675","v":0}]
[null,null,16,{"$f":"'COG-M'!P1676","v":0}]
[null,null,17,{"$f":"'COG-M'!P1677","v":0}]
[null,null,25,{"$f":"'COG-M'!P1678","v":0}]
[null,null,26,{"$f":"'COG-M'!P1679","v":0}]
[null,null,27,{"$f":"'COG-M'!P1680","v":0}]
[447,"Ayudas sociales a entidades de interés público",11,{"$f":"'COG-M'!P1681","v":0}]
[null,null,12,{"$f":"'COG-M'!P1682","v":0}]
[null,null,13,{"$f":"'COG-M'!P1683","v":0}]
[null,null,14,{"$f":"'COG-M'!P1684","v":0}]
[null,null,15,{"$f":"'COG-M'!P1685","v":0}]
[null,null,16,{"$f":"'COG-M'!P1686","v":0}]
[null,null,17,{"$f":"'COG-M'!P1687","v":0}]
[null,null,25,{"$f":"'COG-M'!P1688","v":0}]
[null,null,26,{"$f":"'COG-M'!P1689","v":0}]
[null,null,27,{"$f":"'COG-M'!P1690","v":0}]
[448,"Ayudas por desastres naturales y otros siniestros",11,{"$f":"'COG-M'!P1691","v":0}]
[null,null,12,{"$f":"'COG-M'!P1692","v":0}]
[null,null,13,{"$f":"'COG-M'!P1693","v":0}]
[null,null,14,{"$f":"'COG-M'!P1694","v":0}]
[null,null,15,{"$f":"'COG-M'!P1695","v":0}]
[null,null,16,{"$f":"'COG-M'!P1696","v":0}]
[null,null,17,{"$f":"'COG-M'!P1697","v":0}]
[null,null,25,{"$f":"'COG-M'!P1698","v":0}]
[null,null,26,{"$f":"'COG-M'!P1699","v":0}]
[null,null,27,{"$f":"'COG-M'!P1700","v":0}]
[4500,"PENSIONES Y JUBILACIONES",null,{"$f":"'COG-M'!P1701","v":0}]
[451,"Pensiones",11,{"$f":"'COG-M'!P1702","v":0}]
[null,null,12,{"$f":"'COG-M'!P1703","v":0}]
[null,null,13,{"$f":"'COG-M'!P1704","v":0}]
[null,null,14,{"$f":"'COG-M'!P1705","v":0}]
[null,null,15,{"$f":"'COG-M'!P1706","v":0}]
[null,null,16,{"$f":"'COG-M'!P1707","v":0}]
[null,null,17,{"$f":"'COG-M'!P1708","v":0}]
[null,null,25,{"$f":"'COG-M'!P1709","v":0}]
[null,null,26,{"$f":"'COG-M'!P1710","v":0}]
[null,null,27,{"$f":"'COG-M'!P1711","v":0}]
[452,"Jubilaciones",11,{"$f":"'COG-M'!P1712","v":0}]
[null,null,12,{"$f":"'COG-M'!P1713","v":0}]
[null,null,13,{"$f":"'COG-M'!P1714","v":0}]
[null,null,14,{"$f":"'COG-M'!P1715","v":0}]
[null,null,15,{"$f":"'COG-M'!P1716","v":0}]
[null,null,16,{"$f":"'COG-M'!P1717","v":0}]
[null,null,17,{"$f":"'COG-M'!P1718","v":0}]
[null,null,25,{"$f":"'COG-M'!P1719","v":0}]
[null,null,26,{"$f":"'COG-M'!P1720","v":0}]
[null,null,27,{"$f":"'COG-M'!P1721","v":0}]
[459,"Otras pensiones y jubilaciones",11,{"$f":"'COG-M'!P1722","v":0}]
[null,null,12,{"$f":"'COG-M'!P1723","v":0}]
[null,null,13,{"$f":"'COG-M'!P1724","v":0}]
[null,null,14,{"$f":"'COG-M'!P1725","v":0}]
[null,null,15,{"$f":"'COG-M'!P1726","v":0}]
[null,null,16,{"$f":"'COG-M'!P1727","v":0}]
[null,null,17,{"$f":"'COG-M'!P1728","v":0}]
[null,null,25,{"$f":"'COG-M'!P1729","v":0}]
[null,null,26,{"$f":"'COG-M'!P1730","v":0}]
[null,null,27,{"$f":"'COG-M'!P1731","v":0}]
[4600,"TRANSFERENCIAS A FIDEICOMISOS, MANDATOS Y OTROS ANÁLOGOS",null,{"$f":"'COG-M'!P1732","v":0}]
[461,"Transferencias a fideicomisos del Poder Ejecutivo",11,{"$f":"'COG-M'!P1733","v":0}]
[null,null,12,{"$f":"'COG-M'!P1734","v":0}]
[null,null,13,{"$f":"'COG-M'!P1735","v":0}]
[null,null,14,{"$f":"'COG-M'!P1736","v":0}]
[null,null,15,{"$f":"'COG-M'!P1737","v":0}]
[null,null,16,{"$f":"'COG-M'!P1738","v":0}]
[null,null,17,{"$f":"'COG-M'!P1739","v":0}]
[null,null,25,{"$f":"'COG-M'!P1740","v":0}]
[null,null,26,{"$f":"'COG-M'!P1741","v":0}]
[null,null,27,{"$f":"'COG-M'!P1742","v":0}]
[462,"Transferencias a fideicomisos del Poder Legislativo",null,{"$f":"'COG-M'!P1743","v":0}]
[463,"Transferencias a fideicomisos del Poder Judicial",null,{"$f":"'COG-M'!P1744","v":0}]
[464,"Trasferencias a fideicomisos públicos de entidades paraestatales no empresariales y no financieras",11,{"$f":"'COG-M'!P1745","v":0}]
[null,null,12,{"$f":"'COG-M'!P1746","v":0}]
[null,null,13,{"$f":"'COG-M'!P1747","v":0}]
[null,null,14,{"$f":"'COG-M'!P1748","v":0}]
[null,null,15,{"$f":"'COG-M'!P1749","v":0}]
[null,null,16,{"$f":"'COG-M'!P1750","v":0}]
[null,null,17,{"$f":"'COG-M'!P1751","v":0}]
[null,null,25,{"$f":"'COG-M'!P1752","v":0}]
[null,null,26,{"$f":"'COG-M'!P1753","v":0}]
[null,null,27,{"$f":"'COG-M'!P1754","v":0}]
[465,"Transferencias a fideicomisos públicos de entidades paraestatales empresariales y no financieras",null,{"$f":"'COG-M'!P1755","v":0}]
[466,"Transferencias a fideicomisos de instituciones públicas financieras",null,{"$f":"'COG-M'!P1756","v":0}]
[469,"Otras transferencias a fideicomisos   ",11,{"$f":"'COG-M'!P1757","v":0}]
[null,null,12,{"$f":"'COG-M'!P1758","v":0}]
[null,null,13,{"$f":"'COG-M'!P1759","v":0}]
[null,null,14,{"$f":"'COG-M'!P1760","v":0}]
[null,null,15,{"$f":"'COG-M'!P1761","v":0}]
[null,null,16,{"$f":"'COG-M'!P1762","v":0}]
[null,null,17,{"$f":"'COG-M'!P1763","v":0}]
[null,null,25,{"$f":"'COG-M'!P1764","v":0}]
[null,null,26,{"$f":"'COG-M'!P1765","v":0}]
[null,null,27,{"$f":"'COG-M'!P1766","v":0}]
[4700,"TRANSFERENCIAS A LA SEGURIDAD SOCIAL",null,{"$f":"'COG-M'!P1767","v":0}]
[471,"Transferencias por obligación de ley",11,{"$f":"'COG-M'!P1768","v":0}]
[null,null,12,{"$f":"'COG-M'!P1769","v":0}]
[null,null,13,{"$f":"'COG-M'!P1770","v":0}]
[null,null,14,{"$f":"'COG-M'!P1771","v":0}]
[null,null,15,{"$f":"'COG-M'!P1772","v":0}]
[null,null,16,{"$f":"'COG-M'!P1773","v":0}]
[null,null,17,{"$f":"'COG-M'!P1774","v":0}]
[null,null,25,{"$f":"'COG-M'!P1775","v":0}]
[null,null,26,{"$f":"'COG-M'!P1776","v":0}]
[null,null,27,{"$f":"'COG-M'!P1777","v":0}]
[4800,"DONATIVOS",null,{"$f":"'COG-M'!P1778","v":0}]
[481,"Donativos a instituciones sin fines de lucro",11,{"$f":"'COG-M'!P1779","v":0}]
[null,null,12,{"$f":"'COG-M'!P1780","v":0}]
[null,null,13,{"$f":"'COG-M'!P1781","v":0}]
[null,null,14,{"$f":"'COG-M'!P1782","v":0}]
[null,null,15,{"$f":"'COG-M'!P1783","v":0}]
[null,null,16,{"$f":"'COG-M'!P1784","v":0}]
[null,null,17,{"$f":"'COG-M'!P1785","v":0}]
[null,null,25,{"$f":"'COG-M'!P1786","v":0}]
[null,null,26,{"$f":"'COG-M'!P1787","v":0}]
[null,null,27,{"$f":"'COG-M'!P1788","v":0}]
[482,"Donativos a entidades federativas ",11,{"$f":"'COG-M'!P1789","v":0}]
[null,null,12,{"$f":"'COG-M'!P1790","v":0}]
[null,null,13,{"$f":"'COG-M'!P1791","v":0}]
[null,null,14,{"$f":"'COG-M'!P1792","v":0}]
[null,null,15,{"$f":"'COG-M'!P1793","v":0}]
[null,null,16,{"$f":"'COG-M'!P1794","v":0}]
[null,null,17,{"$f":"'COG-M'!P1795","v":0}]
[null,null,25,{"$f":"'COG-M'!P1796","v":0}]
[null,null,26,{"$f":"'COG-M'!P1797","v":0}]
[null,null,27,{"$f":"'COG-M'!P1798","v":0}]
[483,"Donativos a fideicomisos privados",11,{"$f":"'COG-M'!P1799","v":0}]
[null,null,12,{"$f":"'COG-M'!P1800","v":0}]
[null,null,13,{"$f":"'COG-M'!P1801","v":0}]
[null,null,14,{"$f":"'COG-M'!P1802","v":0}]
[null,null,15,{"$f":"'COG-M'!P1803","v":0}]
[null,null,16,{"$f":"'COG-M'!P1804","v":0}]
[null,null,17,{"$f":"'COG-M'!P1805","v":0}]
[null,null,25,{"$f":"'COG-M'!P1806","v":0}]
[null,null,26,{"$f":"'COG-M'!P1807","v":0}]
[null,null,27,{"$f":"'COG-M'!P1808","v":0}]
[484,"Donativos a fideicomisos estatales",11,{"$f":"'COG-M'!P1809","v":0}]
[null,null,12,{"$f":"'COG-M'!P1810","v":0}]
[null,null,13,{"$f":"'COG-M'!P1811","v":0}]
[null,null,14,{"$f":"'COG-M'!P1812","v":0}]
[null,null,15,{"$f":"'COG-M'!P1813","v":0}]
[null,null,16,{"$f":"'COG-M'!P1814","v":0}]
[null,null,17,{"$f":"'COG-M'!P1815","v":0}]
[null,null,25,{"$f":"'COG-M'!P1816","v":0}]
[null,null,26,{"$f":"'COG-M'!P1817","v":0}]
[null,null,27,{"$f":"'COG-M'!P1818","v":0}]
[485,"Donativos internacionales",11,{"$f":"'COG-M'!P1819","v":0}]
[null,null,12,{"$f":"'COG-M'!P1820","v":0}]
[null,null,13,{"$f":"'COG-M'!P1821","v":0}]
[null,null,14,{"$f":"'COG-M'!P1822","v":0}]
[null,null,15,{"$f":"'COG-M'!P1823","v":0}]
[null,null,16,{"$f":"'COG-M'!P1824","v":0}]
[null,null,17,{"$f":"'COG-M'!P1825","v":0}]
[null,null,25,{"$f":"'COG-M'!P1826","v":0}]
[null,null,26,{"$f":"'COG-M'!P1827","v":0}]
[null,null,27,{"$f":"'COG-M'!P1828","v":0}]
[4900,"TRANSFERENCIAS AL EXTERIOR",null,{"$f":"'COG-M'!P1829","v":0}]
[491,"Transferencias para gobiernos extranjeros",11,{"$f":"'COG-M'!P1830","v":0}]
[null,null,12,{"$f":"'COG-M'!P1831","v":0}]
[null,null,13,{"$f":"'COG-M'!P1832","v":0}]
[null,null,14,{"$f":"'COG-M'!P1833","v":0}]
[null,null,15,{"$f":"'COG-M'!P1834","v":0}]
[null,null,16,{"$f":"'COG-M'!P1835","v":0}]
[null,null,17,{"$f":"'COG-M'!P1836","v":0}]
[null,null,25,{"$f":"'COG-M'!P1837","v":0}]
[null,null,26,{"$f":"'COG-M'!P1838","v":0}]
[null,null,27,{"$f":"'COG-M'!P1839","v":0}]
[492,"Transferencias para organismos internacionales",11,{"$f":"'COG-M'!P1840","v":0}]
[null,null,12,{"$f":"'COG-M'!P1841","v":0}]
[null,null,13,{"$f":"'COG-M'!P1842","v":0}]
[null,null,14,{"$f":"'COG-M'!P1843","v":0}]
[null,null,15,{"$f":"'COG-M'!P1844","v":0}]
[null,null,16,{"$f":"'COG-M'!P1845","v":0}]
[null,null,17,{"$f":"'COG-M'!P1846","v":0}]
[null,null,25,{"$f":"'COG-M'!P1847","v":0}]
[null,null,26,{"$f":"'COG-M'!P1848","v":0}]
[null,null,27,{"$f":"'COG-M'!P1849","v":0}]
[493,"Transferencias para el sector privado externo",11,{"$f":"'COG-M'!P1850","v":0}]
[null,null,12,{"$f":"'COG-M'!P1851","v":0}]
[null,null,13,{"$f":"'COG-M'!P1852","v":0}]
[null,null,14,{"$f":"'COG-M'!P1853","v":0}]
[null,null,15,{"$f":"'COG-M'!P1854","v":0}]
[null,null,16,{"$f":"'COG-M'!P1855","v":0}]
[null,null,17,{"$f":"'COG-M'!P1856","v":0}]
[null,null,25,{"$f":"'COG-M'!P1857","v":0}]
[null,null,26,{"$f":"'COG-M'!P1858","v":0}]
[null,null,27,{"$f":"'COG-M'!P1859","v":0}]
[5000,"BIENES MUEBLES, INMUEBLES E INTANGIBLES ",null,{"$f":"'COG-M'!P1860","v":0}]
[5100,"MOBILIARIO Y EQUIPO DE ADMINISTRACIÓN",null,{"$f":"'COG-M'!P1861","v":0}]
[511,"Muebles de oficina y estantería ",11,{"$f":"'COG-M'!P1862","v":0}]
[null,null,12,{"$f":"'COG-M'!P1863","v":0}]
[null,null,13,{"$f":"'COG-M'!P1864","v":0}]
[null,null,14,{"$f":"'COG-M'!P1865","v":0}]
[null,null,15,{"$f":"'COG-M'!P1866","v":0}]
[null,null,16,{"$f":"'COG-M'!P1867","v":0}]
[null,null,17,{"$f":"'COG-M'!P1868","v":0}]
[null,null,25,{"$f":"'COG-M'!P1869","v":0}]
[null,null,26,{"$f":"'COG-M'!P1870","v":0}]
[null,null,27,{"$f":"'COG-M'!P1871","v":0}]
[512,"Muebles, excepto de oficina y estantería",11,{"$f":"'COG-M'!P1872","v":0}]
[null,null,12,{"$f":"'COG-M'!P1873","v":0}]
[null,null,13,{"$f":"'COG-M'!P1874","v":0}]
[null,null,14,{"$f":"'COG-M'!P1875","v":0}]
[null,null,15,{"$f":"'COG-M'!P1876","v":0}]
[null,null,16,{"$f":"'COG-M'!P1877","v":0}]
[null,null,17,{"$f":"'COG-M'!P1878","v":0}]
[null,null,25,{"$f":"'COG-M'!P1879","v":0}]
[null,null,26,{"$f":"'COG-M'!P1880","v":0}]
[null,null,27,{"$f":"'COG-M'!P1881","v":0}]
[513,"Bienes artísticos, culturales y científicos",11,{"$f":"'COG-M'!P1882","v":0}]
[null,null,12,{"$f":"'COG-M'!P1883","v":0}]
[null,null,13,{"$f":"'COG-M'!P1884","v":0}]
[null,null,14,{"$f":"'COG-M'!P1885","v":0}]
[null,null,15,{"$f":"'COG-M'!P1886","v":0}]
[null,null,16,{"$f":"'COG-M'!P1887","v":0}]
[null,null,17,{"$f":"'COG-M'!P1888","v":0}]
[null,null,25,{"$f":"'COG-M'!P1889","v":0}]
[null,null,26,{"$f":"'COG-M'!P1890","v":0}]
[null,null,27,{"$f":"'COG-M'!P1891","v":0}]
[514,"Objetos de valor",11,{"$f":"'COG-M'!P1892","v":0}]
[null,null,12,{"$f":"'COG-M'!P1893","v":0}]
[null,null,13,{"$f":"'COG-M'!P1894","v":0}]
[null,null,14,{"$f":"'COG-M'!P1895","v":0}]
[null,null,15,{"$f":"'COG-M'!P1896","v":0}]
[null,null,16,{"$f":"'COG-M'!P1897","v":0}]
[null,null,17,{"$f":"'COG-M'!P1898","v":0}]
[null,null,25,{"$f":"'COG-M'!P1899","v":0}]
[null,null,26,{"$f":"'COG-M'!P1900","v":0}]
[null,null,27,{"$f":"'COG-M'!P1901","v":0}]
[515,"Equipo de cómputo de tecnologías de la información",11,{"$f":"'COG-M'!P1902","v":0}]
[null,null,12,{"$f":"'COG-M'!P1903","v":0}]
[null,null,13,{"$f":"'COG-M'!P1904","v":0}]
[null,null,14,{"$f":"'COG-M'!P1905","v":0}]
[null,null,15,{"$f":"'COG-M'!P1906","v":0}]
[null,null,16,{"$f":"'COG-M'!P1907","v":0}]
[null,null,17,{"$f":"'COG-M'!P1908","v":0}]
[null,null,25,{"$f":"'COG-M'!P1909","v":0}]
[null,null,26,{"$f":"'COG-M'!P1910","v":0}]
[null,null,27,{"$f":"'COG-M'!P1911","v":0}]
[519,"Otros mobiliarios y equipos de administración",11,{"$f":"'COG-M'!P1912","v":0}]
[null,null,12,{"$f":"'COG-M'!P1913","v":0}]
[null,null,13,{"$f":"'COG-M'!P1914","v":0}]
[null,null,14,{"$f":"'COG-M'!P1915","v":0}]
[null,null,15,{"$f":"'COG-M'!P1916","v":0}]
[null,null,16,{"$f":"'COG-M'!P1917","v":0}]
[null,null,17,{"$f":"'COG-M'!P1918","v":0}]
[null,null,25,{"$f":"'COG-M'!P1919","v":0}]
[null,null,26,{"$f":"'COG-M'!P1920","v":0}]
[null,null,27,{"$f":"'COG-M'!P1921","v":0}]
[5200,"MOBILIARIO Y EQUIPO EDUCACIONAL Y RECREATIVO",null,{"$f":"'COG-M'!P1922","v":0}]
[521,"Equipos y aparatos audiovisuales",11,{"$f":"'COG-M'!P1923","v":0}]
[null,null,12,{"$f":"'COG-M'!P1924","v":0}]
[null,null,13,{"$f":"'COG-M'!P1925","v":0}]
[null,null,14,{"$f":"'COG-M'!P1926","v":0}]
[null,null,15,{"$f":"'COG-M'!P1927","v":0}]
[null,null,16,{"$f":"'COG-M'!P1928","v":0}]
[null,null,17,{"$f":"'COG-M'!P1929","v":0}]
[null,null,25,{"$f":"'COG-M'!P1930","v":0}]
[null,null,26,{"$f":"'COG-M'!P1931","v":0}]
[null,null,27,{"$f":"'COG-M'!P1932","v":0}]
[522,"Aparatos deportivos",11,{"$f":"'COG-M'!P1933","v":0}]
[null,null,12,{"$f":"'COG-M'!P1934","v":0}]
[null,null,13,{"$f":"'COG-M'!P1935","v":0}]
[null,null,14,{"$f":"'COG-M'!P1936","v":0}]
[null,null,15,{"$f":"'COG-M'!P1937","v":0}]
[null,null,16,{"$f":"'COG-M'!P1938","v":0}]
[null,null,17,{"$f":"'COG-M'!P1939","v":0}]
[null,null,25,{"$f":"'COG-M'!P1940","v":0}]
[null,null,26,{"$f":"'COG-M'!P1941","v":0}]
[null,null,27,{"$f":"'COG-M'!P1942","v":0}]
[523,"Cámaras fotográficas y de video",11,{"$f":"'COG-M'!P1943","v":0}]
[null,null,12,{"$f":"'COG-M'!P1944","v":0}]
[null,null,13,{"$f":"'COG-M'!P1945","v":0}]
[null,null,14,{"$f":"'COG-M'!P1946","v":0}]
[null,null,15,{"$f":"'COG-M'!P1947","v":0}]
[null,null,16,{"$f":"'COG-M'!P1948","v":0}]
[null,null,17,{"$f":"'COG-M'!P1949","v":0}]
[null,null,25,{"$f":"'COG-M'!P1950","v":0}]
[null,null,26,{"$f":"'COG-M'!P1951","v":0}]
[null,null,27,{"$f":"'COG-M'!P1952","v":0}]
[529,"Otro mobiliario y equipo educacional y recreativo ",11,{"$f":"'COG-M'!P1953","v":0}]
[null,null,12,{"$f":"'COG-M'!P1954","v":0}]
[null,null,13,{"$f":"'COG-M'!P1955","v":0}]
[null,null,14,{"$f":"'COG-M'!P1956","v":0}]
[null,null,15,{"$f":"'COG-M'!P1957","v":0}]
[null,null,16,{"$f":"'COG-M'!P1958","v":0}]
[null,null,17,{"$f":"'COG-M'!P1959","v":0}]
[null,null,25,{"$f":"'COG-M'!P1960","v":0}]
[null,null,26,{"$f":"'COG-M'!P1961","v":0}]
[null,null,27,{"$f":"'COG-M'!P1962","v":0}]
[5300,"EQUIPO E INSTRUMENTAL MÉDICO Y DE LABORATORIO",null,{"$f":"'COG-M'!P1963","v":0}]
[531,"Equipo médico y de laboratorio",11,{"$f":"'COG-M'!P1964","v":0}]
[null,null,12,{"$f":"'COG-M'!P1965","v":0}]
[null,null,13,{"$f":"'COG-M'!P1966","v":0}]
[null,null,14,{"$f":"'COG-M'!P1967","v":0}]
[null,null,15,{"$f":"'COG-M'!P1968","v":0}]
[null,null,16,{"$f":"'COG-M'!P1969","v":0}]
[null,null,17,{"$f":"'COG-M'!P1970","v":0}]
[null,null,25,{"$f":"'COG-M'!P1971","v":0}]
[null,null,26,{"$f":"'COG-M'!P1972","v":0}]
[null,null,27,{"$f":"'COG-M'!P1973","v":0}]
[532,"Instrumental médico y de laboratorio",11,{"$f":"'COG-M'!P1974","v":0}]
[null,null,12,{"$f":"'COG-M'!P1975","v":0}]
[null,null,13,{"$f":"'COG-M'!P1976","v":0}]
[null,null,14,{"$f":"'COG-M'!P1977","v":0}]
[null,null,15,{"$f":"'COG-M'!P1978","v":0}]
[null,null,16,{"$f":"'COG-M'!P1979","v":0}]
[null,null,17,{"$f":"'COG-M'!P1980","v":0}]
[null,null,25,{"$f":"'COG-M'!P1981","v":0}]
[null,null,26,{"$f":"'COG-M'!P1982","v":0}]
[null,null,27,{"$f":"'COG-M'!P1983","v":0}]
[5400,"VEHÍCULOS Y EQUIPO DE TRANSPORTE",null,{"$f":"'COG-M'!P1984","v":0}]
[541,"Vehículos y equipo terrestre",11,{"$f":"'COG-M'!P1985","v":0}]
[null,null,12,{"$f":"'COG-M'!P1986","v":0}]
[null,null,13,{"$f":"'COG-M'!P1987","v":0}]
[null,null,14,{"$f":"'COG-M'!P1988","v":0}]
[null,null,15,{"$f":"'COG-M'!P1989","v":0}]
[null,null,16,{"$f":"'COG-M'!P1990","v":0}]
[null,null,17,{"$f":"'COG-M'!P1991","v":0}]
[null,null,25,{"$f":"'COG-M'!P1992","v":0}]
[null,null,26,{"$f":"'COG-M'!P1993","v":0}]
[null,null,27,{"$f":"'COG-M'!P1994","v":0}]
[542,"Carrocerías  y remolques",11,{"$f":"'COG-M'!P1995","v":0}]
[null,null,12,{"$f":"'COG-M'!P1996","v":0}]
[null,null,13,{"$f":"'COG-M'!P1997","v":0}]
[null,null,14,{"$f":"'COG-M'!P1998","v":0}]
[null,null,15,{"$f":"'COG-M'!P1999","v":0}]
[null,null,16,{"$f":"'COG-M'!P2000","v":0}]
[null,null,17,{"$f":"'COG-M'!P2001","v":0}]
[null,null,25,{"$f":"'COG-M'!P2002","v":0}]
[null,null,26,{"$f":"'COG-M'!P2003","v":0}]
[null,null,27,{"$f":"'COG-M'!P2004","v":0}]
[543,"Equipo aeroespacial",11,{"$f":"'COG-M'!P2005","v":0}]
[null,null,12,{"$f":"'COG-M'!P2006","v":0}]
[null,null,13,{"$f":"'COG-M'!P2007","v":0}]
[null,null,14,{"$f":"'COG-M'!P2008","v":0}]
[null,null,15,{"$f":"'COG-M'!P2009","v":0}]
[null,null,16,{"$f":"'COG-M'!P2010","v":0}]
[null,null,17,{"$f":"'COG-M'!P2011","v":0}]
[null,null,25,{"$f":"'COG-M'!P2012","v":0}]
[null,null,26,{"$f":"'COG-M'!P2013","v":0}]
[null,null,27,{"$f":"'COG-M'!P2014","v":0}]
[544,"Equipo ferroviario",11,{"$f":"'COG-M'!P2015","v":0}]
[null,null,12,{"$f":"'COG-M'!P2016","v":0}]
[null,null,13,{"$f":"'COG-M'!P2017","v":0}]
[null,null,14,{"$f":"'COG-M'!P2018","v":0}]
[null,null,15,{"$f":"'COG-M'!P2019","v":0}]
[null,null,16,{"$f":"'COG-M'!P2020","v":0}]
[null,null,17,{"$f":"'COG-M'!P2021","v":0}]
[null,null,25,{"$f":"'COG-M'!P2022","v":0}]
[null,null,26,{"$f":"'COG-M'!P2023","v":0}]
[null,null,27,{"$f":"'COG-M'!P2024","v":0}]
[545,"Embarcaciones",11,{"$f":"'COG-M'!P2025","v":0}]
[null,null,12,{"$f":"'COG-M'!P2026","v":0}]
[null,null,13,{"$f":"'COG-M'!P2027","v":0}]
[null,null,14,{"$f":"'COG-M'!P2028","v":0}]
[null,null,15,{"$f":"'COG-M'!P2029","v":0}]
[null,null,16,{"$f":"'COG-M'!P2030","v":0}]
[null,null,17,{"$f":"'COG-M'!P2031","v":0}]
[null,null,25,{"$f":"'COG-M'!P2032","v":0}]
[null,null,26,{"$f":"'COG-M'!P2033","v":0}]
[null,null,27,{"$f":"'COG-M'!P2034","v":0}]
[549,"Otros equipo de transporte",11,{"$f":"'COG-M'!P2035","v":0}]
[null,null,12,{"$f":"'COG-M'!P2036","v":0}]
[null,null,13,{"$f":"'COG-M'!P2037","v":0}]
[null,null,14,{"$f":"'COG-M'!P2038","v":0}]
[null,null,15,{"$f":"'COG-M'!P2039","v":0}]
[null,null,16,{"$f":"'COG-M'!P2040","v":0}]
[null,null,17,{"$f":"'COG-M'!P2041","v":0}]
[null,null,25,{"$f":"'COG-M'!P2042","v":0}]
[null,null,26,{"$f":"'COG-M'!P2043","v":0}]
[null,null,27,{"$f":"'COG-M'!P2044","v":0}]
[5500,"EQUIPO DE DEFENSA Y SEGURIDAD",null,{"$f":"'COG-M'!P2045","v":0}]
[551,"Equipo de defensa y seguridad",11,{"$f":"'COG-M'!P2046","v":0}]
[null,null,12,{"$f":"'COG-M'!P2047","v":0}]
[null,null,13,{"$f":"'COG-M'!P2048","v":0}]
[null,null,14,{"$f":"'COG-M'!P2049","v":0}]
[null,null,15,{"$f":"'COG-M'!P2050","v":0}]
[null,null,16,{"$f":"'COG-M'!P2051","v":0}]
[null,null,17,{"$f":"'COG-M'!P2052","v":0}]
[null,null,25,{"$f":"'COG-M'!P2053","v":0}]
[null,null,26,{"$f":"'COG-M'!P2054","v":0}]
[null,null,27,{"$f":"'COG-M'!P2055","v":0}]
[5600,"MAQUINARIA, OTROS EQUIPOS Y HERRAMIENTAS",null,{"$f":"'COG-M'!P2056","v":0}]
[561,"Maquinaria y equipo agropecuario",11,{"$f":"'COG-M'!P2057","v":0}]
[null,null,12,{"$f":"'COG-M'!P2058","v":0}]
[null,null,13,{"$f":"'COG-M'!P2059","v":0}]
[null,null,14,{"$f":"'COG-M'!P2060","v":0}]
[null,null,15,{"$f":"'COG-M'!P2061","v":0}]
[null,null,16,{"$f":"'COG-M'!P2062","v":0}]
[null,null,17,{"$f":"'COG-M'!P2063","v":0}]
[null,null,25,{"$f":"'COG-M'!P2064","v":0}]
[null,null,26,{"$f":"'COG-M'!P2065","v":0}]
[null,null,27,{"$f":"'COG-M'!P2066","v":0}]
[562,"Maquinaria y equipo industrial",11,{"$f":"'COG-M'!P2067","v":0}]
[null,null,12,{"$f":"'COG-M'!P2068","v":0}]
[null,null,13,{"$f":"'COG-M'!P2069","v":0}]
[null,null,14,{"$f":"'COG-M'!P2070","v":0}]
[null,null,15,{"$f":"'COG-M'!P2071","v":0}]
[null,null,16,{"$f":"'COG-M'!P2072","v":0}]
[null,null,17,{"$f":"'COG-M'!P2073","v":0}]
[null,null,25,{"$f":"'COG-M'!P2074","v":0}]
[null,null,26,{"$f":"'COG-M'!P2075","v":0}]
[null,null,27,{"$f":"'COG-M'!P2076","v":0}]
[563,"Maquinaria y equipo de construcción",11,{"$f":"'COG-M'!P2077","v":0}]
[null,null,12,{"$f":"'COG-M'!P2078","v":0}]
[null,null,13,{"$f":"'COG-M'!P2079","v":0}]
[null,null,14,{"$f":"'COG-M'!P2080","v":0}]
[null,null,15,{"$f":"'COG-M'!P2081","v":0}]
[null,null,16,{"$f":"'COG-M'!P2082","v":0}]
[null,null,17,{"$f":"'COG-M'!P2083","v":0}]
[null,null,25,{"$f":"'COG-M'!P2084","v":0}]
[null,null,26,{"$f":"'COG-M'!P2085","v":0}]
[null,null,27,{"$f":"'COG-M'!P2086","v":0}]
[564,"Sistemas de aire acondicionado, calefacción y de refrigeración industrial y comercial",11,{"$f":"'COG-M'!P2087","v":0}]
[null,null,12,{"$f":"'COG-M'!P2088","v":0}]
[null,null,13,{"$f":"'COG-M'!P2089","v":0}]
[null,null,14,{"$f":"'COG-M'!P2090","v":0}]
[null,null,15,{"$f":"'COG-M'!P2091","v":0}]
[null,null,16,{"$f":"'COG-M'!P2092","v":0}]
[null,null,17,{"$f":"'COG-M'!P2093","v":0}]
[null,null,25,{"$f":"'COG-M'!P2094","v":0}]
[null,null,26,{"$f":"'COG-M'!P2095","v":0}]
[null,null,27,{"$f":"'COG-M'!P2096","v":0}]
[565,"Equipo de comunicación y telecomunicación",11,{"$f":"'COG-M'!P2097","v":0}]
[null,null,12,{"$f":"'COG-M'!P2098","v":0}]
[null,null,13,{"$f":"'COG-M'!P2099","v":0}]
[null,null,14,{"$f":"'COG-M'!P2100","v":0}]
[null,null,15,{"$f":"'COG-M'!P2101","v":0}]
[null,null,16,{"$f":"'COG-M'!P2102","v":0}]
[null,null,17,{"$f":"'COG-M'!P2103","v":0}]
[null,null,25,{"$f":"'COG-M'!P2104","v":0}]
[null,null,26,{"$f":"'COG-M'!P2105","v":0}]
[null,null,27,{"$f":"'COG-M'!P2106","v":0}]
[566,"Equipo de generación eléctrica, aparatos y accesorios eléctricos",11,{"$f":"'COG-M'!P2107","v":0}]
[null,null,12,{"$f":"'COG-M'!P2108","v":0}]
[null,null,13,{"$f":"'COG-M'!P2109","v":0}]
[null,null,14,{"$f":"'COG-M'!P2110","v":0}]
[null,null,15,{"$f":"'COG-M'!P2111","v":0}]
[null,null,16,{"$f":"'COG-M'!P2112","v":0}]
[null,null,17,{"$f":"'COG-M'!P2113","v":0}]
[null,null,25,{"$f":"'COG-M'!P2114","v":0}]
[null,null,26,{"$f":"'COG-M'!P2115","v":0}]
[null,null,27,{"$f":"'COG-M'!P2116","v":0}]
[567,"Herramientas y máquinas-herramienta",11,{"$f":"'COG-M'!P2117","v":0}]
[null,null,12,{"$f":"'COG-M'!P2118","v":0}]
[null,null,13,{"$f":"'COG-M'!P2119","v":0}]
[null,null,14,{"$f":"'COG-M'!P2120","v":0}]
[null,null,15,{"$f":"'COG-M'!P2121","v":0}]
[null,null,16,{"$f":"'COG-M'!P2122","v":0}]
[null,null,17,{"$f":"'COG-M'!P2123","v":0}]
[null,null,25,{"$f":"'COG-M'!P2124","v":0}]
[null,null,26,{"$f":"'COG-M'!P2125","v":0}]
[null,null,27,{"$f":"'COG-M'!P2126","v":0}]
[569,"Otros equipos",11,{"$f":"'COG-M'!P2127","v":0}]
[null,null,12,{"$f":"'COG-M'!P2128","v":0}]
[null,null,13,{"$f":"'COG-M'!P2129","v":0}]
[null,null,14,{"$f":"'COG-M'!P2130","v":0}]
[null,null,15,{"$f":"'COG-M'!P2131","v":0}]
[null,null,16,{"$f":"'COG-M'!P2132","v":0}]
[null,null,17,{"$f":"'COG-M'!P2133","v":0}]
[null,null,25,{"$f":"'COG-M'!P2134","v":0}]
[null,null,26,{"$f":"'COG-M'!P2135","v":0}]
[null,null,27,{"$f":"'COG-M'!P2136","v":0}]
[5700,"ACTIVOS BIOLÓGICOS",null,{"$f":"'COG-M'!P2137","v":0}]
[571,"Bovinos",11,{"$f":"'COG-M'!P2138","v":0}]
[null,null,12,{"$f":"'COG-M'!P2139","v":0}]
[null,null,13,{"$f":"'COG-M'!P2140","v":0}]
[null,null,14,{"$f":"'COG-M'!P2141","v":0}]
[null,null,15,{"$f":"'COG-M'!P2142","v":0}]
[null,null,16,{"$f":"'COG-M'!P2143","v":0}]
[null,null,17,{"$f":"'COG-M'!P2144","v":0}]
[null,null,25,{"$f":"'COG-M'!P2145","v":0}]
[null,null,26,{"$f":"'COG-M'!P2146","v":0}]
[null,null,27,{"$f":"'COG-M'!P2147","v":0}]
[572,"Porcinos",11,{"$f":"'COG-M'!P2148","v":0}]
[null,null,12,{"$f":"'COG-M'!P2149","v":0}]
[null,null,13,{"$f":"'COG-M'!P2150","v":0}]
[null,null,14,{"$f":"'COG-M'!P2151","v":0}]
[null,null,15,{"$f":"'COG-M'!P2152","v":0}]
[null,null,16,{"$f":"'COG-M'!P2153","v":0}]
[null,null,17,{"$f":"'COG-M'!P2154","v":0}]
[null,null,25,{"$f":"'COG-M'!P2155","v":0}]
[null,null,26,{"$f":"'COG-M'!P2156","v":0}]
[null,null,27,{"$f":"'COG-M'!P2157","v":0}]
[573,"Aves",11,{"$f":"'COG-M'!P2158","v":0}]
[null,null,12,{"$f":"'COG-M'!P2159","v":0}]
[null,null,13,{"$f":"'COG-M'!P2160","v":0}]
[null,null,14,{"$f":"'COG-M'!P2161","v":0}]
[null,null,15,{"$f":"'COG-M'!P2162","v":0}]
[null,null,16,{"$f":"'COG-M'!P2163","v":0}]
[null,null,17,{"$f":"'COG-M'!P2164","v":0}]
[null,null,25,{"$f":"'COG-M'!P2165","v":0}]
[null,null,26,{"$f":"'COG-M'!P2166","v":0}]
[null,null,27,{"$f":"'COG-M'!P2167","v":0}]
[574,"Ovinos y caprinos ",11,{"$f":"'COG-M'!P2168","v":0}]
[null,null,12,{"$f":"'COG-M'!P2169","v":0}]
[null,null,13,{"$f":"'COG-M'!P2170","v":0}]
[null,null,14,{"$f":"'COG-M'!P2171","v":0}]
[null,null,15,{"$f":"'COG-M'!P2172","v":0}]
[null,null,16,{"$f":"'COG-M'!P2173","v":0}]
[null,null,17,{"$f":"'COG-M'!P2174","v":0}]
[null,null,25,{"$f":"'COG-M'!P2175","v":0}]
[null,null,26,{"$f":"'COG-M'!P2176","v":0}]
[null,null,27,{"$f":"'COG-M'!P2177","v":0}]
[575,"Peces y acuicultura",11,{"$f":"'COG-M'!P2178","v":0}]
[null,null,12,{"$f":"'COG-M'!P2179","v":0}]
[null,null,13,{"$f":"'COG-M'!P2180","v":0}]
[null,null,14,{"$f":"'COG-M'!P2181","v":0}]
[null,null,15,{"$f":"'COG-M'!P2182","v":0}]
[null,null,16,{"$f":"'COG-M'!P2183","v":0}]
[null,null,17,{"$f":"'COG-M'!P2184","v":0}]
[null,null,25,{"$f":"'COG-M'!P2185","v":0}]
[null,null,26,{"$f":"'COG-M'!P2186","v":0}]
[null,null,27,{"$f":"'COG-M'!P2187","v":0}]
[576,"Equinos",11,{"$f":"'COG-M'!P2188","v":0}]
[null,null,12,{"$f":"'COG-M'!P2189","v":0}]
[null,null,13,{"$f":"'COG-M'!P2190","v":0}]
[null,null,14,{"$f":"'COG-M'!P2191","v":0}]
[null,null,15,{"$f":"'COG-M'!P2192","v":0}]
[null,null,16,{"$f":"'COG-M'!P2193","v":0}]
[null,null,17,{"$f":"'COG-M'!P2194","v":0}]
[null,null,25,{"$f":"'COG-M'!P2195","v":0}]
[null,null,26,{"$f":"'COG-M'!P2196","v":0}]
[null,null,27,{"$f":"'COG-M'!P2197","v":0}]
[577,"Especies menores y de zoológico",11,{"$f":"'COG-M'!P2198","v":0}]
[null,null,12,{"$f":"'COG-M'!P2199","v":0}]
[null,null,13,{"$f":"'COG-M'!P2200","v":0}]
[null,null,14,{"$f":"'COG-M'!P2201","v":0}]
[null,null,15,{"$f":"'COG-M'!P2202","v":0}]
[null,null,16,{"$f":"'COG-M'!P2203","v":0}]
[null,null,17,{"$f":"'COG-M'!P2204","v":0}]
[null,null,25,{"$f":"'COG-M'!P2205","v":0}]
[null,null,26,{"$f":"'COG-M'!P2206","v":0}]
[null,null,27,{"$f":"'COG-M'!P2207","v":0}]
[578,"Árboles y plantas",11,{"$f":"'COG-M'!P2208","v":0}]
[null,null,12,{"$f":"'COG-M'!P2209","v":0}]
[null,null,13,{"$f":"'COG-M'!P2210","v":0}]
[null,null,14,{"$f":"'COG-M'!P2211","v":0}]
[null,null,15,{"$f":"'COG-M'!P2212","v":0}]
[null,null,16,{"$f":"'COG-M'!P2213","v":0}]
[null,null,17,{"$f":"'COG-M'!P2214","v":0}]
[null,null,25,{"$f":"'COG-M'!P2215","v":0}]
[null,null,26,{"$f":"'COG-M'!P2216","v":0}]
[null,null,27,{"$f":"'COG-M'!P2217","v":0}]
[579,"Otros activos biológicos",11,{"$f":"'COG-M'!P2218","v":0}]
[null,null,12,{"$f":"'COG-M'!P2219","v":0}]
[null,null,13,{"$f":"'COG-M'!P2220","v":0}]
[null,null,14,{"$f":"'COG-M'!P2221","v":0}]
[null,null,15,{"$f":"'COG-M'!P2222","v":0}]
[null,null,16,{"$f":"'COG-M'!P2223","v":0}]
[null,null,17,{"$f":"'COG-M'!P2224","v":0}]
[null,null,25,{"$f":"'COG-M'!P2225","v":0}]
[null,null,26,{"$f":"'COG-M'!P2226","v":0}]
[null,null,27,{"$f":"'COG-M'!P2227","v":0}]
[5800,"BIENES INMUEBLES",null,{"$f":"'COG-M'!P2228","v":0}]
[581,"Terrenos",11,{"$f":"'COG-M'!P2229","v":0}]
[null,null,12,{"$f":"'COG-M'!P2230","v":0}]
[null,null,13,{"$f":"'COG-M'!P2231","v":0}]
[null,null,14,{"$f":"'COG-M'!P2232","v":0}]
[null,null,15,{"$f":"'COG-M'!P2233","v":0}]
[null,null,16,{"$f":"'COG-M'!P2234","v":0}]
[null,null,17,{"$f":"'COG-M'!P2235","v":0}]
[null,null,25,{"$f":"'COG-M'!P2236","v":0}]
[null,null,26,{"$f":"'COG-M'!P2237","v":0}]
[null,null,27,{"$f":"'COG-M'!P2238","v":0}]
[582,"Viviendas ",11,{"$f":"'COG-M'!P2239","v":0}]
[null,null,12,{"$f":"'COG-M'!P2240","v":0}]
[null,null,13,{"$f":"'COG-M'!P2241","v":0}]
[null,null,14,{"$f":"'COG-M'!P2242","v":0}]
[null,null,15,{"$f":"'COG-M'!P2243","v":0}]
[null,null,16,{"$f":"'COG-M'!P2244","v":0}]
[null,null,17,{"$f":"'COG-M'!P2245","v":0}]
[null,null,25,{"$f":"'COG-M'!P2246","v":0}]
[null,null,26,{"$f":"'COG-M'!P2247","v":0}]
[null,null,27,{"$f":"'COG-M'!P2248","v":0}]
[583,"Edificios no residenciales",11,{"$f":"'COG-M'!P2249","v":0}]
[null,null,12,{"$f":"'COG-M'!P2250","v":0}]
[null,null,13,{"$f":"'COG-M'!P2251","v":0}]
[null,null,14,{"$f":"'COG-M'!P2252","v":0}]
[null,null,15,{"$f":"'COG-M'!P2253","v":0}]
[null,null,16,{"$f":"'COG-M'!P2254","v":0}]
[null,null,17,{"$f":"'COG-M'!P2255","v":0}]
[null,null,25,{"$f":"'COG-M'!P2256","v":0}]
[null,null,26,{"$f":"'COG-M'!P2257","v":0}]
[null,null,27,{"$f":"'COG-M'!P2258","v":0}]
[589,"Otros bienes inmuebles",11,{"$f":"'COG-M'!P2259","v":0}]
[null,null,12,{"$f":"'COG-M'!P2260","v":0}]
[null,null,13,{"$f":"'COG-M'!P2261","v":0}]
[null,null,14,{"$f":"'COG-M'!P2262","v":0}]
[null,null,15,{"$f":"'COG-M'!P2263","v":0}]
[null,null,16,{"$f":"'COG-M'!P2264","v":0}]
[null,null,17,{"$f":"'COG-M'!P2265","v":0}]
[null,null,25,{"$f":"'COG-M'!P2266","v":0}]
[null,null,26,{"$f":"'COG-M'!P2267","v":0}]
[null,null,27,{"$f":"'COG-M'!P2268","v":0}]
[5900,"ACTIVOS INTANGIBLES",null,{"$f":"'COG-M'!P2269","v":0}]
[591,"Software",11,{"$f":"'COG-M'!P2270","v":0}]
[null,null,12,{"$f":"'COG-M'!P2271","v":0}]
[null,null,13,{"$f":"'COG-M'!P2272","v":0}]
[null,null,14,{"$f":"'COG-M'!P2273","v":0}]
[null,null,15,{"$f":"'COG-M'!P2274","v":0}]
[null,null,16,{"$f":"'COG-M'!P2275","v":0}]
[null,null,17,{"$f":"'COG-M'!P2276","v":0}]
[null,null,25,{"$f":"'COG-M'!P2277","v":0}]
[null,null,26,{"$f":"'COG-M'!P2278","v":0}]
[null,null,27,{"$f":"'COG-M'!P2279","v":0}]
[592,"Patentes",11,{"$f":"'COG-M'!P2280","v":0}]
[null,null,12,{"$f":"'COG-M'!P2281","v":0}]
[null,null,13,{"$f":"'COG-M'!P2282","v":0}]
[null,null,14,{"$f":"'COG-M'!P2283","v":0}]
[null,null,15,{"$f":"'COG-M'!P2284","v":0}]
[null,null,16,{"$f":"'COG-M'!P2285","v":0}]
[null,null,17,{"$f":"'COG-M'!P2286","v":0}]
[null,null,25,{"$f":"'COG-M'!P2287","v":0}]
[null,null,26,{"$f":"'COG-M'!P2288","v":0}]
[null,null,27,{"$f":"'COG-M'!P2289","v":0}]
[593,"Marcas",11,{"$f":"'COG-M'!P2290","v":0}]
[null,null,12,{"$f":"'COG-M'!P2291","v":0}]
[null,null,13,{"$f":"'COG-M'!P2292","v":0}]
[null,null,14,{"$f":"'COG-M'!P2293","v":0}]
[null,null,15,{"$f":"'COG-M'!P2294","v":0}]
[null,null,16,{"$f":"'COG-M'!P2295","v":0}]
[null,null,17,{"$f":"'COG-M'!P2296","v":0}]
[null,null,25,{"$f":"'COG-M'!P2297","v":0}]
[null,null,26,{"$f":"'COG-M'!P2298","v":0}]
[null,null,27,{"$f":"'COG-M'!P2299","v":0}]
[594,"Derechos",11,{"$f":"'COG-M'!P2300","v":0}]
[null,null,12,{"$f":"'COG-M'!P2301","v":0}]
[null,null,13,{"$f":"'COG-M'!P2302","v":0}]
[null,null,14,{"$f":"'COG-M'!P2303","v":0}]
[null,null,15,{"$f":"'COG-M'!P2304","v":0}]
[null,null,16,{"$f":"'COG-M'!P2305","v":0}]
[null,null,17,{"$f":"'COG-M'!P2306","v":0}]
[null,null,25,{"$f":"'COG-M'!P2307","v":0}]
[null,null,26,{"$f":"'COG-M'!P2308","v":0}]
[null,null,27,{"$f":"'COG-M'!P2309","v":0}]
[595,"Concesiones",11,{"$f":"'COG-M'!P2310","v":0}]
[null,null,12,{"$f":"'COG-M'!P2311","v":0}]
[null,null,13,{"$f":"'COG-M'!P2312","v":0}]
[null,null,14,{"$f":"'COG-M'!P2313","v":0}]
[null,null,15,{"$f":"'COG-M'!P2314","v":0}]
[null,null,16,{"$f":"'COG-M'!P2315","v":0}]
[null,null,17,{"$f":"'COG-M'!P2316","v":0}]
[null,null,25,{"$f":"'COG-M'!P2317","v":0}]
[null,null,26,{"$f":"'COG-M'!P2318","v":0}]
[null,null,27,{"$f":"'COG-M'!P2319","v":0}]
[596,"Franquicias",11,{"$f":"'COG-M'!P2320","v":0}]
[null,null,12,{"$f":"'COG-M'!P2321","v":0}]
[null,null,13,{"$f":"'COG-M'!P2322","v":0}]
[null,null,14,{"$f":"'COG-M'!P2323","v":0}]
[null,null,15,{"$f":"'COG-M'!P2324","v":0}]
[null,null,16,{"$f":"'COG-M'!P2325","v":0}]
[null,null,17,{"$f":"'COG-M'!P2326","v":0}]
[null,null,25,{"$f":"'COG-M'!P2327","v":0}]
[null,null,26,{"$f":"'COG-M'!P2328","v":0}]
[null,null,27,{"$f":"'COG-M'!P2329","v":0}]
[597,"Licencias informáticas e intelectuales",11,{"$f":"'COG-M'!P2330","v":0}]
[null,null,12,{"$f":"'COG-M'!P2331","v":0}]
[null,null,13,{"$f":"'COG-M'!P2332","v":0}]
[null,null,14,{"$f":"'COG-M'!P2333","v":0}]
[null,null,15,{"$f":"'COG-M'!P2334","v":0}]
[null,null,16,{"$f":"'COG-M'!P2335","v":0}]
[null,null,17,{"$f":"'COG-M'!P2336","v":0}]
[null,null,25,{"$f":"'COG-M'!P2337","v":0}]
[null,null,26,{"$f":"'COG-M'!P2338","v":0}]
[null,null,27,{"$f":"'COG-M'!P2339","v":0}]
[598,"Licencias industriales, comerciales y otras",11,{"$f":"'COG-M'!P2340","v":0}]
[null,null,12,{"$f":"'COG-M'!P2341","v":0}]
[null,null,13,{"$f":"'COG-M'!P2342","v":0}]
[null,null,14,{"$f":"'COG-M'!P2343","v":0}]
[null,null,15,{"$f":"'COG-M'!P2344","v":0}]
[null,null,16,{"$f":"'COG-M'!P2345","v":0}]
[null,null,17,{"$f":"'COG-M'!P2346","v":0}]
[null,null,25,{"$f":"'COG-M'!P2347","v":0}]
[null,null,26,{"$f":"'COG-M'!P2348","v":0}]
[null,null,27,{"$f":"'COG-M'!P2349","v":0}]
[599,"Otros activos intangibles",11,{"$f":"'COG-M'!P2350","v":0}]
[null,null,12,{"$f":"'COG-M'!P2351","v":0}]
[null,null,13,{"$f":"'COG-M'!P2352","v":0}]
[null,null,14,{"$f":"'COG-M'!P2353","v":0}]
[null,null,15,{"$f":"'COG-M'!P2354","v":0}]
[null,null,16,{"$f":"'COG-M'!P2355","v":0}]
[null,null,17,{"$f":"'COG-M'!P2356","v":0}]
[null,null,25,{"$f":"'COG-M'!P2357","v":0}]
[null,null,26,{"$f":"'COG-M'!P2358","v":0}]
[null,null,27,{"$f":"'COG-M'!P2359","v":0}]
[6000,"INVERSIÓN PÚBLICA",null,{"$f":"'COG-M'!P2360","v":0}]
[6100,"OBRA PÚBLICA EN BIENES DE DOMINIO PÚBLICO",null,{"$f":"'COG-M'!P2361","v":0}]
[611,"Edificación habitacional",11,{"$f":"'COG-M'!P2362","v":0}]
[null,null,12,{"$f":"'COG-M'!P2363","v":0}]
[null,null,13,{"$f":"'COG-M'!P2364","v":0}]
[null,null,14,{"$f":"'COG-M'!P2365","v":0}]
[null,null,15,{"$f":"'COG-M'!P2366","v":0}]
[null,null,16,{"$f":"'COG-M'!P2367","v":0}]
[null,null,17,{"$f":"'COG-M'!P2368","v":0}]
[null,null,25,{"$f":"'COG-M'!P2369","v":0}]
[null,null,26,{"$f":"'COG-M'!P2370","v":0}]
[null,null,27,{"$f":"'COG-M'!P2371","v":0}]
[612,"Edificación no  habitacional",11,{"$f":"'COG-M'!P2372","v":0}]
[null,null,12,{"$f":"'COG-M'!P2373","v":0}]
[null,null,13,{"$f":"'COG-M'!P2374","v":0}]
[null,null,14,{"$f":"'COG-M'!P2375","v":0}]
[null,null,15,{"$f":"'COG-M'!P2376","v":0}]
[null,null,16,{"$f":"'COG-M'!P2377","v":0}]
[null,null,17,{"$f":"'COG-M'!P2378","v":0}]
[null,null,25,{"$f":"'COG-M'!P2379","v":0}]
[null,null,26,{"$f":"'COG-M'!P2380","v":0}]
[null,null,27,{"$f":"'COG-M'!P2381","v":0}]
[613,"Construcción de obras para el abastecimiento de agua, petróleo, gas, electricidad y telecomunicaciones",11,{"$f":"'COG-M'!P2382","v":0}]
[null,null,12,{"$f":"'COG-M'!P2383","v":0}]
[null,null,13,{"$f":"'COG-M'!P2384","v":0}]
[null,null,14,{"$f":"'COG-M'!P2385","v":0}]
[null,null,15,{"$f":"'COG-M'!P2386","v":0}]
[null,null,16,{"$f":"'COG-M'!P2387","v":0}]
[null,null,17,{"$f":"'COG-M'!P2388","v":0}]
[null,null,25,{"$f":"'COG-M'!P2389","v":0}]
[null,null,26,{"$f":"'COG-M'!P2390","v":0}]
[null,null,27,{"$f":"'COG-M'!P2391","v":0}]
[614,"División de terrenos y construcción de obras de urbanización",11,{"$f":"'COG-M'!P2392","v":0}]
[null,null,12,{"$f":"'COG-M'!P2393","v":0}]
[null,null,13,{"$f":"'COG-M'!P2394","v":0}]
[null,null,14,{"$f":"'COG-M'!P2395","v":0}]
[null,null,15,{"$f":"'COG-M'!P2396","v":0}]
[null,null,16,{"$f":"'COG-M'!P2397","v":0}]
[null,null,17,{"$f":"'COG-M'!P2398","v":0}]
[null,null,25,{"$f":"'COG-M'!P2399","v":0}]
[null,null,26,{"$f":"'COG-M'!P2400","v":0}]
[null,null,27,{"$f":"'COG-M'!P2401","v":0}]
[615,"Construcción de vías de comunicación",11,{"$f":"'COG-M'!P2402","v":0}]
[null,null,12,{"$f":"'COG-M'!P2403","v":0}]
[null,null,13,{"$f":"'COG-M'!P2404","v":0}]
[null,null,14,{"$f":"'COG-M'!P2405","v":0}]
[null,null,15,{"$f":"'COG-M'!P2406","v":0}]
[null,null,16,{"$f":"'COG-M'!P2407","v":0}]
[null,null,17,{"$f":"'COG-M'!P2408","v":0}]
[null,null,25,{"$f":"'COG-M'!P2409","v":0}]
[null,null,26,{"$f":"'COG-M'!P2410","v":0}]
[null,null,27,{"$f":"'COG-M'!P2411","v":0}]
[616,"Otras construcciones de ingeniería civil u obra pesada",11,{"$f":"'COG-M'!P2412","v":0}]
[null,null,12,{"$f":"'COG-M'!P2413","v":0}]
[null,null,13,{"$f":"'COG-M'!P2414","v":0}]
[null,null,14,{"$f":"'COG-M'!P2415","v":0}]
[null,null,15,{"$f":"'COG-M'!P2416","v":0}]
[null,null,16,{"$f":"'COG-M'!P2417","v":0}]
[null,null,17,{"$f":"'COG-M'!P2418","v":0}]
[null,null,25,{"$f":"'COG-M'!P2419","v":0}]
[null,null,26,{"$f":"'COG-M'!P2420","v":0}]
[null,null,27,{"$f":"'COG-M'!P2421","v":0}]
[617,"Instalaciones y equipamiento en construcciones",11,{"$f":"'COG-M'!P2422","v":0}]
[null,null,12,{"$f":"'COG-M'!P2423","v":0}]
[null,null,13,{"$f":"'COG-M'!P2424","v":0}]
[null,null,14,{"$f":"'COG-M'!P2425","v":0}]
[null,null,15,{"$f":"'COG-M'!P2426","v":0}]
[null,null,16,{"$f":"'COG-M'!P2427","v":0}]
[null,null,17,{"$f":"'COG-M'!P2428","v":0}]
[null,null,25,{"$f":"'COG-M'!P2429","v":0}]
[null,null,26,{"$f":"'COG-M'!P2430","v":0}]
[null,null,27,{"$f":"'COG-M'!P2431","v":0}]
[619,"Trabajo de acabados en edificaciones y otros trabajos especializados",11,{"$f":"'COG-M'!P2432","v":0}]
[null,null,12,{"$f":"'COG-M'!P2433","v":0}]
[null,null,13,{"$f":"'COG-M'!P2434","v":0}]
[null,null,14,{"$f":"'COG-M'!P2435","v":0}]
[null,null,15,{"$f":"'COG-M'!P2436","v":0}]
[null,null,16,{"$f":"'COG-M'!P2437","v":0}]
[null,null,17,{"$f":"'COG-M'!P2438","v":0}]
[null,null,25,{"$f":"'COG-M'!P2439","v":0}]
[null,null,26,{"$f":"'COG-M'!P2440","v":0}]
[null,null,27,{"$f":"'COG-M'!P2441","v":0}]
[6200,"OBRA PÚBLICA EN BIENES PROPIOS",null,{"$f":"'COG-M'!P2442","v":0}]
[621,"Edificación habitacional",11,{"$f":"'COG-M'!P2443","v":0}]
[null,null,12,{"$f":"'COG-M'!P2444","v":0}]
[null,null,13,{"$f":"'COG-M'!P2445","v":0}]
[null,null,14,{"$f":"'COG-M'!P2446","v":0}]
[null,null,15,{"$f":"'COG-M'!P2447","v":0}]
[null,null,16,{"$f":"'COG-M'!P2448","v":0}]
[null,null,17,{"$f":"'COG-M'!P2449","v":0}]
[null,null,25,{"$f":"'COG-M'!P2450","v":0}]
[null,null,26,{"$f":"'COG-M'!P2451","v":0}]
[null,null,27,{"$f":"'COG-M'!P2452","v":0}]
[622,"Edificación no habitacional",11,{"$f":"'COG-M'!P2453","v":0}]
[null,null,12,{"$f":"'COG-M'!P2454","v":0}]
[null,null,13,{"$f":"'COG-M'!P2455","v":0}]
[null,null,14,{"$f":"'COG-M'!P2456","v":0}]
[null,null,15,{"$f":"'COG-M'!P2457","v":0}]
[null,null,16,{"$f":"'COG-M'!P2458","v":0}]
[null,null,17,{"$f":"'COG-M'!P2459","v":0}]
[null,null,25,{"$f":"'COG-M'!P2460","v":0}]
[null,null,26,{"$f":"'COG-M'!P2461","v":0}]
[null,null,27,{"$f":"'COG-M'!P2462","v":0}]
[623,"Construcción de obras para  el abastecimiento de agua,  petróleo, gas, electricidad y telecomunicaciones",11,{"$f":"'COG-M'!P2463","v":0}]
[null,null,12,{"$f":"'COG-M'!P2464","v":0}]
[null,null,13,{"$f":"'COG-M'!P2465","v":0}]
[null,null,14,{"$f":"'COG-M'!P2466","v":0}]
[null,null,15,{"$f":"'COG-M'!P2467","v":0}]
[null,null,16,{"$f":"'COG-M'!P2468","v":0}]
[null,null,17,{"$f":"'COG-M'!P2469","v":0}]
[null,null,25,{"$f":"'COG-M'!P2470","v":0}]
[null,null,26,{"$f":"'COG-M'!P2471","v":0}]
[null,null,27,{"$f":"'COG-M'!P2472","v":0}]
[624,"División de terrenos y construcción de obras de urbanización",11,{"$f":"'COG-M'!P2473","v":0}]
[null,null,12,{"$f":"'COG-M'!P2474","v":0}]
[null,null,13,{"$f":"'COG-M'!P2475","v":0}]
[null,null,14,{"$f":"'COG-M'!P2476","v":0}]
[null,null,15,{"$f":"'COG-M'!P2477","v":0}]
[null,null,16,{"$f":"'COG-M'!P2478","v":0}]
[null,null,17,{"$f":"'COG-M'!P2479","v":0}]
[null,null,25,{"$f":"'COG-M'!P2480","v":0}]
[null,null,26,{"$f":"'COG-M'!P2481","v":0}]
[null,null,27,{"$f":"'COG-M'!P2482","v":0}]
[625,"Construcción de vías de comunicación",11,{"$f":"'COG-M'!P2483","v":0}]
[null,null,12,{"$f":"'COG-M'!P2484","v":0}]
[null,null,13,{"$f":"'COG-M'!P2485","v":0}]
[null,null,14,{"$f":"'COG-M'!P2486","v":0}]
[null,null,15,{"$f":"'COG-M'!P2487","v":0}]
[null,null,16,{"$f":"'COG-M'!P2488","v":0}]
[null,null,17,{"$f":"'COG-M'!P2489","v":0}]
[null,null,25,{"$f":"'COG-M'!P2490","v":0}]
[null,null,26,{"$f":"'COG-M'!P2491","v":0}]
[null,null,27,{"$f":"'COG-M'!P2492","v":0}]
[626,"Otras construcciones de ingeniería civil u obra pesada",11,{"$f":"'COG-M'!P2493","v":0}]
[null,null,12,{"$f":"'COG-M'!P2494","v":0}]
[null,null,13,{"$f":"'COG-M'!P2495","v":0}]
[null,null,14,{"$f":"'COG-M'!P2496","v":0}]
[null,null,15,{"$f":"'COG-M'!P2497","v":0}]
[null,null,16,{"$f":"'COG-M'!P2498","v":0}]
[null,null,17,{"$f":"'COG-M'!P2499","v":0}]
[null,null,25,{"$f":"'COG-M'!P2500","v":0}]
[null,null,26,{"$f":"'COG-M'!P2501","v":0}]
[null,null,27,{"$f":"'COG-M'!P2502","v":0}]
[627,"Instalaciones y equipamiento en construcciones",11,{"$f":"'COG-M'!P2503","v":0}]
[null,null,12,{"$f":"'COG-M'!P2504","v":0}]
[null,null,13,{"$f":"'COG-M'!P2505","v":0}]
[null,null,14,{"$f":"'COG-M'!P2506","v":0}]
[null,null,15,{"$f":"'COG-M'!P2507","v":0}]
[null,null,16,{"$f":"'COG-M'!P2508","v":0}]
[null,null,17,{"$f":"'COG-M'!P2509","v":0}]
[null,null,25,{"$f":"'COG-M'!P2510","v":0}]
[null,null,26,{"$f":"'COG-M'!P2511","v":0}]
[null,null,27,{"$f":"'COG-M'!P2512","v":0}]
[629,"Trabajos de acabados en edificaciones y otros trabajos especializados",11,{"$f":"'COG-M'!P2513","v":0}]
[null,null,12,{"$f":"'COG-M'!P2514","v":0}]
[null,null,13,{"$f":"'COG-M'!P2515","v":0}]
[null,null,14,{"$f":"'COG-M'!P2516","v":0}]
[null,null,15,{"$f":"'COG-M'!P2517","v":0}]
[null,null,16,{"$f":"'COG-M'!P2518","v":0}]
[null,null,17,{"$f":"'COG-M'!P2519","v":0}]
[null,null,25,{"$f":"'COG-M'!P2520","v":0}]
[null,null,26,{"$f":"'COG-M'!P2521","v":0}]
[null,null,27,{"$f":"'COG-M'!P2522","v":0}]
[6300,"PROYECTOS PRODUCTIVOS Y ACCIONES DE FOMENTO",null,{"$f":"'COG-M'!P2523","v":0}]
[631,"Estudios, formulación y evaluación de proyectos productivos no incluidos en conceptos anteriores de este capítulo",11,{"$f":"'COG-M'!P2524","v":0}]
[null,null,12,{"$f":"'COG-M'!P2525","v":0}]
[null,null,13,{"$f":"'COG-M'!P2526","v":0}]
[null,null,14,{"$f":"'COG-M'!P2527","v":0}]
[null,null,15,{"$f":"'COG-M'!P2528","v":0}]
[null,null,16,{"$f":"'COG-M'!P2529","v":0}]
[null,null,17,{"$f":"'COG-M'!P2530","v":0}]
[null,null,25,{"$f":"'COG-M'!P2531","v":0}]
[null,null,26,{"$f":"'COG-M'!P2532","v":0}]
[null,null,27,{"$f":"'COG-M'!P2533","v":0}]
[632,"Ejecución de proyectos productivos no incluidos en conceptos anteriores de este capítulo",11,{"$f":"'COG-M'!P2534","v":0}]
[null,null,12,{"$f":"'COG-M'!P2535","v":0}]
[null,null,13,{"$f":"'COG-M'!P2536","v":0}]
[null,null,14,{"$f":"'COG-M'!P2537","v":0}]
[null,null,15,{"$f":"'COG-M'!P2538","v":0}]
[null,null,16,{"$f":"'COG-M'!P2539","v":0}]
[null,null,17,{"$f":"'COG-M'!P2540","v":0}]
[null,null,25,{"$f":"'COG-M'!P2541","v":0}]
[null,null,26,{"$f":"'COG-M'!P2542","v":0}]
[null,null,27,{"$f":"'COG-M'!P2543","v":0}]
[7000,"INVERSIONES FINANCIERAS Y OTRAS PROVISIONES",null,{"$f":"'COG-M'!P2544","v":0}]
[7100,"INVERSIONES PARA EL FOMENTO DE ACTIVIDADES PRODUCTIVAS",null,{"$f":"'COG-M'!P2545","v":0}]
[711,"Créditos otorgados por entidades federativas y municipios al sector social y privado para el fomento de actividades productivas",11,{"$f":"'COG-M'!P2546","v":0}]
[null,null,12,{"$f":"'COG-M'!P2547","v":0}]
[null,null,13,{"$f":"'COG-M'!P2548","v":0}]
[null,null,14,{"$f":"'COG-M'!P2549","v":0}]
[null,null,15,{"$f":"'COG-M'!P2550","v":0}]
[null,null,16,{"$f":"'COG-M'!P2551","v":0}]
[null,null,17,{"$f":"'COG-M'!P2552","v":0}]
[null,null,25,{"$f":"'COG-M'!P2553","v":0}]
[null,null,26,{"$f":"'COG-M'!P2554","v":0}]
[null,null,27,{"$f":"'COG-M'!P2555","v":0}]
[712,"Créditos otorgados por las entidades federativas a municipios para el fomento de actividades productivas",null,{"$f":"'COG-M'!P2556","v":0}]
[7200,"ACCIONES Y PARTICIPACIONES DE CAPITAL",null,{"$f":"'COG-M'!P2557","v":0}]
[721,"Acciones y participaciones de capital en entidades paraestatales no empresariales y no financieras con fines de política económica",11,{"$f":"'COG-M'!P2558","v":0}]
[null,null,12,{"$f":"'COG-M'!P2559","v":0}]
[null,null,13,{"$f":"'COG-M'!P2560","v":0}]
[null,null,14,{"$f":"'COG-M'!P2561","v":0}]
[null,null,15,{"$f":"'COG-M'!P2562","v":0}]
[null,null,16,{"$f":"'COG-M'!P2563","v":0}]
[null,null,17,{"$f":"'COG-M'!P2564","v":0}]
[null,null,25,{"$f":"'COG-M'!P2565","v":0}]
[null,null,26,{"$f":"'COG-M'!P2566","v":0}]
[null,null,27,{"$f":"'COG-M'!P2567","v":0}]
[722,"Acciones y participaciones de capital en entidades paraestatales empresariales y no financieras con fines de política económica",null,{"$f":"'COG-M'!P2568","v":0}]
[723,"Acciones  y participaciones de capital en instituciones paraestatales públicas financieras con fines de política económica",null,{"$f":"'COG-M'!P2569","v":0}]
[724,"Acciones y participaciones  de capital en el sector privado con fines de política económica",11,{"$f":"'COG-M'!P2570","v":0}]
[null,null,12,{"$f":"'COG-M'!P2571","v":0}]
[null,null,13,{"$f":"'COG-M'!P2572","v":0}]
[null,null,14,{"$f":"'COG-M'!P2573","v":0}]
[null,null,15,{"$f":"'COG-M'!P2574","v":0}]
[null,null,16,{"$f":"'COG-M'!P2575","v":0}]
[null,null,17,{"$f":"'COG-M'!P2576","v":0}]
[null,null,25,{"$f":"'COG-M'!P2577","v":0}]
[null,null,26,{"$f":"'COG-M'!P2578","v":0}]
[null,null,27,{"$f":"'COG-M'!P2579","v":0}]
[725,"Acciones y participaciones de capital en organismos internacionales con fines de política económica",11,{"$f":"'COG-M'!P2580","v":0}]
[null,null,12,{"$f":"'COG-M'!P2581","v":0}]
[null,null,13,{"$f":"'COG-M'!P2582","v":0}]
[null,null,14,{"$f":"'COG-M'!P2583","v":0}]
[null,null,15,{"$f":"'COG-M'!P2584","v":0}]
[null,null,16,{"$f":"'COG-M'!P2585","v":0}]
[null,null,17,{"$f":"'COG-M'!P2586","v":0}]
[null,null,25,{"$f":"'COG-M'!P2587","v":0}]
[null,null,26,{"$f":"'COG-M'!P2588","v":0}]
[null,null,27,{"$f":"'COG-M'!P2589","v":0}]
[726,"Acciones y participaciones de capital en el sector externo con fines de política económica",11,{"$f":"'COG-M'!P2590","v":0}]
[null,null,12,{"$f":"'COG-M'!P2591","v":0}]
[null,null,13,{"$f":"'COG-M'!P2592","v":0}]
[null,null,14,{"$f":"'COG-M'!P2593","v":0}]
[null,null,15,{"$f":"'COG-M'!P2594","v":0}]
[null,null,16,{"$f":"'COG-M'!P2595","v":0}]
[null,null,17,{"$f":"'COG-M'!P2596","v":0}]
[null,null,25,{"$f":"'COG-M'!P2597","v":0}]
[null,null,26,{"$f":"'COG-M'!P2598","v":0}]
[null,null,27,{"$f":"'COG-M'!P2599","v":0}]
[727,"Acciones y participaciones de capital en el sector público con fines de gestión de la liquidez",11,{"$f":"'COG-M'!P2600","v":0}]
[null,null,12,{"$f":"'COG-M'!P2601","v":0}]
[null,null,13,{"$f":"'COG-M'!P2602","v":0}]
[null,null,14,{"$f":"'COG-M'!P2603","v":0}]
[null,null,15,{"$f":"'COG-M'!P2604","v":0}]
[null,null,16,{"$f":"'COG-M'!P2605","v":0}]
[null,null,17,{"$f":"'COG-M'!P2606","v":0}]
[null,null,25,{"$f":"'COG-M'!P2607","v":0}]
[null,null,26,{"$f":"'COG-M'!P2608","v":0}]
[null,null,27,{"$f":"'COG-M'!P2609","v":0}]
[728,"Acciones y participaciones de capital  en el sector privado con fines de gestión de liquidez",11,{"$f":"'COG-M'!P2610","v":0}]
[null,null,12,{"$f":"'COG-M'!P2611","v":0}]
[null,null,13,{"$f":"'COG-M'!P2612","v":0}]
[null,null,14,{"$f":"'COG-M'!P2613","v":0}]
[null,null,15,{"$f":"'COG-M'!P2614","v":0}]
[null,null,16,{"$f":"'COG-M'!P2615","v":0}]
[null,null,17,{"$f":"'COG-M'!P2616","v":0}]
[null,null,25,{"$f":"'COG-M'!P2617","v":0}]
[null,null,26,{"$f":"'COG-M'!P2618","v":0}]
[null,null,27,{"$f":"'COG-M'!P2619","v":0}]
[729,"Acciones y participaciones de capital en el sector externo con fines de gestión  de liquidez",11,{"$f":"'COG-M'!P2620","v":0}]
[null,null,12,{"$f":"'COG-M'!P2621","v":0}]
[null,null,13,{"$f":"'COG-M'!P2622","v":0}]
[null,null,14,{"$f":"'COG-M'!P2623","v":0}]
[null,null,15,{"$f":"'COG-M'!P2624","v":0}]
[null,null,16,{"$f":"'COG-M'!P2625","v":0}]
[null,null,17,{"$f":"'COG-M'!P2626","v":0}]
[null,null,25,{"$f":"'COG-M'!P2627","v":0}]
[null,null,26,{"$f":"'COG-M'!P2628","v":0}]
[null,null,27,{"$f":"'COG-M'!P2629","v":0}]
[7300,"COMPRA DE TÍTULOS Y VALORES",null,{"$f":"'COG-M'!P2630","v":0}]
[731,"Bonos",11,{"$f":"'COG-M'!P2631","v":0}]
[null,null,12,{"$f":"'COG-M'!P2632","v":0}]
[null,null,13,{"$f":"'COG-M'!P2633","v":0}]
[null,null,14,{"$f":"'COG-M'!P2634","v":0}]
[null,null,15,{"$f":"'COG-M'!P2635","v":0}]
[null,null,16,{"$f":"'COG-M'!P2636","v":0}]
[null,null,17,{"$f":"'COG-M'!P2637","v":0}]
[null,null,25,{"$f":"'COG-M'!P2638","v":0}]
[null,null,26,{"$f":"'COG-M'!P2639","v":0}]
[null,null,27,{"$f":"'COG-M'!P2640","v":0}]
[732,"Valores representativos de deuda adquiridos con fines de política económica",11,{"$f":"'COG-M'!P2641","v":0}]
[null,null,12,{"$f":"'COG-M'!P2642","v":0}]
[null,null,13,{"$f":"'COG-M'!P2643","v":0}]
[null,null,14,{"$f":"'COG-M'!P2644","v":0}]
[null,null,15,{"$f":"'COG-M'!P2645","v":0}]
[null,null,16,{"$f":"'COG-M'!P2646","v":0}]
[null,null,17,{"$f":"'COG-M'!P2647","v":0}]
[null,null,25,{"$f":"'COG-M'!P2648","v":0}]
[null,null,26,{"$f":"'COG-M'!P2649","v":0}]
[null,null,27,{"$f":"'COG-M'!P2650","v":0}]
[733,"Valores representativos de deuda  adquiridos con fines de gestión de liquidez",11,{"$f":"'COG-M'!P2651","v":0}]
[null,null,12,{"$f":"'COG-M'!P2652","v":0}]
[null,null,13,{"$f":"'COG-M'!P2653","v":0}]
[null,null,14,{"$f":"'COG-M'!P2654","v":0}]
[null,null,15,{"$f":"'COG-M'!P2655","v":0}]
[null,null,16,{"$f":"'COG-M'!P2656","v":0}]
[null,null,17,{"$f":"'COG-M'!P2657","v":0}]
[null,null,25,{"$f":"'COG-M'!P2658","v":0}]
[null,null,26,{"$f":"'COG-M'!P2659","v":0}]
[null,null,27,{"$f":"'COG-M'!P2660","v":0}]
[734,"Obligaciones negociables adquiridas con fines de política económica",11,{"$f":"'COG-M'!P2661","v":0}]
[null,null,12,{"$f":"'COG-M'!P2662","v":0}]
[null,null,13,{"$f":"'COG-M'!P2663","v":0}]
[null,null,14,{"$f":"'COG-M'!P2664","v":0}]
[null,null,15,{"$f":"'COG-M'!P2665","v":0}]
[null,null,16,{"$f":"'COG-M'!P2666","v":0}]
[null,null,17,{"$f":"'COG-M'!P2667","v":0}]
[null,null,25,{"$f":"'COG-M'!P2668","v":0}]
[null,null,26,{"$f":"'COG-M'!P2669","v":0}]
[null,null,27,{"$f":"'COG-M'!P2670","v":0}]
[735,"Obligaciones negociables adquiridas con fines de gestión de liquidez",11,{"$f":"'COG-M'!P2671","v":0}]
[null,null,12,{"$f":"'COG-M'!P2672","v":0}]
[null,null,13,{"$f":"'COG-M'!P2673","v":0}]
[null,null,14,{"$f":"'COG-M'!P2674","v":0}]
[null,null,15,{"$f":"'COG-M'!P2675","v":0}]
[null,null,16,{"$f":"'COG-M'!P2676","v":0}]
[null,null,17,{"$f":"'COG-M'!P2677","v":0}]
[null,null,25,{"$f":"'COG-M'!P2678","v":0}]
[null,null,26,{"$f":"'COG-M'!P2679","v":0}]
[null,null,27,{"$f":"'COG-M'!P2680","v":0}]
[739,"Otros valores",11,{"$f":"'COG-M'!P2681","v":0}]
[null,null,12,{"$f":"'COG-M'!P2682","v":0}]
[null,null,13,{"$f":"'COG-M'!P2683","v":0}]
[null,null,14,{"$f":"'COG-M'!P2684","v":0}]
[null,null,15,{"$f":"'COG-M'!P2685","v":0}]
[null,null,16,{"$f":"'COG-M'!P2686","v":0}]
[null,null,17,{"$f":"'COG-M'!P2687","v":0}]
[null,null,25,{"$f":"'COG-M'!P2688","v":0}]
[null,null,26,{"$f":"'COG-M'!P2689","v":0}]
[null,null,27,{"$f":"'COG-M'!P2690","v":0}]
[7400,"CONCESIÓN DE PRÉSTAMOS",null,{"$f":"'COG-M'!P2691","v":0}]
[741,"Concesión de préstamos a entidades paraestatales no empresariales y no financieras con fines de política económica",11,{"$f":"'COG-M'!P2692","v":0}]
[null,null,12,{"$f":"'COG-M'!P2693","v":0}]
[null,null,13,{"$f":"'COG-M'!P2694","v":0}]
[null,null,14,{"$f":"'COG-M'!P2695","v":0}]
[null,null,15,{"$f":"'COG-M'!P2696","v":0}]
[null,null,16,{"$f":"'COG-M'!P2697","v":0}]
[null,null,17,{"$f":"'COG-M'!P2698","v":0}]
[null,null,25,{"$f":"'COG-M'!P2699","v":0}]
[null,null,26,{"$f":"'COG-M'!P2700","v":0}]
[null,null,27,{"$f":"'COG-M'!P2701","v":0}]
[742,"Concesión de préstamos a entidades paraestatales empresariales y no financieras con fines de política económica",null,{"$f":"'COG-M'!P2702","v":0}]
[743,"Concesión de préstamos a instituciones paraestatales públicas financieras con fines de política económica",null,{"$f":"'COG-M'!P2703","v":0}]
[744,"Concesión de préstamos a entidades federativas  y municipios con fines de política económica",null,{"$f":"'COG-M'!P2704","v":0}]
[745,"Concesión de préstamos al sector privado con fines de política económica",11,{"$f":"'COG-M'!P2705","v":0}]
[null,null,12,{"$f":"'COG-M'!P2706","v":0}]
[null,null,13,{"$f":"'COG-M'!P2707","v":0}]
[null,null,14,{"$f":"'COG-M'!P2708","v":0}]
[null,null,15,{"$f":"'COG-M'!P2709","v":0}]
[null,null,16,{"$f":"'COG-M'!P2710","v":0}]
[null,null,17,{"$f":"'COG-M'!P2711","v":0}]
[null,null,25,{"$f":"'COG-M'!P2712","v":0}]
[null,null,26,{"$f":"'COG-M'!P2713","v":0}]
[null,null,27,{"$f":"'COG-M'!P2714","v":0}]
[746,"Concesión de préstamos al sector externo con fines de política económica",11,{"$f":"'COG-M'!P2715","v":0}]
[null,null,12,{"$f":"'COG-M'!P2716","v":0}]
[null,null,13,{"$f":"'COG-M'!P2717","v":0}]
[null,null,14,{"$f":"'COG-M'!P2718","v":0}]
[null,null,15,{"$f":"'COG-M'!P2719","v":0}]
[null,null,16,{"$f":"'COG-M'!P2720","v":0}]
[null,null,17,{"$f":"'COG-M'!P2721","v":0}]
[null,null,25,{"$f":"'COG-M'!P2722","v":0}]
[null,null,26,{"$f":"'COG-M'!P2723","v":0}]
[null,null,27,{"$f":"'COG-M'!P2724","v":0}]
[747,"Concesión de préstamos al sector público con fines de gestión de liquidez",11,{"$f":"'COG-M'!P2725","v":0}]
[null,null,12,{"$f":"'COG-M'!P2726","v":0}]
[null,null,13,{"$f":"'COG-M'!P2727","v":0}]
[null,null,14,{"$f":"'COG-M'!P2728","v":0}]
[null,null,15,{"$f":"'COG-M'!P2729","v":0}]
[null,null,16,{"$f":"'COG-M'!P2730","v":0}]
[null,null,17,{"$f":"'COG-M'!P2731","v":0}]
[null,null,25,{"$f":"'COG-M'!P2732","v":0}]
[null,null,26,{"$f":"'COG-M'!P2733","v":0}]
[null,null,27,{"$f":"'COG-M'!P2734","v":0}]
[748,"Concesión de préstamos al sector privado con fines de gestión de liquidez",11,{"$f":"'COG-M'!P2735","v":0}]
[null,null,12,{"$f":"'COG-M'!P2736","v":0}]
[null,null,13,{"$f":"'COG-M'!P2737","v":0}]
[null,null,14,{"$f":"'COG-M'!P2738","v":0}]
[null,null,15,{"$f":"'COG-M'!P2739","v":0}]
[null,null,16,{"$f":"'COG-M'!P2740","v":0}]
[null,null,17,{"$f":"'COG-M'!P2741","v":0}]
[null,null,25,{"$f":"'COG-M'!P2742","v":0}]
[null,null,26,{"$f":"'COG-M'!P2743","v":0}]
[null,null,27,{"$f":"'COG-M'!P2744","v":0}]
[749,"Concesión de  préstamos al sector externo con fines de gestión de liquidez",11,{"$f":"'COG-M'!P2745","v":0}]
[null,null,12,{"$f":"'COG-M'!P2746","v":0}]
[null,null,13,{"$f":"'COG-M'!P2747","v":0}]
[null,null,14,{"$f":"'COG-M'!P2748","v":0}]
[null,null,15,{"$f":"'COG-M'!P2749","v":0}]
[null,null,16,{"$f":"'COG-M'!P2750","v":0}]
[null,null,17,{"$f":"'COG-M'!P2751","v":0}]
[null,null,25,{"$f":"'COG-M'!P2752","v":0}]
[null,null,26,{"$f":"'COG-M'!P2753","v":0}]
[null,null,27,{"$f":"'COG-M'!P2754","v":0}]
[7500,"INVERSIONES EN FIDEICOMISOS, MANDATOS Y OTROS  ANÁLOGOS",null,{"$f":"'COG-M'!P2755","v":0}]
[751,"Inversiones en fideicomisos del Poder Ejecutivo",11,{"$f":"'COG-M'!P2756","v":0}]
[null,null,12,{"$f":"'COG-M'!P2757","v":0}]
[null,null,13,{"$f":"'COG-M'!P2758","v":0}]
[null,null,14,{"$f":"'COG-M'!P2759","v":0}]
[null,null,15,{"$f":"'COG-M'!P2760","v":0}]
[null,null,16,{"$f":"'COG-M'!P2761","v":0}]
[null,null,17,{"$f":"'COG-M'!P2762","v":0}]
[null,null,25,{"$f":"'COG-M'!P2763","v":0}]
[null,null,26,{"$f":"'COG-M'!P2764","v":0}]
[null,null,27,{"$f":"'COG-M'!P2765","v":0}]
[752,"Inversiones en fideicomisos del Poder Legislativo",null,{"$f":"'COG-M'!P2766","v":0}]
[753,"Inversiones en fideicomisos del Poder Judicial",null,{"$f":"'COG-M'!P2767","v":0}]
[754,"Inversiones en fideicomisos públicos no empresariales y no financieros",11,{"$f":"'COG-M'!P2768","v":0}]
[null,null,12,{"$f":"'COG-M'!P2769","v":0}]
[null,null,13,{"$f":"'COG-M'!P2770","v":0}]
[null,null,14,{"$f":"'COG-M'!P2771","v":0}]
[null,null,15,{"$f":"'COG-M'!P2772","v":0}]
[null,null,16,{"$f":"'COG-M'!P2773","v":0}]
[null,null,17,{"$f":"'COG-M'!P2774","v":0}]
[null,null,25,{"$f":"'COG-M'!P2775","v":0}]
[null,null,26,{"$f":"'COG-M'!P2776","v":0}]
[null,null,27,{"$f":"'COG-M'!P2777","v":0}]
[755,"Inversiones en fideicomisos públicos empresariales y no financieros",null,{"$f":"'COG-M'!P2778","v":0}]
[756,"Inversiones en fideicomisos públicos financieros ",null,{"$f":"'COG-M'!P2779","v":0}]
[757,"Inversiones en fideicomisos de entidades federativas",11,{"$f":"'COG-M'!P2780","v":0}]
[null,null,12,{"$f":"'COG-M'!P2781","v":0}]
[null,null,13,{"$f":"'COG-M'!P2782","v":0}]
[null,null,14,{"$f":"'COG-M'!P2783","v":0}]
[null,null,15,{"$f":"'COG-M'!P2784","v":0}]
[null,null,16,{"$f":"'COG-M'!P2785","v":0}]
[null,null,17,{"$f":"'COG-M'!P2786","v":0}]
[null,null,25,{"$f":"'COG-M'!P2787","v":0}]
[null,null,26,{"$f":"'COG-M'!P2788","v":0}]
[null,null,27,{"$f":"'COG-M'!P2789","v":0}]
[758,"Inversiones en fideicomisos de municipios",null,{"$f":"'COG-M'!P2790","v":0}]
[759,"Otras inversiones en fideicomisos",11,{"$f":"'COG-M'!P2791","v":0}]
[null,null,12,{"$f":"'COG-M'!P2792","v":0}]
[null,null,13,{"$f":"'COG-M'!P2793","v":0}]
[null,null,14,{"$f":"'COG-M'!P2794","v":0}]
[null,null,15,{"$f":"'COG-M'!P2795","v":0}]
[null,null,16,{"$f":"'COG-M'!P2796","v":0}]
[null,null,17,{"$f":"'COG-M'!P2797","v":0}]
[null,null,25,{"$f":"'COG-M'!P2798","v":0}]
[null,null,26,{"$f":"'COG-M'!P2799","v":0}]
[null,null,27,{"$f":"'COG-M'!P2800","v":0}]
[7600,"OTRAS INVERSIONES FINANCIERAS",null,{"$f":"'COG-M'!P2801","v":0}]
[761,"Depósitos a largo plazo en moneda nacional",11,{"$f":"'COG-M'!P2802","v":0}]
[null,null,12,{"$f":"'COG-M'!P2803","v":0}]
[null,null,13,{"$f":"'COG-M'!P2804","v":0}]
[null,null,14,{"$f":"'COG-M'!P2805","v":0}]
[null,null,15,{"$f":"'COG-M'!P2806","v":0}]
[null,null,16,{"$f":"'COG-M'!P2807","v":0}]
[null,null,17,{"$f":"'COG-M'!P2808","v":0}]
[null,null,25,{"$f":"'COG-M'!P2809","v":0}]
[null,null,26,{"$f":"'COG-M'!P2810","v":0}]
[null,null,27,{"$f":"'COG-M'!P2811","v":0}]
[762,"Depósitos a largo plazo en moneda extranjera",11,{"$f":"'COG-M'!P2812","v":0}]
[null,null,12,{"$f":"'COG-M'!P2813","v":0}]
[null,null,13,{"$f":"'COG-M'!P2814","v":0}]
[null,null,14,{"$f":"'COG-M'!P2815","v":0}]
[null,null,15,{"$f":"'COG-M'!P2816","v":0}]
[null,null,16,{"$f":"'COG-M'!P2817","v":0}]
[null,null,17,{"$f":"'COG-M'!P2818","v":0}]
[null,null,25,{"$f":"'COG-M'!P2819","v":0}]
[null,null,26,{"$f":"'COG-M'!P2820","v":0}]
[null,null,27,{"$f":"'COG-M'!P2821","v":0}]
[7900,"PROVISIONES PARA CONTINGENCIAS Y OTRAS EROGACIONES ESPECIALES",null,{"$f":"'COG-M'!P2822","v":0}]
[791,"Contingencias por fenómenos naturales",11,{"$f":"'COG-M'!P2823","v":0}]
[null,null,12,{"$f":"'COG-M'!P2824","v":0}]
[null,null,13,{"$f":"'COG-M'!P2825","v":0}]
[null,null,14,{"$f":"'COG-M'!P2826","v":0}]
[null,null,15,{"$f":"'COG-M'!P2827","v":0}]
[null,null,16,{"$f":"'COG-M'!P2828","v":0}]
[null,null,17,{"$f":"'COG-M'!P2829","v":0}]
[null,null,25,{"$f":"'COG-M'!P2830","v":0}]
[null,null,26,{"$f":"'COG-M'!P2831","v":0}]
[null,null,27,{"$f":"'COG-M'!P2832","v":0}]
[792,"Contingencias socioeconómicas",11,{"$f":"'COG-M'!P2833","v":0}]
[null,null,12,{"$f":"'COG-M'!P2834","v":0}]
[null,null,13,{"$f":"'COG-M'!P2835","v":0}]
[null,null,14,{"$f":"'COG-M'!P2836","v":0}]
[null,null,15,{"$f":"'COG-M'!P2837","v":0}]
[null,null,16,{"$f":"'COG-M'!P2838","v":0}]
[null,null,17,{"$f":"'COG-M'!P2839","v":0}]
[null,null,25,{"$f":"'COG-M'!P2840","v":0}]
[null,null,26,{"$f":"'COG-M'!P2841","v":0}]
[null,null,27,{"$f":"'COG-M'!P2842","v":0}]
[799,"Otras erogaciones especiales",11,{"$f":"'COG-M'!P2843","v":0}]
[null,null,12,{"$f":"'COG-M'!P2844","v":0}]
[null,null,13,{"$f":"'COG-M'!P2845","v":0}]
[null,null,14,{"$f":"'COG-M'!P2846","v":0}]
[null,null,15,{"$f":"'COG-M'!P2847","v":0}]
[null,null,16,{"$f":"'COG-M'!P2848","v":0}]
[null,null,17,{"$f":"'COG-M'!P2849","v":0}]
[null,null,25,{"$f":"'COG-M'!P2850","v":0}]
[null,null,26,{"$f":"'COG-M'!P2851","v":0}]
[null,null,27,{"$f":"'COG-M'!P2852","v":0}]
[8000,"PARTICIPACIONES Y APORTACIONES",null,{"$f":"'COG-M'!P2853","v":0}]
[8100,"PARTICIPACIONES",null,{"$f":"'COG-M'!P2854","v":0}]
[811,"Fondo general de participaciones",null,{"$f":"'COG-M'!P2855","v":0}]
[812,"Fondo de fomento municipal",null,{"$f":"'COG-M'!P2856","v":0}]
[813,"Participaciones de las entidades federativas a los municipios",null,{"$f":"'COG-M'!P2857","v":0}]
[814,"Otros conceptos participables de la Federación a entidades federativas",null,{"$f":"'COG-M'!P2858","v":0}]
[815,"Otros conceptos participables de la Federación a municipios",null,{"$f":"'COG-M'!P2859","v":0}]
[816,"Convenios de colaboración administrativa",11,{"$f":"'COG-M'!P2860","v":0}]
[null,null,12,{"$f":"'COG-M'!P2861","v":0}]
[null,null,13,{"$f":"'COG-M'!P2862","v":0}]
[null,null,14,{"$f":"'COG-M'!P2863","v":0}]
[null,null,15,{"$f":"'COG-M'!P2864","v":0}]
[null,null,16,{"$f":"'COG-M'!P2865","v":0}]
[null,null,17,{"$f":"'COG-M'!P2866","v":0}]
[null,null,25,{"$f":"'COG-M'!P2867","v":0}]
[null,null,26,{"$f":"'COG-M'!P2868","v":0}]
[null,null,27,{"$f":"'COG-M'!P2869","v":0}]
[8300,"APORTACIONES",null,{"$f":"'COG-M'!P2870","v":0}]
[831,"Aportaciones de la Federación a las entidades federativas",null,{"$f":"'COG-M'!P2871","v":0}]
[832,"Aportaciones de la Federación a municipios",null,{"$f":"'COG-M'!P2872","v":0}]
[833,"Aportaciones de las entidades federativas a los municipios",null,{"$f":"'COG-M'!P2873","v":0}]
[834,"Aportaciones  previstas en leyes y decretos al sistema de protección social",null,{"$f":"'COG-M'!P2874","v":0}]
[835,"Aportaciones previstas en leyes y decretos compensatorias a entidades federativas y municipios",null,{"$f":"'COG-M'!P2875","v":0}]
[8500,"CONVENIOS",null,{"$f":"'COG-M'!P2876","v":0}]
[851,"Convenios de reasignación",11,{"$f":"'COG-M'!P2877","v":0}]
[null,null,12,{"$f":"'COG-M'!P2878","v":0}]
[null,null,13,{"$f":"'COG-M'!P2879","v":0}]
[null,null,14,{"$f":"'COG-M'!P2880","v":0}]
[null,null,15,{"$f":"'COG-M'!P2881","v":0}]
[null,null,16,{"$f":"'COG-M'!P2882","v":0}]
[null,null,17,{"$f":"'COG-M'!P2883","v":0}]
[null,null,25,{"$f":"'COG-M'!P2884","v":0}]
[null,null,26,{"$f":"'COG-M'!P2885","v":0}]
[null,null,27,{"$f":"'COG-M'!P2886","v":0}]
[852,"Convenios de descentralización",11,{"$f":"'COG-M'!P2887","v":0}]
[null,null,12,{"$f":"'COG-M'!P2888","v":0}]
[null,null,13,{"$f":"'COG-M'!P2889","v":0}]
[null,null,14,{"$f":"'COG-M'!P2890","v":0}]
[null,null,15,{"$f":"'COG-M'!P2891","v":0}]
[null,null,16,{"$f":"'COG-M'!P2892","v":0}]
[null,null,17,{"$f":"'COG-M'!P2893","v":0}]
[null,null,25,{"$f":"'COG-M'!P2894","v":0}]
[null,null,26,{"$f":"'COG-M'!P2895","v":0}]
[null,null,27,{"$f":"'COG-M'!P2896","v":0}]
[853,"Otros convenios",11,{"$f":"'COG-M'!P2897","v":0}]
[null,null,12,{"$f":"'COG-M'!P2898","v":0}]
[null,null,13,{"$f":"'COG-M'!P2899","v":0}]
[null,null,14,{"$f":"'COG-M'!P2900","v":0}]
[null,null,15,{"$f":"'COG-M'!P2901","v":0}]
[null,null,16,{"$f":"'COG-M'!P2902","v":0}]
[null,null,17,{"$f":"'COG-M'!P2903","v":0}]
[null,null,25,{"$f":"'COG-M'!P2904","v":0}]
[null,null,26,{"$f":"'COG-M'!P2905","v":0}]
[null,null,27,{"$f":"'COG-M'!P2906","v":0}]
[9000,"DEUDA  PÚBLICA",null,{"$f":"'COG-M'!P2907","v":0}]
[9100,"AMORTIZACIÓN DE LA DEUDA PÚBLICA ",null,{"$f":"'COG-M'!P2908","v":0}]
[911,"Amortización de la deuda interna con instituciones de crédito",11,{"$f":"'COG-M'!P2909","v":0}]
[null,null,12,{"$f":"'COG-M'!P2910","v":0}]
[null,null,13,{"$f":"'COG-M'!P2911","v":0}]
[null,null,14,{"$f":"'COG-M'!P2912","v":0}]
[null,null,15,{"$f":"'COG-M'!P2913","v":0}]
[null,null,16,{"$f":"'COG-M'!P2914","v":0}]
[null,null,17,{"$f":"'COG-M'!P2915","v":0}]
[null,null,25,{"$f":"'COG-M'!P2916","v":0}]
[null,null,26,{"$f":"'COG-M'!P2917","v":0}]
[null,null,27,{"$f":"'COG-M'!P2918","v":0}]
[912,"Amortización  de la deuda interna por emisión de títulos y valores",11,{"$f":"'COG-M'!P2919","v":0}]
[null,null,12,{"$f":"'COG-M'!P2920","v":0}]
[null,null,13,{"$f":"'COG-M'!P2921","v":0}]
[null,null,14,{"$f":"'COG-M'!P2922","v":0}]
[null,null,15,{"$f":"'COG-M'!P2923","v":0}]
[null,null,16,{"$f":"'COG-M'!P2924","v":0}]
[null,null,17,{"$f":"'COG-M'!P2925","v":0}]
[null,null,25,{"$f":"'COG-M'!P2926","v":0}]
[null,null,26,{"$f":"'COG-M'!P2927","v":0}]
[null,null,27,{"$f":"'COG-M'!P2928","v":0}]
[913,"Amortización de arrendamientos financieros nacionales",11,{"$f":"'COG-M'!P2929","v":0}]
[null,null,12,{"$f":"'COG-M'!P2930","v":0}]
[null,null,13,{"$f":"'COG-M'!P2931","v":0}]
[null,null,14,{"$f":"'COG-M'!P2932","v":0}]
[null,null,15,{"$f":"'COG-M'!P2933","v":0}]
[null,null,16,{"$f":"'COG-M'!P2934","v":0}]
[null,null,17,{"$f":"'COG-M'!P2935","v":0}]
[null,null,25,{"$f":"'COG-M'!P2936","v":0}]
[null,null,26,{"$f":"'COG-M'!P2937","v":0}]
[null,null,27,{"$f":"'COG-M'!P2938","v":0}]
[914,"Amortización de la deuda externa con instituciones de crédito ",null,{"$f":"'COG-M'!P2939","v":0}]
[915,"Amortización de deuda externa con organismos financieros internacionales",null,{"$f":"'COG-M'!P2940","v":0}]
[916,"Amortización de la deuda bilateral",null,{"$f":"'COG-M'!P2941","v":0}]
[917,"Amortización de la deuda externa por emisión de títulos y valores",null,{"$f":"'COG-M'!P2942","v":0}]
[918,"Amortización de arrendamientos financieros internacionales",null,{"$f":"'COG-M'!P2943","v":0}]
[9200,"INTERESES DE LA DEUDA PÚBLICA",null,{"$f":"'COG-M'!P2944","v":0}]
[921,"Intereses de la deuda interna con instituciones de crédito",11,{"$f":"'COG-M'!P2945","v":0}]
[null,null,12,{"$f":"'COG-M'!P2946","v":0}]
[null,null,13,{"$f":"'COG-M'!P2947","v":0}]
[null,null,14,{"$f":"'COG-M'!P2948","v":0}]
[null,null,15,{"$f":"'COG-M'!P2949","v":0}]
[null,null,16,{"$f":"'COG-M'!P2950","v":0}]
[null,null,17,{"$f":"'COG-M'!P2951","v":0}]
[null,null,25,{"$f":"'COG-M'!P2952","v":0}]
[null,null,26,{"$f":"'COG-M'!P2953","v":0}]
[null,null,27,{"$f":"'COG-M'!P2954","v":0}]
[922,"Intereses derivados de la colocación de títulos y valores",11,{"$f":"'COG-M'!P2955","v":0}]
[null,null,12,{"$f":"'COG-M'!P2956","v":0}]
[null,null,13,{"$f":"'COG-M'!P2957","v":0}]
[null,null,14,{"$f":"'COG-M'!P2958","v":0}]
[null,null,15,{"$f":"'COG-M'!P2959","v":0}]
[null,null,16,{"$f":"'COG-M'!P2960","v":0}]
[null,null,17,{"$f":"'COG-M'!P2961","v":0}]
[null,null,25,{"$f":"'COG-M'!P2962","v":0}]
[null,null,26,{"$f":"'COG-M'!P2963","v":0}]
[null,null,27,{"$f":"'COG-M'!P2964","v":0}]
[923,"Intereses por arrendamientos  financieros nacionales",11,{"$f":"'COG-M'!P2965","v":0}]
[null,null,12,{"$f":"'COG-M'!P2966","v":0}]
[null,null,13,{"$f":"'COG-M'!P2967","v":0}]
[null,null,14,{"$f":"'COG-M'!P2968","v":0}]
[null,null,15,{"$f":"'COG-M'!P2969","v":0}]
[null,null,16,{"$f":"'COG-M'!P2970","v":0}]
[null,null,17,{"$f":"'COG-M'!P2971","v":0}]
[null,null,25,{"$f":"'COG-M'!P2972","v":0}]
[null,null,26,{"$f":"'COG-M'!P2973","v":0}]
[null,null,27,{"$f":"'COG-M'!P2974","v":0}]
[924,"Intereses de la deuda externa con instituciones de crédito ",null,{"$f":"'COG-M'!P2975","v":0}]
[925,"Intereses de la deuda con organismos financieros internacionales",null,{"$f":"'COG-M'!P2976","v":0}]
[926,"Intereses de la deuda bilateral  ",null,{"$f":"'COG-M'!P2977","v":0}]
[927,"Intereses derivados de la colocación de títulos y valores en el exterior",null,{"$f":"'COG-M'!P2978","v":0}]
[928,"Intereses por arrendamientos financieros internacionales",null,{"$f":"'COG-M'!P2979","v":0}]
[9300,"COMISIONES DE LA DEUDA PÚBLICA",null,{"$f":"'COG-M'!P2980","v":0}]
[931,"Comisiones de la deuda pública interna",11,{"$f":"'COG-M'!P2981","v":0}]
[null,null,12,{"$f":"'COG-M'!P2982","v":0}]
[null,null,13,{"$f":"'COG-M'!P2983","v":0}]
[null,null,14,{"$f":"'COG-M'!P2984","v":0}]
[null,null,15,{"$f":"'COG-M'!P2985","v":0}]
[null,null,16,{"$f":"'COG-M'!P2986","v":0}]
[null,null,17,{"$f":"'COG-M'!P2987","v":0}]
[null,null,25,{"$f":"'COG-M'!P2988","v":0}]
[null,null,26,{"$f":"'COG-M'!P2989","v":0}]
[null,null,27,{"$f":"'COG-M'!P2990","v":0}]
[932,"Comisiones de la deuda pública externa",null,{"$f":"'COG-M'!P2991","v":0}]
[9400,"GASTOS DE LA DEUDA PÚBLICA",null,{"$f":"'COG-M'!P2992","v":0}]
[941,"Gastos de la deuda pública interna",11,{"$f":"'COG-M'!P2993","v":0}]
[null,null,12,{"$f":"'COG-M'!P2994","v":0}]
[null,null,13,{"$f":"'COG-M'!P2995","v":0}]
[null,null,14,{"$f":"'COG-M'!P2996","v":0}]
[null,null,15,{"$f":"'COG-M'!P2997","v":0}]
[null,null,16,{"$f":"'COG-M'!P2998","v":0}]
[null,null,17,{"$f":"'COG-M'!P2999","v":0}]
[null,null,25,{"$f":"'COG-M'!P3000","v":0}]
[null,null,26,{"$f":"'COG-M'!P3001","v":0}]
[null,null,27,{"$f":"'COG-M'!P3002","v":0}]
[942,"Gastos de la deuda  pública externa",null,{"$f":"'COG-M'!P3003","v":0}]
[9500,"COSTO POR COBERTURAS",null,{"$f":"'COG-M'!P3004","v":0}]
[951,"Costos por coberturas",11,{"$f":"'COG-M'!P3005","v":0}]
[null,null,12,{"$f":"'COG-M'!P3006","v":0}]
[null,null,13,{"$f":"'COG-M'!P3007","v":0}]
[null,null,14,{"$f":"'COG-M'!P3008","v":0}]
[null,null,15,{"$f":"'COG-M'!P3009","v":0}]
[null,null,16,{"$f":"'COG-M'!P3010","v":0}]
[null,null,17,{"$f":"'COG-M'!P3011","v":0}]
[null,null,25,{"$f":"'COG-M'!P3012","v":0}]
[null,null,26,{"$f":"'COG-M'!P3013","v":0}]
[null,null,27,{"$f":"'COG-M'!P3014","v":0}]
[9600,"APOYOS FINANCIEROS",null,{"$f":"'COG-M'!P3015","v":0}]
[961,"Apoyos a intermediarios financieros",null,{"$f":"'COG-M'!P3016","v":0}]
[962,"Apoyos a ahorradores y deudores del Sistema Financiero Nacional",null,{"$f":"'COG-M'!P3017","v":0}]
[9900,"ADEUDOS DE EJERCICIOS FISCALES ANTERIORES (ADEFAS)",null,{"$f":"'COG-M'!P3018","v":0}]
[991,"ADEFAS",11,{"$f":"'COG-M'!P3019","v":0}]
[null,null,12,{"$f":"'COG-M'!P3020","v":0}]
[null,null,13,{"$f":"'COG-M'!P3021","v":0}]
[null,null,14,{"$f":"'COG-M'!P3022","v":0}]
[null,null,15,{"$f":"'COG-M'!P3023","v":0}]
[null,null,16,{"$f":"'COG-M'!P3024","v":0}]
[null,null,17,{"$f":"'COG-M'!P3025","v":0}]
[null,null,25,{"$f":"'COG-M'!P3026","v":0}]
[null,null,26,{"$f":"'COG-M'!P3027","v":0}]
[null,null,27,{"$f":"'COG-M'!P3028","v":0}]
[null,"TOTAL DE EGRESOS",null,{"$f":"'COG-M'!P3029","v":0}]
[null,1,"GOBIERNO",{"$f":"CF!C3","v":0}]
[null,11,"LEGISLACIÓN",{"$f":"CF!C4","v":0}]
[null,111,"Legislación",{"$f":"CF!C5","v":0}]
[null,112,"Fiscalización",{"$f":"CF!C6","v":0}]
[null,12,"JUSTICIA",{"$f":"CF!C7","v":0}]
[null,121,"Impartición de justicia",{"$f":"CF!C8","v":0}]
[null,122,"Procuración de justicia",{"$f":"CF!C9","v":0}]
[null,123,"Reclusión y readaptación social",{"$f":"CF!C10","v":0}]
[null,124,"Derechos humanos",{"$f":"CF!C11","v":0}]
[null,13,"COORDINACIÓN DE LA POLÍTICA DE GOBIERNO",{"$f":"CF!C12","v":0}]
[null,131,"Presidencia/Gubernatura",{"$f":"CF!C13","v":0}]
[null,132,"Política interior",{"$f":"CF!C14","v":0}]
[null,133,"Preservación y cuidado del patrimonio público",{"$f":"CF!C15","v":0}]
[null,134,"Función pública",{"$f":"CF!C16","v":0}]
[null,135,"Asuntos jurídicos",{"$f":"CF!C17","v":0}]
[null,136,"Organización de procesos electorales",{"$f":"CF!C18","v":0}]
[null,137,"Población",{"$f":"CF!C19","v":0}]
[null,138,"Territorio",{"$f":"CF!C20","v":0}]
[null,139,"Otros",{"$f":"CF!C21","v":0}]
[null,14,"RELACIONES EXTERIORES",{"$f":"CF!C22","v":0}]
[null,141,"Relaciones exteriores",{"$f":"CF!C23","v":0}]
[null,15,"ASUNTOS FINANCIEROS Y HACENDARIOS",{"$f":"CF!C24","v":0}]
[null,151,"Asuntos financieros  ",{"$f":"CF!C25","v":0}]
[null,152,"Asuntos hacendarios",{"$f":"CF!C26","v":0}]
[null,16,"SEGURIDAD NACIONAL",{"$f":"CF!C27","v":0}]
[null,161,"Defensa",{"$f":"CF!C28","v":0}]
[null,162,"Marina",{"$f":"CF!C29","v":0}]
[null,163,"Inteligencia para la preservación de la seguridad nacional",{"$f":"CF!C30","v":0}]
[null,17,"ASUNTOS DE ORDEN PÚBLICO Y DE SEGURIDAD INTERIOR",{"$f":"CF!C31","v":0}]
[null,171,"Policía",{"$f":"CF!C32","v":0}]
[null,172,"Protección civil",{"$f":"CF!C33","v":0}]
[null,173,"Otros asuntos de orden público y seguridad",{"$f":"CF!C34","v":0}]
[null,174,"Sistema nacional de seguridad pública",{"$f":"CF!C35","v":0}]
[null,18,"OTROS SERVICIOS GENERALES",{"$f":"CF!C36","v":0}]
[null,181,"Servicios registrales, administrativos y patrimoniales",{"$f":"CF!C37","v":0}]
[null,182,"Servicios estadísticos",{"$f":"CF!C38","v":0}]
[null,183,"Servicios de comunicación y medios",{"$f":"CF!C39","v":0}]
[null,184,"Acceso a la información pública gubernamental",{"$f":"CF!C40","v":0}]
[null,185,"Otros",{"$f":"CF!C41","v":0}]
[null,2,"DESARROLLO SOCIAL",{"$f":"CF!C42","v":0}]
[null,21,"PROTECCIÓN AMBIENTAL",{"$f":"CF!C43","v":0}]
[null,211,"Ordenación de desechos",{"$f":"CF!C44","v":0}]
[null,212,"Administración del agua",{"$f":"CF!C45","v":0}]
[null,213,"Ordenación de aguas residuales, drenaje y alcantarillado",{"$f":"CF!C46","v":0}]
[null,214,"Reducción de la contaminación",{"$f":"CF!C47","v":0}]
[null,215,"Protección de la diversidad biológica y del paisaje",{"$f":"CF!C48","v":0}]
[null,216,"Otros de protección ambiental",{"$f":"CF!C49","v":0}]
[null,22,"VIVIENDA Y SERVICIOS A LA COMUNIDAD",{"$f":"CF!C50","v":0}]
[null,221,"Urbanización",{"$f":"CF!C51","v":0}]
[null,222,"Desarrollo comunitario",{"$f":"CF!C52","v":0}]
[null,223,"Abastecimiento de agua",{"$f":"CF!C53","v":0}]
[null,224,"Alumbrado público",{"$f":"CF!C54","v":0}]
[null,225,"Vivienda",{"$f":"CF!C55","v":0}]
[null,226,"Servicios comunales",{"$f":"CF!C56","v":0}]
[null,227,"Desarrollo regional",{"$f":"CF!C57","v":0}]
[null,23,"SALUD",{"$f":"CF!C58","v":0}]
[null,231,"Prestación de servicios de salud a la comunidad",{"$f":"CF!C59","v":0}]
[null,232,"Prestación de servicios de salud a la persona",{"$f":"CF!C60","v":0}]
[null,233,"Generación de recursos para la salud",{"$f":"CF!C61","v":0}]
[null,234,"Rectoría del sistema de salud",{"$f":"CF!C62","v":0}]
[null,235,"Protección social en salud",{"$f":"CF!C63","v":0}]
[null,24,"RECREACIÓN, CULTURA Y OTRAS MANIFESTACIONES SOCIALES",{"$f":"CF!C64","v":0}]
[null,241,"Deporte y recreación",{"$f":"CF!C65","v":0}]
[null,242,"Cultura",{"$f":"CF!C66","v":0}]
[null,243,"Radio, televisión y editoriales",{"$f":"CF!C67","v":0}]
[null,244,"Asuntos religiosos y otras manifestaciones sociales",{"$f":"CF!C68","v":0}]
[null,25,"EDUCACIÓN",{"$f":"CF!C69","v":0}]
[null,251,"Educación básica",{"$f":"CF!C70","v":0}]
[null,252,"Educación media superior",{"$f":"CF!C71","v":0}]
[null,253,"Educación superior",{"$f":"CF!C72","v":0}]
[null,254,"Posgrado",{"$f":"CF!C73","v":0}]
[null,255,"Educación para adultos",{"$f":"CF!C74","v":0}]
[null,256,"Otros servicios educativos y actividades inherentes",{"$f":"CF!C75","v":0}]
[null,26,"PROTECCIÓN SOCIAL  ",{"$f":"CF!C76","v":0}]
[null,261,"Enfermedades e incapacidad",{"$f":"CF!C77","v":0}]
[null,262,"Edad avanzada",{"$f":"CF!C78","v":0}]
[null,263,"Familia e hijos",{"$f":"CF!C79","v":0}]
[null,264,"Desempleo",{"$f":"CF!C80","v":0}]
[null,265,"Alimentación y nutrición",{"$f":"CF!C81","v":0}]
[null,266,"Apoyo social para la vivienda",{"$f":"CF!C82","v":0}]
[null,267,"Indígenas",{"$f":"CF!C83","v":0}]
[null,268,"Otros grupos vulnerables",{"$f":"CF!C84","v":0}]
[null,269,"Otros de seguridad social y asistencia social",{"$f":"CF!C85","v":0}]
[null,27,"OTROS ASUNTOS SOCIALES",{"$f":"CF!C86","v":0}]
[null,271,"Otros asuntos sociales",{"$f":"CF!C87","v":0}]
[null,3,"DESARROLLO ECONÓMICO",{"$f":"CF!C88","v":0}]
[null,31,"ASUNTOS ECONÓMICOS, COMERCIALES Y LABORALES EN GENERAL",{"$f":"CF!C89","v":0}]
[null,311,"Asuntos económicos y comerciales en general",{"$f":"CF!C90","v":0}]
[null,312,"Asuntos laborales generales",{"$f":"CF!C91","v":0}]
[null,32,"AGROPECUARÍA, SILVICULTURA, PESCA Y CAZA",{"$f":"CF!C92","v":0}]
[null,321,"Agropecuaria",{"$f":"CF!C93","v":0}]
[null,322,"Silvicultura",{"$f":"CF!C94","v":0}]
[null,323,"Acuacultura, pesca y caza",{"$f":"CF!C95","v":0}]
[null,324,"Agroindustrial",{"$f":"CF!C96","v":0}]
[null,325,"Hidroagrícola",{"$f":"CF!C97","v":0}]
[null,326,"Apoyo financiero a la banca y seguro agropecuario",{"$f":"CF!C98","v":0}]
[null,33,"COMBUSTIBLE Y ENERGÍA",{"$f":"CF!C99","v":0}]
[null,331,"Carbón y otros combustibles minerales sólidos",{"$f":"CF!C100","v":0}]
[null,332,"Petróleo y gas natural (hidrocarburos)",{"$f":"CF!C101","v":0}]
[null,333,"Combustibles Nucleares",{"$f":"CF!C102","v":0}]
[null,334,"Otros combustibles",{"$f":"CF!C103","v":0}]
[null,335,"Electricidad",{"$f":"CF!C104","v":0}]
[null,336,"Energía no Eléctrica",{"$f":"CF!C105","v":0}]
[null,34,"MINERÍA, MANUFACTURAS Y CONSTRUCCIÓN",{"$f":"CF!C106","v":0}]
[null,341,"Extracción de recursos minerales excepto los combustibles minerales",{"$f":"CF!C107","v":0}]
[null,342,"Manufacturas",{"$f":"CF!C108","v":0}]
[null,343,"Construcción",{"$f":"CF!C109","v":0}]
[null,35,"TRANSPORTE",{"$f":"CF!C110","v":0}]
[null,351,"Transporte por carretera",{"$f":"CF!C111","v":0}]
[null,352,"Transporte por agua y puertos",{"$f":"CF!C112","v":0}]
[null,353,"Transporte por ferrocarril",{"$f":"CF!C113","v":0}]
[null,354,"Transporte aéreo",{"$f":"CF!C114","v":0}]
[null,355,"Transporte por oleoductos y gasoductos y otros sistemas de transporte",{"$f":"CF!C115","v":0}]
[null,356,"Otros relacionados con transporte",{"$f":"CF!C116","v":0}]
[null,36,"COMUNICACIONES",{"$f":"CF!C117","v":0}]
[null,361,"Comunicaciones",{"$f":"CF!C118","v":0}]
[null,37,"TURISMO",{"$f":"CF!C119","v":0}]
[null,371,"Turismo",{"$f":"CF!C120","v":0}]
[null,372,"Hoteles y restaurantes",{"$f":"CF!C121","v":0}]
[null,38,"CIENCIA, TECNOLOGÍA E INNOVACIÓN",{"$f":"CF!C122","v":0}]
[null,381,"Investigación científica",{"$f":"CF!C123","v":0}]
[null,382,"Desarrollo tecnológico",{"$f":"CF!C124","v":0}]
[null,383,"Servicios científicos y tecnológicos",{"$f":"CF!C125","v":0}]
[null,384,"Innovación",{"$f":"CF!C126","v":0}]
[null,39,"OTRAS INDUSTRIAS Y OTROS ASUNTOS ECONÓMICOS",{"$f":"CF!C127","v":0}]
[null,391,"Comercio, distribución, almacenamiento y depósito",{"$f":"CF!C128","v":0}]
[null,392,"Otras industrias  ",{"$f":"CF!C129","v":0}]
[null,393,"Otros asuntos económicos",{"$f":"CF!C130","v":0}]
[null,4,"OTRAS NO CLASIFICADAS EN FUNCIONES ANTERIORES",{"$f":"CF!C131","v":0}]
[null,41,"TRANSACCIONES DE LA DEUDA PÚBLICA/COSTO FINANCIERO DE LA DEUDA",{"$f":"CF!C132","v":0}]
[null,411,"Deuda pública interna",{"$f":"CF!C133","v":0}]
[null,412,"Deuda pública externa",{"$f":"CF!C134","v":0}]
[null,42,"TRANSFERENCIAS, PARTICIPACIONES Y APORTACIONES ENTRE DIFERENTES NIVELES Y ORDENES DE GOBIERNO",{"$f":"CF!C135","v":0}]
[null,421,"Transferencia entre diferentes niveles y ordenes de gobierno",{"$f":"CF!C136","v":0}]
[null,422,"Participaciones entre diferentes niveles y ordenes de gobierno",{"$f":"CF!C137","v":0}]
[null,423,"Aportaciones entre diferentes niveles y ordenes de gobierno",{"$f":"CF!C138","v":0}]
[null,43,"SANEAMIENTO DEL SISTEMA FINANCIERO",{"$f":"CF!C139","v":0}]
[null,431,"Saneamiento del sistema financiero",{"$f":"CF!C140","v":0}]
[null,432,"Apoyos IPAB",{"$f":"CF!C141","v":0}]
[null,433,"Banca de desarrollo",{"$f":"CF!C142","v":0}]
[null,434,"Apoyo a los programas de reestructura en unidades de inversión (UDIS)",{"$f":"CF!C143","v":0}]
[null,44,"ADEUDOS DE EJERCICIOS FISCALES ANTERIORES  ",{"$f":"CF!C144","v":0}]
[null,441,"adeudos de ejercicios fiscales anteriores",{"$f":"CF!C145","v":0}]
[null,null,"TOTAL DE EGRESOS",{"$f":"CF!C146","v":0}]
[{"$f":"CA!A3","v":"3.0.0.0.0."},{"$f":"CA!B3","v":0},{"$f":"CA!C3","v":"SECTOR PÚBLICO MUNICIPAL"},{"$f":"CA!D3","v":0}]
[{"$f":"CA!A4","v":"3.1.1.0.0."},{"$f":"CA!B4","v":0},{"$f":"CA!C4","v":"GOBIERNO GENERAL MUNICIPAL"},{"$f":"CA!D4","v":0}]
[{"$f":"CA!A5","v":"3.1.1.1.0."},{"$f":"CA!B5","v":0},{"$f":"CA!C5","v":"Gobierno Municipal"},{"$f":"CA!D5","v":0}]
[{"$f":"CA!A6","v":0},{"$f":"CA!B6","v":0},{"$f":"CA!C6","v":0},{"$f":"CA!D6","v":0}]
[{"$f":"CA!A7","v":0},{"$f":"CA!B7","v":0},{"$f":"CA!C7","v":0},{"$f":"CA!D7","v":0}]
[{"$f":"CA!A8","v":0},{"$f":"CA!B8","v":0},{"$f":"CA!C8","v":0},{"$f":"CA!D8","v":0}]
[{"$f":"CA!A9","v":0},{"$f":"CA!B9","v":0},{"$f":"CA!C9","v":0},{"$f":"CA!D9","v":0}]
[{"$f":"CA!A10","v":0},{"$f":"CA!B10","v":0},{"$f":"CA!C10","v":0},{"$f":"CA!D10","v":0}]
[{"$f":"CA!A11","v":0},{"$f":"CA!B11","v":0},{"$f":"CA!C11","v":0},{"$f":"CA!D11","v":0}]
[{"$f":"CA!A12","v":0},{"$f":"CA!B12","v":0},{"$f":"CA!C12","v":0},{"$f":"CA!D12","v":0}]
[{"$f":"CA!A13","v":0},{"$f":"CA!B13","v":0},{"$f":"CA!C13","v":0},{"$f":"CA!D13","v":0}]
[{"$f":"CA!A14","v":0},{"$f":"CA!B14","v":0},{"$f":"CA!C14","v":0},{"$f":"CA!D14","v":0}]
[{"$f":"CA!A15","v":0},{"$f":"CA!B15","v":0},{"$f":"CA!C15","v":0},{"$f":"CA!D15","v":0}]
[{"$f":"CA!A16","v":0},{"$f":"CA!B16","v":0},{"$f":"CA!C16","v":0},{"$f":"CA!D16","v":0}]
[{"$f":"CA!A17","v":0},{"$f":"CA!B17","v":0},{"$f":"CA!C17","v":0},{"$f":"CA!D17","v":0}]
[{"$f":"CA!A18","v":0},{"$f":"CA!B18","v":0},{"$f":"CA!C18","v":0},{"$f":"CA!D18","v":0}]
[{"$f":"CA!A19","v":0},{"$f":"CA!B19","v":0},{"$f":"CA!C19","v":0},{"$f":"CA!D19","v":0}]
[{"$f":"CA!A20","v":0},{"$f":"CA!B20","v":0},{"$f":"CA!C20","v":0},{"$f":"CA!D20","v":0}]
[{"$f":"CA!A21","v":0},{"$f":"CA!B21","v":0},{"$f":"CA!C21","v":0},{"$f":"CA!D21","v":0}]
[{"$f":"CA!A22","v":0},{"$f":"CA!B22","v":0},{"$f":"CA!C22","v":0},{"$f":"CA!D22","v":0}]
[{"$f":"CA!A23","v":0},{"$f":"CA!B23","v":0},{"$f":"CA!C23","v":0},{"$f":"CA!D23","v":0}]
[{"$f":"CA!A24","v":0},{"$f":"CA!B24","v":0},{"$f":"CA!C24","v":0},{"$f":"CA!D24","v":0}]
[{"$f":"CA!A25","v":0},{"$f":"CA!B25","v":0},{"$f":"CA!C25","v":0},{"$f":"CA!D25","v":0}]
[{"$f":"CA!A26","v":0},{"$f":"CA!B26","v":0},{"$f":"CA!C26","v":0},{"$f":"CA!D26","v":0}]
[{"$f":"CA!A27","v":0},{"$f":"CA!B27","v":0},{"$f":"CA!C27","v":0},{"$f":"CA!D27","v":0}]
[{"$f":"CA!A28","v":0},{"$f":"CA!B28","v":0},{"$f":"CA!C28","v":0},{"$f":"CA!D28","v":0}]
[{"$f":"CA!A29","v":0},{"$f":"CA!B29","v":0},{"$f":"CA!C29","v":0},{"$f":"CA!D29","v":0}]
[{"$f":"CA!A30","v":0},{"$f":"CA!B30","v":0},{"$f":"CA!C30","v":0},{"$f":"CA!D30","v":0}]
[{"$f":"CA!A31","v":0},{"$f":"CA!B31","v":0},{"$f":"CA!C31","v":0},{"$f":"CA!D31","v":0}]
[{"$f":"CA!A32","v":0},{"$f":"CA!B32","v":0},{"$f":"CA!C32","v":0},{"$f":"CA!D32","v":0}]
[{"$f":"CA!A33","v":0},{"$f":"CA!B33","v":0},{"$f":"CA!C33","v":0},{"$f":"CA!D33","v":0}]
[{"$f":"CA!A34","v":0},{"$f":"CA!B34","v":0},{"$f":"CA!C34","v":0},{"$f":"CA!D34","v":0}]
[{"$f":"CA!A35","v":0},{"$f":"CA!B35","v":0},{"$f":"CA!C35","v":0},{"$f":"CA!D35","v":0}]
[{"$f":"CA!A36","v":0},{"$f":"CA!B36","v":0},{"$f":"CA!C36","v":0},{"$f":"CA!D36","v":0}]
[{"$f":"CA!A37","v":0},{"$f":"CA!B37","v":0},{"$f":"CA!C37","v":0},{"$f":"CA!D37","v":0}]
[{"$f":"CA!A38","v":0},{"$f":"CA!B38","v":0},{"$f":"CA!C38","v":0},{"$f":"CA!D38","v":0}]
[{"$f":"CA!A39","v":0},{"$f":"CA!B39","v":0},{"$f":"CA!C39","v":0},{"$f":"CA!D39","v":0}]
[{"$f":"CA!A40","v":0},{"$f":"CA!B40","v":0},{"$f":"CA!C40","v":0},{"$f":"CA!D40","v":0}]
[{"$f":"CA!A41","v":0},{"$f":"CA!B41","v":0},{"$f":"CA!C41","v":0},{"$f":"CA!D41","v":0}]
[{"$f":"CA!A42","v":0},{"$f":"CA!B42","v":0},{"$f":"CA!C42","v":0},{"$f":"CA!D42","v":0}]
[{"$f":"CA!A43","v":0},{"$f":"CA!B43","v":0},{"$f":"CA!C43","v":0},{"$f":"CA!D43","v":0}]
[{"$f":"CA!A44","v":0},{"$f":"CA!B44","v":0},{"$f":"CA!C44","v":0},{"$f":"CA!D44","v":0}]
[{"$f":"CA!A45","v":0},{"$f":"CA!B45","v":0},{"$f":"CA!C45","v":0},{"$f":"CA!D45","v":0}]
[{"$f":"CA!A46","v":0},{"$f":"CA!B46","v":0},{"$f":"CA!C46","v":0},{"$f":"CA!D46","v":0}]
[{"$f":"CA!A47","v":0},{"$f":"CA!B47","v":0},{"$f":"CA!C47","v":0},{"$f":"CA!D47","v":0}]
[{"$f":"CA!A48","v":0},{"$f":"CA!B48","v":0},{"$f":"CA!C48","v":0},{"$f":"CA!D48","v":0}]
[{"$f":"CA!A49","v":0},{"$f":"CA!B49","v":0},{"$f":"CA!C49","v":0},{"$f":"CA!D49","v":0}]
[{"$f":"CA!A50","v":0},{"$f":"CA!B50","v":0},{"$f":"CA!C50","v":0},{"$f":"CA!D50","v":0}]
[{"$f":"CA!A51","v":0},{"$f":"CA!B51","v":0},{"$f":"CA!C51","v":0},{"$f":"CA!D51","v":0}]
[{"$f":"CA!A52","v":0},{"$f":"CA!B52","v":0},{"$f":"CA!C52","v":0},{"$f":"CA!D52","v":0}]
[{"$f":"CA!A53","v":0},{"$f":"CA!B53","v":0},{"$f":"CA!C53","v":0},{"$f":"CA!D53","v":0}]
[{"$f":"CA!A54","v":0},{"$f":"CA!B54","v":0},{"$f":"CA!C54","v":0},{"$f":"CA!D54","v":0}]
[{"$f":"CA!A55","v":0},{"$f":"CA!B55","v":0},{"$f":"CA!C55","v":0},{"$f":"CA!D55","v":0}]
[{"$f":"CA!A56","v":0},{"$f":"CA!B56","v":0},{"$f":"CA!C56","v":0},{"$f":"CA!D56","v":0}]
[{"$f":"CA!A57","v":0},{"$f":"CA!B57","v":0},{"$f":"CA!C57","v":0},{"$f":"CA!D57","v":0}]
[{"$f":"CA!A58","v":0},{"$f":"CA!B58","v":0},{"$f":"CA!C58","v":0},{"$f":"CA!D58","v":0}]
[{"$f":"CA!A59","v":0},{"$f":"CA!B59","v":0},{"$f":"CA!C59","v":0},{"$f":"CA!D59","v":0}]
[{"$f":"CA!A60","v":0},{"$f":"CA!B60","v":0},{"$f":"CA!C60","v":0},{"$f":"CA!D60","v":0}]
[{"$f":"CA!A61","v":0},{"$f":"CA!B61","v":0},{"$f":"CA!C61","v":0},{"$f":"CA!D61","v":0}]
[{"$f":"CA!A62","v":0},{"$f":"CA!B62","v":0},{"$f":"CA!C62","v":0},{"$f":"CA!D62","v":0}]
[{"$f":"CA!A63","v":0},{"$f":"CA!B63","v":0},{"$f":"CA!C63","v":0},{"$f":"CA!D63","v":0}]
[{"$f":"CA!A64","v":0},{"$f":"CA!B64","v":0},{"$f":"CA!C64","v":0},{"$f":"CA!D64","v":0}]
[{"$f":"CA!A65","v":0},{"$f":"CA!B65","v":0},{"$f":"CA!C65","v":0},{"$f":"CA!D65","v":0}]
[{"$f":"CA!A66","v":0},{"$f":"CA!B66","v":0},{"$f":"CA!C66","v":0},{"$f":"CA!D66","v":0}]
[{"$f":"CA!A67","v":0},{"$f":"CA!B67","v":0},{"$f":"CA!C67","v":0},{"$f":"CA!D67","v":0}]
[{"$f":"CA!A68","v":0},{"$f":"CA!B68","v":0},{"$f":"CA!C68","v":0},{"$f":"CA!D68","v":0}]
[{"$f":"CA!A69","v":0},{"$f":"CA!B69","v":0},{"$f":"CA!C69","v":0},{"$f":"CA!D69","v":0}]
[{"$f":"CA!A70","v":0},{"$f":"CA!B70","v":0},{"$f":"CA!C70","v":0},{"$f":"CA!D70","v":0}]
[{"$f":"CA!A71","v":0},{"$f":"CA!B71","v":0},{"$f":"CA!C71","v":0},{"$f":"CA!D71","v":0}]
[{"$f":"CA!A72","v":0},{"$f":"CA!B72","v":0},{"$f":"CA!C72","v":0},{"$f":"CA!D72","v":0}]
[{"$f":"CA!A73","v":0},{"$f":"CA!B73","v":0},{"$f":"CA!C73","v":0},{"$f":"CA!D73","v":0}]
[{"$f":"CA!A74","v":0},{"$f":"CA!B74","v":0},{"$f":"CA!C74","v":0},{"$f":"CA!D74","v":0}]
[{"$f":"CA!A75","v":0},{"$f":"CA!B75","v":0},{"$f":"CA!C75","v":0},{"$f":"CA!D75","v":0}]
[null,null,{"$f":"CA!C76","v":"SUMA"},{"$f":"CA!D76","v":0}]

{"sheet":"FU","index":2,"n_rows":112,"n_cols":38,"rows_kept":112,"cut":false,"hidden":true,"merged":[[51,37,51,38],[90,2,90,38],[91,2,91,38],[92,2,92,38],[93,2,93,38],[85,2,85,38],[86,2,86,38],[87,2,87,38],[84,2,84,38],[10,8,10,14],[10,15,10,26],[56,35,56,38],[56,32,56,34],[57,32,57,34],[57,35,57,38],[43,28,45,38],[58,1,58,27],[58,28,58,38],[53,28,53,29],[53,31,53,32],[53,34,53,35],[53,37,53,38],[50,1,53,26],[54,28,54,29],[54,31,54,32],[107,18,107,36],[96,1,96,38],[97,1,97,38],[98,1,99,38],[100,1,101,38],[102,1,103,38],[104,1,105,38],[94,2,94,38],[95,2,95,38],[23,1,23,7],[22,1,22,22],[23,31,23,38],[23,23,23,30],[80,2,80,38],[81,2,81,38],[46,28,46,33],[47,28,47,33],[47,34,47,38],[48,1,49,27],[24,31,24,38],[24,23,24,30],[24,8,24,13],[24,1,24,7],[24,14,24,22],[78,2,78,38],[79,2,79,38],[76,1,76,38],[77,1,77,38],[26,1,26,38],[27,1,27,38],[41,1,41,38],[43,1,45,27],[42,1,42,27],[8,17,8,22],[7,23,7,38],[8,23,8,38],[19,35,20,38],[9,1,9,7],[19,4,20,34],[19,1,20,3],[10,1,10,7],[8,8,8,10],[7,11,7,16],[8,11,8,16],[9,33,9,38],[10,33,10,38],[9,27,9,32],[10,27,10,32],[9,8,9,14],[9,15,9,26],[111,1,111,14],[111,25,111,38],[12,1,12,38],[13,1,13,10],[16,1,16,25],[16,26,16,38],[17,1,17,25],[17,26,17,38],[15,1,15,3],[15,4,15,10],[21,1,21,38],[82,2,82,38],[83,2,83,38],[109,1,109,14],[109,25,109,38],[110,1,110,14],[110,25,110,38],[22,23,22,38],[23,14,23,22],[23,8,23,13],[46,1,47,27],[46,34,46,38],[88,2,88,38],[89,2,89,38],[1,10,1,38],[2,10,2,38],[18,1,18,34],[14,1,14,3],[14,4,14,10],[18,35,18,38],[14,32,14,38],[15,32,15,38],[14,26,14,31],[15,26,15,31],[14,21,14,25],[15,21,15,25],[14,11,14,20],[15,11,15,20],[13,26,13,38],[13,11,13,25],[4,1,4,4],[7,1,7,7],[8,1,8,7],[7,8,7,10],[4,5,4,38],[5,1,6,4],[5,5,6,38],[7,17,7,22],[42,28,42,38],[52,34,52,35],[52,37,52,38],[55,1,55,27],[55,28,55,38],[56,1,57,27],[57,28,57,31],[48,28,48,33],[48,34,48,38],[49,28,49,33],[49,34,49,38],[50,37,50,38],[50,34,50,35],[50,31,50,32],[50,28,50,29],[56,28,56,31],[52,28,52,29],[52,31,52,32],[54,34,54,35],[54,37,54,38],[54,1,54,26],[51,28,51,29],[51,31,51,32],[51,34,51,35]]}
[]
[null,null,null,null,null,null,null,null,null,null,"VERIFICACIÓN Y ANÁLISIS DE DOCUMENTACIÓN"]
[null,null,null,null,null,null,null,null,null,null,"Dirección de Profesionalización y Seguimiento"]
[]
[null,"CÓDIGO",null,null,null,"NOMBRE DEL ENTE PÚBLICO"]
[null,{"$f":"INDEX(EF!$K$2:$K$1001,MATCH(F6,EF!$A$2:$A$1001,0))","v":{"$error":"#N/A"}},null,null,null,{"$f":"Inconsistencias!B6","v":0}]
[]
[null,"ÁMBITO",null,null,null,null,null,null,"ACTIVO",null,null,"TEMA",null,null,null,null,null,"CLASE",null,null,null,null,null,"TIPO"]
[null,{"$f":"INDEX(EF!$B$2:$B$1001,MATCH(F6,EF!$A$2:$A$1001,0))","v":{"$error":"#N/A"}},null,null,null,null,null,null,{"$f":"INDEX(EF!$C$2:$C$1001,MATCH(F6,EF!$A$2:$A$1001,0))","v":{"$error":"#N/A"}},null,null,{"$f":"INDEX(EF!$E$2:$E$1001,MATCH(F6,EF!$A$2:$A$1001,0))","v":{"$error":"#N/A"}},null,null,null,null,null,{"$f":"INDEX(EF!$F$2:$F$1001,MATCH(F6,EF!$A$2:$A$1001,0))","v":{"$error":"#N/A"}},null,null,null,null,null,{"$f":"INDEX(EF!$G$2:$G$1001,MATCH(F6,EF!$A$2:$A$1001,0))","v":{"$error":"#N/A"}}]
[null,"POBLACIÓN 2015",null,null,null,null,null,null,"POBLACIÓN 2020",null,null,null,null,null,null,"REGIÓN",null,null,null,null,null,null,null,null,null,null,null,"AÑO DE CREACIÓN",null,null,null,null,null,"AÑO DE CIERRE"]
[null,{"$f":"INDEX(EF!$S$2:$S$126,MATCH(F6,EF!$Q$2:$Q$126,0))","v":{"$error":"#N/A"}},null,null,null,null,null,null,{"$f":"INDEX(EF!$T$2:$T$126,MATCH(F6,EF!$Q$2:$Q$126,0))","v":{"$error":"#N/A"}},null,null,null,null,null,null,{"$f":"INDEX(EF!$R$2:$R$126,MATCH(F6,EF!$Q$2:$Q$126,0))","v":{"$error":"#N/A"}},null,null,null,null,null,null,null,null,null,null,null,{"$f":"INDEX(EF!$H$2:$H$1001,MATCH(F6,EF!$A$2:$A$1001,0))","v":{"$error":"#N/A"}},null,null,null,null,null,{"$f":"INDEX(EF!$I$2:$I$1001,MATCH(F6,EF!$A$2:$A$1001,0))","v":{"$error":"#N/A"}}]
[]
[null,"INFORMACIÓN DE RECEPCIÓN"]
[null,"DATOS OFICIALÍA DE PARTES",null,null,null,null,null,null,null,null,null,"OFICIO DE REMISIÓN",null,null,null,null,null,null,null,null,null,null,null,null,null,null,"INFORMACIÓN QUE SE ACOMPAÑA"]
[null,"No.",null,null,"Fecha de recepción",null,null,null,null,null,null,"No. de oficio",null,null,null,null,null,null,null,null,null,"Fecha del oficio",null,null,null,null,"No. de documentos",null,null,null,null,null,"No. medio electrónico"]
[]
[null,"Nombre del remitente",null,null,null,null,null,null,null,null,null,null,null,null,null,null,null,null,null,null,null,null,null,null,null,null,"Cargo"]
[]
[null,"OBLIGACIÓN O DOCUMENTACIÓN REMITIDA",null,null,null,null,null,null,null,null,null,null,null,null,null,null,null,null,null,null,null,null,null,null,null,null,null,null,null,null,null,null,null,null,null,"EJERCICIO"]
[null,{"$f":"INDEX(EF!$U$2:$U$75,MATCH(E20,EF!$V$2:$V$75,0))","v":"PAI"},null,null,"Presupuesto inicial",null,null,null,null,null,null,null,null,null,null,null,null,null,null,null,null,null,null,null,null,null,null,null,null,null,null,null,null,null,null,2021]
[]
[null,"INFORMACIÓN DE LA APROBACIÓN AL PRESUPUESTO DE EGRESOS Y SUS MODIFICACIONES"]
[null,"ACTA DE APROBACIÓN",null,null,null,null,null,null,null,null,null,null,null,null,null,null,null,null,null,null,null,null,null,"MONTO DE APROBACIÓN"]
[null,"Acta Número",null,null,null,null,null,null,"Fecha Acuerdo",null,null,null,null,null,"Acuerdo Número",null,null,null,null,null,null,null,null,"Según Acta",null,null,null,null,null,null,null,"Según Formato"]
[]
[]
[null,"VERIFICACIÓN DE CUMPLIMIENTO"]
[null,"PRESUPUESTO DE EGRESOS Y SUS MODIFICACIONES"]
[null,{"$f":"Inconsistencias!B17","v":""},"Resultado y proyección de ingresos - LDF"]
[null,{"$f":"Inconsistencias!B18","v":""},"Estimación de ingresos (Clasificación por rubro de ingresos de libre disposición y etiquetados)"]
[null,{"$f":"Inconsistencias!B19","v":""},"Resultado y proyección de egresos - LDF"]
[null,{"$f":"Inconsistencias!B20","v":""},"Presupuesto de egresos (Clasificador por objeto del gasto y fuente de financiamiento)"]
[null,{"$f":"Inconsistencias!B21","v":""},"Presupuesto de egresos (Clasificador por tipo de gasto, fuente de financiamiento y objeto del gasto)"]
[null,{"$f":"Inconsistencias!B22","v":""},"Presupuesto de egresos (Clasificación funcional del gasto)"]
[null,{"$f":"Inconsistencias!B23","v":""},"Presupuesto de egresos (Clasificación administrativa)"]
[null,{"$f":"Inconsistencias!B24","v":""},"Informe sobre estudios actuariales - LDF"]
[null,{"$f":"Inconsistencias!B25","v":""},"Plantilla de personal de carácter permanente"]
[null,null,"Ficha informe para la evaluación del desempeño"]
[null,null,"Matriz de indicadores para resultados por programa"]
[null,null,"Informe de programas sin matriz de indicadores"]
[]
[null,"ANÁLISIS DE LA INFORMACIÓN"]
[null,"Análisis de la información financiera",null,null,null,null,null,null,null,null,null,null,null,null,null,null,null,null,null,null,null,null,null,null,null,null,null,null,"Resultado"]
[null,"En la verificación de los montos de la estimación de ingresos, integrada en el presupuesto, al conciliarlos con los importes de la Ley de ingresos municipal del ejercicio."]
[]
[]
[null,"El incremento o la disminución al total del presupuesto de egresos, con relación al del ejercicio inmediato anterior es del:",null,null,null,null,null,null,null,null,null,null,null,null,null,null,null,null,null,null,null,null,null,null,null,null,null,null,"IMPORTE",null,null,null,null,null,"PORCENTAJE"]
[]
[null,"El incremento del egreso en el capítulo 1000 Servicios personales es del:\nEn el caso de haber incremento cumple con la disposición establecida en el artículo 10 LDF.",null,null,null,null,null,null,null,null,null,null,null,null,null,null,null,null,null,null,null,null,null,null,null,null,null,null,"% DE INCREMENTO",null,null,null,null,null,"CUMPLE ART. 10"]
[]
[null,"En el clasificador por rubro de ingresos la entidad estima recaudar los siguientes conceptos:",null,null,null,null,null,null,null,null,null,null,null,null,null,null,null,null,null,null,null,null,null,null,null,null,null,null,1101,null,null,1701,null,null,4302,null,null,8100]
[null,null,null,null,null,null,null,null,null,null,null,null,null,null,null,null,null,null,null,null,null,null,null,null,null,null,null,null,1201,null,null,1702,null,null,4303,null,null,8112]
[null,null,null,null,null,null,null,null,null,null,null,null,null,null,null,null,null,null,null,null,null,null,null,null,null,null,null,null,1202,null,null,3101,null,null,4308,null,null,8201]
[null,null,null,null,null,null,null,null,null,null,null,null,null,null,null,null,null,null,null,null,null,null,null,null,null,null,null,null,1203,null,null,4301,null,null,4310,null,null,8202]
[null,"En el clasificador por objeto del gasto la entidad presupuestó erogar en las siguientes partidas:",null,null,null,null,null,null,null,null,null,null,null,null,null,null,null,null,null,null,null,null,null,null,null,null,null,null,111,null,null,113,null,null,132,null,null,141]
[null,"El monto percápita del egreso por habitantes es de:"]
[null,"De acuerdo a la clasificación del Sistema de Alertas la entidad se encuentra en un nivel:\nLa entidad estima adquirir financiamiento equivalente a sus ingresos de libre disposiciones (ILD) del:\nEn la verificación la entidad cumple con lo dispuesto en el artículo 46 de la LDF:",null,null,null,null,null,null,null,null,null,null,null,null,null,null,null,null,null,null,null,null,null,null,null,null,null,null,"NIVEL",null,null,null,"% ILD",null,null,"ART. 46 LDF"]
[]
[null,"El destino del financiamiento es inversión pública productiva, conforme establece el artículo 22 de la LDF:"]
[]
[null,null,null,{"$f":"Inconsistencias!$C$80","v":"Ingresos derivados de financiamiento"},{"$f":"Inconsistencias!$D$80","v":0}]
[null,null,null,{"$f":"Inconsistencias!$C$79","v":"Transferencias, asignaciones, subsidios y subvenciones y pensiones y jubilaciones"},{"$f":"Inconsistencias!$D$79","v":0},null,null,null,null,null,null,null,null,null,null,null,null,null,null,null,null,{"$f":"Inconsistencias!D86","v":"Servicios personales"},{"$f":"Inconsistencias!E86","v":0}]
[null,null,null,{"$f":"Inconsistencias!$C$78","v":"Participaciones, aportaciones, convenios, incentivos derivados de la colaboración fiscal y fondos distitntos de las aportaciones"},{"$f":"Inconsistencias!$D$78","v":0},null,null,null,null,null,null,null,null,null,null,null,null,null,null,null,null,{"$f":"Inconsistencias!D87","v":"Materiales y suministros"},{"$f":"Inconsistencias!E87","v":0}]
[null,null,null,{"$f":"Inconsistencias!$C$77","v":"Ingresos por venta de bienes, prestación de servicios y otros ingresos"},{"$f":"Inconsistencias!$D$77","v":0},null,null,null,null,null,null,null,null,null,null,null,null,null,null,null,null,{"$f":"Inconsistencias!D88","v":"Servicios generales"},{"$f":"Inconsistencias!E88","v":0}]
[null,null,null,{"$f":"Inconsistencias!$C$76","v":"Aprovechamientos"},{"$f":"Inconsistencias!$D$76","v":0},null,null,null,null,null,null,null,null,null,null,null,null,null,null,null,null,{"$f":"Inconsistencias!D89","v":"Transferencias, asignaciones, subsidios y otras ayudas"},{"$f":"Inconsistencias!E89","v":0}]
[null,null,null,{"$f":"Inconsistencias!$C$75","v":"Productos"},{"$f":"Inconsistencias!$D$75","v":0},null,null,null,null,null,null,null,null,null,null,null,null,null,null,null,null,{"$f":"Inconsistencias!D90","v":"Bienes muebles, inmuebles e intangibles"},{"$f":"Inconsistencias!E90","v":0}]
[null,null,null,{"$f":"Inconsistencias!$C$74","v":"Derechos"},{"$f":"Inconsistencias!$D$74","v":0},null,null,null,null,null,null,null,null,null,null,null,null,null,null,null,null,{"$f":"Inconsistencias!D91","v":"Inversión pública"},{"$f":"Inconsistencias!E91","v":0}]
[null,null,null,{"$f":"Inconsistencias!$C$73","v":"Contribuciones de mejoras"},{"$f":"Inconsistencias!$D$73","v":0},null,null,null,null,null,null,null,null,null,null,null,null,null,null,null,null,{"$f":"Inconsistencias!D92","v":"Inversiones financieras y otras provisiones"},{"$f":"Inconsistencias!E92","v":0}]
[null,null,null,{"$f":"Inconsistencias!$C$72","v":"Cuotas y aportaciones de seguridad social"},{"$f":"Inconsistencias!$D$72","v":0},null,null,null,null,null,null,null,null,null,null,null,null,null,null,null,null,{"$f":"Inconsistencias!D93","v":"Participaciones y aportaciones"},{"$f":"Inconsistencias!E93","v":0}]
[null,null,null,{"$f":"Inconsistencias!$C$71","v":"Impuestos"},{"$f":"Inconsistencias!$D$71","v":0},null,null,null,null,null,null,null,null,null,null,null,null,null,null,null,null,{"$f":"Inconsistencias!D94","v":"Deuda pública"},{"$f":"Inconsistencias!E94","v":0}]
[]
[]
[null,null,"n/a"]
[null,null,"No son los mismos importes, en lo general como por rubro de ingreso."]
[null,null,"El importe general coincide en los dos documentos, más no en lo rubros."]
[null,null,"Los importes son iguales en los dos documentos, tanto en lo general como por rubro."]
[null,"INCONSISTENCIAS"]
[null,"Inconsistencia"]
[null,{"$f":"IF(C79=\"• No adjunta la información del presupuesto en formato electrónico.\",1,\"\")","v":""},{"$f":"IF(C80=\"• No se envía el acta de aprobación al presupuesto.\",\"\",IF(AG16>0,\"\",\"• No adjunta la información del presupuesto en formato electrónico.\"))","v":""}]
[null,{"$f":"IF(C80=\"• No se envía el acta de aprobación al presupuesto.\",1,\"\")","v":1},{"$f":"IF(B25=\"\",\"• No se envía el acta de aprobación al presupuesto.\",\"\")","v":"• No se envía el acta de aprobación al presupuesto."}]
[null,{"$f":"IF(C81=\"• El presupuesto se aprobó posterior al 30 de diciembre de 2020, incumpliendo lo establecido en el art. 218 de la LHM.\",1,\"\")","v":""},{"$f":"IF(I25>44195,\"• El presupuesto se aprobó posterior al 30 de diciembre de 2020, incumpliendo lo establecido en el art. 218 de la LHM.\",\"\")","v":""}]
[null,{"$f":"IF(C82=\"• En el acta unicamente hace referencia a la aprobación del presupuesto sin indicar por cuanto se aprobo.\",1,\"\")","v":""},{"$f":"IF(C80=\"• No se envía el acta de aprobación al presupuesto.\",\"\",IF(AF25>0,IF(X25=\"\",\"• En el acta unicamente hace referencia a la aprobación del presupuesto sin indicar por cuanto se aprobo.\",\"\")))","v":""}]
[null,{"$f":"IF(C83=\"• Existe diferencia entre lo establecido en el acta de aprobación y la información remitida en los formatos del presupuesto.\",1,\"\")","v":""},{"$f":"IF(C80=\"• No se envía el acta de aprobación al presupuesto.\",\"\",IF(X25=\"\",\"\",IF(X25=AF25,\"\",\"• Existe diferencia entre lo establecido en el acta de aprobación y la información remitida en los formatos del presupuesto.\")))","v":""}]
[null,{"$f":"IF(C84=\"\",\"\",1)","v":""},{"$f":"IF(C80=\"• No se envía el acta de aprobación al presupuesto.\",\"\",IF(SUM(Inconsistencias!C35:C43)>0,\"• No se elaboró el o los formato(s) de: \",\"\")&Inconsistencias!B35&Inconsistencias!B36&Inconsistencias!B37&Inconsistencias!B38&Inconsistencias!B39&Inconsistencias!B40&Inconsistencias!B41&Inconsistencias!B42&Inconsistencias!B43)","v":""}]
[null,{"$f":"IF(C85=\"• El total de la estimación de ingresos es diferente al total del presupuesto de egresos.\",1,\"\")","v":""},{"$f":"Inconsistencias!B45","v":""}]
[null,{"$f":"IF(C86=\"• Se observa diferencia entre la estimación de ingresos fiscales (11) y los egresos pagaderos con dicha fuente de financiamiento.\",1,\"\")","v":""},{"$f":"Inconsistencias!B46","v":""}]
[null,{"$f":"IF(C87=\"• Se observa diferencia entre la estimación de financiamiento interno (12) y los egresos pagaderos con dicha fuente de financiamiento.\",1,\"\")","v":""},{"$f":"Inconsistencias!B48","v":""}]
[null,{"$f":"IF(C88=\"• Se observa diferencia entre la estimación de ingresos propios (14) y los egresos pagaderos con dicha fuente de financiamiento.\",1,\"\")","v":""},{"$f":"Inconsistencias!B50","v":""}]
[null,{"$f":"IF(C89=\"• Se observa diferencia entre la estimación de ingresos de recursos federales de libre disposición (15) y los egresos pagaderos con dicha fuente de financiamiento.\",1,\"\")","v":""},{"$f":"Inconsistencias!B52","v":""}]
[null,{"$f":"IF(C90=\"• Se observa diferencia entre la estimación de ingresos de recursos estatales de libre disposición (16) y los egresos pagaderos con dicha fuente de financiamiento.\",1,\"\")","v":""},{"$f":"Inconsistencias!B54","v":""}]
[null,{"$f":"IF(C91=\"• Se observa diferencia entre la estimación de ingresos de otros recursos de libre disposición (17) y los egresos pagaderos con dicha fuente de financiamiento.\",1,\"\")","v":""},{"$f":"Inconsistencias!B56","v":""}]
[null,{"$f":"IF(C92=\"• Se observa diferencia entre la estimación de ingresos de recursos federales etiquetados (25) y los egresos pagaderos con dicha fuente de financiamiento.\",1,\"\")","v":""},{"$f":"Inconsistencias!B58","v":""}]
[null,{"$f":"IF(C93=\"• Se observa diferencia entre la estimación de ingresos de recursos estatales etiquetados (26) y los egresos pagaderos con dicha fuente de financiamiento.\",1,\"\")","v":""},{"$f":"Inconsistencias!B60","v":""}]
[null,{"$f":"IF(C94=\"• Se observa diferencia entre la estimación de ingresos otros recursos de transferencia federal etiquetados (27) y los egresos pagaderos con dicha fuente de financiamiento.\",1,\"\")","v":""},{"$f":"Inconsistencias!B62","v":""}]
[null,{"$f":"IF(C95=\"• El total del presupuesto de egresos en su clasificación por objeto del gasto difiere con el total de los egresos por clasificación funcional del gasto.\",1,\"\")","v":""},{"$f":"Inconsistencias!B65","v":""}]
[null,{"$f":"IF(C96=\"• El total del presupuesto de egresos en su clasificación por objeto del gasto difiere con el total de los egresos en la clasificación administrativa.\",1,\"\")","v":""},{"$f":"Inconsistencias!B67","v":""}]
[null,"OBSERVACIONES"]
[null,"Observaciones"]
[]
[]
[]
[]
[]
[]
[]
[]
[]
[null,null,null,null,null,null,null,null,null,null,null,null,null,null,null,null,null,"Guadalajara, Jalisco; a"]
[]
[]
[null,"ELABORÓ",null,null,null,null,null,null,null,null,null,null,null,null,null,null,null,null,null,null,null,null,null,null,null,"REVISÓ"]
[null,null,null,null,null,null,null,null,null,null,null,null,null,null,null,null,null,null,null,null,null,null,null,null,null,"L.C.P. Manuel Fonseca Villaseñor"]

{"sheet":"Inconsistencias","index":3,"n_rows":95,"n_cols":27,"rows_kept":95,"cut":false,"hidden":false,"merged":[[68,1,68,29],[66,1,67,29],[63,1,63,29],[53,1,54,29],[57,1,58,29],[59,1,60,29],[61,1,62,29],[64,1,65,29],[45,1,46,29],[47,1,48,29],[49,1,50,29],[51,1,52,29],[25,1,25,29],[10,12,10,15],[55,1,56,29],[1,1,1,29],[2,1,2,29],[27,1,33,29],[26,1,26,29],[44,1,44,29],[43,1,43,29],[14,1,14,6],[14,7,14,13],[14,14,14,29],[15,1,15,29],[12,1,12,29],[11,28,11,29],[11,16,11,27],[13,1,13,6],[4,1,4,29],[5,1,7,29],[13,7,13,13],[13,14,13,29],[11,14,11,15],[8,16,8,29],[9,17,9,29],[10,17,10,25],[10,26,10,27],[10,28,10,29],[11,1,11,13],[8,1,8,11],[8,12,8,15],[9,12,9,15],[9,2,9,11],[10,2,10,11]]}
[]
[null,"PRESUPUESTO DE EGRESOS 2021"]
[null,"INFORMACIÓN ADICIONAL"]
[]
[null,"NOMBRE DEL ENTE PÚBLICO"]
[]
[]
[]
[null,"DOCUMENTO REMITIDO",null,null,null,null,null,null,null,null,null,null,"EJERCICIO",null,null,null,"DOCUMENTACIÓN CORRESPONDE A:"]
[null,null,"Presupuesto de egresos",null,null,null,null,null,null,null,null,null,2021,null,null,null,null,"Normal"]
[null,null,"Modificación al presupuesto",null,null,null,null,null,null,null,null,null,2021,null,null,null,null,"Complementaria",null,null,null,null,null,null,null,null,"No."]
[null,"La modificación al presupuesto es la No.",null,null,null,null,null,null,null,null,null,null,null,null,null,null,"Se acompaña respaldo electrónico"]
[null,"INFORMACIÓN DE APROBACIÓN DEL PRESUPUESTO"]
[null,"Acta número",null,null,null,null,null,"Fecha del acuerdo",null,null,null,null,null,null,"Acuerdo número"]
[]
[null,"FORMATOS ELABORADOS"]
[null,{"$f":"IF(('CRI-RYP'!D24+'CRI-RYP'!F24)>0,IF('CRI-RYP'!F24>0,\"X\",\"\"),\"\")","v":""},"Resultado y proyección de ingresos - LDF. "]
[null,{"$f":"IF('CRI-DE'!F141>0,\"X\",\"\")","v":""},"Estimación de ingresos (Clasificación por rubro de ingresos de libre disposición y etiquetados). "]
[null,{"$f":"IF(('COG-RYP'!D24+'COG-RYP'!F24)>0,IF('COG-RYP'!F24>0,\"X\",\"\"),\"\")","v":""},"Resultado y proyección de egresos - LDF. "]
[null,{"$f":"IF('COG-FF'!M429>0,\"X\",\"\")","v":""},"Presupuesto de egresos (Clasificador por objeto del gasto y fuente de financiamiento). "]
[null,{"$f":"IF('CTG-FF'!M8>0,\"X\",\"\")","v":""},"Presupuesto de egresos (Clasificador por tipo de gasto, fuente de financiamiento y objeto del gasto). "]
[null,{"$f":"IF(CF!C146>0,\"X\",\"\")","v":""},"Presupuesto de egresos (Clasificación funcional del gasto). "]
[null,{"$f":"IF(CA!D76>0,\"X\",\"\")","v":""},"Presupuesto de egresos (Clasificación administrativa). "]
[null,{"$f":"IF(SUM(EA!B48:F48)>2017,\"X\",\"\")","v":""},"Informe sobre estudios actuariales - LDF. "]
[null,{"$f":"IF(Plantilla!O429>0,\"X\",\"\")","v":""},"Plantilla de personal de carácter permanente. "]
[null,"Se considera que los formatos han sido correctamente elaborados,\nsalvo que se generen las siguientes:"]
[null,"Inconsistencia relacionada con la elaboración de formatos:"]
[null,{"$f":"IF(SUM(C35:C43)>0,\"• No se elaboró el o los formato(s) de: \",\"\")&B35&B36&B37&B38&B39&B40&B41&B42&B43","v":"• No se elaboró el o los formato(s) de: Resultado y proyección de ingresos - LDF. Estimación de ingresos (Clasificación por rubro de ingresos de libre disposición y etiquetados). Resultado y proyección de egresos - LDF. Presupuesto de egresos (Clasificador por objeto del gasto y fuente de financiamiento). Presupuesto de egresos (Clasificador por tipo de gasto, fuente de financiamiento y objeto del gasto). Presupuesto de egresos (Clasificación funcional del gasto). Presupuesto de egresos (Clasificación administrativa). Informe sobre estudios actuariales - LDF. Plantilla de personal de carácter permanente. "}]
[]
[]
[]
[]
[]
[]
[null,{"$f":"IF(B17=\"X\",\"\",C17)","v":"Resultado y proyección de ingresos - LDF. "},{"$f":"IF(B17=\"X\",0,1)","v":1},{"$f":"IF(B28>0,\"\",1)","v":""}]
[null,{"$f":"IF(B18=\"X\",\"\",C18)","v":"Estimación de ingresos (Clasificación por rubro de ingresos de libre disposición y etiquetados). "},{"$f":"IF(B18=\"X\",0,1)","v":1}]
[null,"Resultado y proyección de egresos - LDF. ",1]
[null,"Presupuesto de egresos (Clasificador por objeto del gasto y fuente de financiamiento). ",1]
[null,"Presupuesto de egresos (Clasificador por tipo de gasto, fuente de financiamiento y objeto del gasto). ",1]
[null,"Presupuesto de egresos (Clasificación funcional del gasto). ",1]
[null,"Presupuesto de egresos (Clasificación administrativa). ",1]
[null,"Informe sobre estudios actuariales - LDF. ",1]
[null,"Plantilla de personal de carácter permanente. ",1]
[null,"Inconsistencia relacionada con el equilibrio ingreso vs. gasto:"]
[null,{"$f":"IF(ABS('CRI-RYP'!E24-'COG-RYP'!E24)>=1000,\"• El total de la estimación de ingresos es diferente al total del presupuesto de egresos.\",\"\")","v":""}]
[null,{"$f":"IF(ABS(SUM('CRI-M'!P2+'CRI-M'!P21+'CRI-M'!P27+'CRI-M'!P30+'CRI-M'!P60+'CRI-M'!P65)-'CTG-FF'!C8)>=1000,\"• Se observa diferencia entre la estimación de ingresos fiscales (11) y los egresos pagaderos con dicha fuente de financiamiento.\",\"\")","v":""}]
[]
[null,{"$f":"IF(ABS('CRI-M'!P146-'CTG-FF'!D8)>=1000,\"• Se observa diferencia entre la estimación de financiamiento interno (12) y los egresos pagaderos con dicha fuente de financiamiento.\",\"\")","v":""}]
[]
[null,{"$f":"IF(ABS('CRI-M'!P79-'CTG-FF'!F8)>=1000,\"• Se observa diferencia entre la estimación de ingresos propios (14) y los egresos pagaderos con dicha fuente de financiamiento.\",\"\")","v":""}]
[]
[null,{"$f":"IF(ABS((SUM('CRI-M'!P95:P105)+SUM('CRI-M'!P118:P122))-'CTG-FF'!G8)>=1000,\"• Se observa diferencia entre la estimación de ingresos de recursos federales de libre disposición (15) y los egresos pagaderos con dicha fuente de financiamiento.\",\"\")","v":""}]
[]
[null,{"$f":"IF(ABS('CRI-M'!P106-'CTG-FF'!H8)>=1000,\"• Se observa diferencia entre la estimación de ingresos de recursos estatales de libre disposición (16) y los egresos pagaderos con dicha fuente de financiamiento.\",\"\")","v":""}]
[]
[null,{"$f":"IF(ABS((SUM('CRI-M'!P111:P114)+'CRI-M'!P128+'CRI-M'!P133+'CRI-M'!P138+'CRI-M'!P141)-'CTG-FF'!I8)>=1000,\"• Se observa diferencia entre la estimación de ingresos de otros recursos de libre disposición (17) y los egresos pagaderos con dicha fuente de financiamiento.\",\"\")","v":""}]
[]
[null,{"$f":"IF(ABS('CRI-M'!P107+'CRI-M'!P115+'CRI-M'!P123-'CTG-FF'!J8)>=1000,\"• Se observa diferencia entre la estimación de ingresos de recursos federales etiquetados (25) y los egresos pagaderos con dicha fuente de financiamiento.\",\"\")","v":""}]
[]
[null,{"$f":"IF(ABS('CRI-M'!P116+'CRI-M'!P130+'CRI-M'!P135-'CTG-FF'!K8)>=1000,\"• Se observa diferencia entre la estimación de ingresos de recursos estatales etiquetados (26) y los egresos pagaderos con dicha fuente de financiamiento.\",\"\")","v":""}]
[]
[null,{"$f":"IF(ABS(('CRI-M'!P129+'CRI-M'!P134)-'CTG-FF'!L8)>=1000,\"• Se observa diferencia entre la estimación de ingresos otros recursos de transferencia federal etiquetados (27) y los egresos pagaderos con dicha fuente de financiamiento.\",\"\")","v":""}]
[]
[null,"Inconsistencia relacionada con el monto presupuestado en sus diferentes clasificadores:"]
[null,{"$f":"IF(CF!C146=0,\"\",IF(ABS('COG-RYP'!E24-CF!C146)>=1000,\"• El total del presupuesto de egresos en su clasificación por objeto del gasto difiere con el total de los egresos por clasificación funcional del gasto.\",\"\"))","v":""}]
[]
[null,{"$f":"IF(CA!D76=0,\"\",IF(ABS('COG-RYP'!E24-CA!D76)>=1000,\"• El total del presupuesto de egresos en su clasificación por objeto del gasto difiere con el total de los egresos en la clasificación administrativa.\",\"\"))","v":""}]
[]
[null,"Gráficos"]
[]
[null,null,"Impuestos",{"$f":"'CRI-DE'!F2","v":0},{"$f":"D71/$D$81","v":{"$error":"#DIV/0!"}}]
[null,null,"Cuotas y aportaciones de seguridad social",{"$f":"'CRI-DE'!F21","v":0},{"$f":"D72/$D$81","v":{"$error":"#DIV/0!"}}]
[null,null,"Contribuciones de mejoras",{"$f":"'CRI-DE'!F27","v":0},{"$error":"#DIV/0!"}]
[null,null,"Derechos",{"$f":"'CRI-DE'!F30","v":0},{"$error":"#DIV/0!"}]
[null,null,"Productos",{"$f":"'CRI-DE'!F60","v":0},{"$error":"#DIV/0!"}]
[null,null,"Aprovechamientos",{"$f":"'CRI-DE'!F65","v":0},{"$error":"#DIV/0!"}]
[null,null,"Ingresos por venta de bienes, prestación de servicios y otros ingresos",{"$f":"'CRI-DE'!F79","v":0},{"$error":"#DIV/0!"}]
[null,null,"Participaciones, aportaciones, convenios, incentivos derivados de la colaboración fiscal y fondos distitntos de las aportaciones",{"$f":"'CRI-DE'!F93","v":0},{"$error":"#DIV/0!"}]
[null,null,"Transferencias, asignaciones, subsidios y subvenciones y pensiones y jubilaciones",{"$f":"'CRI-DE'!F124","v":0},{"$error":"#DIV/0!"}]
[null,null,"Ingresos derivados de financiamiento",{"$f":"'CRI-DE'!F136","v":0},{"$error":"#DIV/0!"}]
[null,null,null,{"$f":"SUM(D71:D80)","v":0}]
[]
[]
[]
[]
[null,null,null,"Servicios personales",{"$f":"'COG-FF'!M3","v":0},{"$f":"E86/$E$95","v":{"$error":"#DIV/0!"}}]
[null,null,null,"Materiales y suministros",{"$f":"'COG-FF'!M40","v":0},{"$f":"E87/$E$95","v":{"$error":"#DIV/0!"}}]
[null,null,null,"Servicios generales",{"$f":"'COG-FF'!M105","v":0},{"$error":"#DIV/0!"}]
[null,null,null,"Transferencias, asignaciones, subsidios y otras ayudas",{"$f":"'COG-FF'!M190","v":0},{"$error":"#DIV/0!"}]
[null,null,null,"Bienes muebles, inmuebles e intangibles",{"$f":"'COG-FF'!M250","v":0},{"$error":"#DIV/0!"}]
[null,null,null,"Inversión pública",{"$f":"'COG-FF'!M309","v":0},{"$error":"#DIV/0!"}]
[null,null,null,"Inversiones financieras y otras provisiones",{"$f":"'COG-FF'!M331","v":0},{"$error":"#DIV/0!"}]
[null,null,null,"Participaciones y aportaciones",{"$f":"'COG-FF'!M379","v":0},{"$error":"#DIV/0!"}]
[null,null,null,"Deuda pública",{"$f":"'COG-FF'!M397","v":0},{"$error":"#DIV/0!"}]
[null,null,null,null,{"$f":"SUM(E86:E94)","v":0}]

{"sheet":"CRI-M","index":4,"n_rows":147,"n_cols":16,"rows_kept":147,"cut":false,"hidden":false,"merged":[[146,0,146,1]]}
["CRI-LI",null,"FF","ENERO","FEBRERO","MARZO","ABRIL","MAYO","JUNIO","JULIO","AGOSTO","SEPTIEMBRE","OCTUBRE","NOVIEMBRE","DICIEMBRE","TOTAL"]
[1000,"IMPUESTOS",null,{"$f":"D3+D5+D9+D10+D11+D12+D13+D19","v":0},{"$f":"E3+E5+E9+E10+E11+E12+E13+E19","v":0},0,0,0,0,0,0,0,0,0,0,{"$f":"SUM(D2:O2)","v":0}]
[1100,"Impuestos sobre los ingresos",null,{"$f":"SUM(D4)","v":0},{"$f":"SUM(E4)","v":0},0,0,0,0,0,0,0,0,0,0,{"$f":"SUM(D3:O3)","v":0}]
[1101,"Impuestos sobre espectáculos públicos",11,null,null,null,null,null,null,null,null,null,null,null,null,0]
[1200,"Impuestos sobre el patrimonio",null,{"$f":"SUM(D6:D8)","v":0},{"$f":"SUM(E6:E8)","v":0},0,0,0,0,0,0,0,0,0,0,0]
[1201,"Impuesto predial",11,null,null,null,null,null,null,null,null,null,null,null,null,0]
[1202,"Impuestos sobre transmisiones patrimoniales",11,null,null,null,null,null,null,null,null,null,null,null,null,0]
[1203,"Impuestos sobre negocios jurídicos",11,null,null,null,null,null,null,null,null,null,null,null,null,0]
[1300,"Impuestos sobre la producción, el consumo y las transacciones",null,0,0,0,0,0,0,0,0,0,0,0,0,0]
[1400,"Impuestos al comercio exterior",null,0,0,0,0,0,0,0,0,0,0,0,0,0]
[1500,"Impuestos sobre nóminas y asimilables",null,0,0,0,0,0,0,0,0,0,0,0,0,0]
[1600,"Impuestos ecológicos",null,0,0,0,0,0,0,0,0,0,0,0,0,0]
[1700,"Accesorios de impuestos",null,{"$f":"SUM(D14:D18)","v":0},{"$f":"SUM(E14:E18)","v":0},0,0,0,0,0,0,0,0,0,0,0]
[1701,"Recargos",11,null,null,null,null,null,null,null,null,null,null,null,null,0]
[1702,"Actualizaciones",11,null,null,null,null,null,null,null,null,null,null,null,null,0]
[1703,"Multas",11,null,null,null,null,null,null,null,null,null,null,null,null,0]
[1704,"Gastos de ejecución",11,null,null,null,null,null,null,null,null,null,null,null,null,0]
[1709,"Otros no especificados",11,null,null,null,null,null,null,null,null,null,null,null,null,0]
[1800,"Otros impuestos",null,{"$f":"SUM(D20)","v":0},{"$f":"SUM(E20)","v":0},0,0,0,0,0,0,0,0,0,0,0]
[1801,"Otros impuestos",11,null,null,null,null,null,null,null,null,null,null,null,null,0]
[2000,"CUOTAS Y APORTACIONES DE SEGURIDAD SOCIAL",null,{"$f":"SUM(D22:D26)","v":0},{"$f":"SUM(E22:E26)","v":0},0,0,0,0,0,0,0,0,0,0,0]
[2100,"Aportaciones para fondos de vivienda",null,null,null,null,null,null,null,null,null,null,null,null,null,0]
[2200,"Cuotas para la seguridad social",null,null,null,null,null,null,null,null,null,null,null,null,null,0]
[2300,"Cuotas de ahorro para el retiro",null,null,null,null,null,null,null,null,null,null,null,null,null,0]
[2400,"Otras cuotas y aportaciones para la seguridad social",null,null,null,null,null,null,null,null,null,null,null,null,null,0]
[2500,"Accesorios de cuotas y aportaciones de seguridad social",null,null,null,null,null,null,null,null,null,null,null,null,null,0]
[3000,"CONTRIBUCIONES DE MEJORAS",null,{"$f":"SUM(D28)","v":0},{"$f":"SUM(E28)","v":0},0,0,0,0,0,0,0,0,0,0,0]
[3100,"Contribuciones de mejoras por obras públicas",null,{"$f":"SUM(D29)","v":0},0,0,0,0,0,0,0,0,0,0,0,0]
[3101,"Contribuciones de mejoras por obras públicas",11,null,null,null,null,null,null,null,null,null,null,null,null,0]
[4000,"DERECHOS",null,{"$f":"D31+D36+D37+D52+D54","v":0},{"$f":"E31+E36+E37+E52+E54","v":0},0,0,0,0,0,0,0,0,0,0,0]
[4100,"Derechos por el uso, goce, aprovechamiento o explotación de bienes de dominio público",null,{"$f":"SUM(D32:D35)","v":0},{"$f":"SUM(E32:E35)","v":0},0,0,0,0,0,0,0,0,0,0,0]
[4101,"Derechos por el uso del piso",11,null,null,null,null,null,null,null,null,null,null,null,null,0]
[4102,"Derechos por el uso de los estacionamientos",11,null,null,null,null,null,null,null,null,null,null,null,null,0]
[4103,"Derechos de uso de cementerios y panteones municipales",11,null,null,null,null,null,null,null,null,null,null,null,null,0]
[4104,"Derechos de concesiones y demás inmuebles de propiedad municipal",11,null,null,null,null,null,null,null,null,null,null,null,null,0]
[4200,"Derechos a los hidrocarburos (Derogado)",null,null,null,null,null,null,null,null,null,null,null,null,null,0]
[4300,"Derechos por prestación de servicios",null,{"$f":"SUM(D38:D51)","v":0},{"$f":"SUM(E38:E51)","v":0},0,0,0,0,0,0,0,0,0,0,0]
[4301,"Derechos de licencias y permisos de giros",11,null,null,null,null,null,null,null,null,null,null,null,null,0]
[4302,"Derechos de licencias y permisos de anuncios",11,null,null,null,null,null,null,null,null,null,null,null,null,0]
[4303,"Derechos de licencias de construcción, reconstrucción, reparación o demolición de obras",11,null,null,null,null,null,null,null,null,null,null,null,null,0]
[4304,"Derechos de regularizaciones de los registros de obra",11,null,null,null,null,null,null,null,null,null,null,null,null,0]
[4305,"Derechos de alineamiento, designación de número oficial e inspección",11,null,null,null,null,null,null,null,null,null,null,null,null,0]
[4306,"Derechos de licencias de cambio de régimen de propiedad y urbanización",11,null,null,null,null,null,null,null,null,null,null,null,null,0]
[4307,"Derechos de servicios de obra",11,null,null,null,null,null,null,null,null,null,null,null,null,0]
[4308,"Derechos de servicios de sanidad",11,null,null,null,null,null,null,null,null,null,null,null,null,0]
[4309,"Derechos de servicio de limpieza, recolección, traslado, tratamiento y disposición final de residuos",11,null,null,null,null,null,null,null,null,null,null,null,null,0]
[4310,"Derechos de agua potable, drenaje, alcantarillado, tratamiento y disposición final de aguas residuales",11,null,null,null,null,null,null,null,null,null,null,null,null,0]
[4311,"Derechos del rastro",11,null,null,null,null,null,null,null,null,null,null,null,null,0]
[4312,"Derechos del registro civil",11,null,null,null,null,null,null,null,null,null,null,null,null,0]
[4313,"Derechos de las certificaciones",11,null,null,null,null,null,null,null,null,null,null,null,null,0]
[4314,"Derechos de los servicios de catastro",11,null,null,null,null,null,null,null,null,null,null,null,null,0]
[4400,"Otros derechos",null,{"$f":"SUM(D53)","v":0},{"$f":"SUM(E53)","v":0},0,0,0,0,0,0,0,0,0,0,0]
[4401,"Otros derechos",11,null,null,null,null,null,null,null,null,null,null,null,null,0]
[4500,"Accesorios de derechos",null,{"$f":"SUM(D55:D59)","v":0},{"$f":"SUM(E55:E59)","v":0},0,0,0,0,0,0,0,0,0,0,0]
[4501,"Recargos",11,null,null,null,null,null,null,null,null,null,null,null,null,0]
[4502,"Actualizaciones",11,null,null,null,null,null,null,null,null,null,null,null,null,0]
[4503,"Multas",11,null,null,null,null,null,null,null,null,null,null,null,null,0]
[4504,"Gastos de ejecución",11,null,null,null,null,null,null,null,null,null,null,null,null,0]
[4509,"Otros no especificados",11,null,null,null,null,null,null,null,null,null,null,null,null,0]
[5000,"PRODUCTOS",null,{"$f":"D61+D64","v":0},{"$f":"E61+E64","v":0},0,0,0,0,0,0,0,0,0,0,0]
[5100,"Productos",null,{"$f":"SUM(D62:D63)","v":0},{"$f":"SUM(E62:E63)","v":0},0,0,0,0,0,0,0,0,0,0,0]
[5101,"Uso, goce, aprovechamiento o explotación de bienes de dominio privado",11,null,null,null,null,null,null,null,null,null,null,null,null,0]
[5102,"Productos diversos",11,null,null,null,null,null,null,null,null,null,null,null,null,0]
[5200,"Productos de capital (Derogado)",null,null,null,null,null,null,null,null,null,null,null,null,null,0]
[6000,"APROVECHAMIENTOS",null,{"$f":"D66+D70+D73","v":0},{"$f":"E66+E70+E73","v":0},0,0,0,0,0,0,0,0,0,0,0]
[6100,"Aprovechamientos",null,{"$f":"SUM(D67:D69)","v":0},{"$f":"SUM(E67:E69)","v":0},0,0,0,0,0,0,0,0,0,0,0]
[6101,"Aprovechamientos de las sanciones, multas, honorarios y donativos",11,null,null,null,null,null,null,null,null,null,null,null,null,{"$f":"SUM(D67:O67)","v":0}]
[6102,"Aprovechamientos de las indemnizaciones a favor del municipio",11,null,null,null,null,null,null,null,null,null,null,null,null,0]
[6103,"Otros aprovechamientos",11,null,null,null,null,null,null,null,null,null,null,null,null,0]
[6200,"Aprovechamientos patrimoniales",null,{"$f":"SUM(D71:D72)","v":0},{"$f":"SUM(E71:E72)","v":0},0,0,0,0,0,0,0,0,0,0,0]
[6201,"Aprovechamientos por el uso o enajenación de bienes",11,null,null,null,null,null,null,null,null,null,null,null,null,0]
[6202,"Aprovechamientos por recuperación de capital o patrimonio invertido",11,null,null,null,null,null,null,null,null,null,null,null,null,0]
[6300,"Accesorios de aprovechamientos",null,{"$f":"SUM(D74:D78)","v":0},{"$f":"SUM(E74:E78)","v":0},0,0,0,0,0,0,0,0,0,0,0]
[6301,"Recargos",11,null,null,null,null,null,null,null,null,null,null,null,null,0]
[6302,"Actualizaciones",11,null,null,null,null,null,null,null,null,null,null,null,null,0]
[6303,"Multas",11,null,null,null,null,null,null,null,null,null,null,null,null,0]
[6304,"Gastos de ejecución",11,null,null,null,null,null,null,null,null,null,null,null,null,0]
[6309,"Otros no especificados",11,null,null,null,null,null,null,null,null,null,null,null,null,0]
[7000,"INGRESOS POR VENTAS DE BIENES, PRESTACIÓN DE SERVICIOS Y OTROS INGRESOS",null,{"$f":"D80+D82+D83+D85+D86+D87+D88+D90+D91","v":0},{"$f":"E80+E82+E83+E85+E86+E87+E88+E90+E91","v":0},0,0,0,0,0,0,0,0,0,0,0]
[7100,"Ingresos por venta de bienes y prestación de servicios de instituciones públicas de seguridad social",null,{"$f":"SUM(D81)","v":0},{"$f":"SUM(E81)","v":0},0,0,0,0,0,0,0,0,0,0,0]
[7101,"Ingresos por venta de bienes y prestación de servicios de instituciones públicas de seguridad social",14,null,null,null,null,null,null,null,null,null,null,null,null,0]
[7200,"Ingresos por venta de bienes y prestación de servicios de empresas productivas del estado",null,null,null,null,null,null,null,null,null,null,null,null,null,0]
[7300,"Ingresos por venta de bienes y prestación de servicios de entidades paraestatales y fideicomisos no empresariales y no financieros",null,{"$f":"SUM(D84)","v":0},{"$f":"SUM(E84)","v":0},0,0,0,0,0,0,0,0,0,0,0]
[7301,"Ingresos por venta de bienes y prestación de servicios de entidades paraestatales y fideicomisos no empresariales y no financieros",14,null,null,null,null,null,null,null,null,null,null,null,null,0]
[7400,"Ingresos por venta de bienes y prestación de servicios de entidades paraestatales empresariales no financieras con participación estatal mayoritaria",null,null,null,null,null,null,null,null,null,null,null,null,null,0]
[7500,"Ingresos por venta de bienes y prestación de servicios de entidades paraestatales empresariales financieras monetarias con participación estatal mayoritaria",null,null,null,null,null,null,null,null,null,null,null,null,null,0]
[7600,"Ingresos por venta de bienes y prestación de servicios de entidades paraestatales empresariales financieras no monetarias con participación estatal mayoritaria",null,null,null,null,null,null,null,null,null,null,null,null,null,0]
[7700,"Ingresos por venta de bienes y prestación de servicios de fideicomisos financieros públicos con participación estatal mayoritaria",null,{"$f":"SUM(D89)","v":0},{"$f":"SUM(E89)","v":0},0,0,0,0,0,0,0,0,0,0,0]
[7701,"Ingresos por venta de bienes y prestación de servicios de fideicomisos financieros públicos con participación estatal mayoritaria",14,null,null,null,null,null,null,null,null,null,null,null,null,0]
[7800,"Ingresos por venta de bienes y prestación de servicios de los poderes legislativo y judicial, y de los órganos autónomos",null,null,null,null,null,null,null,null,null,null,null,null,null,0]
[7900,"Otros ingresos",null,{"$f":"SUM(D92)","v":0},{"$f":"SUM(E92)","v":0},0,0,0,0,0,0,0,0,0,0,0]
[7901,"Otros ingresos",14,null,null,null,null,null,null,null,null,null,null,null,null,0]
[8000,"PARTICIPACIONES, APORTACIONES, CONVENIOS, INCENTIVOS DERIVADOS DE LA COLABORACIÓN FISCAL Y FONDOS DISTINTOS DE LAS APORTACIONES",null,{"$f":"D94+D107+D110+D117+D123","v":0},{"$f":"E94+E107+E110+E117+E123","v":0},0,0,0,0,0,0,0,0,0,0,0]
[8100,"Participaciones",null,{"$f":"SUM(D95:D106)","v":0},{"$f":"SUM(E95:E106)","v":0},0,0,0,0,0,0,0,0,0,0,0]
[8101,"Fondo general de participaciones (federal)",15,null,null,null,null,null,null,null,null,null,null,null,null,0]
[8102,"Fondo de fomento municipal (federal)",15,null,null,null,null,null,null,null,null,null,null,null,null,0]
[8103,"Fondo de fiscalización y recaudación (federal)",15,null,null,null,null,null,null,null,null,null,null,null,null,0]
[8104,"Fondo de compensación (federal)",15,null,null,null,null,null,null,null,null,null,null,null,null,0]
[8105,"Fondo de extracción de hidrocarburos (federal)",15,null,null,null,null,null,null,null,null,null,null,null,null,0]
[8106,"Impuesto especial sobre producción y servicios (federal)",15,null,null,null,null,null,null,null,null,null,null,null,null,0]
[8107,"0.136% de la recaudación federal participable (federal)",15,null,null,null,null,null,null,null,null,null,null,null,null,0]
[8108,"3.17% sobre extracción de petróleo (federal)",15,null,null,null,null,null,null,null,null,null,null,null,null,0]
[8109,"Gasolinas y diésel (federal)",15,null,null,null,null,null,null,null,null,null,null,null,null,0]
[8110,"Fondo del impuesto sobre la renta (federal)",15,null,null,null,null,null,null,null,null,null,null,null,null,0]
[8111,"Fondo de estabilización de los ingresos de las entidades federativas (federal)",15,null,null,null,null,null,null,null,null,null,null,null,null,0]
[8112,"Participaciones del estado",16,null,null,null,null,null,null,null,null,null,null,null,null,0]
[8200,"Aportaciones",null,{"$f":"SUM(D108:D109)","v":0},{"$f":"SUM(E108:E109)","v":0},0,0,0,0,0,0,0,0,0,0,0]
[8201,"Fondo de aportaciones para la infraestructura social municipal",25,null,null,null,null,null,null,null,null,null,null,null,null,0]
[8202,"Fondo de aportaciones para el fortalecimiento municipal",25,null,null,null,null,null,null,null,null,null,null,null,null,0]
[8300,"Convenios",null,{"$f":"SUM(D111:D116)","v":0},{"$f":"SUM(E111:E116)","v":0},0,0,0,0,0,0,0,0,0,{"$f":"SUM(O111:O116)","v":0},{"$f":"SUM(D110:O110)","v":0}]
[8301,"Convenios de protección social en salud",17,null,null,null,null,null,null,null,null,null,null,null,null,0]
[8302,"Convenios de descentralizados",17,null,null,null,null,null,null,null,null,null,null,null,null,0]
[8303,"Convenio de reasignación",17,null,null,null,null,null,null,null,null,null,null,null,null,0]
[8304,"Otros convenios y subsidios (Con ingresos de libre disposición)",17,null,null,null,null,null,null,null,null,null,null,null,null,0]
[8304,"Otros convenios y subsidios (Con ingresos etiquetados federales)",25,null,null,null,null,null,null,null,null,null,null,null,null,0]
[8304,"Otros convenios y subsidios (Con ingresos etiquetados estatales)",26,null,null,null,null,null,null,null,null,null,null,null,null,{"$f":"SUM(D116:O116)","v":0}]
[8400,"Incentivos derivados de la colaboración fiscal",null,{"$f":"SUM(D118:D122)","v":0},{"$f":"SUM(E118:E122)","v":0},0,0,0,0,0,0,0,0,0,0,0]
[8401,"Tenencia o uso de vehículos",15,null,null,null,null,null,null,null,null,null,null,null,null,0]
[8402,"Fondo de compensación ISAN",15,null,null,null,null,null,null,null,null,null,null,null,null,0]
[8403,"Impuesto sobre automóviles nuevos",15,null,null,null,null,null,null,null,null,null,null,null,null,0]
[8404,"Fondo de compensación de repecos-intermedios",15,null,null,null,null,null,null,null,null,null,null,null,null,0]
[8405,"Otros incentivos económicos",15,null,null,null,null,null,null,null,null,null,null,null,null,0]
[8500,"Fondos distintos de aportaciones",null,{"$f":"SUM(D124:D125)","v":0},{"$f":"SUM(E124:E125)","v":0},0,0,0,0,0,0,0,0,0,0,0]
[8501,"Fondo para entidades federativas y municipios productores de hidrocarburos",25,null,null,null,null,null,null,null,null,null,null,null,null,0]
[8502,"Fondo minero",25,null,null,null,null,null,null,null,null,null,null,null,null,0]
[9000,"TRANSFERENCIAS, ASIGNACIONES, SUBSIDIOS Y SUBVENCIONES Y PENSIONES Y JUBILACIONES",null,{"$f":"D127+D131+D132+D136+D137+D139+D140","v":0},{"$f":"E127+E131+E132+E136+E137+E139+E140","v":0},0,0,0,0,0,0,0,0,0,0,0]
[9100,"Transferencias y asignaciones",null,{"$f":"SUM(D128:D130)","v":0},{"$f":"SUM(E128:E130)","v":0},{"$f":"SUM(F128:F130)","v":0},0,0,0,0,0,0,0,0,{"$f":"SUM(O128:O130)","v":0},{"$f":"SUM(D127:O127)","v":0}]
[9101,"Transferencias y asignaciones (Con ingresos de libre disposición)",17,null,null,null,null,null,null,null,null,null,null,null,null,{"$f":"SUM(D128:O128)","v":0}]
[9101,"Transferencias y asignaciones (Con ingresos etiquetados federales)",27,null,null,null,null,null,null,null,null,null,null,null,null,0]
[9101,"Transferencias y asignaciones (Con ingresos etiquetados estatales)",26,null,null,null,null,null,null,null,null,null,null,null,null,0]
[9200,"Transferencias al resto del sector público (derogado)",null,null,null,null,null,null,null,null,null,null,null,null,null,0]
[9300,"Subsidios y subvenciones",null,{"$f":"SUM(D133:D135)","v":0},{"$f":"SUM(E133:E135)","v":0},{"$f":"SUM(F133:F135)","v":0},0,0,0,0,0,0,0,0,{"$f":"SUM(O133:O135)","v":0},{"$f":"SUM(D132:O132)","v":0}]
[9301,"Subsidios y subvenciones (Con ingresos de libre disposición)",17,null,null,null,null,null,null,null,null,null,null,null,null,{"$f":"SUM(D133:O133)","v":0}]
[9301,"Subsidios y subvenciones (Con ingresos etiquetados federales)",27,null,null,null,null,null,null,null,null,null,null,null,null,0]
[9301,"Subsidios y subvenciones (Con ingresos etiquetados estatales)",26,null,null,null,null,null,null,null,null,null,null,null,null,0]
[9400,"Ayudas sociales (derogado)",null,null,null,null,null,null,null,null,null,null,null,null,null,0]
[9500,"Pensiones y jubilaciones",null,{"$f":"SUM(D138)","v":0},{"$f":"SUM(E138)","v":0},0,0,0,0,0,0,0,0,0,0,0]
[9501,"Pensiones y jubilaciones",17,null,null,null,null,null,null,null,null,null,null,null,null,0]
[9600,"Transferencias a fideicomisos, mandatos y análogos (derogado)",null,null,null,null,null,null,null,null,null,null,null,null,null,0]
[9700,"Transferencias del fondo mexicano del petróleo para la estabilización y el desarrollo",null,{"$f":"SUM(D141)","v":0},{"$f":"SUM(E141)","v":0},0,0,0,0,0,0,0,0,0,0,0]
[9701,"Transferencias del fondo mexicano del petróleo para la estabilización y el desarrollo",17,null,null,null,null,null,null,null,null,null,null,null,null,0]
[0,"INGRESOS DERIVADOS DE FINANCIAMIENTO",null,{"$f":"D143+D144+D145","v":0},{"$f":"E143+E144+E145","v":0},0,0,0,0,0,0,0,0,0,0,0]
[100,"Endeudamiento interno",null,null,null,null,null,null,null,null,null,null,null,null,null,0]
[200,"Endeudamiento externo",null,null,null,null,null,null,null,null,null,null,null,null,null,0]
[300,"Financiamiento interno",null,{"$f":"SUM(D146)","v":0},{"$f":"SUM(E146)","v":0},0,0,0,0,0,0,0,0,0,0,0]
[301,"Financiamiento interno",12,null,null,null,null,null,null,null,null,null,null,null,null,0]
["ESTIMACIÓN DE INGRESOS",null,null,{"$f":"D2+D21+D27+D30+D60+D65+D79+D93+D126+D142","v":0},{"$f":"E2+E21+E27+E30+E60+E65+E79+E93+E126+E142","v":0},0,0,0,0,0,0,0,0,0,0,0]

{"sheet":"COG-M","index":5,"n_rows":3029,"n_cols":16,"rows_kept":3029,"cut":false,"hidden":false,"merged":[[346,0,355,0],[356,0,365,0],[356,1,365,1],[366,1,375,1],[366,0,375,0],[478,1,487,1],[478,0,487,0],[488,1,497,1],[488,0,497,0],[346,1,355,1],[387,0,396,0],[387,1,396,1],[397,0,406,0],[397,1,406,1],[407,0,416,0],[407,1,416,1],[376,1,376,2],[386,1,386,2],[447,0,456,0],[447,1,456,1],[457,0,466,0],[457,1,466,1],[467,0,476,0],[467,1,476,1],[34,1,34,2],[45,0,54,0],[45,1,54,1],[1,1,1,2],[2,1,2,2],[3,1,12,1],[3,0,12,0],[14,1,23,1],[14,0,23,0],[24,1,33,1],[24,0,33,0],[35,1,44,1],[35,0,44,0],[66,1,66,2],[55,1,64,1],[55,0,64,0],[67,1,76,1],[67,0,76,0],[77,1,86,1],[77,0,86,0],[87,1,96,1],[87,0,96,0],[97,1,106,1],[97,0,106,0],[109,1,118,1],[170,1,170,2],[129,1,129,2],[160,1,169,1],[160,0,169,0],[171,1,180,1],[171,0,180,0],[109,0,118,0],[119,1,128,1],[119,0,128,0],[130,1,139,1],[130,0,139,0],[140,1,149,1],[140,0,149,0],[150,1,159,1],[150,0,159,0],[231,1,231,2],[181,0,190,0],[181,1,190,1],[191,1,200,1],[191,0,200,0],[201,1,210,1],[201,0,210,0],[211,1,220,1],[211,0,220,0],[221,1,230,1],[221,0,230,0],[232,1,241,1],[232,0,241,0],[264,1,264,2],[242,1,242,2],[263,1,263,2],[243,1,252,1],[243,0,252,0],[253,1,262,1],[253,0,262,0],[265,1,274,1],[265,0,274,0],[275,0,284,0],[275,1,284,1],[285,0,294,0],[285,1,294,1],[345,1,345,2],[295,1,304,1],[295,0,304,0],[305,1,314,1],[305,0,314,0],[315,1,324,1],[315,0,324,0],[325,1,334,1],[325,0,334,0],[335,1,344,1],[335,0,344,0],[528,1,537,1],[528,0,537,0],[569,1,569,2],[580,0,589,0],[580,1,589,1],[548,1,548,2],[538,1,547,1],[538,0,547,0],[549,1,558,1],[549,0,558,0],[559,1,568,1],[559,0,568,0],[570,1,579,1],[570,0,579,0],[417,0,426,0],[417,1,426,1],[427,0,436,0],[427,1,436,1],[437,0,446,0],[437,1,446,1],[518,0,527,0],[518,1,527,1],[477,1,477,2],[498,0,507,0],[498,1,507,1],[508,1,517,1],[508,0,517,0],[600,1,609,1],[600,0,609,0],[621,1,630,1],[621,0,630,0],[620,1,620,2],[610,1,619,1],[610,0,619,0],[590,1,599,1],[590,0,599,0],[652,1,661,1],[652,0,661,0],[662,0,668,0],[662,1,668,1],[672,1,681,1],[672,0,681,0],[784,1,793,1],[784,0,793,0],[631,0,640,0],[631,1,640,1],[641,0,650,0],[641,1,650,1],[651,1,651,2],[682,1,691,1],[682,0,691,0],[744,1,753,1],[744,0,753,0],[754,1,763,1],[754,0,763,0],[764,1,773,1],[764,0,773,0],[712,1,721,1],[712,0,721,0],[774,1,783,1],[774,0,783,0],[692,1,701,1],[692,0,701,0],[702,1,711,1],[702,0,711,0],[742,1,742,2],[743,1,743,2],[722,1,731,1],[722,0,731,0],[732,1,741,1],[732,0,741,0],[794,1,803,1],[794,0,803,0],[804,1,813,1],[804,0,813,0],[814,1,823,1],[814,0,823,0],[895,1,904,1],[895,0,904,0],[834,1,834,2],[885,0,894,0],[885,1,894,1],[875,0,884,0],[875,1,884,1],[865,0,874,0],[865,1,874,1],[855,0,864,0],[855,1,864,1],[845,0,854,0],[845,1,854,1],[835,0,844,0],[835,1,844,1],[824,1,833,1],[824,0,833,0],[1077,0,1086,0],[1077,1,1086,1],[1108,1,1117,1],[1108,0,1117,0],[1118,0,1127,0],[1118,1,1127,1],[1128,0,1137,0],[1016,1,1016,2],[1017,0,1026,0],[1017,1,1026,1],[1037,0,1046,0],[1037,1,1046,1],[1067,0,1076,0],[1067,1,1076,1],[1057,0,1066,0],[1057,1,1066,1],[1047,0,1056,0],[1047,1,1056,1],[1027,0,1036,0],[1027,1,1036,1],[1178,0,1187,0],[1178,1,1187,1],[1188,0,1197,0],[1188,1,1197,1],[1107,1,1107,2],[1097,1,1106,1],[1097,0,1106,0],[1087,0,1096,0],[1087,1,1096,1],[1158,0,1167,0],[1158,1,1167,1],[1168,0,1177,0],[1168,1,1177,1],[1239,0,1248,0],[1239,1,1248,1],[1249,0,1258,0],[1249,1,1258,1],[1259,0,1268,0],[1259,1,1268,1],[1270,0,1279,0],[1270,1,1279,1],[1280,0,1289,0],[1280,1,1289,1],[1198,1,1198,2],[1199,0,1208,0],[1199,1,1208,1],[1209,0,1218,0],[1209,1,1218,1],[1219,0,1228,0],[1219,1,1228,1],[1229,0,1238,0],[1229,1,1238,1],[1422,0,1431,0],[1422,1,1431,1],[1432,0,1441,0],[1432,1,1441,1],[1360,1,1360,2],[1320,0,1329,0],[1320,1,1329,1],[1330,0,1339,0],[1330,1,1339,1],[1340,0,1349,0],[1340,1,1349,1],[1350,0,1359,0],[1350,1,1359,1],[1361,0,1370,0],[1361,1,1370,1],[1371,0,1380,0],[1412,0,1421,0],[1412,1,1421,1],[1411,1,1411,2],[1493,1,1493,2],[1494,1,1494,2],[1442,0,1451,0],[1442,1,1451,1],[1452,0,1461,0],[1452,1,1461,1],[1462,0,1471,0],[1462,1,1471,1],[1473,0,1482,0],[1473,1,1482,1],[1483,0,1492,0],[1483,1,1492,1],[1537,1,1537,2],[1538,0,1547,0],[1538,1,1547,1],[1548,0,1557,0],[1548,1,1557,1],[1558,0,1567,0],[1558,1,1567,1],[1522,1,1522,2],[1499,0,1508,0],[1499,1,1508,1],[1510,0,1519,0],[1510,1,1519,1],[1523,0,1532,0],[1523,1,1532,1],[1598,0,1607,0],[1598,1,1607,1],[1609,0,1618,0],[1609,1,1618,1],[1619,1,1619,2],[1620,0,1629,0],[1620,1,1629,1],[1568,0,1577,0],[1568,1,1577,1],[1578,0,1587,0],[1578,1,1587,1],[1588,0,1597,0],[1588,1,1597,1],[1778,0,1787,0],[1778,1,1787,1],[1660,0,1669,0],[1660,1,1669,1],[1670,0,1679,0],[1670,1,1679,1],[1680,0,1689,0],[1680,1,1689,1],[1630,0,1639,0],[1630,1,1639,1],[1640,0,1649,0],[1640,1,1649,1],[1650,0,1659,0],[1650,1,1659,1],[1732,0,1741,0],[1732,1,1741,1],[1744,0,1753,0],[1744,1,1753,1],[1766,1,1766,2],[1777,1,1777,2],[1756,0,1765,0],[1756,1,1765,1],[1767,0,1776,0],[1767,1,1776,1],[1731,1,1731,2],[1690,0,1699,0],[1690,1,1699,1],[1700,1,1700,2],[1701,0,1710,0],[1701,1,1710,1],[1711,0,1720,0],[1711,1,1720,1],[1721,0,1730,0],[1721,1,1730,1],[1788,0,1797,0],[1788,1,1797,1],[1859,1,1859,2],[1860,1,1860,2],[1828,1,1828,2],[1808,0,1817,0],[1808,1,1817,1],[1818,0,1827,0],[1818,1,1827,1],[1829,0,1838,0],[1829,1,1838,1],[1839,0,1848,0],[1839,1,1848,1],[1849,0,1858,0],[1849,1,1858,1],[1798,0,1807,0],[1798,1,1807,1],[1891,0,1900,0],[1891,1,1900,1],[1901,0,1910,0],[1901,1,1910,1],[1911,0,1920,0],[1911,1,1920,1],[1861,0,1870,0],[1861,1,1870,1],[1871,0,1880,0],[1871,1,1880,1],[1881,0,1890,0],[1881,1,1890,1],[1952,0,1961,0],[1952,1,1961,1],[1962,1,1962,2],[1963,0,1972,0],[1963,1,1972,1],[1973,0,1982,0],[1973,1,1982,1],[1921,1,1921,2],[1922,0,1931,0],[1922,1,1931,1],[1932,0,1941,0],[1932,1,1941,1],[1942,0,1951,0],[1942,1,1951,1],[2014,0,2023,0],[2014,1,2023,1],[2024,0,2033,0],[2024,1,2033,1],[2034,0,2043,0],[2034,1,2043,1],[1983,1,1983,2],[1984,0,1993,0],[1984,1,1993,1],[1994,0,2003,0],[1994,1,2003,1],[2004,0,2013,0],[2004,1,2013,1],[2066,0,2075,0],[2066,1,2075,1],[2076,0,2085,0],[2076,1,2085,1],[2086,0,2095,0],[2086,1,2095,1],[2044,1,2044,2],[2045,0,2054,0],[2045,1,2054,1],[2055,1,2055,2],[2056,0,2065,0],[2056,1,2065,1],[2126,0,2135,0],[2126,1,2135,1],[2136,1,2136,2],[2137,0,2146,0],[2137,1,2146,1],[2147,0,2156,0],[2147,1,2156,1],[2096,0,2105,0],[2096,1,2105,1],[2106,0,2115,0],[2106,1,2115,1],[2116,0,2125,0],[2116,1,2125,1],[2187,0,2196,0],[2187,1,2196,1],[2197,0,2206,0],[2197,1,2206,1],[2207,0,2216,0],[2207,1,2216,1],[2157,0,2166,0],[2157,1,2166,1],[2167,0,2176,0],[2167,1,2176,1],[2177,0,2186,0],[2177,1,2186,1],[2248,0,2257,0],[2248,1,2257,1],[2258,0,2267,0],[2258,1,2267,1],[2268,1,2268,2],[2269,0,2278,0],[2269,1,2278,1],[2217,0,2226,0],[2217,1,2226,1],[2227,1,2227,2],[2228,0,2237,0],[2228,1,2237,1],[2238,0,2247,0],[2238,1,2247,1],[2309,0,2318,0],[2309,1,2318,1],[2319,0,2328,0],[2319,1,2328,1],[2329,0,2338,0],[2329,1,2338,1],[2279,0,2288,0],[2279,1,2288,1],[2289,0,2298,0],[2289,1,2298,1],[2299,0,2308,0],[2299,1,2308,1],[2361,0,2370,0],[2361,1,2370,1],[2371,0,2380,0],[2371,1,2380,1],[2381,0,2390,0],[2381,1,2390,1],[2339,0,2348,0],[2339,1,2348,1],[2349,0,2358,0],[2349,1,2358,1],[2359,1,2359,2],[2360,1,2360,2],[2421,0,2430,0],[2421,1,2430,1],[2431,0,2440,0],[2431,1,2440,1],[2441,1,2441,2],[2442,0,2451,0],[2442,1,2451,1],[2391,0,2400,0],[2391,1,2400,1],[2401,0,2410,0],[2401,1,2410,1],[2411,0,2420,0],[2411,1,2420,1],[2482,0,2491,0],[2482,1,2491,1],[2492,0,2501,0],[2492,1,2501,1],[2502,0,2511,0],[2502,1,2511,1],[2452,0,2461,0],[2452,1,2461,1],[2462,0,2471,0],[2462,1,2471,1],[2472,0,2481,0],[2472,1,2481,1],[2543,1,2543,2],[2544,1,2544,2],[2545,0,2554,0],[2545,1,2554,1],[2556,1,2556,2],[2557,0,2566,0],[2557,1,2566,1],[2512,0,2521,0],[2512,1,2521,1],[2522,1,2522,2],[2523,0,2532,0],[2523,1,2532,1],[2533,0,2542,0],[2533,1,2542,1],[2599,0,2608,0],[2599,1,2608,1],[2609,0,2618,0],[2609,1,2618,1],[2619,0,2628,0],[2619,1,2628,1],[2569,0,2578,0],[2569,1,2578,1],[2579,0,2588,0],[2579,1,2588,1],[2589,0,2598,0],[2589,1,2598,1],[2660,0,2669,0],[2660,1,2669,1],[2670,0,2679,0],[2670,1,2679,1],[2680,0,2689,0],[2680,1,2689,1],[2629,1,2629,2],[2630,0,2639,0],[2630,1,2639,1],[2640,0,2649,0],[2640,1,2649,1],[2650,0,2659,0],[2650,1,2659,1],[2724,0,2733,0],[2724,1,2733,1],[2734,0,2743,0],[2734,1,2743,1],[2744,0,2753,0],[2744,1,2753,1],[2690,1,2690,2],[2691,0,2700,0],[2691,1,2700,1],[2704,0,2713,0],[2704,1,2713,1],[2714,0,2723,0],[2714,1,2723,1],[2790,0,2799,0],[2790,1,2799,1],[2800,1,2800,2],[2801,0,2810,0],[2801,1,2810,1],[2811,0,2820,0],[2811,1,2820,1],[2754,1,2754,2],[2755,0,2764,0],[2755,1,2764,1],[2767,0,2776,0],[2767,1,2776,1],[2779,0,2788,0],[2779,1,2788,1],[2852,1,2852,2],[2853,1,2853,2],[2859,0,2868,0],[2859,1,2868,1],[2869,1,2869,2],[2875,1,2875,2],[2821,1,2821,2],[2822,0,2831,0],[2822,1,2831,1],[2832,0,2841,0],[2832,1,2841,1],[2842,0,2851,0],[2842,1,2851,1],[2954,1,2963,1],[2964,0,2973,0],[2964,1,2973,1],[2980,0,2989,0],[2980,1,2989,1],[2906,1,2906,2],[2907,1,2907,2],[2876,0,2885,0],[2876,1,2885,1],[2886,0,2895,0],[2886,1,2895,1],[2896,0,2905,0],[2896,1,2905,1],[2908,0,2917,0],[2908,1,2917,1],[976,0,985,0],[976,1,985,1],[966,0,975,0],[966,1,975,1],[3017,1,3017,2],[3028,1,3028,2],[3003,1,3003,2],[3014,1,3014,2],[2992,0,3001,0],[2992,1,3001,1],[3004,0,3013,0],[3004,1,3013,1],[3018,0,3027,0],[3018,1,3027,1],[2918,0,2927,0],[2918,1,2927,1],[2979,1,2979,2],[2991,1,2991,2],[2943,1,2943,2],[2928,0,2937,0],[2928,1,2937,1],[2944,0,2953,0],[2944,1,2953,1],[2954,0,2963,0],[915,1,924,1],[915,0,924,0],[905,1,914,1],[905,0,914,0],[1128,1,1137,1],[1138,0,1147,0],[1138,1,1147,1],[1148,0,1157,0],[1148,1,1157,1],[956,0,965,0],[956,1,965,1],[946,0,955,0],[946,1,955,1],[936,0,945,0],[936,1,945,1],[926,0,935,0],[926,1,935,1],[925,1,925,2],[1006,1,1015,1],[1006,0,1015,0],[996,0,1005,0],[996,1,1005,1],[986,0,995,0],[986,1,995,1],[1290,1,1299,1],[1269,1,1269,2],[1371,1,1380,1],[1381,0,1390,0],[1381,1,1390,1],[1391,0,1400,0],[1391,1,1400,1],[1401,0,1410,0],[1401,1,1410,1],[1300,0,1309,0],[1300,1,1309,1],[1310,0,1319,0],[1310,1,1319,1],[1290,0,1299,0]]}
["COG","DESCRIPCIÓN","FF","ENERO","FEBRERO","MARZO","ABRIL","MAYO","JUNIO","JULIO","AGOSTO","SEPTIEMBRE","OCTUBRE","NOVIEMBRE","DICIEMBRE","TOTAL"]
[1000,"SERVICIOS PERSONALES",null,{"$f":"D3+D35+D67+D130+D171+D232+D243","v":0},0,0,0,0,0,0,0,0,0,0,0,{"$f":"P3+P35+P67+P130+P171+P232+P243","v":0}]
[1100,"REMUNERACIONES AL PERSONAL DE CARÁCTER PERMANENTE",null,{"$f":"SUM(D4:D34)","v":0},{"$f":"SUM(E4:E34)","v":0},0,0,0,0,0,0,0,0,0,{"$f":"SUM(O4:O34)","v":0},{"$f":"SUM(P4:P34)","v":0}]
[111,"Dietas ",11,{"$f":"(SUMIF(Plantilla!$E$3:$E$4,C4,Plantilla!$H$3:$H$4))/12","v":0},{"$f":"D4","v":0},{"$f":"E4","v":0},0,0,0,0,0,0,0,0,0,{"$f":"SUM(D4:O4)","v":0}]
[null,null,12,{"$f":"(SUMIF(Plantilla!$E$3:$E$4,C5,Plantilla!$H$3:$H$4))/12","v":0},{"$f":"D5","v":0},0,0,0,0,0,0,0,0,0,0,{"$f":"SUM(D5:O5)","v":0}]
[null,null,13,{"$f":"(SUMIF(Plantilla!$E$3:$E$4,C6,Plantilla!$H$3:$H$4))/12","v":0},0,0,0,0,0,0,0,0,0,0,0,0]
[null,null,14,{"$f":"(SUMIF(Plantilla!$E$3:$E$4,C7,Plantilla!$H$3:$H$4))/12","v":0},0,0,0,0,0,0,0,0,0,0,0,0]
[null,null,15,{"$f":"(SUMIF(Plantilla!$E$3:$E$4,C8,Plantilla!$H$3:$H$4))/12","v":0},0,0,0,0,0,0,0,0,0,0,0,{"$f":"SUM(D8:O8)","v":0}]
[null,null,16,{"$f":"(SUMIF(Plantilla!$E$3:$E$4,C9,Plantilla!$H$3:$H$4))/12","v":0},0,0,0,0,0,0,0,0,0,0,0,0]
[null,null,17,{"$f":"(SUMIF(Plantilla!$E$3:$E$4,C10,Plantilla!$H$3:$H$4))/12","v":0},0,0,0,0,0,0,0,0,0,0,0,0]
[null,null,25,{"$f":"(SUMIF(Plantilla!$E$3:$E$4,C11,Plantilla!$H$3:$H$4))/12","v":0},0,0,0,0,0,0,0,0,0,0,0,0]
[null,null,26,{"$f":"(SUMIF(Plantilla!$E$3:$E$4,C12,Plantilla!$H$3:$H$4))/12","v":0},0,0,0,0,0,0,0,0,0,0,0,0]
[null,null,27,{"$f":"(SUMIF(Plantilla!$E$3:$E$4,C13,Plantilla!$H$3:$H$4))/12","v":0},0,0,0,0,0,0,0,0,0,0,0,0]
[112,"Haberes",null,null,null,null,null,null,null,null,null,null,null,null,null,{"$f":"SUM(D14:O14)","v":0}]
[113,"Sueldos base al personal permanente",11,{"$f":"(SUMIF(Plantilla!$E$5:$E$428,'COG-M'!C15,Plantilla!$H$5:$H$428))/12","v":0},{"$f":"D15","v":0},{"$f":"E15","v":0},0,0,0,0,0,0,0,0,0,{"$f":"SUM(D15:O15)","v":0}]
[null,null,12,{"$f":"(SUMIF(Plantilla!$E$5:$E$428,'COG-M'!C16,Plantilla!$H$5:$H$428))/12","v":0},{"$f":"D16","v":0},0,0,0,0,0,0,0,0,0,0,{"$f":"SUM(D16:O16)","v":0}]
[null,null,13,{"$f":"(SUMIF(Plantilla!$E$5:$E$428,'COG-M'!C17,Plantilla!$H$5:$H$428))/12","v":0},0,0,0,0,0,0,0,0,0,0,0,0]
[null,null,14,{"$f":"(SUMIF(Plantilla!$E$5:$E$428,'COG-M'!C18,Plantilla!$H$5:$H$428))/12","v":0},0,0,0,0,0,0,0,0,0,0,0,0]
[null,null,15,{"$f":"(SUMIF(Plantilla!$E$5:$E$428,'COG-M'!C19,Plantilla!$H$5:$H$428))/12","v":0},0,0,0,0,0,0,0,0,0,0,0,0]
[null,null,16,{"$f":"(SUMIF(Plantilla!$E$5:$E$428,'COG-M'!C20,Plantilla!$H$5:$H$428))/12","v":0},0,0,0,0,0,0,0,0,0,0,0,0]
[null,null,17,{"$f":"(SUMIF(Plantilla!$E$5:$E$428,'COG-M'!C21,Plantilla!$H$5:$H$428))/12","v":0},0,0,0,0,0,0,0,0,0,0,0,0]
[null,null,25,{"$f":"(SUMIF(Plantilla!$E$5:$E$428,'COG-M'!C22,Plantilla!$H$5:$H$428))/12","v":0},0,0,0,0,0,0,0,0,0,0,0,0]
[null,null,26,{"$f":"(SUMIF(Plantilla!$E$5:$E$428,'COG-M'!C23,Plantilla!$H$5:$H$428))/12","v":0},0,0,0,0,0,0,0,0,0,0,0,0]
[null,null,27,{"$f":"(SUMIF(Plantilla!$E$5:$E$428,'COG-M'!C24,Plantilla!$H$5:$H$428))/12","v":0},0,0,0,0,0,0,0,0,0,0,{"$f":"N24","v":0},0]
[114,"Remuneraciones por adscripción laboral en el extranjero",11,null,null,null,null,null,null,null,null,null,null,null,null,{"$f":"SUM(D25:O25)","v":0}]
[null,null,12,null,null,null,null,null,null,null,null,null,null,null,null,{"$f":"SUM(D26:O26)","v":0}]
[null,null,13,null,null,null,null,null,null,null,null,null,null,null,null,0]
[null,null,14,null,null,null,null,null,null,null,null,null,null,null,null,0]
[null,null,15,null,null,null,null,null,null,null,null,null,null,null,null,0]
[null,null,16,null,null,null,null,null,null,null,null,null,null,null,null,0]
[null,null,17,null,null,null,null,null,null,null,null,null,null,null,null,0]
[null,null,25,null,null,null,null,null,null,null,null,null,null,null,null,0]
[null,null,26,null,null,null,null,null,null,null,null,null,null,null,null,0]
[null,null,27,null,null,null,null,null,null,null,null,null,null,null,null,0]
[1200,"REMUNERACIONES AL PERSONAL DE CARÁCTER TRANSITORIO",null,{"$f":"SUM(D36:D66)","v":0},{"$f":"SUM(E36:E66)","v":0},0,0,0,0,0,0,0,0,0,{"$f":"SUM(O36:O66)","v":0},{"$f":"SUM(P36:P66)","v":0}]
[121,"Honorarios asimilables a salarios",11,null,null,null,null,null,null,null,null,null,null,null,null,{"$f":"SUM(D36:O36)","v":0}]
[null,null,12,null,null,null,null,null,null,null,null,null,null,null,null,{"$f":"SUM(D37:O37)","v":0}]
[null,null,13,null,null,null,null,null,null,null,null,null,null,null,null,0]
[null,null,14,null,null,null,null,null,null,null,null,null,null,null,null,0]
[null,null,15,null,null,null,null,null,null,null,null,null,null,null,null,0]
[null,null,16,null,null,null,null,null,null,null,null,null,null,null,null,0]
[null,null,17,null,null,null,null,null,null,null,null,null,null,null,null,0]
[null,null,25,null,null,null,null,null,null,null,null,null,null,null,null,0]
[null,null,26,null,null,null,null,null,null,null,null,null,null,null,null,0]
[null,null,27,null,null,null,null,null,null,null,null,null,null,null,null,0]
[122,"Sueldos base al personal eventual",11,null,null,null,null,null,null,null,null,null,null,null,null,0]
[null,null,12,null,null,null,null,null,null,null,null,null,null,null,null,0]
[null,null,13,null,null,null,null,null,null,null,null,null,null,null,null,0]
[null,null,14,null,null,null,null,null,null,null,null,null,null,null,null,0]
[null,null,15,null,null,null,null,null,null,null,null,null,null,null,null,0]
[null,null,16,null,null,null,null,null,null,null,null,null,null,null,null,0]
[null,null,17,null,null,null,null,null,null,null,null,null,null,null,null,0]
[null,null,25,null,null,null,null,null,null,null,null,null,null,null,null,0]
[null,null,26,null,null,null,null,null,null,null,null,null,null,null,null,0]
[null,null,27,null,null,null,null,null,null,null,null,null,null,null,null,0]
[123,"Retribuciones por servicios de carácter social",11,null,null,null,null,null,null,null,null,null,null,null,null,0]
[null,null,12,null,null,null,null,null,null,null,null,null,null,null,null,0]
[null,null,13,null,null,null,null,null,null,null,null,null,null,null,null,0]
[null,null,14,null,null,null,null,null,null,null,null,null,null,null,null,0]
[null,null,15,null,null,null,null,null,null,null,null,null,null,null,null,0]
[null,null,16,null,null,null,null,null,null,null,null,null,null,null,null,0]
[null,null,17,null,null,null,null,null,null,null,null,null,null,null,null,0]
[null,null,25,null,null,null,null,null,null,null,null,null,null,null,null,0]
[null,null,26,null,null,null,null,null,null,null,null,null,null,null,null,0]
[null,null,27,null,null,null,null,null,null,null,null,null,null,null,null,0]
[124,"Retribución a los representantes de los trabajadores y de los patrones en la Junta de Conciliación y Arbitraje",null,null,null,null,null,null,null,null,null,null,null,null,null,{"$f":"SUM(D66:O66)","v":0}]
[1300,"REMUNERACIONES ADICIONALES Y ESPECIALES",null,{"$f":"SUM(D68:D129)","v":0},{"$f":"SUM(E68:E129)","v":0},0,0,0,0,0,0,0,0,0,0,{"$f":"SUM(P68:P129)","v":0}]
[131,"Primas por años de servicios efectivos prestados",11,null,null,null,null,null,null,null,null,null,null,null,null,{"$f":"SUM(D68:O68)","v":0}]
[null,null,12,null,null,null,null,null,null,null,null,null,null,null,null,0]
[null,null,13,null,null,null,null,null,null,null,null,null,null,null,null,0]
[null,null,14,null,null,null,null,null,null,null,null,null,null,null,null,0]
[null,null,15,null,null,null,null,null,null,null,null,null,null,null,null,0]
[null,null,16,null,null,null,null,null,null,null,null,null,null,null,null,0]
[null,null,17,null,null,null,null,null,null,null,null,null,null,null,null,0]
[null,null,25,null,null,null,null,null,null,null,null,null,null,null,null,0]
[null,null,26,null,null,null,null,null,null,null,null,null,null,null,null,0]
[null,null,27,null,null,null,null,null,null,null,null,null,null,null,null,0]
[132,"Primas de vacaciones, dominical y gratificación de fin de año",11,null,null,null,null,null,null,null,null,null,null,null,null,0]
[null,null,12,null,null,null,null,null,null,null,null,null,null,null,null,0]
[null,null,13,null,null,null,null,null,null,null,null,null,null,null,null,0]
[null,null,14,null,null,null,null,null,null,null,null,null,null,null,null,0]
[null,null,15,null,null,null,null,null,null,null,null,null,null,null,null,0]
[null,null,16,null,null,null,null,null,null,null,null,null,null,null,null,0]
[null,null,17,null,null,null,null,null,null,null,null,null,null,null,null,0]
[null,null,25,null,null,null,null,null,null,null,null,null,null,null,null,0]
[null,null,26,null,null,null,null,null,null,null,null,null,null,null,null,0]
[null,null,27,null,null,null,null,null,null,null,null,null,null,null,null,0]
[133,"Horas extraordinarias",11,null,null,null,null,null,null,null,null,null,null,null,null,0]
[null,null,12,null,null,null,null,null,null,null,null,null,null,null,null,0]
[null,null,13,null,null,null,null,null,null,null,null,null,null,null,null,0]
[null,null,14,null,null,null,null,null,null,null,null,null,null,null,null,0]
[null,null,15,null,null,null,null,null,null,null,null,null,null,null,null,0]
[null,null,16,null,null,null,null,null,null,null,null,null,null,null,null,0]
[null,null,17,null,null,null,null,null,null,null,null,null,null,null,null,0]
[null,null,25,null,null,null,null,null,null,null,null,null,null,null,null,0]
[null,null,26,null,null,null,null,null,null,null,null,null,null,null,null,0]
[null,null,27,null,null,null,null,null,null,null,null,null,null,null,null,0]
[134,"Compensaciones",11,null,null,null,null,null,null,null,null,null,null,null,null,0]
[null,null,12,null,null,null,null,null,null,null,null,null,null,null,null,0]
[null,null,13,null,null,null,null,null,null,null,null,null,null,null,null,0]
[null,null,14,null,null,null,null,null,null,null,null,null,null,null,null,0]
[null,null,15,null,null,null,null,null,null,null,null,null,null,null,null,0]
[null,null,16,null,null,null,null,null,null,null,null,null,null,null,null,0]
[null,null,17,null,null,null,null,null,null,null,null,null,null,null,null,0]
[null,null,25,null,null,null,null,null,null,null,null,null,null,null,null,0]
[null,null,26,null,null,null,null,null,null,null,null,null,null,null,null,0]
[null,null,27,null,null,null,null,null,null,null,null,null,null,null,null,0]
[135,"Sobrehaberes",null,null,null,null,null,null,null,null,null,null,null,null,null,0]
[136,"Asignaciones de técnico, de mando, por comisión, de vuelo y de técnico especial",null,null,null,null,null,null,null,null,null,null,null,null,null,0]
[137,"Honorarios especiales",11,null,null,null,null,null,null,null,null,null,null,null,null,0]
[null,null,12,null,null,null,null,null,null,null,null,null,null,null,null,0]
[null,null,13,null,null,null,null,null,null,null,null,null,null,null,null,0]
[null,null,14,null,null,null,null,null,null,null,null,null,null,null,null,0]
[null,null,15,null,null,null,null,null,null,null,null,null,null,null,null,0]
[null,null,16,null,null,null,null,null,null,null,null,null,null,null,null,0]
[null,null,17,null,null,null,null,null,null,null,null,null,null,null,null,0]
[null,null,25,null,null,null,null,null,null,null,null,null,null,null,null,0]
[null,null,26,null,null,null,null,null,null,null,null,null,null,null,null,0]
[null,null,27,null,null,null,null,null,null,null,null,null,null,null,null,0]
[138,"Participaciones por vigilancia en el cumplimiento de la leyes y custodia de valores",11,null,null,null,null,null,null,null,null,null,null,null,null,0]
[null,null,12,null,null,null,null,null,null,null,null,null,null,null,null,0]
[null,null,13,null,null,null,null,null,null,null,null,null,null,null,null,0]
[null,null,14,null,null,null,null,null,null,null,null,null,null,null,null,0]
[null,null,15,null,null,null,null,null,null,null,null,null,null,null,null,0]
[null,null,16,null,null,null,null,null,null,null,null,null,null,null,null,0]
[null,null,17,null,null,null,null,null,null,null,null,null,null,null,null,0]
[null,null,25,null,null,null,null,null,null,null,null,null,null,null,null,0]
[null,null,26,null,null,null,null,null,null,null,null,null,null,null,null,0]
[null,null,27,null,null,null,null,null,null,null,null,null,null,null,null,0]
[1400,"SEGURIDAD SOCIAL",null,{"$f":"SUM(D131:D170)","v":0},{"$f":"SUM(E131:E170)","v":0},0,0,0,0,0,0,0,0,0,0,{"$f":"SUM(P131:P170)","v":0}]
[141,"Aportaciones de seguridad social",11,null,null,null,null,null,null,null,null,null,null,null,null,{"$f":"SUM(D131:O131)","v":0}]
[null,null,12,null,null,null,null,null,null,null,null,null,null,null,null,{"$f":"SUM(D132:O132)","v":0}]
[null,null,13,null,null,null,null,null,null,null,null,null,null,null,null,0]
[null,null,14,null,null,null,null,null,null,null,null,null,null,null,null,0]
[null,null,15,null,null,null,null,null,null,null,null,null,null,null,null,0]
[null,null,16,null,null,null,null,null,null,null,null,null,null,null,null,0]
[null,null,17,null,null,null,null,null,null,null,null,null,null,null,null,0]
[null,null,25,null,null,null,null,null,null,null,null,null,null,null,null,0]
[null,null,26,null,null,null,null,null,null,null,null,null,null,null,null,0]
[null,null,27,null,null,null,null,null,null,null,null,null,null,null,null,0]
[142,"Aportaciones a fondos de vivienda",11,null,null,null,null,null,null,null,null,null,null,null,null,0]
[null,null,12,null,null,null,null,null,null,null,null,null,null,null,null,0]
[null,null,13,null,null,null,null,null,null,null,null,null,null,null,null,0]
[null,null,14,null,null,null,null,null,null,null,null,null,null,null,null,0]
[null,null,15,null,null,null,null,null,null,null,null,null,null,null,null,0]
[null,null,16,null,null,null,null,null,null,null,null,null,null,null,null,0]
[null,null,17,null,null,null,null,null,null,null,null,null,null,null,null,0]
[null,null,25,null,null,null,null,null,null,null,null,null,null,null,null,0]
[null,null,26,null,null,null,null,null,null,null,null,null,null,null,null,0]
[null,null,27,null,null,null,null,null,null,null,null,null,null,null,null,0]
[143,"Aportaciones al sistema para el retiro",11,null,null,null,null,null,null,null,null,null,null,null,null,0]
[null,null,12,null,null,null,null,null,null,null,null,null,null,null,null,0]
[null,null,13,null,null,null,null,null,null,null,null,null,null,null,null,0]
[null,null,14,null,null,null,null,null,null,null,null,null,null,null,null,0]
[null,null,15,null,null,null,null,null,null,null,null,null,null,null,null,0]
[null,null,16,null,null,null,null,null,null,null,null,null,null,null,null,0]
[null,null,17,null,null,null,null,null,null,null,null,null,null,null,null,0]
[null,null,25,null,null,null,null,null,null,null,null,null,null,null,null,0]
[null,null,26,null,null,null,null,null,null,null,null,null,null,null,null,0]
[null,null,27,null,null,null,null,null,null,null,null,null,null,null,null,0]
[144,"Aportaciones para seguros",11,null,null,null,null,null,null,null,null,null,null,null,null,0]
[null,null,12,null,null,null,null,null,null,null,null,null,null,null,null,0]
[null,null,13,null,null,null,null,null,null,null,null,null,null,null,null,0]
[null,null,14,null,null,null,null,null,null,null,null,null,null,null,null,0]
[null,null,15,null,null,null,null,null,null,null,null,null,null,null,null,0]
[null,null,16,null,null,null,null,null,null,null,null,null,null,null,null,0]
[null,null,17,null,null,null,null,null,null,null,null,null,null,null,null,0]
[null,null,25,null,null,null,null,null,null,null,null,null,null,null,null,0]
[null,null,26,null,null,null,null,null,null,null,null,null,null,null,null,0]
[null,null,27,null,null,null,null,null,null,null,null,null,null,null,null,0]
[1500,"OTRAS PRESTACIONES SOCIALES Y ECONÓMICAS",null,{"$f":"SUM(D172:D231)","v":0},{"$f":"SUM(E172:E231)","v":0},0,0,0,0,0,0,0,0,0,0,{"$f":"SUM(P172:P231)","v":0}]
[151,"Cuotas para el fondo de ahorro y fondo de trabajo",11,null,null,null,null,null,null,null,null,null,null,null,null,{"$f":"SUM(D172:O172)","v":0}]
[null,null,12,null,null,null,null,null,null,null,null,null,null,null,null,0]
[null,null,13,null,null,null,null,null,null,null,null,null,null,null,null,0]
[null,null,14,null,null,null,null,null,null,null,null,null,null,null,null,0]
[null,null,15,null,null,null,null,null,null,null,null,null,null,null,null,0]
[null,null,16,null,null,null,null,null,null,null,null,null,null,null,null,0]
[null,null,17,null,null,null,null,null,null,null,null,null,null,null,null,0]
[null,null,25,null,null,null,null,null,null,null,null,null,null,null,null,0]
[null,null,26,null,null,null,null,null,null,null,null,null,null,null,null,0]
[null,null,27,null,null,null,null,null,null,null,null,null,null,null,null,0]
[152,"Indemnizaciones",11,null,null,null,null,null,null,null,null,null,null,null,null,0]
[null,null,12,null,null,null,null,null,null,null,null,null,null,null,null,0]
[null,null,13,null,null,null,null,null,null,null,null,null,null,null,null,0]
[null,null,14,null,null,null,null,null,null,null,null,null,null,null,null,0]
[null,null,15,null,null,null,null,null,null,null,null,null,null,null,null,0]
[null,null,16,null,null,null,null,null,null,null,null,null,null,null,null,0]
[null,null,17,null,null,null,null,null,null,null,null,null,null,null,null,0]
[null,null,25,null,null,null,null,null,null,null,null,null,null,null,null,0]
[null,null,26,null,null,null,null,null,null,null,null,null,null,null,null,0]
[null,null,27,null,null,null,null,null,null,null,null,null,null,null,null,0]
[153,"Prestaciones y haberes de retiro",11,null,null,null,null,null,null,null,null,null,null,null,null,0]
[null,null,12,null,null,null,null,null,null,null,null,null,null,null,null,0]
[null,null,13,null,null,null,null,null,null,null,null,null,null,null,null,0]
[null,null,14,null,null,null,null,null,null,null,null,null,null,null,null,0]
[null,null,15,null,null,null,null,null,null,null,null,null,null,null,null,0]
[null,null,16,null,null,null,null,null,null,null,null,null,null,null,null,0]
[null,null,17,null,null,null,null,null,null,null,null,null,null,null,null,0]
[null,null,25,null,null,null,null,null,null,null,null,null,null,null,null,0]
[null,null,26,null,null,null,null,null,null,null,null,null,null,null,null,0]
[null,null,27,null,null,null,null,null,null,null,null,null,null,null,null,0]
[154,"Prestaciones contractuales",11,null,null,null,null,null,null,null,null,null,null,null,null,0]
[null,null,12,null,null,null,null,null,null,null,null,null,null,null,null,0]
[null,null,13,null,null,null,null,null,null,null,null,null,null,null,null,0]
[null,null,14,null,null,null,null,null,null,null,null,null,null,null,null,0]
[null,null,15,null,null,null,null,null,null,null,null,null,null,null,null,0]
[null,null,16,null,null,null,null,null,null,null,null,null,null,null,null,0]
[null,null,17,null,null,null,null,null,null,null,null,null,null,null,null,0]
[null,null,25,null,null,null,null,null,null,null,null,null,null,null,null,0]
[null,null,26,null,null,null,null,null,null,null,null,null,null,null,null,0]
[null,null,27,null,null,null,null,null,null,null,null,null,null,null,null,0]
[155,"Apoyos a la capacitación de los servidores públicos",11,null,null,null,null,null,null,null,null,null,null,null,null,0]
[null,null,12,null,null,null,null,null,null,null,null,null,null,null,null,0]
[null,null,13,null,null,null,null,null,null,null,null,null,null,null,null,0]
[null,null,14,null,null,null,null,null,null,null,null,null,null,null,null,0]
[null,null,15,null,null,null,null,null,null,null,null,null,null,null,null,0]
[null,null,16,null,null,null,null,null,null,null,null,null,null,null,null,0]
[null,null,17,null,null,null,null,null,null,null,null,null,null,null,null,0]
[null,null,25,null,null,null,null,null,null,null,null,null,null,null,null,0]
[null,null,26,null,null,null,null,null,null,null,null,null,null,null,null,0]
[null,null,27,null,null,null,null,null,null,null,null,null,null,null,null,0]
[159,"Otras prestaciones sociales y económicas",11,null,null,null,null,null,null,null,null,null,null,null,null,0]
[null,null,12,null,null,null,null,null,null,null,null,null,null,null,null,0]
[null,null,13,null,null,null,null,null,null,null,null,null,null,null,null,0]
[null,null,14,null,null,null,null,null,null,null,null,null,null,null,null,0]
[null,null,15,null,null,null,null,null,null,null,null,null,null,null,null,0]
[null,null,16,null,null,null,null,null,null,null,null,null,null,null,null,0]
[null,null,17,null,null,null,null,null,null,null,null,null,null,null,null,0]
[null,null,25,null,null,null,null,null,null,null,null,null,null,null,null,0]
[null,null,26,null,null,null,null,null,null,null,null,null,null,null,null,0]
[null,null,27,null,null,null,null,null,null,null,null,null,null,null,null,0]
[1600,"PREVISIONES",null,{"$f":"SUM(D233:D242)","v":0},{"$f":"SUM(E233:E242)","v":0},0,0,0,0,0,0,0,0,0,0,{"$f":"SUM(P233:P242)","v":0}]
[161,"Previsiones de carácter laboral, económica y de seguridad social",11,null,null,null,null,null,null,null,null,null,null,null,null,{"$f":"SUM(D233:O233)","v":0}]
[null,null,12,null,null,null,null,null,null,null,null,null,null,null,null,{"$f":"SUM(D234:O234)","v":0}]
[null,null,13,null,null,null,null,null,null,null,null,null,null,null,null,0]
[null,null,14,null,null,null,null,null,null,null,null,null,null,null,null,0]
[null,null,15,null,null,null,null,null,null,null,null,null,null,null,null,0]
[null,null,16,null,null,null,null,null,null,null,null,null,null,null,null,0]
[null,null,17,null,null,null,null,null,null,null,null,null,null,null,null,0]
[null,null,25,null,null,null,null,null,null,null,null,null,null,null,null,0]
[null,null,26,null,null,null,null,null,null,null,null,null,null,null,null,0]
[null,null,27,null,null,null,null,null,null,null,null,null,null,null,null,0]
[1700,"PAGO DE ESTÍMULOS A SERVIDORES PÚBLICOS",null,{"$f":"SUM(D244:D263)","v":0},{"$f":"SUM(E244:E263)","v":0},0,0,0,0,0,0,0,0,0,0,{"$f":"SUM(P244:P263)","v":0}]
[171,"Estímulos",11,null,null,null,null,null,null,null,null,null,null,null,null,{"$f":"SUM(D244:O244)","v":0}]
[null,null,12,null,null,null,null,null,null,null,null,null,null,null,null,{"$f":"SUM(D245:O245)","v":0}]
[null,null,13,null,null,null,null,null,null,null,null,null,null,null,null,0]
[null,null,14,null,null,null,null,null,null,null,null,null,null,null,null,0]
[null,null,15,null,null,null,null,null,null,null,null,null,null,null,null,0]
[null,null,16,null,null,null,null,null,null,null,null,null,null,null,null,0]
[null,null,17,null,null,null,null,null,null,null,null,null,null,null,null,0]
[null,null,25,null,null,null,null,null,null,null,null,null,null,null,null,0]
[null,null,26,null,null,null,null,null,null,null,null,null,null,null,null,0]
[null,null,27,null,null,null,null,null,null,null,null,null,null,null,null,0]
[172,"Recompensas",11,null,null,null,null,null,null,null,null,null,null,null,null,0]
[null,null,12,null,null,null,null,null,null,null,null,null,null,null,null,0]
[null,null,13,null,null,null,null,null,null,null,null,null,null,null,null,0]
[null,null,14,null,null,null,null,null,null,null,null,null,null,null,null,0]
[null,null,15,null,null,null,null,null,null,null,null,null,null,null,null,0]
[null,null,16,null,null,null,null,null,null,null,null,null,null,null,null,0]
[null,null,17,null,null,null,null,null,null,null,null,null,null,null,null,0]
[null,null,25,null,null,null,null,null,null,null,null,null,null,null,null,0]
[null,null,26,null,null,null,null,null,null,null,null,null,null,null,null,0]
[null,null,27,null,null,null,null,null,null,null,null,null,null,null,null,0]
[2000,"MATERIALES Y SUMINISTROS",null,{"$f":"D265+D346+D377+D387+D478+D549+D570+D621+D652","v":0},0,0,0,0,0,0,0,0,0,0,0,0]
[2100,"MATERIALES DE ADMINISTRACIÓN, EMISIÓN DE DOCUMENTOS Y ARTÍCULOS OFICIALES",null,{"$f":"SUM(D266:D345)","v":0},{"$f":"SUM(E266:E345)","v":0},0,0,0,0,0,0,0,0,0,0,{"$f":"SUM(P266:P345)","v":0}]
[211,"Materiales, útiles y equipos menores de oficina",11,null,null,null,null,null,null,null,null,null,null,null,null,{"$f":"SUM(D266:O266)","v":0}]
[null,null,12,null,null,null,null,null,null,null,null,null,null,null,null,{"$f":"SUM(D267:O267)","v":0}]
[null,null,13,null,null,null,null,null,null,null,null,null,null,null,null,0]
[null,null,14,null,null,null,null,null,null,null,null,null,null,null,null,0]
[null,null,15,null,null,null,null,null,null,null,null,null,null,null,null,0]
[null,null,16,null,null,null,null,null,null,null,null,null,null,null,null,0]
[null,null,17,null,null,null,null,null,null,null,null,null,null,null,null,0]
[null,null,25,null,null,null,null,null,null,null,null,null,null,null,null,0]
[null,null,26,null,null,null,null,null,null,null,null,null,null,null,null,0]
[null,null,27,null,null,null,null,null,null,null,null,null,null,null,null,0]
[212,"Materiales y útiles de impresión y reproducción",11,null,null,null,null,null,null,null,null,null,null,null,null,0]
[null,null,12,null,null,null,null,null,null,null,null,null,null,null,null,0]
[null,null,13,null,null,null,null,null,null,null,null,null,null,null,null,0]
[null,null,14,null,null,null,null,null,null,null,null,null,null,null,null,0]
[null,null,15,null,null,null,null,null,null,null,null,null,null,null,null,0]
[null,null,16,null,null,null,null,null,null,null,null,null,null,null,null,0]
[null,null,17,null,null,null,null,null,null,null,null,null,null,null,null,0]
[null,null,25,null,null,null,null,null,null,null,null,null,null,null,null,0]
[null,null,26,null,null,null,null,null,null,null,null,null,null,null,null,0]
[null,null,27,null,null,null,null,null,null,null,null,null,null,null,null,0]
[213,"Material estadístico y geográfico",11,null,null,null,null,null,null,null,null,null,null,null,null,0]
[null,null,12,null,null,null,null,null,null,null,null,null,null,null,null,0]
[null,null,13,null,null,null,null,null,null,null,null,null,null,null,null,0]
[null,null,14,null,null,null,null,null,null,null,null,null,null,null,null,0]
[null,null,15,null,null,null,null,null,null,null,null,null,null,null,null,0]
[null,null,16,null,null,null,null,null,null,null,null,null,null,null,null,0]
[null,null,17,null,null,null,null,null,null,null,null,null,null,null,null,0]
[null,null,25,null,null,null,null,null,null,null,null,null,null,null,null,0]
[null,null,26,null,null,null,null,null,null,null,null,null,null,null,null,0]
[null,null,27,null,null,null,null,null,null,null,null,null,null,null,null,0]
[214,"Materiales, útiles y equipos menores de tecnologías de la información y comunicaciones",11,null,null,null,null,null,null,null,null,null,null,null,null,0]
[null,null,12,null,null,null,null,null,null,null,null,null,null,null,null,0]
[null,null,13,null,null,null,null,null,null,null,null,null,null,null,null,0]
[null,null,14,null,null,null,null,null,null,null,null,null,null,null,null,0]
[null,null,15,null,null,null,null,null,null,null,null,null,null,null,null,0]
[null,null,16,null,null,null,null,null,null,null,null,null,null,null,null,0]
[null,null,17,null,null,null,null,null,null,null,null,null,null,null,null,0]
[null,null,25,null,null,null,null,null,null,null,null,null,null,null,null,0]
[null,null,26,null,null,null,null,null,null,null,null,null,null,null,null,0]
[null,null,27,null,null,null,null,null,null,null,null,null,null,null,null,0]
[215,"Material impreso e información digital",11,null,null,null,null,null,null,null,null,null,null,null,null,0]
[null,null,12,null,null,null,null,null,null,null,null,null,null,null,null,0]
[null,null,13,null,null,null,null,null,null,null,null,null,null,null,null,0]
[null,null,14,null,null,null,null,null,null,null,null,null,null,null,null,0]
[null,null,15,null,null,null,null,null,null,null,null,null,null,null,null,0]
[null,null,16,null,null,null,null,null,null,null,null,null,null,null,null,0]
[null,null,17,null,null,null,null,null,null,null,null,null,null,null,null,0]
[null,null,25,null,null,null,null,null,null,null,null,null,null,null,null,0]
[null,null,26,null,null,null,null,null,null,null,null,null,null,null,null,0]
[null,null,27,null,null,null,null,null,null,null,null,null,null,null,null,0]
[216,"Material de limpieza",11,null,null,null,null,null,null,null,null,null,null,null,null,0]
[null,null,12,null,null,null,null,null,null,null,null,null,null,null,null,0]
[null,null,13,null,null,null,null,null,null,null,null,null,null,null,null,0]
[null,null,14,null,null,null,null,null,null,null,null,null,null,null,null,0]
[null,null,15,null,null,null,null,null,null,null,null,null,null,null,null,0]
[null,null,16,null,null,null,null,null,null,null,null,null,null,null,null,0]
[null,null,17,null,null,null,null,null,null,null,null,null,null,null,null,0]
[null,null,25,null,null,null,null,null,null,null,null,null,null,null,null,0]
[null,null,26,null,null,null,null,null,null,null,null,null,null,null,null,0]
[null,null,27,null,null,null,null,null,null,null,null,null,null,null,null,0]
[217,"Materiales y útiles de enseñanza",11,null,null,null,null,null,null,null,null,null,null,null,null,0]
[null,null,12,null,null,null,null,null,null,null,null,null,null,null,null,0]
[null,null,13,null,null,null,null,null,null,null,null,null,null,null,null,0]
[null,null,14,null,null,null,null,null,null,null,null,null,null,null,null,0]
[null,null,15,null,null,null,null,null,null,null,null,null,null,null,null,0]
[null,null,16,null,null,null,null,null,null,null,null,null,null,null,null,{"$f":"SUM(D331:O331)","v":0}]
[null,null,17,null,null,null,null,null,null,null,null,null,null,null,null,0]
[null,null,25,null,null,null,null,null,null,null,null,null,null,null,null,0]
[null,null,26,null,null,null,null,null,null,null,null,null,null,null,null,0]
[null,null,27,null,null,null,null,null,null,null,null,null,null,null,null,0]
[218,"Materiales para el registro e identificación de bienes y personas",11,null,null,null,null,null,null,null,null,null,null,null,null,0]
[null,null,12,null,null,null,null,null,null,null,null,null,null,null,null,0]
[null,null,13,null,null,null,null,null,null,null,null,null,null,null,null,0]
[null,null,14,null,null,null,null,null,null,null,null,null,null,null,null,0]
[null,null,15,null,null,null,null,null,null,null,null,null,null,null,null,0]
[null,null,16,null,null,null,null,null,null,null,null,null,null,null,null,0]
[null,null,17,null,null,null,null,null,null,null,null,null,null,null,null,0]
[null,null,25,null,null,null,null,null,null,null,null,null,null,null,null,0]
[null,null,26,null,null,null,null,null,null,null,null,null,null,null,null,0]
[null,null,27,null,null,null,null,null,null,null,null,null,null,null,null,0]
[2200,"ALIMENTOS Y UTENSILIOS",null,{"$f":"SUM(D347:D376)","v":0},{"$f":"SUM(E347:E376)","v":0},0,0,0,0,0,0,0,0,0,0,{"$f":"SUM(P347:P376)","v":0}]
[221,"Productos alimenticios para personas",11,null,null,null,null,null,null,null,null,null,null,null,null,{"$f":"SUM(D347:O347)","v":0}]
[null,null,12,null,null,null,null,null,null,null,null,null,null,null,null,{"$f":"SUM(D348:O348)","v":0}]
[null,null,13,null,null,null,null,null,null,null,null,null,null,null,null,0]
[null,null,14,null,null,null,null,null,null,null,null,null,null,null,null,0]
[null,null,15,null,null,null,null,null,null,null,null,null,null,null,null,0]
[null,null,16,null,null,null,null,null,null,null,null,null,null,null,null,0]
[null,null,17,null,null,null,null,null,null,null,null,null,null,null,null,0]
[null,null,25,null,null,null,null,null,null,null,null,null,null,null,null,0]
[null,null,26,null,null,null,null,null,null,null,null,null,null,null,null,0]
[null,null,27,null,null,null,null,null,null,null,null,null,null,null,null,0]
[222,"Productos alimenticios para animales",11,null,null,null,null,null,null,null,null,null,null,null,null,0]
[null,null,12,null,null,null,null,null,null,null,null,null,null,null,null,0]
[null,null,13,null,null,null,null,null,null,null,null,null,null,null,null,0]
[null,null,14,null,null,null,null,null,null,null,null,null,null,null,null,0]
[null,null,15,null,null,null,null,null,null,null,null,null,null,null,null,0]
[null,null,16,null,null,null,null,null,null,null,null,null,null,null,null,0]
[null,null,17,null,null,null,null,null,null,null,null,null,null,null,null,0]
[null,null,25,null,null,null,null,null,null,null,null,null,null,null,null,0]
[null,null,26,null,null,null,null,null,null,null,null,null,null,null,null,0]
[null,null,27,null,null,null,null,null,null,null,null,null,null,null,null,0]
[223,"Utensilios para el servicio de alimentación",11,null,null,null,null,null,null,null,null,null,null,null,null,0]
[null,null,12,null,null,null,null,null,null,null,null,null,null,null,null,0]
[null,null,13,null,null,null,null,null,null,null,null,null,null,null,null,0]
[null,null,14,null,null,null,null,null,null,null,null,null,null,null,null,0]
[null,null,15,null,null,null,null,null,null,null,null,null,null,null,null,0]
[null,null,16,null,null,null,null,null,null,null,null,null,null,null,null,0]
[null,null,17,null,null,null,null,null,null,null,null,null,null,null,null,0]
[null,null,25,null,null,null,null,null,null,null,null,null,null,null,null,0]
[null,null,26,null,null,null,null,null,null,null,null,null,null,null,null,0]
[null,null,27,null,null,null,null,null,null,null,null,null,null,null,null,0]
[2300,"MATERIAS PRIMAS Y MATERIALES DE PRODUCCIÓN Y COMERCIALIZACIÓN",null,{"$f":"SUM(D378:D386)","v":0},{"$f":"SUM(E378:E386)","v":0},0,0,0,0,0,0,0,0,0,0,{"$f":"SUM(P378:P386)","v":0}]
[231,"Productos alimenticios, agropecuarios y forestales adquiridos como materia prima",null,null,null,null,null,null,null,null,null,null,null,null,null,{"$f":"SUM(D378:O378)","v":0}]
[232,"Insumos textiles adquiridos como materia prima",null,null,null,null,null,null,null,null,null,null,null,null,null,0]
[233,"Productos de papel, cartón e impresos adquiridos como materia prima",null,null,null,null,null,null,null,null,null,null,null,null,null,0]
[234,"Combustibles, lubricantes, aditivos, carbón y sus derivados adquiridos como materia prima",null,null,null,null,null,null,null,null,null,null,null,null,null,0]
[235,"Productos químicos, farmacéuticos y de laboratorio adquiridos como materia prima",null,null,null,null,null,null,null,null,null,null,null,null,null,0]
[236,"Productos metálicos y a base de minerales no metálicos adquiridos como materia prima",null,null,null,null,null,null,null,null,null,null,null,null,null,0]
[237,"Productos de cuero, piel, plástico y hule adquiridos como materia prima",null,null,null,null,null,null,null,null,null,null,null,null,null,0]
[238,"Mercancías adquiridas para su comercialización",null,null,null,null,null,null,null,null,null,null,null,null,null,0]
[239,"Otros productos adquiridos como materia prima",null,null,null,null,null,null,null,null,null,null,null,null,null,0]
[2400,"MATERIALES Y ARTÍCULOS DE CONSTRUCCIÓN Y DE REPARACIÓN",null,{"$f":"SUM(D388:D477)","v":0},{"$f":"SUM(E388:E477)","v":0},0,0,0,0,0,0,0,0,0,0,{"$f":"SUM(P388:P477)","v":0}]
[241,"Productos minerales no metálicos",11,null,null,null,null,null,null,null,null,null,null,null,null,{"$f":"SUM(D388:O388)","v":0}]
[null,null,12,null,null,null,null,null,null,null,null,null,null,null,null,{"$f":"SUM(D389:O389)","v":0}]
[null,null,13,null,null,null,null,null,null,null,null,null,null,null,null,0]
[null,null,14,null,null,null,null,null,null,null,null,null,null,null,null,0]
[null,null,15,null,null,null,null,null,null,null,null,null,null,null,null,0]
[null,null,16,null,null,null,null,null,null,null,null,null,null,null,null,0]
[null,null,17,null,null,null,null,null,null,null,null,null,null,null,null,0]
[null,null,25,null,null,null,null,null,null,null,null,null,null,null,null,0]
[null,null,26,null,null,null,null,null,null,null,null,null,null,null,null,0]
[null,null,27,null,null,null,null,null,null,null,null,null,null,null,null,0]
[242,"Cemento y productos de concreto",11,null,null,null,null,null,null,null,null,null,null,null,null,0]
[null,null,12,null,null,null,null,null,null,null,null,null,null,null,null,0]
[null,null,13,null,null,null,null,null,null,null,null,null,null,null,null,0]
[null,null,14,null,null,null,null,null,null,null,null,null,null,null,null,0]
[null,null,15,null,null,null,null,null,null,null,null,null,null,null,null,0]
[null,null,16,null,null,null,null,null,null,null,null,null,null,null,null,0]
[null,null,17,null,null,null,null,null,null,null,null,null,null,null,null,0]
[null,null,25,null,null,null,null,null,null,null,null,null,null,null,null,0]
[null,null,26,null,null,null,null,null,null,null,null,null,null,null,null,0]
[null,null,27,null,null,null,null,null,null,null,null,null,null,null,null,0]
[243,"Cal, yeso y productos de yeso",11,null,null,null,null,null,null,null,null,null,null,null,null,0]
[null,null,12,null,null,null,null,null,null,null,null,null,null,null,null,0]
[null,null,13,null,null,null,null,null,null,null,null,null,null,null,null,0]
[null,null,14,null,null,null,null,null,null,null,null,null,null,null,null,0]
[null,null,15,null,null,null,null,null,null,null,null,null,null,null,null,0]
[null,null,16,null,null,null,null,null,null,null,null,null,null,null,null,0]
[null,null,17,null,null,null,null,null,null,null,null,null,null,null,null,0]
[null,null,25,null,null,null,null,null,null,null,null,null,null,null,null,0]
[null,null,26,null,null,null,null,null,null,null,null,null,null,null,null,0]
[null,null,27,null,null,null,null,null,null,null,null,null,null,null,null,0]
[244,"Madera y productos de madera",11,null,null,null,null,null,null,null,null,null,null,null,null,0]
[null,null,12,null,null,null,null,null,null,null,null,null,null,null,null,0]
[null,null,13,null,null,null,null,null,null,null,null,null,null,null,null,0]
[null,null,14,null,null,null,null,null,null,null,null,null,null,null,null,0]
[null,null,15,null,null,null,null,null,null,null,null,null,null,null,null,0]
[null,null,16,null,null,null,null,null,null,null,null,null,null,null,null,0]
[null,null,17,null,null,null,null,null,null,null,null,null,null,null,null,0]
[null,null,25,null,null,null,null,null,null,null,null,null,null,null,null,0]
[null,null,26,null,null,null,null,null,null,null,null,null,null,null,null,0]
[null,null,27,null,null,null,null,null,null,null,null,null,null,null,null,0]
[245,"Vidrio y productos de vidrio",11,null,null,null,null,null,null,null,null,null,null,null,null,0]
[null,null,12,null,null,null,null,null,null,null,null,null,null,null,null,0]
[null,null,13,null,null,null,null,null,null,null,null,null,null,null,null,0]
[null,null,14,null,null,null,null,null,null,null,null,null,null,null,null,0]
[null,null,15,null,null,null,null,null,null,null,null,null,null,null,null,0]
[null,null,16,null,null,null,null,null,null,null,null,null,null,null,null,0]
[null,null,17,null,null,null,null,null,null,null,null,null,null,null,null,0]
[null,null,25,null,null,null,null,null,null,null,null,null,null,null,null,0]
[null,null,26,null,null,null,null,null,null,null,null,null,null,null,null,0]
[null,null,27,null,null,null,null,null,null,null,null,null,null,null,null,0]
[246,"Material eléctrico y electrónico",11,null,null,null,null,null,null,null,null,null,null,null,null,0]
[null,null,12,null,null,null,null,null,null,null,null,null,null,null,null,0]
[null,null,13,null,null,null,null,null,null,null,null,null,null,null,null,0]
[null,null,14,null,null,null,null,null,null,null,null,null,null,null,null,0]
[null,null,15,null,null,null,null,null,null,null,null,null,null,null,null,0]
[null,null,16,null,null,null,null,null,null,null,null,null,null,null,null,0]
[null,null,17,null,null,null,null,null,null,null,null,null,null,null,null,0]
[null,null,25,null,null,null,null,null,null,null,null,null,null,null,null,0]
[null,null,26,null,null,null,null,null,null,null,null,null,null,null,null,0]
[null,null,27,null,null,null,null,null,null,null,null,null,null,null,null,0]
[247,"Artículos metálicos para la construcción",11,null,null,null,null,null,null,null,null,null,null,null,null,0]
[null,null,12,null,null,null,null,null,null,null,null,null,null,null,null,0]
[null,null,13,null,null,null,null,null,null,null,null,null,null,null,null,0]
[null,null,14,null,null,null,null,null,null,null,null,null,null,null,null,0]
[null,null,15,null,null,null,null,null,null,null,null,null,null,null,null,0]
[null,null,16,null,null,null,null,null,null,null,null,null,null,null,null,{"$f":"SUM(D453:O453)","v":0}]
[null,null,17,null,null,null,null,null,null,null,null,null,null,null,null,0]
[null,null,25,null,null,null,null,null,null,null,null,null,null,null,null,0]
[null,null,26,null,null,null,null,null,null,null,null,null,null,null,null,0]
[null,null,27,null,null,null,null,null,null,null,null,null,null,null,null,0]
[248,"Materiales complementarios",11,null,null,null,null,null,null,null,null,null,null,null,null,0]
[null,null,12,null,null,null,null,null,null,null,null,null,null,null,null,0]
[null,null,13,null,null,null,null,null,null,null,null,null,null,null,null,0]
[null,null,14,null,null,null,null,null,null,null,null,null,null,null,null,0]
[null,null,15,null,null,null,null,null,null,null,null,null,null,null,null,0]
[null,null,16,null,null,null,null,null,null,null,null,null,null,null,null,0]
[null,null,17,null,null,null,null,null,null,null,null,null,null,null,null,0]
[null,null,25,null,null,null,null,null,null,null,null,null,null,null,null,0]
[null,null,26,null,null,null,null,null,null,null,null,null,null,null,null,0]
[null,null,27,null,null,null,null,null,null,null,null,null,null,null,null,0]
[249,"Otros materiales y artículos de construcción y reparación",11,null,null,null,null,null,null,null,null,null,null,null,null,0]
[null,null,12,null,null,null,null,null,null,null,null,null,null,null,null,0]
[null,null,13,null,null,null,null,null,null,null,null,null,null,null,null,0]
[null,null,14,null,null,null,null,null,null,null,null,null,null,null,null,0]
[null,null,15,null,null,null,null,null,null,null,null,null,null,null,null,0]
[null,null,16,null,null,null,null,null,null,null,null,null,null,null,null,0]
[null,null,17,null,null,null,null,null,null,null,null,null,null,null,null,0]
[null,null,25,null,null,null,null,null,null,null,null,null,null,null,null,0]
[null,null,26,null,null,null,null,null,null,null,null,null,null,null,null,0]
[null,null,27,null,null,null,null,null,null,null,null,null,null,null,null,0]
[2500,"PRODUCTOS QUÍMICOS, FARMACÉUTICOS Y DE LABORATORIO",null,{"$f":"SUM(D479:D548)","v":0},{"$f":"SUM(E479:E548)","v":0},0,0,0,0,0,0,0,0,0,0,{"$f":"SUM(P479:P548)","v":0}]
[251,"Productos químicos básicos",11,null,null,null,null,null,null,null,null,null,null,null,null,{"$f":"SUM(D479:O479)","v":0}]
[null,null,12,null,null,null,null,null,null,null,null,null,null,null,null,{"$f":"SUM(D480:O480)","v":0}]
[null,null,13,null,null,null,null,null,null,null,null,null,null,null,null,0]
[null,null,14,null,null,null,null,null,null,null,null,null,null,null,null,0]
[null,null,15,null,null,null,null,null,null,null,null,null,null,null,null,0]
[null,null,16,null,null,null,null,null,null,null,null,null,null,null,null,0]
[null,null,17,null,null,null,null,null,null,null,null,null,null,null,null,0]
[null,null,25,null,null,null,null,null,null,null,null,null,null,null,null,0]
[null,null,26,null,null,null,null,null,null,null,null,null,null,null,null,0]
[null,null,27,null,null,null,null,null,null,null,null,null,null,null,null,0]
[252,"Fertilizantes, pesticidas y otros agroquímicos",11,null,null,null,null,null,null,null,null,null,null,null,null,0]
[null,null,12,null,null,null,null,null,null,null,null,null,null,null,null,0]
[null,null,13,null,null,null,null,null,null,null,null,null,null,null,null,0]
[null,null,14,null,null,null,null,null,null,null,null,null,null,null,null,0]
[null,null,15,null,null,null,null,null,null,null,null,null,null,null,null,0]
[null,null,16,null,null,null,null,null,null,null,null,null,null,null,null,0]
[null,null,17,null,null,null,null,null,null,null,null,null,null,null,null,0]
[null,null,25,null,null,null,null,null,null,null,null,null,null,null,null,0]
[null,null,26,null,null,null,null,null,null,null,null,null,null,null,null,0]
[null,null,27,null,null,null,null,null,null,null,null,null,null,null,null,0]
[253,"Medicinas y productos farmacéuticos",11,null,null,null,null,null,null,null,null,null,null,null,null,0]
[null,null,12,null,null,null,null,null,null,null,null,null,null,null,null,0]
[null,null,13,null,null,null,null,null,null,null,null,null,null,null,null,0]
[null,null,14,null,null,null,null,null,null,null,null,null,null,null,null,0]
[null,null,15,null,null,null,null,null,null,null,null,null,null,null,null,0]
[null,null,16,null,null,null,null,null,null,null,null,null,null,null,null,0]
[null,null,17,null,null,null,null,null,null,null,null,null,null,null,null,0]
[null,null,25,null,null,null,null,null,null,null,null,null,null,null,null,0]
[null,null,26,null,null,null,null,null,null,null,null,null,null,null,null,0]
[null,null,27,null,null,null,null,null,null,null,null,null,null,null,null,0]
[254,"Materiales, accesorios y suministros médicos",11,null,null,null,null,null,null,null,null,null,null,null,null,0]
[null,null,12,null,null,null,null,null,null,null,null,null,null,null,null,0]
[null,null,13,null,null,null,null,null,null,null,null,null,null,null,null,0]
[null,null,14,null,null,null,null,null,null,null,null,null,null,null,null,0]
[null,null,15,null,null,null,null,null,null,null,null,null,null,null,null,0]
[null,null,16,null,null,null,null,null,null,null,null,null,null,null,null,0]
[null,null,17,null,null,null,null,null,null,null,null,null,null,null,null,0]
[null,null,25,null,null,null,null,null,null,null,null,null,null,null,null,0]
[null,null,26,null,null,null,null,null,null,null,null,null,null,null,null,0]
[null,null,27,null,null,null,null,null,null,null,null,null,null,null,null,0]
[255,"Materiales, accesorios y suministros de laboratorio",11,null,null,null,null,null,null,null,null,null,null,null,null,0]
[null,null,12,null,null,null,null,null,null,null,null,null,null,null,null,0]
[null,null,13,null,null,null,null,null,null,null,null,null,null,null,null,0]
[null,null,14,null,null,null,null,null,null,null,null,null,null,null,null,0]
[null,null,15,null,null,null,null,null,null,null,null,null,null,null,null,0]
[null,null,16,null,null,null,null,null,null,null,null,null,null,null,null,0]
[null,null,17,null,null,null,null,null,null,null,null,null,null,null,null,0]
[null,null,25,null,null,null,null,null,null,null,null,null,null,null,null,0]
[null,null,26,null,null,null,null,null,null,null,null,null,null,null,null,0]
[null,null,27,null,null,null,null,null,null,null,null,null,null,null,null,0]
[256,"Fibras sintéticas, hules plásticos y derivados",11,null,null,null,null,null,null,null,null,null,null,null,null,0]
[null,null,12,null,null,null,null,null,null,null,null,null,null,null,null,0]
[null,null,13,null,null,null,null,null,null,null,null,null,null,null,null,0]
[null,null,14,null,null,null,null,null,null,null,null,null,null,null,null,0]
[null,null,15,null,null,null,null,null,null,null,null,null,null,null,null,0]
[null,null,16,null,null,null,null,null,null,null,null,null,null,null,null,0]
[null,null,17,null,null,null,null,null,null,null,null,null,null,null,null,0]
[null,null,25,null,null,null,null,null,null,null,null,null,null,null,null,0]
[null,null,26,null,null,null,null,null,null,null,null,null,null,null,null,0]
[null,null,27,null,null,null,null,null,null,null,null,null,null,null,null,0]
[259,"Otros productos químicos",11,null,null,null,null,null,null,null,null,null,null,null,null,0]
[null,null,12,null,null,null,null,null,null,null,null,null,null,null,null,0]
[null,null,13,null,null,null,null,null,null,null,null,null,null,null,null,0]
[null,null,14,null,null,null,null,null,null,null,null,null,null,null,null,0]
[null,null,15,null,null,null,null,null,null,null,null,null,null,null,null,0]
[null,null,16,null,null,null,null,null,null,null,null,null,null,null,null,{"$f":"SUM(D544:O544)","v":0}]
[null,null,17,null,null,null,null,null,null,null,null,null,null,null,null,0]
[null,null,25,null,null,null,null,null,null,null,null,null,null,null,null,0]
[null,null,26,null,null,null,null,null,null,null,null,null,null,null,null,0]
[null,null,27,null,null,null,null,null,null,null,null,null,null,null,null,0]
[2600,"COMBUSTIBLES, LUBRICANTES Y ADITIVOS",null,{"$f":"SUM(D550:D569)","v":0},{"$f":"SUM(E550:E569)","v":0},0,0,0,0,0,0,0,0,0,0,{"$f":"SUM(P550:P569)","v":0}]
[261,"Combustibles, lubricantes y aditivos",11,null,null,null,null,null,null,null,null,null,null,null,null,{"$f":"SUM(D550:O550)","v":0}]
[null,null,12,null,null,null,null,null,null,null,null,null,null,null,null,{"$f":"SUM(D551:O551)","v":0}]
[null,null,13,null,null,null,null,null,null,null,null,null,null,null,null,0]
[null,null,14,null,null,null,null,null,null,null,null,null,null,null,null,0]
[null,null,15,null,null,null,null,null,null,null,null,null,null,null,null,0]
[null,null,16,null,null,null,null,null,null,null,null,null,null,null,null,0]
[null,null,17,null,null,null,null,null,null,null,null,null,null,null,null,0]
[null,null,25,null,null,null,null,null,null,null,null,null,null,null,null,0]
[null,null,26,null,null,null,null,null,null,null,null,null,null,null,null,0]
[null,null,27,null,null,null,null,null,null,null,null,null,null,null,null,0]
[262,"Carbón y sus derivados",11,null,null,null,null,null,null,null,null,null,null,null,null,0]
[null,null,12,null,null,null,null,null,null,null,null,null,null,null,null,0]
[null,null,13,null,null,null,null,null,null,null,null,null,null,null,null,0]
[null,null,14,null,null,null,null,null,null,null,null,null,null,null,null,0]
[null,null,15,null,null,null,null,null,null,null,null,null,null,null,null,0]
[null,null,16,null,null,null,null,null,null,null,null,null,null,null,null,0]
[null,null,17,null,null,null,null,null,null,null,null,null,null,null,null,0]
[null,null,25,null,null,null,null,null,null,null,null,null,null,null,null,0]
[null,null,26,null,null,null,null,null,null,null,null,null,null,null,null,0]
[null,null,27,null,null,null,null,null,null,null,null,null,null,null,null,0]
[2700,"VESTUARIO, BLANCOS, PRENDAS DE PROTECCIÓN Y ARTÍCULOS DEPORTIVOS",null,{"$f":"SUM(D571:D620)","v":0},{"$f":"SUM(E571:E620)","v":0},0,0,0,0,0,0,0,0,0,0,{"$f":"SUM(P571:P620)","v":0}]
[271,"Vestuario y uniformes",11,null,null,null,null,null,null,null,null,null,null,null,null,{"$f":"SUM(D571:O571)","v":0}]
[null,null,12,null,null,null,null,null,null,null,null,null,null,null,null,{"$f":"SUM(D572:O572)","v":0}]
[null,null,13,null,null,null,null,null,null,null,null,null,null,null,null,0]
[null,null,14,null,null,null,null,null,null,null,null,null,null,null,null,0]
[null,null,15,null,null,null,null,null,null,null,null,null,null,null,null,0]
[null,null,16,null,null,null,null,null,null,null,null,null,null,null,null,0]
[null,null,17,null,null,null,null,null,null,null,null,null,null,null,null,0]
[null,null,25,null,null,null,null,null,null,null,null,null,null,null,null,0]
[null,null,26,null,null,null,null,null,null,null,null,null,null,null,null,0]
[null,null,27,null,null,null,null,null,null,null,null,null,null,null,null,0]
[272,"Prendas de seguridad y protección personal",11,null,null,null,null,null,null,null,null,null,null,null,null,0]
[null,null,12,null,null,null,null,null,null,null,null,null,null,null,null,0]
[null,null,13,null,null,null,null,null,null,null,null,null,null,null,null,0]
[null,null,14,null,null,null,null,null,null,null,null,null,null,null,null,0]
[null,null,15,null,null,null,null,null,null,null,null,null,null,null,null,0]
[null,null,16,null,null,null,null,null,null,null,null,null,null,null,null,0]
[null,null,17,null,null,null,null,null,null,null,null,null,null,null,null,0]
[null,null,25,null,null,null,null,null,null,null,null,null,null,null,null,0]
[null,null,26,null,null,null,null,null,null,null,null,null,null,null,null,0]
[null,null,27,null,null,null,null,null,null,null,null,null,null,null,null,0]
[273,"Artículos deportivos",11,null,null,null,null,null,null,null,null,null,null,null,null,0]
[null,null,12,null,null,null,null,null,null,null,null,null,null,null,null,0]
[null,null,13,null,null,null,null,null,null,null,null,null,null,null,null,0]
[null,null,14,null,null,null,null,null,null,null,null,null,null,null,null,0]
[null,null,15,null,null,null,null,null,null,null,null,null,null,null,null,0]
[null,null,16,null,null,null,null,null,null,null,null,null,null,null,null,0]
[null,null,17,null,null,null,null,null,null,null,null,null,null,null,null,0]
[null,null,25,null,null,null,null,null,null,null,null,null,null,null,null,0]
[null,null,26,null,null,null,null,null,null,null,null,null,null,null,null,0]
[null,null,27,null,null,null,null,null,null,null,null,null,null,null,null,0]
[274,"Productos textiles",11,null,null,null,null,null,null,null,null,null,null,null,null,0]
[null,null,12,null,null,null,null,null,null,null,null,null,null,null,null,0]
[null,null,13,null,null,null,null,null,null,null,null,null,null,null,null,0]
[null,null,14,null,null,null,null,null,null,null,null,null,null,null,null,0]
[null,null,15,null,null,null,null,null,null,null,null,null,null,null,null,0]
[null,null,16,null,null,null,null,null,null,null,null,null,null,null,null,0]
[null,null,17,null,null,null,null,null,null,null,null,null,null,null,null,0]
[null,null,25,null,null,null,null,null,null,null,null,null,null,null,null,0]
[null,null,26,null,null,null,null,null,null,null,null,null,null,null,null,0]
[null,null,27,null,null,null,null,null,null,null,null,null,null,null,null,0]
[275,"Blancos y otros productos textiles, excepto prendas de vestir",11,null,null,null,null,null,null,null,null,null,null,null,null,0]
[null,null,12,null,null,null,null,null,null,null,null,null,null,null,null,0]
[null,null,13,null,null,null,null,null,null,null,null,null,null,null,null,0]
[null,null,14,null,null,null,null,null,null,null,null,null,null,null,null,0]
[null,null,15,null,null,null,null,null,null,null,null,null,null,null,null,0]
[null,null,16,null,null,null,null,null,null,null,null,null,null,null,null,0]
[null,null,17,null,null,null,null,null,null,null,null,null,null,null,null,0]
[null,null,25,null,null,null,null,null,null,null,null,null,null,null,null,0]
[null,null,26,null,null,null,null,null,null,null,null,null,null,null,null,0]
[null,null,27,null,null,null,null,null,null,null,null,null,null,null,null,0]
[2800,"MATERIALES Y SUMINISTROS PARA SEGURIDAD",null,{"$f":"SUM(D622:D651)","v":0},{"$f":"SUM(E622:E651)","v":0},0,0,0,0,0,0,0,0,0,0,{"$f":"SUM(P622:P651)","v":0}]
[281,"Sustancias y materiales explosivos",11,null,null,null,null,null,null,null,null,null,null,null,null,{"$f":"SUM(D622:O622)","v":0}]
[null,null,12,null,null,null,null,null,null,null,null,null,null,null,null,{"$f":"SUM(D623:O623)","v":0}]
[null,null,13,null,null,null,null,null,null,null,null,null,null,null,null,0]
[null,null,14,null,null,null,null,null,null,null,null,null,null,null,null,0]
[null,null,15,null,null,null,null,null,null,null,null,null,null,null,null,0]
[null,null,16,null,null,null,null,null,null,null,null,null,null,null,null,0]
[null,null,17,null,null,null,null,null,null,null,null,null,null,null,null,0]
[null,null,25,null,null,null,null,null,null,null,null,null,null,null,null,0]
[null,null,26,null,null,null,null,null,null,null,null,null,null,null,null,0]
[null,null,27,null,null,null,null,null,null,null,null,null,null,null,null,0]
[282,"Materiales de seguridad pública",11,null,null,null,null,null,null,null,null,null,null,null,null,0]
[null,null,12,null,null,null,null,null,null,null,null,null,null,null,null,0]
[null,null,13,null,null,null,null,null,null,null,null,null,null,null,null,0]
[null,null,14,null,null,null,null,null,null,null,null,null,null,null,null,0]
[null,null,15,null,null,null,null,null,null,null,null,null,null,null,null,0]
[null,null,16,null,null,null,null,null,null,null,null,null,null,null,null,0]
[null,null,17,null,null,null,null,null,null,null,null,null,null,null,null,0]
[null,null,25,null,null,null,null,null,null,null,null,null,null,null,null,0]
[null,null,26,null,null,null,null,null,null,null,null,null,null,null,null,0]
[null,null,27,null,null,null,null,null,null,null,null,null,null,null,null,0]
[283,"Prendas de protección para seguridad pública y nacional",11,null,null,null,null,null,null,null,null,null,null,null,null,0]
[null,null,12,null,null,null,null,null,null,null,null,null,null,null,null,0]
[null,null,13,null,null,null,null,null,null,null,null,null,null,null,null,0]
[null,null,14,null,null,null,null,null,null,null,null,null,null,null,null,0]
[null,null,15,null,null,null,null,null,null,null,null,null,null,null,null,0]
[null,null,16,null,null,null,null,null,null,null,null,null,null,null,null,0]
[null,null,17,null,null,null,null,null,null,null,null,null,null,null,null,0]
[null,null,25,null,null,null,null,null,null,null,null,null,null,null,null,0]
[null,null,26,null,null,null,null,null,null,null,null,null,null,null,null,0]
[null,null,27,null,null,null,null,null,null,null,null,null,null,null,null,0]
[2900,"HERRAMIENTAS, REFACCIONES Y ACCESORIOS MENORES",null,{"$f":"SUM(D653:D742)","v":0},{"$f":"SUM(E653:E742)","v":0},0,0,0,0,0,0,0,0,0,0,{"$f":"SUM(P653:P742)","v":0}]
[291,"Herramientas menores",11,null,null,null,null,null,null,null,null,null,null,null,null,{"$f":"SUM(D653:O653)","v":0}]
[null,null,12,null,null,null,null,null,null,null,null,null,null,null,null,{"$f":"SUM(D654:O654)","v":0}]
[null,null,13,null,null,null,null,null,null,null,null,null,null,null,null,0]
[null,null,14,null,null,null,null,null,null,null,null,null,null,null,null,0]
[null,null,15,null,null,null,null,null,null,null,null,null,null,null,null,0]
[null,null,16,null,null,null,null,null,null,null,null,null,null,null,null,0]
[null,null,17,null,null,null,null,null,null,null,null,null,null,null,null,0]
[null,null,25,null,null,null,null,null,null,null,null,null,null,null,null,0]
[null,null,26,null,null,null,null,null,null,null,null,null,null,null,null,0]
[null,null,27,null,null,null,null,null,null,null,null,null,null,null,null,0]
[292,"Refacciones y accesorios menores de edificios",11,null,null,null,null,null,null,null,null,null,null,null,null,0]
[null,null,12,null,null,null,null,null,null,null,null,null,null,null,null,0]
[null,null,13,null,null,null,null,null,null,null,null,null,null,null,null,0]
[null,null,14,null,null,null,null,null,null,null,null,null,null,null,null,0]
[null,null,15,null,null,null,null,null,null,null,null,null,null,null,null,0]
[null,null,16,null,null,null,null,null,null,null,null,null,null,null,null,0]
[null,null,17,null,null,null,null,null,null,null,null,null,null,null,null,0]
[null,null,25,null,null,null,null,null,null,null,null,null,null,null,null,0]
[null,null,26,null,null,null,null,null,null,null,null,null,null,null,null,0]
[null,null,27,null,null,null,null,null,null,null,null,null,null,null,null,0]
[293,"Refacciones y accesorios menores de mobiliario  y equipo de administración, educacional y recreativo",11,null,null,null,null,null,null,null,null,null,null,null,null,0]
[null,null,12,null,null,null,null,null,null,null,null,null,null,null,null,0]
[null,null,13,null,null,null,null,null,null,null,null,null,null,null,null,0]
[null,null,14,null,null,null,null,null,null,null,null,null,null,null,null,0]
[null,null,15,null,null,null,null,null,null,null,null,null,null,null,null,0]
[null,null,16,null,null,null,null,null,null,null,null,null,null,null,null,0]
[null,null,17,null,null,null,null,null,null,null,null,null,null,null,null,0]
[null,null,25,null,null,null,null,null,null,null,null,null,null,null,null,0]
[null,null,26,null,null,null,null,null,null,null,null,null,null,null,null,0]
[null,null,27,null,null,null,null,null,null,null,null,null,null,null,null,0]
[294,"Refacciones y accesorios menores de equipo de cómputo y tecnologías de la información",11,null,null,null,null,null,null,null,null,null,null,null,null,0]
[null,null,12,null,null,null,null,null,null,null,null,null,null,null,null,0]
[null,null,13,null,null,null,null,null,null,null,null,null,null,null,null,0]
[null,null,14,null,null,null,null,null,null,null,null,null,null,null,null,0]
[null,null,15,null,null,null,null,null,null,null,null,null,null,null,null,0]
[null,null,16,null,null,null,null,null,null,null,null,null,null,null,null,0]
[null,null,17,null,null,null,null,null,null,null,null,null,null,null,null,0]
[null,null,25,null,null,null,null,null,null,null,null,null,null,null,null,0]
[null,null,26,null,null,null,null,null,null,null,null,null,null,null,null,0]
[null,null,27,null,null,null,null,null,null,null,null,null,null,null,null,0]
[295,"Refacciones y accesorios menores de equipo e instrumental médico y de laboratorio",11,null,null,null,null,null,null,null,null,null,null,null,null,0]
[null,null,12,null,null,null,null,null,null,null,null,null,null,null,null,0]
[null,null,13,null,null,null,null,null,null,null,null,null,null,null,null,0]
[null,null,14,null,null,null,null,null,null,null,null,null,null,null,null,0]
[null,null,15,null,null,null,null,null,null,null,null,null,null,null,null,0]
[null,null,16,null,null,null,null,null,null,null,null,null,null,null,null,0]
[null,null,17,null,null,null,null,null,null,null,null,null,null,null,null,0]
[null,null,25,null,null,null,null,null,null,null,null,null,null,null,null,0]
[null,null,26,null,null,null,null,null,null,null,null,null,null,null,null,0]
[null,null,27,null,null,null,null,null,null,null,null,null,null,null,null,0]
[296,"Refacciones y accesorios menores de equipo de transporte",11,null,null,null,null,null,null,null,null,null,null,null,null,0]
[null,null,12,null,null,null,null,null,null,null,null,null,null,null,null,0]
[null,null,13,null,null,null,null,null,null,null,null,null,null,null,null,0]
[null,null,14,null,null,null,null,null,null,null,null,null,null,null,null,0]
[null,null,15,null,null,null,null,null,null,null,null,null,null,null,null,0]
[null,null,16,null,null,null,null,null,null,null,null,null,null,null,null,0]
[null,null,17,null,null,null,null,null,null,null,null,null,null,null,null,0]
[null,null,25,null,null,null,null,null,null,null,null,null,null,null,null,0]
[null,null,26,null,null,null,null,null,null,null,null,null,null,null,null,0]
[null,null,27,null,null,null,null,null,null,null,null,null,null,null,null,0]
[297,"Refacciones y accesorios menores de equipo de defensa y seguridad",11,null,null,null,null,null,null,null,null,null,null,null,null,0]
[null,null,12,null,null,null,null,null,null,null,null,null,null,null,null,0]
[null,null,13,null,null,null,null,null,null,null,null,null,null,null,null,0]
[null,null,14,null,null,null,null,null,null,null,null,null,null,null,null,0]
[null,null,15,null,null,null,null,null,null,null,null,null,null,null,null,0]
[null,null,16,null,null,null,null,null,null,null,null,null,null,null,null,{"$f":"SUM(D718:O718)","v":0}]
[null,null,17,null,null,null,null,null,null,null,null,null,null,null,null,0]
[null,null,25,null,null,null,null,null,null,null,null,null,null,null,null,0]
[null,null,26,null,null,null,null,null,null,null,null,null,null,null,null,0]
[null,null,27,null,null,null,null,null,null,null,null,null,null,null,null,0]
[298,"Refacciones y accesorios menores de maquinaria y otros equipos",11,null,null,null,null,null,null,null,null,null,null,null,null,0]
[null,null,12,null,null,null,null,null,null,null,null,null,null,null,null,0]
[null,null,13,null,null,null,null,null,null,null,null,null,null,null,null,0]
[null,null,14,null,null,null,null,null,null,null,null,null,null,null,null,0]
[null,null,15,null,null,null,null,null,null,null,null,null,null,null,null,0]
[null,null,16,null,null,null,null,null,null,null,null,null,null,null,null,0]
[null,null,17,null,null,null,null,null,null,null,null,null,null,null,null,0]
[null,null,25,null,null,null,null,null,null,null,null,null,null,null,null,0]
[null,null,26,null,null,null,null,null,null,null,null,null,null,null,null,0]
[null,null,27,null,null,null,null,null,null,null,null,null,null,null,null,0]
[299,"Refacciones y accesorios menores otros bienes muebles",11,null,null,null,null,null,null,null,null,null,null,null,null,0]
[null,null,12,null,null,null,null,null,null,null,null,null,null,null,null,0]
[null,null,13,null,null,null,null,null,null,null,null,null,null,null,null,0]
[null,null,14,null,null,null,null,null,null,null,null,null,null,null,null,0]
[null,null,15,null,null,null,null,null,null,null,null,null,null,null,null,0]
[null,null,16,null,null,null,null,null,null,null,null,null,null,null,null,0]
[null,null,17,null,null,null,null,null,null,null,null,null,null,null,null,0]
[null,null,25,null,null,null,null,null,null,null,null,null,null,null,null,0]
[null,null,26,null,null,null,null,null,null,null,null,null,null,null,null,0]
[null,null,27,null,null,null,null,null,null,null,null,null,null,null,null,0]
[3000,"SERVICIOS GENERALES",null,{"$f":"D744+D835+D926+D1017+D1108+D1199+D1270+D1361+D1412","v":0},0,0,0,0,0,0,0,0,0,0,0,0]
[3100,"SERVICIOS BÁSICOS",null,{"$f":"SUM(D745:D834)","v":0},{"$f":"SUM(E745:E834)","v":0},0,0,0,0,0,0,0,0,0,0,{"$f":"SUM(P745:P834)","v":0}]
[311,"Energía eléctrica",11,null,null,null,null,null,null,null,null,null,null,null,null,{"$f":"SUM(D745:O745)","v":0}]
[null,null,12,null,null,null,null,null,null,null,null,null,null,null,null,0]
[null,null,13,null,null,null,null,null,null,null,null,null,null,null,null,0]
[null,null,14,null,null,null,null,null,null,null,null,null,null,null,null,0]
[null,null,15,null,null,null,null,null,null,null,null,null,null,null,null,0]
[null,null,16,null,null,null,null,null,null,null,null,null,null,null,null,0]
[null,null,17,null,null,null,null,null,null,null,null,null,null,null,null,0]
[null,null,25,null,null,null,null,null,null,null,null,null,null,null,null,0]
[null,null,26,null,null,null,null,null,null,null,null,null,null,null,null,0]
[null,null,27,null,null,null,null,null,null,null,null,null,null,null,null,0]
[312,"Gas ",11,null,null,null,null,null,null,null,null,null,null,null,null,0]
[null,null,12,null,null,null,null,null,null,null,null,null,null,null,null,0]
[null,null,13,null,null,null,null,null,null,null,null,null,null,null,null,0]
[null,null,14,null,null,null,null,null,null,null,null,null,null,null,null,0]
[null,null,15,null,null,null,null,null,null,null,null,null,null,null,null,0]
[null,null,16,null,null,null,null,null,null,null,null,null,null,null,null,0]
[null,null,17,null,null,null,null,null,null,null,null,null,null,null,null,0]
[null,null,25,null,null,null,null,null,null,null,null,null,null,null,null,0]
[null,null,26,null,null,null,null,null,null,null,null,null,null,null,null,0]
[null,null,27,null,null,null,null,null,null,null,null,null,null,null,null,0]
[313,"Agua",11,null,null,null,null,null,null,null,null,null,null,null,null,0]
[null,null,12,null,null,null,null,null,null,null,null,null,null,null,null,0]
[null,null,13,null,null,null,null,null,null,null,null,null,null,null,null,0]
[null,null,14,null,null,null,null,null,null,null,null,null,null,null,null,0]
[null,null,15,null,null,null,null,null,null,null,null,null,null,null,null,0]
[null,null,16,null,null,null,null,null,null,null,null,null,null,null,null,0]
[null,null,17,null,null,null,null,null,null,null,null,null,null,null,null,0]
[null,null,25,null,null,null,null,null,null,null,null,null,null,null,null,0]
[null,null,26,null,null,null,null,null,null,null,null,null,null,null,null,0]
[null,null,27,null,null,null,null,null,null,null,null,null,null,null,null,0]
[314,"Telefonía tradicional",11,null,null,null,null,null,null,null,null,null,null,null,null,0]
[null,null,12,null,null,null,null,null,null,null,null,null,null,null,null,0]
[null,null,13,null,null,null,null,null,null,null,null,null,null,null,null,0]
[null,null,14,null,null,null,null,null,null,null,null,null,null,null,null,0]
[null,null,15,null,null,null,null,null,null,null,null,null,null,null,null,0]
[null,null,16,null,null,null,null,null,null,null,null,null,null,null,null,0]
[null,null,17,null,null,null,null,null,null,null,null,null,null,null,null,0]
[null,null,25,null,null,null,null,null,null,null,null,null,null,null,null,0]
[null,null,26,null,null,null,null,null,null,null,null,null,null,null,null,0]
[null,null,27,null,null,null,null,null,null,null,null,null,null,null,null,0]
[315,"Telefonía celular",11,null,null,null,null,null,null,null,null,null,null,null,null,0]
[null,null,12,null,null,null,null,null,null,null,null,null,null,null,null,0]
[null,null,13,null,null,null,null,null,null,null,null,null,null,null,null,0]
[null,null,14,null,null,null,null,null,null,null,null,null,null,null,null,0]
[null,null,15,null,null,null,null,null,null,null,null,null,null,null,null,0]
[null,null,16,null,null,null,null,null,null,null,null,null,null,null,null,0]
[null,null,17,null,null,null,null,null,null,null,null,null,null,null,null,0]
[null,null,25,null,null,null,null,null,null,null,null,null,null,null,null,0]
[null,null,26,null,null,null,null,null,null,null,null,null,null,null,null,0]
[null,null,27,null,null,null,null,null,null,null,null,null,null,null,null,0]
[316,"Servicios de telecomunicaciones y satélites",11,null,null,null,null,null,null,null,null,null,null,null,null,0]
[null,null,12,null,null,null,null,null,null,null,null,null,null,null,null,0]
[null,null,13,null,null,null,null,null,null,null,null,null,null,null,null,0]
[null,null,14,null,null,null,null,null,null,null,null,null,null,null,null,0]
[null,null,15,null,null,null,null,null,null,null,null,null,null,null,null,0]
[null,null,16,null,null,null,null,null,null,null,null,null,null,null,null,0]
[null,null,17,null,null,null,null,null,null,null,null,null,null,null,null,0]
[null,null,25,null,null,null,null,null,null,null,null,null,null,null,null,0]
[null,null,26,null,null,null,null,null,null,null,null,null,null,null,null,0]
[null,null,27,null,null,null,null,null,null,null,null,null,null,null,null,0]
[317,"Servicios de acceso de Internet, redes y procesamiento de información",11,null,null,null,null,null,null,null,null,null,null,null,null,0]
[null,null,12,null,null,null,null,null,null,null,null,null,null,null,null,0]
[null,null,13,null,null,null,null,null,null,null,null,null,null,null,null,0]
[null,null,14,null,null,null,null,null,null,null,null,null,null,null,null,0]
[null,null,15,null,null,null,null,null,null,null,null,null,null,null,null,0]
[null,null,16,null,null,null,null,null,null,null,null,null,null,null,null,0]
[null,null,17,null,null,null,null,null,null,null,null,null,null,null,null,0]
[null,null,25,null,null,null,null,null,null,null,null,null,null,null,null,0]
[null,null,26,null,null,null,null,null,null,null,null,null,null,null,null,0]
[null,null,27,null,null,null,null,null,null,null,null,null,null,null,null,0]
[318,"Servicios postales y telegráficos",11,null,null,null,null,null,null,null,null,null,null,null,null,0]
[null,null,12,null,null,null,null,null,null,null,null,null,null,null,null,0]
[null,null,13,null,null,null,null,null,null,null,null,null,null,null,null,0]
[null,null,14,null,null,null,null,null,null,null,null,null,null,null,null,0]
[null,null,15,null,null,null,null,null,null,null,null,null,null,null,null,0]
[null,null,16,null,null,null,null,null,null,null,null,null,null,null,null,0]
[null,null,17,null,null,null,null,null,null,null,null,null,null,null,null,0]
[null,null,25,null,null,null,null,null,null,null,null,null,null,null,null,0]
[null,null,26,null,null,null,null,null,null,null,null,null,null,null,null,0]
[null,null,27,null,null,null,null,null,null,null,null,null,null,null,null,0]
[319,"Servicios integrales y otros servicios",11,null,null,null,null,null,null,null,null,null,null,null,null,0]
[null,null,12,null,null,null,null,null,null,null,null,null,null,null,null,0]
[null,null,13,null,null,null,null,null,null,null,null,null,null,null,null,0]
[null,null,14,null,null,null,null,null,null,null,null,null,null,null,null,0]
[null,null,15,null,null,null,null,null,null,null,null,null,null,null,null,0]
[null,null,16,null,null,null,null,null,null,null,null,null,null,null,null,0]
[null,null,17,null,null,null,null,null,null,null,null,null,null,null,null,0]
[null,null,25,null,null,null,null,null,null,null,null,null,null,null,null,0]
[null,null,26,null,null,null,null,null,null,null,null,null,null,null,null,0]
[null,null,27,null,null,null,null,null,null,null,null,null,null,null,null,0]
[3200,"SERVICIOS DE ARRENDAMIENTO",null,{"$f":"SUM(D836:D925)","v":0},{"$f":"SUM(E836:E925)","v":0},0,0,0,0,0,0,0,0,0,0,{"$f":"SUM(P836:P925)","v":0}]
[321,"Arrendamiento de terrenos",11,null,null,null,null,null,null,null,null,null,null,null,null,0]
[null,null,12,null,null,null,null,null,null,null,null,null,null,null,null,0]
[null,null,13,null,null,null,null,null,null,null,null,null,null,null,null,0]
[null,null,14,null,null,null,null,null,null,null,null,null,null,null,null,0]
[null,null,15,null,null,null,null,null,null,null,null,null,null,null,null,0]
[null,null,16,null,null,null,null,null,null,null,null,null,null,null,null,0]
[null,null,17,null,null,null,null,null,null,null,null,null,null,null,null,0]
[null,null,25,null,null,null,null,null,null,null,null,null,null,null,null,0]
[null,null,26,null,null,null,null,null,null,null,null,null,null,null,null,0]
[null,null,27,null,null,null,null,null,null,null,null,null,null,null,null,0]
[322,"Arrendamiento de edificios",11,null,null,null,null,null,null,null,null,null,null,null,null,0]
[null,null,12,null,null,null,null,null,null,null,null,null,null,null,null,0]
[null,null,13,null,null,null,null,null,null,null,null,null,null,null,null,0]
[null,null,14,null,null,null,null,null,null,null,null,null,null,null,null,0]
[null,null,15,null,null,null,null,null,null,null,null,null,null,null,null,0]
[null,null,16,null,null,null,null,null,null,null,null,null,null,null,null,0]
[null,null,17,null,null,null,null,null,null,null,null,null,null,null,null,0]
[null,null,25,null,null,null,null,null,null,null,null,null,null,null,null,0]
[null,null,26,null,null,null,null,null,null,null,null,null,null,null,null,0]
[null,null,27,null,null,null,null,null,null,null,null,null,null,null,null,0]
[323,"Arrendamiento de mobiliario y equipo de administración, educacional y recreativo",11,null,null,null,null,null,null,null,null,null,null,null,null,0]
[null,null,12,null,null,null,null,null,null,null,null,null,null,null,null,0]
[null,null,13,null,null,null,null,null,null,null,null,null,null,null,null,0]
[null,null,14,null,null,null,null,null,null,null,null,null,null,null,null,0]
[null,null,15,null,null,null,null,null,null,null,null,null,null,null,null,0]
[null,null,16,null,null,null,null,null,null,null,null,null,null,null,null,0]
[null,null,17,null,null,null,null,null,null,null,null,null,null,null,null,0]
[null,null,25,null,null,null,null,null,null,null,null,null,null,null,null,0]
[null,null,26,null,null,null,null,null,null,null,null,null,null,null,null,0]
[null,null,27,null,null,null,null,null,null,null,null,null,null,null,null,0]
[324,"Arrendamiento de equipo e instrumental médico y de laboratorio",11,null,null,null,null,null,null,null,null,null,null,null,null,0]
[null,null,12,null,null,null,null,null,null,null,null,null,null,null,null,0]
[null,null,13,null,null,null,null,null,null,null,null,null,null,null,null,0]
[null,null,14,null,null,null,null,null,null,null,null,null,null,null,null,0]
[null,null,15,null,null,null,null,null,null,null,null,null,null,null,null,0]
[null,null,16,null,null,null,null,null,null,null,null,null,null,null,null,0]
[null,null,17,null,null,null,null,null,null,null,null,null,null,null,null,0]
[null,null,25,null,null,null,null,null,null,null,null,null,null,null,null,0]
[null,null,26,null,null,null,null,null,null,null,null,null,null,null,null,0]
[null,null,27,null,null,null,null,null,null,null,null,null,null,null,null,0]
[325,"Arrendamiento de equipo de transporte",11,null,null,null,null,null,null,null,null,null,null,null,null,0]
[null,null,12,null,null,null,null,null,null,null,null,null,null,null,null,0]
[null,null,13,null,null,null,null,null,null,null,null,null,null,null,null,0]
[null,null,14,null,null,null,null,null,null,null,null,null,null,null,null,0]
[null,null,15,null,null,null,null,null,null,null,null,null,null,null,null,0]
[null,null,16,null,null,null,null,null,null,null,null,null,null,null,null,0]
[null,null,17,null,null,null,null,null,null,null,null,null,null,null,null,0]
[null,null,25,null,null,null,null,null,null,null,null,null,null,null,null,0]
[null,null,26,null,null,null,null,null,null,null,null,null,null,null,null,0]
[null,null,27,null,null,null,null,null,null,null,null,null,null,null,null,0]
[326,"Arrendamiento de maquinaria, otros equipos y herramientas",11,null,null,null,null,null,null,null,null,null,null,null,null,0]
[null,null,12,null,null,null,null,null,null,null,null,null,null,null,null,0]
[null,null,13,null,null,null,null,null,null,null,null,null,null,null,null,0]
[null,null,14,null,null,null,null,null,null,null,null,null,null,null,null,0]
[null,null,15,null,null,null,null,null,null,null,null,null,null,null,null,0]
[null,null,16,null,null,null,null,null,null,null,null,null,null,null,null,0]
[null,null,17,null,null,null,null,null,null,null,null,null,null,null,null,0]
[null,null,25,null,null,null,null,null,null,null,null,null,null,null,null,0]
[null,null,26,null,null,null,null,null,null,null,null,null,null,null,null,0]
[null,null,27,null,null,null,null,null,null,null,null,null,null,null,null,0]
[327,"Arrendamiento de activos intangibles",11,null,null,null,null,null,null,null,null,null,null,null,null,0]
[null,null,12,null,null,null,null,null,null,null,null,null,null,null,null,0]
[null,null,13,null,null,null,null,null,null,null,null,null,null,null,null,0]
[null,null,14,null,null,null,null,null,null,null,null,null,null,null,null,0]
[null,null,15,null,null,null,null,null,null,null,null,null,null,null,null,0]
[null,null,16,null,null,null,null,null,null,null,null,null,null,null,null,0]
[null,null,17,null,null,null,null,null,null,null,null,null,null,null,null,0]
[null,null,25,null,null,null,null,null,null,null,null,null,null,null,null,0]
[null,null,26,null,null,null,null,null,null,null,null,null,null,null,null,0]
[null,null,27,null,null,null,null,null,null,null,null,null,null,null,null,0]
[328,"Arrendamiento financiero",11,null,null,null,null,null,null,null,null,null,null,null,null,0]
[null,null,12,null,null,null,null,null,null,null,null,null,null,null,null,0]
[null,null,13,null,null,null,null,null,null,null,null,null,null,null,null,0]
[null,null,14,null,null,null,null,null,null,null,null,null,null,null,null,0]
[null,null,15,null,null,null,null,null,null,null,null,null,null,null,null,0]
[null,null,16,null,null,null,null,null,null,null,null,null,null,null,null,0]
[null,null,17,null,null,null,null,null,null,null,null,null,null,null,null,0]
[null,null,25,null,null,null,null,null,null,null,null,null,null,null,null,0]
[null,null,26,null,null,null,null,null,null,null,null,null,null,null,null,0]
[null,null,27,null,null,null,null,null,null,null,null,null,null,null,null,0]
[329,"Otros arrendamientos",11,null,null,null,null,null,null,null,null,null,null,null,null,0]
[null,null,12,null,null,null,null,null,null,null,null,null,null,null,null,0]
[null,null,13,null,null,null,null,null,null,null,null,null,null,null,null,{"$f":"SUM(D918:O918)","v":0}]
[null,null,14,null,null,null,null,null,null,null,null,null,null,null,null,0]
[null,null,15,null,null,null,null,null,null,null,null,null,null,null,null,0]
[null,null,16,null,null,null,null,null,null,null,null,null,null,null,null,0]
[null,null,17,null,null,null,null,null,null,null,null,null,null,null,null,0]
[null,null,25,null,null,null,null,null,null,null,null,null,null,null,null,0]
[null,null,26,null,null,null,null,null,null,null,null,null,null,null,null,0]
[null,null,27,null,null,null,null,null,null,null,null,null,null,null,null,0]
[3300,"SERVICIOS PROFESIONALES, CIENTÍFICOS, TÉCNICOS Y OTROS SERVICIOS",null,{"$f":"SUM(D927:D1016)","v":0},{"$f":"SUM(E927:E1016)","v":0},0,0,0,0,0,0,0,0,0,0,{"$f":"SUM(P927:P1016)","v":0}]
[331,"Servicios legales, de contabilidad, auditoría y relacionados",11,null,null,null,null,null,null,null,null,null,null,null,null,{"$f":"SUM(D927:O927)","v":0}]
[null,null,12,null,null,null,null,null,null,null,null,null,null,null,null,0]
[null,null,13,null,null,null,null,null,null,null,null,null,null,null,null,0]
[null,null,14,null,null,null,null,null,null,null,null,null,null,null,null,0]
[null,null,15,null,null,null,null,null,null,null,null,null,null,null,null,0]
[null,null,16,null,null,null,null,null,null,null,null,null,null,null,null,0]
[null,null,17,null,null,null,null,null,null,null,null,null,null,null,null,0]
[null,null,25,null,null,null,null,null,null,null,null,null,null,null,null,0]
[null,null,26,null,null,null,null,null,null,null,null,null,null,null,null,0]
[null,null,27,null,null,null,null,null,null,null,null,null,null,null,null,0]
[332,"Servicios de diseño, arquitectura, ingeniería y actividades relacionadas",11,null,null,null,null,null,null,null,null,null,null,null,null,0]
[null,null,12,null,null,null,null,null,null,null,null,null,null,null,null,0]
[null,null,13,null,null,null,null,null,null,null,null,null,null,null,null,0]
[null,null,14,null,null,null,null,null,null,null,null,null,null,null,null,0]
[null,null,15,null,null,null,null,null,null,null,null,null,null,null,null,0]
[null,null,16,null,null,null,null,null,null,null,null,null,null,null,null,0]
[null,null,17,null,null,null,null,null,null,null,null,null,null,null,null,0]
[null,null,25,null,null,null,null,null,null,null,null,null,null,null,null,0]
[null,null,26,null,null,null,null,null,null,null,null,null,null,null,null,0]
[null,null,27,null,null,null,null,null,null,null,null,null,null,null,null,0]
[333,"Servicios de consultoría administrativa, procesos, técnica y en tecnologías de la información",11,null,null,null,null,null,null,null,null,null,null,null,null,0]
[null,null,12,null,null,null,null,null,null,null,null,null,null,null,null,0]
[null,null,13,null,null,null,null,null,null,null,null,null,null,null,null,0]
[null,null,14,null,null,null,null,null,null,null,null,null,null,null,null,0]
[null,null,15,null,null,null,null,null,null,null,null,null,null,null,null,0]
[null,null,16,null,null,null,null,null,null,null,null,null,null,null,null,0]
[null,null,17,null,null,null,null,null,null,null,null,null,null,null,null,0]
[null,null,25,null,null,null,null,null,null,null,null,null,null,null,null,0]
[null,null,26,null,null,null,null,null,null,null,null,null,null,null,null,0]
[null,null,27,null,null,null,null,null,null,null,null,null,null,null,null,0]
[334,"Servicios de capacitación",11,null,null,null,null,null,null,null,null,null,null,null,null,0]
[null,null,12,null,null,null,null,null,null,null,null,null,null,null,null,0]
[null,null,13,null,null,null,null,null,null,null,null,null,null,null,null,0]
[null,null,14,null,null,null,null,null,null,null,null,null,null,null,null,0]
[null,null,15,null,null,null,null,null,null,null,null,null,null,null,null,0]
[null,null,16,null,null,null,null,null,null,null,null,null,null,null,null,0]
[null,null,17,null,null,null,null,null,null,null,null,null,null,null,null,0]
[null,null,25,null,null,null,null,null,null,null,null,null,null,null,null,0]
[null,null,26,null,null,null,null,null,null,null,null,null,null,null,null,0]
[null,null,27,null,null,null,null,null,null,null,null,null,null,null,null,0]
[335,"Servicios de investigación científica y desarrollo",11,null,null,null,null,null,null,null,null,null,null,null,null,0]
[null,null,12,null,null,null,null,null,null,null,null,null,null,null,null,0]
[null,null,13,null,null,null,null,null,null,null,null,null,null,null,null,0]
[null,null,14,null,null,null,null,null,null,null,null,null,null,null,null,0]
[null,null,15,null,null,null,null,null,null,null,null,null,null,null,null,0]
[null,null,16,null,null,null,null,null,null,null,null,null,null,null,null,0]
[null,null,17,null,null,null,null,null,null,null,null,null,null,null,null,0]
[null,null,25,null,null,null,null,null,null,null,null,null,null,null,null,0]
[null,null,26,null,null,null,null,null,null,null,null,null,null,null,null,0]
[null,null,27,null,null,null,null,null,null,null,null,null,null,null,null,0]
[336,"Servicios de apoyo administrativo, traducción, fotocopiado e impresión",11,null,null,null,null,null,null,null,null,null,null,null,null,0]
[null,null,12,null,null,null,null,null,null,null,null,null,null,null,null,0]
[null,null,13,null,null,null,null,null,null,null,null,null,null,null,null,0]
[null,null,14,null,null,null,null,null,null,null,null,null,null,null,null,0]
[null,null,15,null,null,null,null,null,null,null,null,null,null,null,null,0]
[null,null,16,null,null,null,null,null,null,null,null,null,null,null,null,0]
[null,null,17,null,null,null,null,null,null,null,null,null,null,null,null,0]
[null,null,25,null,null,null,null,null,null,null,null,null,null,null,null,0]
[null,null,26,null,null,null,null,null,null,null,null,null,null,null,null,0]
[null,null,27,null,null,null,null,null,null,null,null,null,null,null,null,0]
[337,"Servicios de protección y seguridad",11,null,null,null,null,null,null,null,null,null,null,null,null,0]
[null,null,12,null,null,null,null,null,null,null,null,null,null,null,null,0]
[null,null,13,null,null,null,null,null,null,null,null,null,null,null,null,0]
[null,null,14,null,null,null,null,null,null,null,null,null,null,null,null,0]
[null,null,15,null,null,null,null,null,null,null,null,null,null,null,null,0]
[null,null,16,null,null,null,null,null,null,null,null,null,null,null,null,0]
[null,null,17,null,null,null,null,null,null,null,null,null,null,null,null,0]
[null,null,25,null,null,null,null,null,null,null,null,null,null,null,null,0]
[null,null,26,null,null,null,null,null,null,null,null,null,null,null,null,0]
[null,null,27,null,null,null,null,null,null,null,null,null,null,null,null,0]
[338,"Servicios de vigilancia",11,null,null,null,null,null,null,null,null,null,null,null,null,0]
[null,null,12,null,null,null,null,null,null,null,null,null,null,null,null,0]
[null,null,13,null,null,null,null,null,null,null,null,null,null,null,null,0]
[null,null,14,null,null,null,null,null,null,null,null,null,null,null,null,0]
[null,null,15,null,null,null,null,null,null,null,null,null,null,null,null,0]
[null,null,16,null,null,null,null,null,null,null,null,null,null,null,null,0]
[null,null,17,null,null,null,null,null,null,null,null,null,null,null,null,0]
[null,null,25,null,null,null,null,null,null,null,null,null,null,null,null,0]
[null,null,26,null,null,null,null,null,null,null,null,null,null,null,null,0]
[null,null,27,null,null,null,null,null,null,null,null,null,null,null,null,0]
[339,"Servicios profesionales, científicos y técnicos integrales",11,null,null,null,null,null,null,null,null,null,null,null,null,0]
[null,null,12,null,null,null,null,null,null,null,null,null,null,null,null,0]
[null,null,13,null,null,null,null,null,null,null,null,null,null,null,null,0]
[null,null,14,null,null,null,null,null,null,null,null,null,null,null,null,0]
[null,null,15,null,null,null,null,null,null,null,null,null,null,null,null,0]
[null,null,16,null,null,null,null,null,null,null,null,null,null,null,null,0]
[null,null,17,null,null,null,null,null,null,null,null,null,null,null,null,0]
[null,null,25,null,null,null,null,null,null,null,null,null,null,null,null,0]
[null,null,26,null,null,null,null,null,null,null,null,null,null,null,null,{"$f":"SUM(D1015:O1015)","v":0}]
[null,null,27,null,null,null,null,null,null,null,null,null,null,null,null,0]
[3400,"SERVICIOS FINANCIEROS, BANCARIOS Y COMERCIALES",null,{"$f":"SUM(D1018:D1107)","v":0},{"$f":"SUM(E1018:E1107)","v":0},0,0,0,0,0,0,0,0,0,0,{"$f":"SUM(P1018:P1107)","v":0}]
[341,"Servicios financieros y bancarios",11,null,null,null,null,null,null,null,null,null,null,null,null,{"$f":"SUM(D1018:O1018)","v":0}]
[null,null,12,null,null,null,null,null,null,null,null,null,null,null,null,0]
[null,null,13,null,null,null,null,null,null,null,null,null,null,null,null,0]
[null,null,14,null,null,null,null,null,null,null,null,null,null,null,null,0]
[null,null,15,null,null,null,null,null,null,null,null,null,null,null,null,0]
[null,null,16,null,null,null,null,null,null,null,null,null,null,null,null,0]
[null,null,17,null,null,null,null,null,null,null,null,null,null,null,null,0]
[null,null,25,null,null,null,null,null,null,null,null,null,null,null,null,0]
[null,null,26,null,null,null,null,null,null,null,null,null,null,null,null,0]
[null,null,27,null,null,null,null,null,null,null,null,null,null,null,null,0]
[342,"Servicios de cobranza, investigación crediticia y similar",11,null,null,null,null,null,null,null,null,null,null,null,null,0]
[null,null,12,null,null,null,null,null,null,null,null,null,null,null,null,0]
[null,null,13,null,null,null,null,null,null,null,null,null,null,null,null,0]
[null,null,14,null,null,null,null,null,null,null,null,null,null,null,null,0]
[null,null,15,null,null,null,null,null,null,null,null,null,null,null,null,0]
[null,null,16,null,null,null,null,null,null,null,null,null,null,null,null,0]
[null,null,17,null,null,null,null,null,null,null,null,null,null,null,null,0]
[null,null,25,null,null,null,null,null,null,null,null,null,null,null,null,0]
[null,null,26,null,null,null,null,null,null,null,null,null,null,null,null,0]
[null,null,27,null,null,null,null,null,null,null,null,null,null,null,null,0]
[343,"Servicios de recaudación, traslado y custodia de valores",11,null,null,null,null,null,null,null,null,null,null,null,null,0]
[null,null,12,null,null,null,null,null,null,null,null,null,null,null,null,0]
[null,null,13,null,null,null,null,null,null,null,null,null,null,null,null,0]
[null,null,14,null,null,null,null,null,null,null,null,null,null,null,null,0]
[null,null,15,null,null,null,null,null,null,null,null,null,null,null,null,0]
[null,null,16,null,null,null,null,null,null,null,null,null,null,null,null,0]
[null,null,17,null,null,null,null,null,null,null,null,null,null,null,null,0]
[null,null,25,null,null,null,null,null,null,null,null,null,null,null,null,0]
[null,null,26,null,null,null,null,null,null,null,null,null,null,null,null,0]
[null,null,27,null,null,null,null,null,null,null,null,null,null,null,null,0]
[344,"Seguros de responsabilidad patrimonial y fianzas",11,null,null,null,null,null,null,null,null,null,null,null,null,0]
[null,null,12,null,null,null,null,null,null,null,null,null,null,null,null,0]
[null,null,13,null,null,null,null,null,null,null,null,null,null,null,null,0]
[null,null,14,null,null,null,null,null,null,null,null,null,null,null,null,0]
[null,null,15,null,null,null,null,null,null,null,null,null,null,null,null,0]
[null,null,16,null,null,null,null,null,null,null,null,null,null,null,null,0]
[null,null,17,null,null,null,null,null,null,null,null,null,null,null,null,0]
[null,null,25,null,null,null,null,null,null,null,null,null,null,null,null,0]
[null,null,26,null,null,null,null,null,null,null,null,null,null,null,null,0]
[null,null,27,null,null,null,null,null,null,null,null,null,null,null,null,0]
[345,"Seguro de bienes patrimoniales",11,null,null,null,null,null,null,null,null,null,null,null,null,0]
[null,null,12,null,null,null,null,null,null,null,null,null,null,null,null,0]
[null,null,13,null,null,null,null,null,null,null,null,null,null,null,null,0]
[null,null,14,null,null,null,null,null,null,null,null,null,null,null,null,0]
[null,null,15,null,null,null,null,null,null,null,null,null,null,null,null,0]
[null,null,16,null,null,null,null,null,null,null,null,null,null,null,null,0]
[null,null,17,null,null,null,null,null,null,null,null,null,null,null,null,0]
[null,null,25,null,null,null,null,null,null,null,null,null,null,null,null,0]
[null,null,26,null,null,null,null,null,null,null,null,null,null,null,null,0]
[null,null,27,null,null,null,null,null,null,null,null,null,null,null,null,0]
[346,"Almacenaje, envase y embalaje",11,null,null,null,null,null,null,null,null,null,null,null,null,0]
[null,null,12,null,null,null,null,null,null,null,null,null,null,null,null,0]
[null,null,13,null,null,null,null,null,null,null,null,null,null,null,null,0]
[null,null,14,null,null,null,null,null,null,null,null,null,null,null,null,0]
[null,null,15,null,null,null,null,null,null,null,null,null,null,null,null,0]
[null,null,16,null,null,null,null,null,null,null,null,null,null,null,null,0]
[null,null,17,null,null,null,null,null,null,null,null,null,null,null,null,0]
[null,null,25,null,null,null,null,null,null,null,null,null,null,null,null,0]
[null,null,26,null,null,null,null,null,null,null,null,null,null,null,null,0]
[null,null,27,null,null,null,null,null,null,null,null,null,null,null,null,0]
[347,"Fletes y maniobras",11,null,null,null,null,null,null,null,null,null,null,null,null,0]
[null,null,12,null,null,null,null,null,null,null,null,null,null,null,null,0]
[null,null,13,null,null,null,null,null,null,null,null,null,null,null,null,0]
[null,null,14,null,null,null,null,null,null,null,null,null,null,null,null,0]
[null,null,15,null,null,null,null,null,null,null,null,null,null,null,null,0]
[null,null,16,null,null,null,null,null,null,null,null,null,null,null,null,0]
[null,null,17,null,null,null,null,null,null,null,null,null,null,null,null,0]
[null,null,25,null,null,null,null,null,null,null,null,null,null,null,null,0]
[null,null,26,null,null,null,null,null,null,null,null,null,null,null,null,0]
[null,null,27,null,null,null,null,null,null,null,null,null,null,null,null,0]
[348,"Comisiones por ventas",11,null,null,null,null,null,null,null,null,null,null,null,null,0]
[null,null,12,null,null,null,null,null,null,null,null,null,null,null,null,0]
[null,null,13,null,null,null,null,null,null,null,null,null,null,null,null,0]
[null,null,14,null,null,null,null,null,null,null,null,null,null,null,null,0]
[null,null,15,null,null,null,null,null,null,null,null,null,null,null,null,0]
[null,null,16,null,null,null,null,null,null,null,null,null,null,null,null,0]
[null,null,17,null,null,null,null,null,null,null,null,null,null,null,null,0]
[null,null,25,null,null,null,null,null,null,null,null,null,null,null,null,0]
[null,null,26,null,null,null,null,null,null,null,null,null,null,null,null,0]
[null,null,27,null,null,null,null,null,null,null,null,null,null,null,null,0]
[349,"Servicios financieros, bancarios y comerciales integrales",11,null,null,null,null,null,null,null,null,null,null,null,null,0]
[null,null,12,null,null,null,null,null,null,null,null,null,null,null,null,0]
[null,null,13,null,null,null,null,null,null,null,null,null,null,null,null,0]
[null,null,14,null,null,null,null,null,null,null,null,null,null,null,null,0]
[null,null,15,null,null,null,null,null,null,null,null,null,null,null,null,0]
[null,null,16,null,null,null,null,null,null,null,null,null,null,null,null,0]
[null,null,17,null,null,null,null,null,null,null,null,null,null,null,null,0]
[null,null,25,null,null,null,null,null,null,null,null,null,null,null,null,0]
[null,null,26,null,null,null,null,null,null,null,null,null,null,null,null,{"$f":"SUM(D1106:O1106)","v":0}]
[null,null,27,null,null,null,null,null,null,null,null,null,null,null,null,0]
[3500,"SERVICIOS DE INSTALACIÓN, REPARACIÓN, MANTENIMIENTO Y CONSERVACIÓN",null,{"$f":"SUM(D1109:D1198)","v":0},{"$f":"SUM(E1109:E1198)","v":0},0,0,0,0,0,0,0,0,0,0,{"$f":"SUM(P1109:P1198)","v":0}]
[351,"Conservación y mantenimiento menor de inmuebles",11,null,null,null,null,null,null,null,null,null,null,null,null,{"$f":"SUM(D1109:O1109)","v":0}]
[null,null,12,null,null,null,null,null,null,null,null,null,null,null,null,0]
[null,null,13,null,null,null,null,null,null,null,null,null,null,null,null,0]
[null,null,14,null,null,null,null,null,null,null,null,null,null,null,null,0]
[null,null,15,null,null,null,null,null,null,null,null,null,null,null,null,0]
[null,null,16,null,null,null,null,null,null,null,null,null,null,null,null,0]
[null,null,17,null,null,null,null,null,null,null,null,null,null,null,null,0]
[null,null,25,null,null,null,null,null,null,null,null,null,null,null,null,0]
[null,null,26,null,null,null,null,null,null,null,null,null,null,null,null,0]
[null,null,27,null,null,null,null,null,null,null,null,null,null,null,null,0]
[352,"Instalación, reparación y mantenimiento de mobiliario y equipo de administración, educacional y recreativo",11,null,null,null,null,null,null,null,null,null,null,null,null,0]
[null,null,12,null,null,null,null,null,null,null,null,null,null,null,null,0]
[null,null,13,null,null,null,null,null,null,null,null,null,null,null,null,0]
[null,null,14,null,null,null,null,null,null,null,null,null,null,null,null,0]
[null,null,15,null,null,null,null,null,null,null,null,null,null,null,null,0]
[null,null,16,null,null,null,null,null,null,null,null,null,null,null,null,0]
[null,null,17,null,null,null,null,null,null,null,null,null,null,null,null,0]
[null,null,25,null,null,null,null,null,null,null,null,null,null,null,null,0]
[null,null,26,null,null,null,null,null,null,null,null,null,null,null,null,0]
[null,null,27,null,null,null,null,null,null,null,null,null,null,null,null,0]
[353,"Instalación, reparación y mantenimiento de equipo de cómputo y tecnología de la información",11,null,null,null,null,null,null,null,null,null,null,null,null,0]
[null,null,12,null,null,null,null,null,null,null,null,null,null,null,null,0]
[null,null,13,null,null,null,null,null,null,null,null,null,null,null,null,0]
[null,null,14,null,null,null,null,null,null,null,null,null,null,null,null,0]
[null,null,15,null,null,null,null,null,null,null,null,null,null,null,null,0]
[null,null,16,null,null,null,null,null,null,null,null,null,null,null,null,0]
[null,null,17,null,null,null,null,null,null,null,null,null,null,null,null,0]
[null,null,25,null,null,null,null,null,null,null,null,null,null,null,null,0]
[null,null,26,null,null,null,null,null,null,null,null,null,null,null,null,0]
[null,null,27,null,null,null,null,null,null,null,null,null,null,null,null,0]
[354,"Instalación, reparación y mantenimiento de equipo e instrumental médico y de laboratorio",11,null,null,null,null,null,null,null,null,null,null,null,null,0]
[null,null,12,null,null,null,null,null,null,null,null,null,null,null,null,0]
[null,null,13,null,null,null,null,null,null,null,null,null,null,null,null,0]
[null,null,14,null,null,null,null,null,null,null,null,null,null,null,null,0]
[null,null,15,null,null,null,null,null,null,null,null,null,null,null,null,0]
[null,null,16,null,null,null,null,null,null,null,null,null,null,null,null,0]
[null,null,17,null,null,null,null,null,null,null,null,null,null,null,null,0]
[null,null,25,null,null,null,null,null,null,null,null,null,null,null,null,0]
[null,null,26,null,null,null,null,null,null,null,null,null,null,null,null,0]
[null,null,27,null,null,null,null,null,null,null,null,null,null,null,null,0]
[355,"Reparación y mantenimiento de equipo de transporte",11,null,null,null,null,null,null,null,null,null,null,null,null,0]
[null,null,12,null,null,null,null,null,null,null,null,null,null,null,null,0]
[null,null,13,null,null,null,null,null,null,null,null,null,null,null,null,0]
[null,null,14,null,null,null,null,null,null,null,null,null,null,null,null,0]
[null,null,15,null,null,null,null,null,null,null,null,null,null,null,null,0]
[null,null,16,null,null,null,null,null,null,null,null,null,null,null,null,0]
[null,null,17,null,null,null,null,null,null,null,null,null,null,null,null,0]
[null,null,25,null,null,null,null,null,null,null,null,null,null,null,null,0]
[null,null,26,null,null,null,null,null,null,null,null,null,null,null,null,0]
[null,null,27,null,null,null,null,null,null,null,null,null,null,null,null,0]
[356,"Reparación y mantenimiento de equipo de defensa y seguridad",11,null,null,null,null,null,null,null,null,null,null,null,null,0]
[null,null,12,null,null,null,null,null,null,null,null,null,null,null,null,0]
[null,null,13,null,null,null,null,null,null,null,null,null,null,null,null,0]
[null,null,14,null,null,null,null,null,null,null,null,null,null,null,null,0]
[null,null,15,null,null,null,null,null,null,null,null,null,null,null,null,0]
[null,null,16,null,null,null,null,null,null,null,null,null,null,null,null,0]
[null,null,17,null,null,null,null,null,null,null,null,null,null,null,null,0]
[null,null,25,null,null,null,null,null,null,null,null,null,null,null,null,0]
[null,null,26,null,null,null,null,null,null,null,null,null,null,null,null,0]
[null,null,27,null,null,null,null,null,null,null,null,null,null,null,null,0]
[357,"Instalación, reparación y mantenimiento de maquinaria, otros equipos y herramienta",11,null,null,null,null,null,null,null,null,null,null,null,null,0]
[null,null,12,null,null,null,null,null,null,null,null,null,null,null,null,0]
[null,null,13,null,null,null,null,null,null,null,null,null,null,null,null,0]
[null,null,14,null,null,null,null,null,null,null,null,null,null,null,null,0]
[null,null,15,null,null,null,null,null,null,null,null,null,null,null,null,0]
[null,null,16,null,null,null,null,null,null,null,null,null,null,null,null,0]
[null,null,17,null,null,null,null,null,null,null,null,null,null,null,null,0]
[null,null,25,null,null,null,null,null,null,null,null,null,null,null,null,0]
[null,null,26,null,null,null,null,null,null,null,null,null,null,null,null,0]
[null,null,27,null,null,null,null,null,null,null,null,null,null,null,null,0]
[358,"Servicios de limpieza y manejo de desechos",11,null,null,null,null,null,null,null,null,null,null,null,null,0]
[null,null,12,null,null,null,null,null,null,null,null,null,null,null,null,0]
[null,null,13,null,null,null,null,null,null,null,null,null,null,null,null,0]
[null,null,14,null,null,null,null,null,null,null,null,null,null,null,null,0]
[null,null,15,null,null,null,null,null,null,null,null,null,null,null,null,0]
[null,null,16,null,null,null,null,null,null,null,null,null,null,null,null,0]
[null,null,17,null,null,null,null,null,null,null,null,null,null,null,null,0]
[null,null,25,null,null,null,null,null,null,null,null,null,null,null,null,0]
[null,null,26,null,null,null,null,null,null,null,null,null,null,null,null,0]
[null,null,27,null,null,null,null,null,null,null,null,null,null,null,null,0]
[359,"Servicios de jardinería y fumigación",11,null,null,null,null,null,null,null,null,null,null,null,null,0]
[null,null,12,null,null,null,null,null,null,null,null,null,null,null,null,0]
[null,null,13,null,null,null,null,null,null,null,null,null,null,null,null,0]
[null,null,14,null,null,null,null,null,null,null,null,null,null,null,null,0]
[null,null,15,null,null,null,null,null,null,null,null,null,null,null,null,0]
[null,null,16,null,null,null,null,null,null,null,null,null,null,null,null,0]
[null,null,17,null,null,null,null,null,null,null,null,null,null,null,null,0]
[null,null,25,null,null,null,null,null,null,null,null,null,null,null,null,0]
[null,null,26,null,null,null,null,null,null,null,null,null,null,null,null,{"$f":"SUM(D1197:O1197)","v":0}]
[null,null,27,null,null,null,null,null,null,null,null,null,null,null,null,0]
[3600,"SERVICIOS DE COMUNICACIÓN SOCIAL Y PUBLICIDAD",null,{"$f":"SUM(D1200:D1269)","v":0},{"$f":"SUM(E1200:E1269)","v":0},0,0,0,0,0,0,0,0,0,0,{"$f":"SUM(P1200:P1269)","v":0}]
[361,"Difusión por radio, televisión y otros medios de mensajes sobre programas y actividades gubernamentales",11,null,null,null,null,null,null,null,null,null,null,null,null,{"$f":"SUM(D1200:O1200)","v":0}]
[null,null,12,null,null,null,null,null,null,null,null,null,null,null,null,0]
[null,null,13,null,null,null,null,null,null,null,null,null,null,null,null,0]
[null,null,14,null,null,null,null,null,null,null,null,null,null,null,null,0]
[null,null,15,null,null,null,null,null,null,null,null,null,null,null,null,0]
[null,null,16,null,null,null,null,null,null,null,null,null,null,null,null,0]
[null,null,17,null,null,null,null,null,null,null,null,null,null,null,null,0]
[null,null,25,null,null,null,null,null,null,null,null,null,null,null,null,0]
[null,null,26,null,null,null,null,null,null,null,null,null,null,null,null,0]
[null,null,27,null,null,null,null,null,null,null,null,null,null,null,null,0]
[362,"Difusión por radio,  televisión y otros medios de mensajes comerciales para promover la venta de bienes o servicios",11,null,null,null,null,null,null,null,null,null,null,null,null,0]
[null,null,12,null,null,null,null,null,null,null,null,null,null,null,null,0]
[null,null,13,null,null,null,null,null,null,null,null,null,null,null,null,0]
[null,null,14,null,null,null,null,null,null,null,null,null,null,null,null,0]
[null,null,15,null,null,null,null,null,null,null,null,null,null,null,null,0]
[null,null,16,null,null,null,null,null,null,null,null,null,null,null,null,0]
[null,null,17,null,null,null,null,null,null,null,null,null,null,null,null,0]
[null,null,25,null,null,null,null,null,null,null,null,null,null,null,null,0]
[null,null,26,null,null,null,null,null,null,null,null,null,null,null,null,0]
[null,null,27,null,null,null,null,null,null,null,null,null,null,null,null,0]
[363,"Servicios de creatividad, preproducción y producción de publicidad, excepto Internet",11,null,null,null,null,null,null,null,null,null,null,null,null,0]
[null,null,12,null,null,null,null,null,null,null,null,null,null,null,null,0]
[null,null,13,null,null,null,null,null,null,null,null,null,null,null,null,0]
[null,null,14,null,null,null,null,null,null,null,null,null,null,null,null,0]
[null,null,15,null,null,null,null,null,null,null,null,null,null,null,null,0]
[null,null,16,null,null,null,null,null,null,null,null,null,null,null,null,0]
[null,null,17,null,null,null,null,null,null,null,null,null,null,null,null,0]
[null,null,25,null,null,null,null,null,null,null,null,null,null,null,null,0]
[null,null,26,null,null,null,null,null,null,null,null,null,null,null,null,0]
[null,null,27,null,null,null,null,null,null,null,null,null,null,null,null,0]
[364,"Servicios de revelado de  fotografías",11,null,null,null,null,null,null,null,null,null,null,null,null,0]
[null,null,12,null,null,null,null,null,null,null,null,null,null,null,null,0]
[null,null,13,null,null,null,null,null,null,null,null,null,null,null,null,0]
[null,null,14,null,null,null,null,null,null,null,null,null,null,null,null,0]
[null,null,15,null,null,null,null,null,null,null,null,null,null,null,null,0]
[null,null,16,null,null,null,null,null,null,null,null,null,null,null,null,0]
[null,null,17,null,null,null,null,null,null,null,null,null,null,null,null,0]
[null,null,25,null,null,null,null,null,null,null,null,null,null,null,null,0]
[null,null,26,null,null,null,null,null,null,null,null,null,null,null,null,0]
[null,null,27,null,null,null,null,null,null,null,null,null,null,null,null,0]
[365,"Servicios de la industria fílmica, del sonido y del video",11,null,null,null,null,null,null,null,null,null,null,null,null,0]
[null,null,12,null,null,null,null,null,null,null,null,null,null,null,null,0]
[null,null,13,null,null,null,null,null,null,null,null,null,null,null,null,0]
[null,null,14,null,null,null,null,null,null,null,null,null,null,null,null,0]
[null,null,15,null,null,null,null,null,null,null,null,null,null,null,null,0]
[null,null,16,null,null,null,null,null,null,null,null,null,null,null,null,0]
[null,null,17,null,null,null,null,null,null,null,null,null,null,null,null,0]
[null,null,25,null,null,null,null,null,null,null,null,null,null,null,null,0]
[null,null,26,null,null,null,null,null,null,null,null,null,null,null,null,0]
[null,null,27,null,null,null,null,null,null,null,null,null,null,null,null,0]
[366,"Servicio de creación y difusión de contenido exclusivamente a través de Internet",11,null,null,null,null,null,null,null,null,null,null,null,null,0]
[null,null,12,null,null,null,null,null,null,null,null,null,null,null,null,0]
[null,null,13,null,null,null,null,null,null,null,null,null,null,null,null,0]
[null,null,14,null,null,null,null,null,null,null,null,null,null,null,null,0]
[null,null,15,null,null,null,null,null,null,null,null,null,null,null,null,0]
[null,null,16,null,null,null,null,null,null,null,null,null,null,null,null,0]
[null,null,17,null,null,null,null,null,null,null,null,null,null,null,null,0]
[null,null,25,null,null,null,null,null,null,null,null,null,null,null,null,0]
[null,null,26,null,null,null,null,null,null,null,null,null,null,null,null,0]
[null,null,27,null,null,null,null,null,null,null,null,null,null,null,null,0]
[369,"Otros servicios de información",11,null,null,null,null,null,null,null,null,null,null,null,null,0]
[null,null,12,null,null,null,null,null,null,null,null,null,null,null,null,0]
[null,null,13,null,null,null,null,null,null,null,null,null,null,null,null,0]
[null,null,14,null,null,null,null,null,null,null,null,null,null,null,null,0]
[null,null,15,null,null,null,null,null,null,null,null,null,null,null,null,0]
[null,null,16,null,null,null,null,null,null,null,null,null,null,null,null,0]
[null,null,17,null,null,null,null,null,null,null,null,null,null,null,null,0]
[null,null,25,null,null,null,null,null,null,null,null,null,null,null,null,0]
[null,null,26,null,null,null,null,null,null,null,null,null,null,null,null,{"$f":"SUM(D1268:O1268)","v":0}]
[null,null,27,null,null,null,null,null,null,null,null,null,null,null,null,0]
[3700,"SERVICIOS DE TRASLADO Y VIÁTICOS",null,{"$f":"SUM(D1271:D1360)","v":0},{"$f":"SUM(E1271:E1360)","v":0},0,0,0,0,0,0,0,0,0,0,{"$f":"SUM(P1271:P1360)","v":0}]
[371,"Pasajes aéreos",11,null,null,null,null,null,null,null,null,null,null,null,null,{"$f":"SUM(D1271:O1271)","v":0}]
[null,null,12,null,null,null,null,null,null,null,null,null,null,null,null,0]
[null,null,13,null,null,null,null,null,null,null,null,null,null,null,null,0]
[null,null,14,null,null,null,null,null,null,null,null,null,null,null,null,0]
[null,null,15,null,null,null,null,null,null,null,null,null,null,null,null,0]
[null,null,16,null,null,null,null,null,null,null,null,null,null,null,null,0]
[null,null,17,null,null,null,null,null,null,null,null,null,null,null,null,0]
[null,null,25,null,null,null,null,null,null,null,null,null,null,null,null,0]
[null,null,26,null,null,null,null,null,null,null,null,null,null,null,null,0]
[null,null,27,null,null,null,null,null,null,null,null,null,null,null,null,0]
[372,"Pasajes terrestres",11,null,null,null,null,null,null,null,null,null,null,null,null,0]
[null,null,12,null,null,null,null,null,null,null,null,null,null,null,null,0]
[null,null,13,null,null,null,null,null,null,null,null,null,null,null,null,0]
[null,null,14,null,null,null,null,null,null,null,null,null,null,null,null,0]
[null,null,15,null,null,null,null,null,null,null,null,null,null,null,null,0]
[null,null,16,null,null,null,null,null,null,null,null,null,null,null,null,0]
[null,null,17,null,null,null,null,null,null,null,null,null,null,null,null,0]
[null,null,25,null,null,null,null,null,null,null,null,null,null,null,null,0]
[null,null,26,null,null,null,null,null,null,null,null,null,null,null,null,0]
[null,null,27,null,null,null,null,null,null,null,null,null,null,null,null,0]
[373,"Pasajes marítimos, lacustres y fluviales",11,null,null,null,null,null,null,null,null,null,null,null,null,0]
[null,null,12,null,null,null,null,null,null,null,null,null,null,null,null,0]
[null,null,13,null,null,null,null,null,null,null,null,null,null,null,null,0]
[null,null,14,null,null,null,null,null,null,null,null,null,null,null,null,0]
[null,null,15,null,null,null,null,null,null,null,null,null,null,null,null,0]
[null,null,16,null,null,null,null,null,null,null,null,null,null,null,null,0]
[null,null,17,null,null,null,null,null,null,null,null,null,null,null,null,0]
[null,null,25,null,null,null,null,null,null,null,null,null,null,null,null,0]
[null,null,26,null,null,null,null,null,null,null,null,null,null,null,null,0]
[null,null,27,null,null,null,null,null,null,null,null,null,null,null,null,0]
[374,"Autotransporte",11,null,null,null,null,null,null,null,null,null,null,null,null,0]
[null,null,12,null,null,null,null,null,null,null,null,null,null,null,null,0]
[null,null,13,null,null,null,null,null,null,null,null,null,null,null,null,0]
[null,null,14,null,null,null,null,null,null,null,null,null,null,null,null,0]
[null,null,15,null,null,null,null,null,null,null,null,null,null,null,null,0]
[null,null,16,null,null,null,null,null,null,null,null,null,null,null,null,0]
[null,null,17,null,null,null,null,null,null,null,null,null,null,null,null,0]
[null,null,25,null,null,null,null,null,null,null,null,null,null,null,null,0]
[null,null,26,null,null,null,null,null,null,null,null,null,null,null,null,0]
[null,null,27,null,null,null,null,null,null,null,null,null,null,null,null,0]
[375,"Viáticos en el país",11,null,null,null,null,null,null,null,null,null,null,null,null,0]
[null,null,12,null,null,null,null,null,null,null,null,null,null,null,null,0]
[null,null,13,null,null,null,null,null,null,null,null,null,null,null,null,0]
[null,null,14,null,null,null,null,null,null,null,null,null,null,null,null,0]
[null,null,15,null,null,null,null,null,null,null,null,null,null,null,null,0]
[null,null,16,null,null,null,null,null,null,null,null,null,null,null,null,0]
[null,null,17,null,null,null,null,null,null,null,null,null,null,null,null,0]
[null,null,25,null,null,null,null,null,null,null,null,null,null,null,null,0]
[null,null,26,null,null,null,null,null,null,null,null,null,null,null,null,0]
[null,null,27,null,null,null,null,null,null,null,null,null,null,null,null,0]
[376,"Viáticos en el extranjero ",11,null,null,null,null,null,null,null,null,null,null,null,null,0]
[null,null,12,null,null,null,null,null,null,null,null,null,null,null,null,0]
[null,null,13,null,null,null,null,null,null,null,null,null,null,null,null,0]
[null,null,14,null,null,null,null,null,null,null,null,null,null,null,null,0]
[null,null,15,null,null,null,null,null,null,null,null,null,null,null,null,0]
[null,null,16,null,null,null,null,null,null,null,null,null,null,null,null,0]
[null,null,17,null,null,null,null,null,null,null,null,null,null,null,null,0]
[null,null,25,null,null,null,null,null,null,null,null,null,null,null,null,0]
[null,null,26,null,null,null,null,null,null,null,null,null,null,null,null,0]
[null,null,27,null,null,null,null,null,null,null,null,null,null,null,null,0]
[377,"Gastos de instalación y traslado de menaje",11,null,null,null,null,null,null,null,null,null,null,null,null,0]
[null,null,12,null,null,null,null,null,null,null,null,null,null,null,null,0]
[null,null,13,null,null,null,null,null,null,null,null,null,null,null,null,0]
[null,null,14,null,null,null,null,null,null,null,null,null,null,null,null,0]
[null,null,15,null,null,null,null,null,null,null,null,null,null,null,null,0]
[null,null,16,null,null,null,null,null,null,null,null,null,null,null,null,0]
[null,null,17,null,null,null,null,null,null,null,null,null,null,null,null,0]
[null,null,25,null,null,null,null,null,null,null,null,null,null,null,null,0]
[null,null,26,null,null,null,null,null,null,null,null,null,null,null,null,0]
[null,null,27,null,null,null,null,null,null,null,null,null,null,null,null,0]
[378,"Servicios integrales de traslado y viáticos",11,null,null,null,null,null,null,null,null,null,null,null,null,0]
[null,null,12,null,null,null,null,null,null,null,null,null,null,null,null,0]
[null,null,13,null,null,null,null,null,null,null,null,null,null,null,null,0]
[null,null,14,null,null,null,null,null,null,null,null,null,null,null,null,0]
[null,null,15,null,null,null,null,null,null,null,null,null,null,null,null,0]
[null,null,16,null,null,null,null,null,null,null,null,null,null,null,null,0]
[null,null,17,null,null,null,null,null,null,null,null,null,null,null,null,0]
[null,null,25,null,null,null,null,null,null,null,null,null,null,null,null,0]
[null,null,26,null,null,null,null,null,null,null,null,null,null,null,null,0]
[null,null,27,null,null,null,null,null,null,null,null,null,null,null,null,0]
[379,"Otros servicios de traslado y hospedaje",11,null,null,null,null,null,null,null,null,null,null,null,null,0]
[null,null,12,null,null,null,null,null,null,null,null,null,null,null,null,0]
[null,null,13,null,null,null,null,null,null,null,null,null,null,null,null,0]
[null,null,14,null,null,null,null,null,null,null,null,null,null,null,null,0]
[null,null,15,null,null,null,null,null,null,null,null,null,null,null,null,0]
[null,null,16,null,null,null,null,null,null,null,null,null,null,null,null,0]
[null,null,17,null,null,null,null,null,null,null,null,null,null,null,null,0]
[null,null,25,null,null,null,null,null,null,null,null,null,null,null,null,0]
[null,null,26,null,null,null,null,null,null,null,null,null,null,null,null,{"$f":"SUM(D1359:O1359)","v":0}]
[null,null,27,null,null,null,null,null,null,null,null,null,null,null,null,0]
[3800,"SERVICIOS OFICIALES",null,{"$f":"SUM(D1362:D1411)","v":0},{"$f":"SUM(E1362:E1411)","v":0},0,0,0,0,0,0,0,0,0,0,{"$f":"SUM(P1362:P1411)","v":0}]
[381,"Gastos de ceremonial",11,null,null,null,null,null,null,null,null,null,null,null,null,{"$f":"SUM(D1362:O1362)","v":0}]
[null,null,12,null,null,null,null,null,null,null,null,null,null,null,null,{"$f":"SUM(D1363:O1363)","v":0}]
[null,null,13,null,null,null,null,null,null,null,null,null,null,null,null,0]
[null,null,14,null,null,null,null,null,null,null,null,null,null,null,null,0]
[null,null,15,null,null,null,null,null,null,null,null,null,null,null,null,0]
[null,null,16,null,null,null,null,null,null,null,null,null,null,null,null,0]
[null,null,17,null,null,null,null,null,null,null,null,null,null,null,null,0]
[null,null,25,null,null,null,null,null,null,null,null,null,null,null,null,0]
[null,null,26,null,null,null,null,null,null,null,null,null,null,null,null,0]
[null,null,27,null,null,null,null,null,null,null,null,null,null,null,null,0]
[382,"Gastos de orden  social y cultural",11,null,null,null,null,null,null,null,null,null,null,null,null,0]
[null,null,12,null,null,null,null,null,null,null,null,null,null,null,null,0]
[null,null,13,null,null,null,null,null,null,null,null,null,null,null,null,0]
[null,null,14,null,null,null,null,null,null,null,null,null,null,null,null,0]
[null,null,15,null,null,null,null,null,null,null,null,null,null,null,null,0]
[null,null,16,null,null,null,null,null,null,null,null,null,null,null,null,0]
[null,null,17,null,null,null,null,null,null,null,null,null,null,null,null,0]
[null,null,25,null,null,null,null,null,null,null,null,null,null,null,null,0]
[null,null,26,null,null,null,null,null,null,null,null,null,null,null,null,0]
[null,null,27,null,null,null,null,null,null,null,null,null,null,null,null,0]
[383,"Congresos y convenciones",11,null,null,null,null,null,null,null,null,null,null,null,null,0]
[null,null,12,null,null,null,null,null,null,null,null,null,null,null,null,0]
[null,null,13,null,null,null,null,null,null,null,null,null,null,null,null,0]
[null,null,14,null,null,null,null,null,null,null,null,null,null,null,null,0]
[null,null,15,null,null,null,null,null,null,null,null,null,null,null,null,0]
[null,null,16,null,null,null,null,null,null,null,null,null,null,null,null,0]
[null,null,17,null,null,null,null,null,null,null,null,null,null,null,null,0]
[null,null,25,null,null,null,null,null,null,null,null,null,null,null,null,0]
[null,null,26,null,null,null,null,null,null,null,null,null,null,null,null,0]
[null,null,27,null,null,null,null,null,null,null,null,null,null,null,null,0]
[384,"Exposiciones",11,null,null,null,null,null,null,null,null,null,null,null,null,0]
[null,null,12,null,null,null,null,null,null,null,null,null,null,null,null,0]
[null,null,13,null,null,null,null,null,null,null,null,null,null,null,null,0]
[null,null,14,null,null,null,null,null,null,null,null,null,null,null,null,0]
[null,null,15,null,null,null,null,null,null,null,null,null,null,null,null,0]
[null,null,16,null,null,null,null,null,null,null,null,null,null,null,null,0]
[null,null,17,null,null,null,null,null,null,null,null,null,null,null,null,0]
[null,null,25,null,null,null,null,null,null,null,null,null,null,null,null,0]
[null,null,26,null,null,null,null,null,null,null,null,null,null,null,null,0]
[null,null,27,null,null,null,null,null,null,null,null,null,null,null,null,0]
[385,"Gastos de representación",11,null,null,null,null,null,null,null,null,null,null,null,null,0]
[null,null,12,null,null,null,null,null,null,null,null,null,null,null,null,0]
[null,null,13,null,null,null,null,null,null,null,null,null,null,null,null,0]
[null,null,14,null,null,null,null,null,null,null,null,null,null,null,null,0]
[null,null,15,null,null,null,null,null,null,null,null,null,null,null,null,0]
[null,null,16,null,null,null,null,null,null,null,null,null,null,null,null,0]
[null,null,17,null,null,null,null,null,null,null,null,null,null,null,null,0]
[null,null,25,null,null,null,null,null,null,null,null,null,null,null,null,0]
[null,null,26,null,null,null,null,null,null,null,null,null,null,null,null,0]
[null,null,27,null,null,null,null,null,null,null,null,null,null,null,null,0]
[3900,"OTROS SERVICIOS GENERALES",null,{"$f":"SUM(D1413:D1493)","v":0},{"$f":"SUM(E1413:E1493)","v":0},0,0,0,0,0,0,0,0,0,0,{"$f":"SUM(P1413:P1493)","v":0}]
[391,"Servicios funerarios y de cementerios",11,null,null,null,null,null,null,null,null,null,null,null,null,{"$f":"SUM(D1413:O1413)","v":0}]
[null,null,12,null,null,null,null,null,null,null,null,null,null,null,null,0]
[null,null,13,null,null,null,null,null,null,null,null,null,null,null,null,0]
[null,null,14,null,null,null,null,null,null,null,null,null,null,null,null,0]
[null,null,15,null,null,null,null,null,null,null,null,null,null,null,null,0]
[null,null,16,null,null,null,null,null,null,null,null,null,null,null,null,0]
[null,null,17,null,null,null,null,null,null,null,null,null,null,null,null,0]
[null,null,25,null,null,null,null,null,null,null,null,null,null,null,null,0]
[null,null,26,null,null,null,null,null,null,null,null,null,null,null,null,0]
[null,null,27,null,null,null,null,null,null,null,null,null,null,null,null,0]
[392,"Impuestos y derechos",11,null,null,null,null,null,null,null,null,null,null,null,null,0]
[null,null,12,null,null,null,null,null,null,null,null,null,null,null,null,0]
[null,null,13,null,null,null,null,null,null,null,null,null,null,null,null,0]
[null,null,14,null,null,null,null,null,null,null,null,null,null,null,null,0]
[null,null,15,null,null,null,null,null,null,null,null,null,null,null,null,0]
[null,null,16,null,null,null,null,null,null,null,null,null,null,null,null,0]
[null,null,17,null,null,null,null,null,null,null,null,null,null,null,null,0]
[null,null,25,null,null,null,null,null,null,null,null,null,null,null,null,0]
[null,null,26,null,null,null,null,null,null,null,null,null,null,null,null,0]
[null,null,27,null,null,null,null,null,null,null,null,null,null,null,null,0]
[393,"Impuestos y derechos de importación",11,null,null,null,null,null,null,null,null,null,null,null,null,0]
[null,null,12,null,null,null,null,null,null,null,null,null,null,null,null,0]
[null,null,13,null,null,null,null,null,null,null,null,null,null,null,null,0]
[null,null,14,null,null,null,null,null,null,null,null,null,null,null,null,0]
[null,null,15,null,null,null,null,null,null,null,null,null,null,null,null,0]
[null,null,16,null,null,null,null,null,null,null,null,null,null,null,null,0]
[null,null,17,null,null,null,null,null,null,null,null,null,null,null,null,0]
[null,null,25,null,null,null,null,null,null,null,null,null,null,null,null,0]
[null,null,26,null,null,null,null,null,null,null,null,null,null,null,null,0]
[null,null,27,null,null,null,null,null,null,null,null,null,null,null,null,0]
[394,"Sentencias y resoluciones por autoridad competente",11,null,null,null,null,null,null,null,null,null,null,null,null,0]
[null,null,12,null,null,null,null,null,null,null,null,null,null,null,null,0]
[null,null,13,null,null,null,null,null,null,null,null,null,null,null,null,0]
[null,null,14,null,null,null,null,null,null,null,null,null,null,null,null,0]
[null,null,15,null,null,null,null,null,null,null,null,null,null,null,null,0]
[null,null,16,null,null,null,null,null,null,null,null,null,null,null,null,0]
[null,null,17,null,null,null,null,null,null,null,null,null,null,null,null,0]
[null,null,25,null,null,null,null,null,null,null,null,null,null,null,null,0]
[null,null,26,null,null,null,null,null,null,null,null,null,null,null,null,0]
[null,null,27,null,null,null,null,null,null,null,null,null,null,null,null,0]
[395,"Penas, multas, accesorios y actualizaciones",11,null,null,null,null,null,null,null,null,null,null,null,null,0]
[null,null,12,null,null,null,null,null,null,null,null,null,null,null,null,0]
[null,null,13,null,null,null,null,null,null,null,null,null,null,null,null,0]
[null,null,14,null,null,null,null,null,null,null,null,null,null,null,null,0]
[null,null,15,null,null,null,null,null,null,null,null,null,null,null,null,0]
[null,null,16,null,null,null,null,null,null,null,null,null,null,null,null,0]
[null,null,17,null,null,null,null,null,null,null,null,null,null,null,null,0]
[null,null,25,null,null,null,null,null,null,null,null,null,null,null,null,0]
[null,null,26,null,null,null,null,null,null,null,null,null,null,null,null,0]
[null,null,27,null,null,null,null,null,null,null,null,null,null,null,null,0]
[396,"Otros gastos por responsabilidades",11,null,null,null,null,null,null,null,null,null,null,null,null,0]
[null,null,12,null,null,null,null,null,null,null,null,null,null,null,null,0]
[null,null,13,null,null,null,null,null,null,null,null,null,null,null,null,0]
[null,null,14,null,null,null,null,null,null,null,null,null,null,null,null,0]
[null,null,15,null,null,null,null,null,null,null,null,null,null,null,null,0]
[null,null,16,null,null,null,null,null,null,null,null,null,null,null,null,0]
[null,null,17,null,null,null,null,null,null,null,null,null,null,null,null,0]
[null,null,25,null,null,null,null,null,null,null,null,null,null,null,null,0]
[null,null,26,null,null,null,null,null,null,null,null,null,null,null,null,0]
[null,null,27,null,null,null,null,null,null,null,null,null,null,null,null,0]
[397,"Utilidades",null,null,null,null,null,null,null,null,null,null,null,null,null,{"$f":"SUM(D1473:O1473)","v":0}]
[398,"Impuesto sobre nómina y otros que se deriven de una relación laboral",11,null,null,null,null,null,null,null,null,null,null,null,null,0]
[null,null,12,null,null,null,null,null,null,null,null,null,null,null,null,0]
[null,null,13,null,null,null,null,null,null,null,null,null,null,null,null,0]
[null,null,14,null,null,null,null,null,null,null,null,null,null,null,null,0]
[null,null,15,null,null,null,null,null,null,null,null,null,null,null,null,0]
[null,null,16,null,null,null,null,null,null,null,null,null,null,null,null,0]
[null,null,17,null,null,null,null,null,null,null,null,null,null,null,null,0]
[null,null,25,null,null,null,null,null,null,null,null,null,null,null,null,0]
[null,null,26,null,null,null,null,null,null,null,null,null,null,null,null,0]
[null,null,27,null,null,null,null,null,null,null,null,null,null,null,null,0]
[399,"Otros servicios generales",11,null,null,null,null,null,null,null,null,null,null,null,null,0]
[null,null,12,null,null,null,null,null,null,null,null,null,null,null,null,0]
[null,null,13,null,null,null,null,null,null,null,null,null,null,null,null,0]
[null,null,14,null,null,null,null,null,null,null,null,null,null,null,null,0]
[null,null,15,null,null,null,null,null,null,null,null,null,null,null,null,0]
[null,null,16,null,null,null,null,null,null,null,null,null,null,null,null,0]
[null,null,17,null,null,null,null,null,null,null,null,null,null,null,null,0]
[null,null,25,null,null,null,null,null,null,null,null,null,null,null,null,0]
[null,null,26,null,null,null,null,null,null,null,null,null,null,null,null,{"$f":"SUM(D1492:O1492)","v":0}]
[null,null,27,null,null,null,null,null,null,null,null,null,null,null,null,0]
[4000,"TRANSFERENCIAS, ASIGNACIONES, SUBSIDIOS Y OTRAS  AYUDAS",null,{"$f":"D1495+D1523+D1538+D1620+D1701+D1732+D1767+D1778+D1829","v":0},0,0,0,0,0,0,0,0,0,0,0,0]
[4100,"TRANSFERENCIAS INTERNAS Y ASIGNACIONES AL SECTOR PÚBLICO",null,{"$f":"SUM(D1496:D1522)","v":0},{"$f":"SUM(E1496:E1522)","v":0},0,0,0,0,0,0,0,0,0,0,{"$f":"SUM(P1496:P1522)","v":0}]
[411,"Asignaciones presupuestarias al Poder Ejecutivo",null,null,null,null,null,null,null,null,null,null,null,null,null,{"$f":"SUM(D1496:O1496)","v":0}]
[412,"Asignaciones presupuestarias al Poder Legislativo",null,null,null,null,null,null,null,null,null,null,null,null,null,0]
[413,"Asignaciones presupuestarias al Poder Judicial",null,null,null,null,null,null,null,null,null,null,null,null,null,0]
[414,"Asignaciones presupuestarias a Órganos Autónomos",null,null,null,null,null,null,null,null,null,null,null,null,null,0]
[415,"Transferencias internas otorgadas a entidades paraestatales no empresariales y no financieras",11,null,null,null,null,null,null,null,null,null,null,null,null,0]
[null,null,12,null,null,null,null,null,null,null,null,null,null,null,null,0]
[null,null,13,null,null,null,null,null,null,null,null,null,null,null,null,0]
[null,null,14,null,null,null,null,null,null,null,null,null,null,null,null,0]
[null,null,15,null,null,null,null,null,null,null,null,null,null,null,null,0]
[null,null,16,null,null,null,null,null,null,null,null,null,null,null,null,0]
[null,null,17,null,null,null,null,null,null,null,null,null,null,null,null,0]
[null,null,25,null,null,null,null,null,null,null,null,null,null,null,null,0]
[null,null,26,null,null,null,null,null,null,null,null,null,null,null,null,0]
[null,null,27,null,null,null,null,null,null,null,null,null,null,null,null,0]
[416,"Transferencias internas otorgadas a entidades paraestatales empresariales y no financieras",null,null,null,null,null,null,null,null,null,null,null,null,null,{"$f":"SUM(D1510:O1510)","v":0}]
[417,"Transferencias internas otorgadas a fideicomisos públicos empresariales y no financieros",11,null,null,null,null,null,null,null,null,null,null,null,null,0]
[null,null,12,null,null,null,null,null,null,null,null,null,null,null,null,0]
[null,null,13,null,null,null,null,null,null,null,null,null,null,null,null,0]
[null,null,14,null,null,null,null,null,null,null,null,null,null,null,null,0]
[null,null,15,null,null,null,null,null,null,null,null,null,null,null,null,0]
[null,null,16,null,null,null,null,null,null,null,null,null,null,null,null,0]
[null,null,17,null,null,null,null,null,null,null,null,null,null,null,null,0]
[null,null,25,null,null,null,null,null,null,null,null,null,null,null,null,0]
[null,null,26,null,null,null,null,null,null,null,null,null,null,null,null,0]
[null,null,27,null,null,null,null,null,null,null,null,null,null,null,null,0]
[418,"Transferencias internas otorgadas a instituciones paraestatales públicas financieras",null,null,null,null,null,null,null,null,null,null,null,null,null,0]
[419,"Transferencias internas otorgadas a fideicomisos públicos financieros",null,null,null,null,null,null,null,null,null,null,null,null,null,0]
[4200,"TRANSFERENCIAS AL RESTO DEL SECTOR PÚBLICO",null,{"$f":"SUM(D1524:D1537)","v":0},{"$f":"SUM(E1524:E1537)","v":0},0,0,0,0,0,0,0,0,0,0,{"$f":"SUM(P1524:P1537)","v":0}]
[421,"Transferencias otorgadas a entidades paraestatales no empresariales y no financieras",11,null,null,null,null,null,null,null,null,null,null,null,null,{"$f":"SUM(D1524:O1524)","v":0}]
[null,null,12,null,null,null,null,null,null,null,null,null,null,null,null,{"$f":"SUM(D1525:O1525)","v":0}]
[null,null,13,null,null,null,null,null,null,null,null,null,null,null,null,0]
[null,null,14,null,null,null,null,null,null,null,null,null,null,null,null,0]
[null,null,15,null,null,null,null,null,null,null,null,null,null,null,null,0]
[null,null,16,null,null,null,null,null,null,null,null,null,null,null,null,0]
[null,null,17,null,null,null,null,null,null,null,null,null,null,null,null,0]
[null,null,25,null,null,null,null,null,null,null,null,null,null,null,null,0]
[null,null,26,null,null,null,null,null,null,null,null,null,null,null,null,0]
[null,null,27,null,null,null,null,null,null,null,null,null,null,null,null,0]
[422,"Transferencias otorgadas para entidades paraestatales empresariales y no financieras",null,null,null,null,null,null,null,null,null,null,null,null,null,0]
[423,"Transferencias otorgadas para instituciones paraestatales públicas financieras  ",null,null,null,null,null,null,null,null,null,null,null,null,null,0]
[424,"Transferencias otorgadas a entidades federativas y municipios",null,null,null,null,null,null,null,null,null,null,null,null,null,0]
[425,"Transferencias a fideicomisos de entidades federativas y municipios",null,null,null,null,null,null,null,null,null,null,null,null,null,0]
[4300,"SUBSIDIOS Y SUBVENCIONES",null,{"$f":"SUM(D1539:D1619)","v":0},{"$f":"SUM(E1539:E1619)","v":0},0,0,0,0,0,0,0,0,0,0,{"$f":"SUM(P1539:P1619)","v":0}]
[431,"Subsidios a la producción",11,null,null,null,null,null,null,null,null,null,null,null,null,{"$f":"SUM(D1539:O1539)","v":0}]
[null,null,12,null,null,null,null,null,null,null,null,null,null,null,null,0]
[null,null,13,null,null,null,null,null,null,null,null,null,null,null,null,0]
[null,null,14,null,null,null,null,null,null,null,null,null,null,null,null,0]
[null,null,15,null,null,null,null,null,null,null,null,null,null,null,null,0]
[null,null,16,null,null,null,null,null,null,null,null,null,null,null,null,0]
[null,null,17,null,null,null,null,null,null,null,null,null,null,null,null,0]
[null,null,25,null,null,null,null,null,null,null,null,null,null,null,null,0]
[null,null,26,null,null,null,null,null,null,null,null,null,null,null,null,0]
[null,null,27,null,null,null,null,null,null,null,null,null,null,null,null,0]
[432,"Subsidios a la distribución",11,null,null,null,null,null,null,null,null,null,null,null,null,0]
[null,null,12,null,null,null,null,null,null,null,null,null,null,null,null,0]
[null,null,13,null,null,null,null,null,null,null,null,null,null,null,null,0]
[null,null,14,null,null,null,null,null,null,null,null,null,null,null,null,0]
[null,null,15,null,null,null,null,null,null,null,null,null,null,null,null,0]
[null,null,16,null,null,null,null,null,null,null,null,null,null,null,null,0]
[null,null,17,null,null,null,null,null,null,null,null,null,null,null,null,0]
[null,null,25,null,null,null,null,null,null,null,null,null,null,null,null,0]
[null,null,26,null,null,null,null,null,null,null,null,null,null,null,null,0]
[null,null,27,null,null,null,null,null,null,null,null,null,null,null,null,0]
[433,"Subsidios a la inversión",11,null,null,null,null,null,null,null,null,null,null,null,null,0]
[null,null,12,null,null,null,null,null,null,null,null,null,null,null,null,0]
[null,null,13,null,null,null,null,null,null,null,null,null,null,null,null,0]
[null,null,14,null,null,null,null,null,null,null,null,null,null,null,null,0]
[null,null,15,null,null,null,null,null,null,null,null,null,null,null,null,0]
[null,null,16,null,null,null,null,null,null,null,null,null,null,null,null,0]
[null,null,17,null,null,null,null,null,null,null,null,null,null,null,null,0]
[null,null,25,null,null,null,null,null,null,null,null,null,null,null,null,0]
[null,null,26,null,null,null,null,null,null,null,null,null,null,null,null,0]
[null,null,27,null,null,null,null,null,null,null,null,null,null,null,null,0]
[434,"Subsidios a la prestación de servicios públicos",11,null,null,null,null,null,null,null,null,null,null,null,null,0]
[null,null,12,null,null,null,null,null,null,null,null,null,null,null,null,0]
[null,null,13,null,null,null,null,null,null,null,null,null,null,null,null,0]
[null,null,14,null,null,null,null,null,null,null,null,null,null,null,null,0]
[null,null,15,null,null,null,null,null,null,null,null,null,null,null,null,0]
[null,null,16,null,null,null,null,null,null,null,null,null,null,null,null,0]
[null,null,17,null,null,null,null,null,null,null,null,null,null,null,null,0]
[null,null,25,null,null,null,null,null,null,null,null,null,null,null,null,0]
[null,null,26,null,null,null,null,null,null,null,null,null,null,null,null,0]
[null,null,27,null,null,null,null,null,null,null,null,null,null,null,null,0]
[435,"Subsidios para cubrir diferenciales de tasas de interés",11,null,null,null,null,null,null,null,null,null,null,null,null,0]
[null,null,12,null,null,null,null,null,null,null,null,null,null,null,null,0]
[null,null,13,null,null,null,null,null,null,null,null,null,null,null,null,0]
[null,null,14,null,null,null,null,null,null,null,null,null,null,null,null,0]
[null,null,15,null,null,null,null,null,null,null,null,null,null,null,null,0]
[null,null,16,null,null,null,null,null,null,null,null,null,null,null,null,0]
[null,null,17,null,null,null,null,null,null,null,null,null,null,null,null,0]
[null,null,25,null,null,null,null,null,null,null,null,null,null,null,null,0]
[null,null,26,null,null,null,null,null,null,null,null,null,null,null,null,0]
[null,null,27,null,null,null,null,null,null,null,null,null,null,null,null,0]
[436,"Subsidios a la vivienda ",11,null,null,null,null,null,null,null,null,null,null,null,null,0]
[null,null,12,null,null,null,null,null,null,null,null,null,null,null,null,0]
[null,null,13,null,null,null,null,null,null,null,null,null,null,null,null,0]
[null,null,14,null,null,null,null,null,null,null,null,null,null,null,null,0]
[null,null,15,null,null,null,null,null,null,null,null,null,null,null,null,0]
[null,null,16,null,null,null,null,null,null,null,null,null,null,null,null,0]
[null,null,17,null,null,null,null,null,null,null,null,null,null,null,null,0]
[null,null,25,null,null,null,null,null,null,null,null,null,null,null,null,0]
[null,null,26,null,null,null,null,null,null,null,null,null,null,null,null,0]
[null,null,27,null,null,null,null,null,null,null,null,null,null,null,null,0]
[437,"Subvenciones al consumo",11,null,null,null,null,null,null,null,null,null,null,null,null,0]
[null,null,12,null,null,null,null,null,null,null,null,null,null,null,null,0]
[null,null,13,null,null,null,null,null,null,null,null,null,null,null,null,0]
[null,null,14,null,null,null,null,null,null,null,null,null,null,null,null,0]
[null,null,15,null,null,null,null,null,null,null,null,null,null,null,null,0]
[null,null,16,null,null,null,null,null,null,null,null,null,null,null,null,0]
[null,null,17,null,null,null,null,null,null,null,null,null,null,null,null,0]
[null,null,25,null,null,null,null,null,null,null,null,null,null,null,null,0]
[null,null,26,null,null,null,null,null,null,null,null,null,null,null,null,0]
[null,null,27,null,null,null,null,null,null,null,null,null,null,null,null,0]
[438,"Subsidios a entidades federativas y municipios",null,null,null,null,null,null,null,null,null,null,null,null,null,{"$f":"SUM(D1609:O1609)","v":0}]
[439,"Otros subsidios",11,null,null,null,null,null,null,null,null,null,null,null,null,0]
[null,null,12,null,null,null,null,null,null,null,null,null,null,null,null,0]
[null,null,13,null,null,null,null,null,null,null,null,null,null,null,null,0]
[null,null,14,null,null,null,null,null,null,null,null,null,null,null,null,0]
[null,null,15,null,null,null,null,null,null,null,null,null,null,null,null,0]
[null,null,16,null,null,null,null,null,null,null,null,null,null,null,null,0]
[null,null,17,null,null,null,null,null,null,null,null,null,null,null,null,0]
[null,null,25,null,null,null,null,null,null,null,null,null,null,null,null,0]
[null,null,26,null,null,null,null,null,null,null,null,null,null,null,null,0]
[null,null,27,null,null,null,null,null,null,null,null,null,null,null,null,{"$f":"SUM(D1619:O1619)","v":0}]
[4400,"AYUDAS SOCIALES",null,{"$f":"SUM(D1621:D1700)","v":0},{"$f":"SUM(E1621:E1700)","v":0},0,0,0,0,0,0,0,0,0,0,{"$f":"SUM(P1621:P1700)","v":0}]
[441,"Ayudas sociales a personas ",11,null,null,null,null,null,null,null,null,null,null,null,null,{"$f":"SUM(D1621:O1621)","v":0}]
[null,null,12,null,null,null,null,null,null,null,null,null,null,null,null,0]
[null,null,13,null,null,null,null,null,null,null,null,null,null,null,null,0]
[null,null,14,null,null,null,null,null,null,null,null,null,null,null,null,0]
[null,null,15,null,null,null,null,null,null,null,null,null,null,null,null,0]
[null,null,16,null,null,null,null,null,null,null,null,null,null,null,null,0]
[null,null,17,null,null,null,null,null,null,null,null,null,null,null,null,0]
[null,null,25,null,null,null,null,null,null,null,null,null,null,null,null,0]
[null,null,26,null,null,null,null,null,null,null,null,null,null,null,null,0]
[null,null,27,null,null,null,null,null,null,null,null,null,null,null,null,0]
[442,"Becas y otras ayudas para programas de capacitación",11,null,null,null,null,null,null,null,null,null,null,null,null,0]
[null,null,12,null,null,null,null,null,null,null,null,null,null,null,null,0]
[null,null,13,null,null,null,null,null,null,null,null,null,null,null,null,0]
[null,null,14,null,null,null,null,null,null,null,null,null,null,null,null,0]
[null,null,15,null,null,null,null,null,null,null,null,null,null,null,null,0]
[null,null,16,null,null,null,null,null,null,null,null,null,null,null,null,0]
[null,null,17,null,null,null,null,null,null,null,null,null,null,null,null,0]
[null,null,25,null,null,null,null,null,null,null,null,null,null,null,null,0]
[null,null,26,null,null,null,null,null,null,null,null,null,null,null,null,0]
[null,null,27,null,null,null,null,null,null,null,null,null,null,null,null,0]
[443,"Ayudas sociales a instituciones de enseñanza",11,null,null,null,null,null,null,null,null,null,null,null,null,0]
[null,null,12,null,null,null,null,null,null,null,null,null,null,null,null,0]
[null,null,13,null,null,null,null,null,null,null,null,null,null,null,null,0]
[null,null,14,null,null,null,null,null,null,null,null,null,null,null,null,0]
[null,null,15,null,null,null,null,null,null,null,null,null,null,null,null,0]
[null,null,16,null,null,null,null,null,null,null,null,null,null,null,null,0]
[null,null,17,null,null,null,null,null,null,null,null,null,null,null,null,0]
[null,null,25,null,null,null,null,null,null,null,null,null,null,null,null,0]
[null,null,26,null,null,null,null,null,null,null,null,null,null,null,null,0]
[null,null,27,null,null,null,null,null,null,null,null,null,null,null,null,0]
[444,"Ayudas sociales a actividades científicas o académicas",11,null,null,null,null,null,null,null,null,null,null,null,null,0]
[null,null,12,null,null,null,null,null,null,null,null,null,null,null,null,0]
[null,null,13,null,null,null,null,null,null,null,null,null,null,null,null,0]
[null,null,14,null,null,null,null,null,null,null,null,null,null,null,null,0]
[null,null,15,null,null,null,null,null,null,null,null,null,null,null,null,0]
[null,null,16,null,null,null,null,null,null,null,null,null,null,null,null,0]
[null,null,17,null,null,null,null,null,null,null,null,null,null,null,null,0]
[null,null,25,null,null,null,null,null,null,null,null,null,null,null,null,0]
[null,null,26,null,null,null,null,null,null,null,null,null,null,null,null,0]
[null,null,27,null,null,null,null,null,null,null,null,null,null,null,null,0]
[445,"Ayudas sociales a instituciones sin fines de lucro",11,null,null,null,null,null,null,null,null,null,null,null,null,0]
[null,null,12,null,null,null,null,null,null,null,null,null,null,null,null,0]
[null,null,13,null,null,null,null,null,null,null,null,null,null,null,null,0]
[null,null,14,null,null,null,null,null,null,null,null,null,null,null,null,0]
[null,null,15,null,null,null,null,null,null,null,null,null,null,null,null,0]
[null,null,16,null,null,null,null,null,null,null,null,null,null,null,null,0]
[null,null,17,null,null,null,null,null,null,null,null,null,null,null,null,0]
[null,null,25,null,null,null,null,null,null,null,null,null,null,null,null,0]
[null,null,26,null,null,null,null,null,null,null,null,null,null,null,null,0]
[null,null,27,null,null,null,null,null,null,null,null,null,null,null,null,0]
[446,"Ayudas sociales a cooperativas",11,null,null,null,null,null,null,null,null,null,null,null,null,0]
[null,null,12,null,null,null,null,null,null,null,null,null,null,null,null,0]
[null,null,13,null,null,null,null,null,null,null,null,null,null,null,null,0]
[null,null,14,null,null,null,null,null,null,null,null,null,null,null,null,0]
[null,null,15,null,null,null,null,null,null,null,null,null,null,null,null,0]
[null,null,16,null,null,null,null,null,null,null,null,null,null,null,null,0]
[null,null,17,null,null,null,null,null,null,null,null,null,null,null,null,0]
[null,null,25,null,null,null,null,null,null,null,null,null,null,null,null,0]
[null,null,26,null,null,null,null,null,null,null,null,null,null,null,null,0]
[null,null,27,null,null,null,null,null,null,null,null,null,null,null,null,0]
[447,"Ayudas sociales a entidades de interés público",11,null,null,null,null,null,null,null,null,null,null,null,null,0]
[null,null,12,null,null,null,null,null,null,null,null,null,null,null,null,0]
[null,null,13,null,null,null,null,null,null,null,null,null,null,null,null,0]
[null,null,14,null,null,null,null,null,null,null,null,null,null,null,null,0]
[null,null,15,null,null,null,null,null,null,null,null,null,null,null,null,0]
[null,null,16,null,null,null,null,null,null,null,null,null,null,null,null,0]
[null,null,17,null,null,null,null,null,null,null,null,null,null,null,null,0]
[null,null,25,null,null,null,null,null,null,null,null,null,null,null,null,0]
[null,null,26,null,null,null,null,null,null,null,null,null,null,null,null,0]
[null,null,27,null,null,null,null,null,null,null,null,null,null,null,null,0]
[448,"Ayudas por desastres naturales y otros siniestros",11,null,null,null,null,null,null,null,null,null,null,null,null,0]
[null,null,12,null,null,null,null,null,null,null,null,null,null,null,null,0]
[null,null,13,null,null,null,null,null,null,null,null,null,null,null,null,0]
[null,null,14,null,null,null,null,null,null,null,null,null,null,null,null,0]
[null,null,15,null,null,null,null,null,null,null,null,null,null,null,null,0]
[null,null,16,null,null,null,null,null,null,null,null,null,null,null,null,0]
[null,null,17,null,null,null,null,null,null,null,null,null,null,null,null,0]
[null,null,25,null,null,null,null,null,null,null,null,null,null,null,null,0]
[null,null,26,null,null,null,null,null,null,null,null,null,null,null,null,0]
[null,null,27,null,null,null,null,null,null,null,null,null,null,null,null,0]
[4500,"PENSIONES Y JUBILACIONES",null,{"$f":"SUM(D1702:D1731)","v":0},{"$f":"SUM(E1702:E1731)","v":0},0,0,0,0,0,0,0,0,0,0,{"$f":"SUM(P1702:P1731)","v":0}]
[451,"Pensiones",11,null,null,null,null,null,null,null,null,null,null,null,null,{"$f":"SUM(D1702:O1702)","v":0}]
[null,null,12,null,null,null,null,null,null,null,null,null,null,null,null,{"$f":"SUM(D1703:O1703)","v":0}]
[null,null,13,null,null,null,null,null,null,null,null,null,null,null,null,0]
[null,null,14,null,null,null,null,null,null,null,null,null,null,null,null,0]
[null,null,15,null,null,null,null,null,null,null,null,null,null,null,null,0]
[null,null,16,null,null,null,null,null,null,null,null,null,null,null,null,0]
[null,null,17,null,null,null,null,null,null,null,null,null,null,null,null,0]
[null,null,25,null,null,null,null,null,null,null,null,null,null,null,null,0]
[null,null,26,null,null,null,null,null,null,null,null,null,null,null,null,0]
[null,null,27,null,null,null,null,null,null,null,null,null,null,null,null,0]
[452,"Jubilaciones",11,null,null,null,null,null,null,null,null,null,null,null,null,0]
[null,null,12,null,null,null,null,null,null,null,null,null,null,null,null,0]
[null,null,13,null,null,null,null,null,null,null,null,null,null,null,null,0]
[null,null,14,null,null,null,null,null,null,null,null,null,null,null,null,0]
[null,null,15,null,null,null,null,null,null,null,null,null,null,null,null,0]
[null,null,16,null,null,null,null,null,null,null,null,null,null,null,null,0]
[null,null,17,null,null,null,null,null,null,null,null,null,null,null,null,0]
[null,null,25,null,null,null,null,null,null,null,null,null,null,null,null,0]
[null,null,26,null,null,null,null,null,null,null,null,null,null,null,null,0]
[null,null,27,null,null,null,null,null,null,null,null,null,null,null,null,0]
[459,"Otras pensiones y jubilaciones",11,null,null,null,null,null,null,null,null,null,null,null,null,0]
[null,null,12,null,null,null,null,null,null,null,null,null,null,null,null,0]
[null,null,13,null,null,null,null,null,null,null,null,null,null,null,null,0]
[null,null,14,null,null,null,null,null,null,null,null,null,null,null,null,0]
[null,null,15,null,null,null,null,null,null,null,null,null,null,null,null,0]
[null,null,16,null,null,null,null,null,null,null,null,null,null,null,null,0]
[null,null,17,null,null,null,null,null,null,null,null,null,null,null,null,0]
[null,null,25,null,null,null,null,null,null,null,null,null,null,null,null,0]
[null,null,26,null,null,null,null,null,null,null,null,null,null,null,null,0]
[null,null,27,null,null,null,null,null,null,null,null,null,null,null,null,0]
[4600,"TRANSFERENCIAS A FIDEICOMISOS, MANDATOS Y OTROS ANÁLOGOS",null,{"$f":"SUM(D1733:D1766)","v":0},{"$f":"SUM(E1733:E1766)","v":0},0,0,0,0,0,0,0,0,0,0,{"$f":"SUM(P1733:P1766)","v":0}]
[461,"Transferencias a fideicomisos del Poder Ejecutivo",11,null,null,null,null,null,null,null,null,null,null,null,null,{"$f":"SUM(D1733:O1733)","v":0}]
[null,null,12,null,null,null,null,null,null,null,null,null,null,null,null,0]
[null,null,13,null,null,null,null,null,null,null,null,null,null,null,null,0]
[null,null,14,null,null,null,null,null,null,null,null,null,null,null,null,0]
[null,null,15,null,null,null,null,null,null,null,null,null,null,null,null,0]
[null,null,16,null,null,null,null,null,null,null,null,null,null,null,null,0]
[null,null,17,null,null,null,null,null,null,null,null,null,null,null,null,0]
[null,null,25,null,null,null,null,null,null,null,null,null,null,null,null,0]
[null,null,26,null,null,null,null,null,null,null,null,null,null,null,null,0]
[null,null,27,null,null,null,null,null,null,null,null,null,null,null,null,0]
[462,"Transferencias a fideicomisos del Poder Legislativo",null,null,null,null,null,null,null,null,null,null,null,null,null,0]
[463,"Transferencias a fideicomisos del Poder Judicial",null,null,null,null,null,null,null,null,null,null,null,null,null,0]
[464,"Trasferencias a fideicomisos públicos de entidades paraestatales no empresariales y no financieras",11,null,null,null,null,null,null,null,null,null,null,null,null,0]
[null,null,12,null,null,null,null,null,null,null,null,null,null,null,null,0]
[null,null,13,null,null,null,null,null,null,null,null,null,null,null,null,0]
[null,null,14,null,null,null,null,null,null,null,null,null,null,null,null,0]
[null,null,15,null,null,null,null,null,null,null,null,null,null,null,null,0]
[null,null,16,null,null,null,null,null,null,null,null,null,null,null,null,0]
[null,null,17,null,null,null,null,null,null,null,null,null,null,null,null,0]
[null,null,25,null,null,null,null,null,null,null,null,null,null,null,null,0]
[null,null,26,null,null,null,null,null,null,null,null,null,null,null,null,0]
[null,null,27,null,null,null,null,null,null,null,null,null,null,null,null,0]
[465,"Transferencias a fideicomisos públicos de entidades paraestatales empresariales y no financieras",null,null,null,null,null,null,null,null,null,null,null,null,null,0]
[466,"Transferencias a fideicomisos de instituciones públicas financieras",null,null,null,null,null,null,null,null,null,null,null,null,null,0]
[469,"Otras transferencias a fideicomisos   ",11,null,null,null,null,null,null,null,null,null,null,null,null,0]
[null,null,12,null,null,null,null,null,null,null,null,null,null,null,null,0]
[null,null,13,null,null,null,null,null,null,null,null,null,null,null,null,0]
[null,null,14,null,null,null,null,null,null,null,null,null,null,null,null,0]
[null,null,15,null,null,null,null,null,null,null,null,null,null,null,null,0]
[null,null,16,null,null,null,null,null,null,null,null,null,null,null,null,0]
[null,null,17,null,null,null,null,null,null,null,null,null,null,null,null,0]
[null,null,25,null,null,null,null,null,null,null,null,null,null,null,null,0]
[null,null,26,null,null,null,null,null,null,null,null,null,null,null,null,0]
[null,null,27,null,null,null,null,null,null,null,null,null,null,null,null,0]
[4700,"TRANSFERENCIAS A LA SEGURIDAD SOCIAL",null,{"$f":"SUM(D1768:D1777)","v":0},{"$f":"SUM(E1768:E1777)","v":0},0,0,0,0,0,0,0,0,0,0,{"$f":"SUM(P1768:P1777)","v":0}]
[471,"Transferencias por obligación de ley",11,null,null,null,null,null,null,null,null,null,null,null,null,{"$f":"SUM(D1768:O1768)","v":0}]
[null,null,12,null,null,null,null,null,null,null,null,null,null,null,null,{"$f":"SUM(D1769:O1769)","v":0}]
[null,null,13,null,null,null,null,null,null,null,null,null,null,null,null,0]
[null,null,14,null,null,null,null,null,null,null,null,null,null,null,null,0]
[null,null,15,null,null,null,null,null,null,null,null,null,null,null,null,0]
[null,null,16,null,null,null,null,null,null,null,null,null,null,null,null,0]
[null,null,17,null,null,null,null,null,null,null,null,null,null,null,null,0]
[null,null,25,null,null,null,null,null,null,null,null,null,null,null,null,0]
[null,null,26,null,null,null,null,null,null,null,null,null,null,null,null,0]
[null,null,27,null,null,null,null,null,null,null,null,null,null,null,null,0]
[4800,"DONATIVOS",null,{"$f":"SUM(D1779:D1828)","v":0},{"$f":"SUM(E1779:E1828)","v":0},0,0,0,0,0,0,0,0,0,0,{"$f":"SUM(P1779:P1828)","v":0}]
[481,"Donativos a instituciones sin fines de lucro",11,null,null,null,null,null,null,null,null,null,null,null,null,{"$f":"SUM(D1779:O1779)","v":0}]
[null,null,12,null,null,null,null,null,null,null,null,null,null,null,null,{"$f":"SUM(D1780:O1780)","v":0}]
[null,null,13,null,null,null,null,null,null,null,null,null,null,null,null,0]
[null,null,14,null,null,null,null,null,null,null,null,null,null,null,null,0]
[null,null,15,null,null,null,null,null,null,null,null,null,null,null,null,0]
[null,null,16,null,null,null,null,null,null,null,null,null,null,null,null,0]
[null,null,17,null,null,null,null,null,null,null,null,null,null,null,null,0]
[null,null,25,null,null,null,null,null,null,null,null,null,null,null,null,0]
[null,null,26,null,null,null,null,null,null,null,null,null,null,null,null,0]
[null,null,27,null,null,null,null,null,null,null,null,null,null,null,null,0]
[482,"Donativos a entidades federativas ",11,null,null,null,null,null,null,null,null,null,null,null,null,0]
[null,null,12,null,null,null,null,null,null,null,null,null,null,null,null,0]
[null,null,13,null,null,null,null,null,null,null,null,null,null,null,null,0]
[null,null,14,null,null,null,null,null,null,null,null,null,null,null,null,0]
[null,null,15,null,null,null,null,null,null,null,null,null,null,null,null,0]
[null,null,16,null,null,null,null,null,null,null,null,null,null,null,null,0]
[null,null,17,null,null,null,null,null,null,null,null,null,null,null,null,0]
[null,null,25,null,null,null,null,null,null,null,null,null,null,null,null,0]
[null,null,26,null,null,null,null,null,null,null,null,null,null,null,null,0]
[null,null,27,null,null,null,null,null,null,null,null,null,null,null,null,0]
[483,"Donativos a fideicomisos privados",11,null,null,null,null,null,null,null,null,null,null,null,null,0]
[null,null,12,null,null,null,null,null,null,null,null,null,null,null,null,0]
[null,null,13,null,null,null,null,null,null,null,null,null,null,null,null,0]
[null,null,14,null,null,null,null,null,null,null,null,null,null,null,null,0]
[null,null,15,null,null,null,null,null,null,null,null,null,null,null,null,0]
[null,null,16,null,null,null,null,null,null,null,null,null,null,null,null,0]
[null,null,17,null,null,null,null,null,null,null,null,null,null,null,null,0]
[null,null,25,null,null,null,null,null,null,null,null,null,null,null,null,0]
[null,null,26,null,null,null,null,null,null,null,null,null,null,null,null,0]
[null,null,27,null,null,null,null,null,null,null,null,null,null,null,null,0]
[484,"Donativos a fideicomisos estatales",11,null,null,null,null,null,null,null,null,null,null,null,null,0]
[null,null,12,null,null,null,null,null,null,null,null,null,null,null,null,0]
[null,null,13,null,null,null,null,null,null,null,null,null,null,null,null,0]
[null,null,14,null,null,null,null,null,null,null,null,null,null,null,null,0]
[null,null,15,null,null,null,null,null,null,null,null,null,null,null,null,0]
[null,null,16,null,null,null,null,null,null,null,null,null,null,null,null,0]
[null,null,17,null,null,null,null,null,null,null,null,null,null,null,null,0]
[null,null,25,null,null,null,null,null,null,null,null,null,null,null,null,0]
[null,null,26,null,null,null,null,null,null,null,null,null,null,null,null,0]
[null,null,27,null,null,null,null,null,null,null,null,null,null,null,null,0]
[485,"Donativos internacionales",11,null,null,null,null,null,null,null,null,null,null,null,null,0]
[null,null,12,null,null,null,null,null,null,null,null,null,null,null,null,0]
[null,null,13,null,null,null,null,null,null,null,null,null,null,null,null,0]
[null,null,14,null,null,null,null,null,null,null,null,null,null,null,null,0]
[null,null,15,null,null,null,null,null,null,null,null,null,null,null,null,0]
[null,null,16,null,null,null,null,null,null,null,null,null,null,null,null,0]
[null,null,17,null,null,null,null,null,null,null,null,null,null,null,null,0]
[null,null,25,null,null,null,null,null,null,null,null,null,null,null,null,0]
[null,null,26,null,null,null,null,null,null,null,null,null,null,null,null,0]
[null,null,27,null,null,null,null,null,null,null,null,null,null,null,null,0]
[4900,"TRANSFERENCIAS AL EXTERIOR",null,{"$f":"SUM(D1830:D1859)","v":0},{"$f":"SUM(E1830:E1859)","v":0},0,0,0,0,0,0,0,0,0,0,{"$f":"SUM(P1830:P1859)","v":0}]
[491,"Transferencias para gobiernos extranjeros",11,null,null,null,null,null,null,null,null,null,null,null,null,{"$f":"SUM(D1830:O1830)","v":0}]
[null,null,12,null,null,null,null,null,null,null,null,null,null,null,null,{"$f":"SUM(D1831:O1831)","v":0}]
[null,null,13,null,null,null,null,null,null,null,null,null,null,null,null,0]
[null,null,14,null,null,null,null,null,null,null,null,null,null,null,null,0]
[null,null,15,null,null,null,null,null,null,null,null,null,null,null,null,0]
[null,null,16,null,null,null,null,null,null,null,null,null,null,null,null,0]
[null,null,17,null,null,null,null,null,null,null,null,null,null,null,null,0]
[null,null,25,null,null,null,null,null,null,null,null,null,null,null,null,0]
[null,null,26,null,null,null,null,null,null,null,null,null,null,null,null,0]
[null,null,27,null,null,null,null,null,null,null,null,null,null,null,null,0]
[492,"Transferencias para organismos internacionales",11,null,null,null,null,null,null,null,null,null,null,null,null,0]
[null,null,12,null,null,null,null,null,null,null,null,null,null,null,null,0]
[null,null,13,null,null,null,null,null,null,null,null,null,null,null,null,0]
[null,null,14,null,null,null,null,null,null,null,null,null,null,null,null,0]
[null,null,15,null,null,null,null,null,null,null,null,null,null,null,null,0]
[null,null,16,null,null,null,null,null,null,null,null,null,null,null,null,0]
[null,null,17,null,null,null,null,null,null,null,null,null,null,null,null,0]
[null,null,25,null,null,null,null,null,null,null,null,null,null,null,null,0]
[null,null,26,null,null,null,null,null,null,null,null,null,null,null,null,0]
[null,null,27,null,null,null,null,null,null,null,null,null,null,null,null,0]
[493,"Transferencias para el sector privado externo",11,null,null,null,null,null,null,null,null,null,null,null,null,0]
[null,null,12,null,null,null,null,null,null,null,null,null,null,null,null,0]
[null,null,13,null,null,null,null,null,null,null,null,null,null,null,null,0]
[null,null,14,null,null,null,null,null,null,null,null,null,null,null,null,0]
[null,null,15,null,null,null,null,null,null,null,null,null,null,null,null,0]
[null,null,16,null,null,null,null,null,null,null,null,null,null,null,null,0]
[null,null,17,null,null,null,null,null,null,null,null,null,null,null,null,0]
[null,null,25,null,null,null,null,null,null,null,null,null,null,null,null,0]
[null,null,26,null,null,null,null,null,null,null,null,null,null,null,null,0]
[null,null,27,null,null,null,null,null,null,null,null,null,null,null,null,0]
[5000,"BIENES MUEBLES, INMUEBLES E INTANGIBLES ",null,{"$f":"D1861+D1922+D1963+D1984+D2045+D2056+D2137+D2228+D2269","v":0},{"$f":"E1861+E1922+E1963+E1984+E2045+E2056+E2137+E2228+E2269","v":0},0,0,0,0,0,0,0,0,0,0,0]
[5100,"MOBILIARIO Y EQUIPO DE ADMINISTRACIÓN",null,{"$f":"SUM(D1862:D1921)","v":0},{"$f":"SUM(E1862:E1921)","v":0},0,0,0,0,0,0,0,0,0,0,{"$f":"SUM(P1862:P1921)","v":0}]
[511,"Muebles de oficina y estantería ",11,null,null,null,null,null,null,null,null,null,null,null,null,{"$f":"SUM(D1862:O1862)","v":0}]
[null,null,12,null,null,null,null,null,null,null,null,null,null,null,null,0]
[null,null,13,null,null,null,null,null,null,null,null,null,null,null,null,0]
[null,null,14,null,null,null,null,null,null,null,null,null,null,null,null,0]
[null,null,15,null,null,null,null,null,null,null,null,null,null,null,null,0]
[null,null,16,null,null,null,null,null,null,null,null,null,null,null,null,0]
[null,null,17,null,null,null,null,null,null,null,null,null,null,null,null,0]
[null,null,25,null,null,null,null,null,null,null,null,null,null,null,null,0]
[null,null,26,null,null,null,null,null,null,null,null,null,null,null,null,0]
[null,null,27,null,null,null,null,null,null,null,null,null,null,null,null,0]
[512,"Muebles, excepto de oficina y estantería",11,null,null,null,null,null,null,null,null,null,null,null,null,0]
[null,null,12,null,null,null,null,null,null,null,null,null,null,null,null,0]
[null,null,13,null,null,null,null,null,null,null,null,null,null,null,null,0]
[null,null,14,null,null,null,null,null,null,null,null,null,null,null,null,0]
[null,null,15,null,null,null,null,null,null,null,null,null,null,null,null,0]
[null,null,16,null,null,null,null,null,null,null,null,null,null,null,null,0]
[null,null,17,null,null,null,null,null,null,null,null,null,null,null,null,0]
[null,null,25,null,null,null,null,null,null,null,null,null,null,null,null,0]
[null,null,26,null,null,null,null,null,null,null,null,null,null,null,null,0]
[null,null,27,null,null,null,null,null,null,null,null,null,null,null,null,0]
[513,"Bienes artísticos, culturales y científicos",11,null,null,null,null,null,null,null,null,null,null,null,null,0]
[null,null,12,null,null,null,null,null,null,null,null,null,null,null,null,0]
[null,null,13,null,null,null,null,null,null,null,null,null,null,null,null,0]
[null,null,14,null,null,null,null,null,null,null,null,null,null,null,null,0]
[null,null,15,null,null,null,null,null,null,null,null,null,null,null,null,0]
[null,null,16,null,null,null,null,null,null,null,null,null,null,null,null,0]
[null,null,17,null,null,null,null,null,null,null,null,null,null,null,null,0]
[null,null,25,null,null,null,null,null,null,null,null,null,null,null,null,0]
[null,null,26,null,null,null,null,null,null,null,null,null,null,null,null,0]
[null,null,27,null,null,null,null,null,null,null,null,null,null,null,null,0]
[514,"Objetos de valor",11,null,null,null,null,null,null,null,null,null,null,null,null,0]
[null,null,12,null,null,null,null,null,null,null,null,null,null,null,null,0]
[null,null,13,null,null,null,null,null,null,null,null,null,null,null,null,0]
[null,null,14,null,null,null,null,null,null,null,null,null,null,null,null,0]
[null,null,15,null,null,null,null,null,null,null,null,null,null,null,null,0]
[null,null,16,null,null,null,null,null,null,null,null,null,null,null,null,0]
[null,null,17,null,null,null,null,null,null,null,null,null,null,null,null,0]
[null,null,25,null,null,null,null,null,null,null,null,null,null,null,null,0]
[null,null,26,null,null,null,null,null,null,null,null,null,null,null,null,0]
[null,null,27,null,null,null,null,null,null,null,null,null,null,null,null,0]
[515,"Equipo de cómputo de tecnologías de la información",11,null,null,null,null,null,null,null,null,null,null,null,null,0]
[null,null,12,null,null,null,null,null,null,null,null,null,null,null,null,0]
[null,null,13,null,null,null,null,null,null,null,null,null,null,null,null,0]
[null,null,14,null,null,null,null,null,null,null,null,null,null,null,null,0]
[null,null,15,null,null,null,null,null,null,null,null,null,null,null,null,0]
[null,null,16,null,null,null,null,null,null,null,null,null,null,null,null,0]
[null,null,17,null,null,null,null,null,null,null,null,null,null,null,null,0]
[null,null,25,null,null,null,null,null,null,null,null,null,null,null,null,0]
[null,null,26,null,null,null,null,null,null,null,null,null,null,null,null,0]
[null,null,27,null,null,null,null,null,null,null,null,null,null,null,null,0]
[519,"Otros mobiliarios y equipos de administración",11,null,null,null,null,null,null,null,null,null,null,null,null,0]
[null,null,12,null,null,null,null,null,null,null,null,null,null,null,null,0]
[null,null,13,null,null,null,null,null,null,null,null,null,null,null,null,0]
[null,null,14,null,null,null,null,null,null,null,null,null,null,null,null,0]
[null,null,15,null,null,null,null,null,null,null,null,null,null,null,null,0]
[null,null,16,null,null,null,null,null,null,null,null,null,null,null,null,0]
[null,null,17,null,null,null,null,null,null,null,null,null,null,null,null,0]
[null,null,25,null,null,null,null,null,null,null,null,null,null,null,null,0]
[null,null,26,null,null,null,null,null,null,null,null,null,null,null,null,0]
[null,null,27,null,null,null,null,null,null,null,null,null,null,null,null,0]
[5200,"MOBILIARIO Y EQUIPO EDUCACIONAL Y RECREATIVO",null,{"$f":"SUM(D1923:D1962)","v":0},{"$f":"SUM(E1923:E1962)","v":0},0,0,0,0,0,0,0,0,0,0,{"$f":"SUM(P1923:P1962)","v":0}]
[521,"Equipos y aparatos audiovisuales",11,null,null,null,null,null,null,null,null,null,null,null,null,{"$f":"SUM(D1923:O1923)","v":0}]
[null,null,12,null,null,null,null,null,null,null,null,null,null,null,null,{"$f":"SUM(D1924:O1924)","v":0}]
[null,null,13,null,null,null,null,null,null,null,null,null,null,null,null,0]
[null,null,14,null,null,null,null,null,null,null,null,null,null,null,null,0]
[null,null,15,null,null,null,null,null,null,null,null,null,null,null,null,0]
[null,null,16,null,null,null,null,null,null,null,null,null,null,null,null,0]
[null,null,17,null,null,null,null,null,null,null,null,null,null,null,null,0]
[null,null,25,null,null,null,null,null,null,null,null,null,null,null,null,0]
[null,null,26,null,null,null,null,null,null,null,null,null,null,null,null,0]
[null,null,27,null,null,null,null,null,null,null,null,null,null,null,null,0]
[522,"Aparatos deportivos",11,null,null,null,null,null,null,null,null,null,null,null,null,0]
[null,null,12,null,null,null,null,null,null,null,null,null,null,null,null,0]
[null,null,13,null,null,null,null,null,null,null,null,null,null,null,null,0]
[null,null,14,null,null,null,null,null,null,null,null,null,null,null,null,0]
[null,null,15,null,null,null,null,null,null,null,null,null,null,null,null,0]
[null,null,16,null,null,null,null,null,null,null,null,null,null,null,null,0]
[null,null,17,null,null,null,null,null,null,null,null,null,null,null,null,0]
[null,null,25,null,null,null,null,null,null,null,null,null,null,null,null,0]
[null,null,26,null,null,null,null,null,null,null,null,null,null,null,null,0]
[null,null,27,null,null,null,null,null,null,null,null,null,null,null,null,0]
[523,"Cámaras fotográficas y de video",11,null,null,null,null,null,null,null,null,null,null,null,null,0]
[null,null,12,null,null,null,null,null,null,null,null,null,null,null,null,0]
[null,null,13,null,null,null,null,null,null,null,null,null,null,null,null,0]
[null,null,14,null,null,null,null,null,null,null,null,null,null,null,null,0]
[null,null,15,null,null,null,null,null,null,null,null,null,null,null,null,0]
[null,null,16,null,null,null,null,null,null,null,null,null,null,null,null,0]
[null,null,17,null,null,null,null,null,null,null,null,null,null,null,null,0]
[null,null,25,null,null,null,null,null,null,null,null,null,null,null,null,0]
[null,null,26,null,null,null,null,null,null,null,null,null,null,null,null,0]
[null,null,27,null,null,null,null,null,null,null,null,null,null,null,null,0]
[529,"Otro mobiliario y equipo educacional y recreativo ",11,null,null,null,null,null,null,null,null,null,null,null,null,0]
[null,null,12,null,null,null,null,null,null,null,null,null,null,null,null,0]
[null,null,13,null,null,null,null,null,null,null,null,null,null,null,null,0]
[null,null,14,null,null,null,null,null,null,null,null,null,null,null,null,0]
[null,null,15,null,null,null,null,null,null,null,null,null,null,null,null,0]
[null,null,16,null,null,null,null,null,null,null,null,null,null,null,null,0]
[null,null,17,null,null,null,null,null,null,null,null,null,null,null,null,0]
[null,null,25,null,null,null,null,null,null,null,null,null,null,null,null,0]
[null,null,26,null,null,null,null,null,null,null,null,null,null,null,null,0]
[null,null,27,null,null,null,null,null,null,null,null,null,null,null,null,0]
[5300,"EQUIPO E INSTRUMENTAL MÉDICO Y DE LABORATORIO",null,{"$f":"SUM(D1964:D1983)","v":0},{"$f":"SUM(E1964:E1983)","v":0},0,0,0,0,0,0,0,0,0,0,{"$f":"SUM(P1964:P1983)","v":0}]
[531,"Equipo médico y de laboratorio",11,null,null,null,null,null,null,null,null,null,null,null,null,{"$f":"SUM(D1964:O1964)","v":0}]
[null,null,12,null,null,null,null,null,null,null,null,null,null,null,null,{"$f":"SUM(D1965:O1965)","v":0}]
[null,null,13,null,null,null,null,null,null,null,null,null,null,null,null,0]
[null,null,14,null,null,null,null,null,null,null,null,null,null,null,null,0]
[null,null,15,null,null,null,null,null,null,null,null,null,null,null,null,0]
[null,null,16,null,null,null,null,null,null,null,null,null,null,null,null,0]
[null,null,17,null,null,null,null,null,null,null,null,null,null,null,null,0]
[null,null,25,null,null,null,null,null,null,null,null,null,null,null,null,0]
[null,null,26,null,null,null,null,null,null,null,null,null,null,null,null,0]
[null,null,27,null,null,null,null,null,null,null,null,null,null,null,null,0]
[532,"Instrumental médico y de laboratorio",11,null,null,null,null,null,null,null,null,null,null,null,null,0]
[null,null,12,null,null,null,null,null,null,null,null,null,null,null,null,0]
[null,null,13,null,null,null,null,null,null,null,null,null,null,null,null,0]
[null,null,14,null,null,null,null,null,null,null,null,null,null,null,null,0]
[null,null,15,null,null,null,null,null,null,null,null,null,null,null,null,0]
[null,null,16,null,null,null,null,null,null,null,null,null,null,null,null,0]
[null,null,17,null,null,null,null,null,null,null,null,null,null,null,null,0]
[null,null,25,null,null,null,null,null,null,null,null,null,null,null,null,0]
[null,null,26,null,null,null,null,null,null,null,null,null,null,null,null,0]
[null,null,27,null,null,null,null,null,null,null,null,null,null,null,null,0]
[5400,"VEHÍCULOS Y EQUIPO DE TRANSPORTE",null,{"$f":"SUM(D1985:D2044)","v":0},{"$f":"SUM(E1985:E2044)","v":0},0,0,0,0,0,0,0,0,0,0,{"$f":"SUM(P1985:P2044)","v":0}]
[541,"Vehículos y equipo terrestre",11,null,null,null,null,null,null,null,null,null,null,null,null,{"$f":"SUM(D1985:O1985)","v":0}]
[null,null,12,null,null,null,null,null,null,null,null,null,null,null,null,0]
[null,null,13,null,null,null,null,null,null,null,null,null,null,null,null,0]
[null,null,14,null,null,null,null,null,null,null,null,null,null,null,null,0]
[null,null,15,null,null,null,null,null,null,null,null,null,null,null,null,0]
[null,null,16,null,null,null,null,null,null,null,null,null,null,null,null,0]
[null,null,17,null,null,null,null,null,null,null,null,null,null,null,null,0]
[null,null,25,null,null,null,null,null,null,null,null,null,null,null,null,0]
[null,null,26,null,null,null,null,null,null,null,null,null,null,null,null,0]
[null,null,27,null,null,null,null,null,null,null,null,null,null,null,null,0]
[542,"Carrocerías  y remolques",11,null,null,null,null,null,null,null,null,null,null,null,null,0]
[null,null,12,null,null,null,null,null,null,null,null,null,null,null,null,0]
[null,null,13,null,null,null,null,null,null,null,null,null,null,null,null,0]
[null,null,14,null,null,null,null,null,null,null,null,null,null,null,null,0]
[null,null,15,null,null,null,null,null,null,null,null,null,null,null,null,0]
[null,null,16,null,null,null,null,null,null,null,null,null,null,null,null,0]
[null,null,17,null,null,null,null,null,null,null,null,null,null,null,null,0]
[null,null,25,null,null,null,null,null,null,null,null,null,null,null,null,0]
[null,null,26,null,null,null,null,null,null,null,null,null,null,null,null,0]
[null,null,27,null,null,null,null,null,null,null,null,null,null,null,null,0]
[543,"Equipo aeroespacial",11,null,null,null,null,null,null,null,null,null,null,null,null,0]
[null,null,12,null,null,null,null,null,null,null,null,null,null,null,null,0]
[null,null,13,null,null,null,null,null,null,null,null,null,null,null,null,0]
[null,null,14,null,null,null,null,null,null,null,null,null,null,null,null,0]
[null,null,15,null,null,null,null,null,null,null,null,null,null,null,null,0]
[null,null,16,null,null,null,null,null,null,null,null,null,null,null,null,0]
[null,null,17,null,null,null,null,null,null,null,null,null,null,null,null,0]
[null,null,25,null,null,null,null,null,null,null,null,null,null,null,null,0]
[null,null,26,null,null,null,null,null,null,null,null,null,null,null,null,0]
[null,null,27,null,null,null,null,null,null,null,null,null,null,null,null,0]
[544,"Equipo ferroviario",11,null,null,null,null,null,null,null,null,null,null,null,null,0]
[null,null,12,null,null,null,null,null,null,null,null,null,null,null,null,0]
[null,null,13,null,null,null,null,null,null,null,null,null,null,null,null,0]
[null,null,14,null,null,null,null,null,null,null,null,null,null,null,null,0]
[null,null,15,null,null,null,null,null,null,null,null,null,null,null,null,0]
[null,null,16,null,null,null,null,null,null,null,null,null,null,null,null,0]
[null,null,17,null,null,null,null,null,null,null,null,null,null,null,null,0]
[null,null,25,null,null,null,null,null,null,null,null,null,null,null,null,0]
[null,null,26,null,null,null,null,null,null,null,null,null,null,null,null,0]
[null,null,27,null,null,null,null,null,null,null,null,null,null,null,null,0]
[545,"Embarcaciones",11,null,null,null,null,null,null,null,null,null,null,null,null,0]
[null,null,12,null,null,null,null,null,null,null,null,null,null,null,null,0]
[null,null,13,null,null,null,null,null,null,null,null,null,null,null,null,0]
[null,null,14,null,null,null,null,null,null,null,null,null,null,null,null,0]
[null,null,15,null,null,null,null,null,null,null,null,null,null,null,null,0]
[null,null,16,null,null,null,null,null,null,null,null,null,null,null,null,0]
[null,null,17,null,null,null,null,null,null,null,null,null,null,null,null,0]
[null,null,25,null,null,null,null,null,null,null,null,null,null,null,null,0]
[null,null,26,null,null,null,null,null,null,null,null,null,null,null,null,0]
[null,null,27,null,null,null,null,null,null,null,null,null,null,null,null,0]
[549,"Otros equipo de transporte",11,null,null,null,null,null,null,null,null,null,null,null,null,0]
[null,null,12,null,null,null,null,null,null,null,null,null,null,null,null,0]
[null,null,13,null,null,null,null,null,null,null,null,null,null,null,null,0]
[null,null,14,null,null,null,null,null,null,null,null,null,null,null,null,0]
[null,null,15,null,null,null,null,null,null,null,null,null,null,null,null,0]
[null,null,16,null,null,null,null,null,null,null,null,null,null,null,null,0]
[null,null,17,null,null,null,null,null,null,null,null,null,null,null,null,0]
[null,null,25,null,null,null,null,null,null,null,null,null,null,null,null,0]
[null,null,26,null,null,null,null,null,null,null,null,null,null,null,null,0]
[null,null,27,null,null,null,null,null,null,null,null,null,null,null,null,0]
[5500,"EQUIPO DE DEFENSA Y SEGURIDAD",null,{"$f":"SUM(D2046:D2055)","v":0},{"$f":"SUM(E2046:E2055)","v":0},0,0,0,0,0,0,0,0,0,0,{"$f":"SUM(P2046:P2055)","v":0}]
[551,"Equipo de defensa y seguridad",11,null,null,null,null,null,null,null,null,null,null,null,null,{"$f":"SUM(D2046:O2046)","v":0}]
[null,null,12,null,null,null,null,null,null,null,null,null,null,null,null,{"$f":"SUM(D2047:O2047)","v":0}]
[null,null,13,null,null,null,null,null,null,null,null,null,null,null,null,{"$f":"SUM(D2048:O2048)","v":0}]
[null,null,14,null,null,null,null,null,null,null,null,null,null,null,null,0]
[null,null,15,null,null,null,null,null,null,null,null,null,null,null,null,0]
[null,null,16,null,null,null,null,null,null,null,null,null,null,null,null,0]
[null,null,17,null,null,null,null,null,null,null,null,null,null,null,null,0]
[null,null,25,null,null,null,null,null,null,null,null,null,null,null,null,0]
[null,null,26,null,null,null,null,null,null,null,null,null,null,null,null,0]
[null,null,27,null,null,null,null,null,null,null,null,null,null,null,null,0]
[5600,"MAQUINARIA, OTROS EQUIPOS Y HERRAMIENTAS",null,{"$f":"SUM(D2057:D2136)","v":0},{"$f":"SUM(E2057:E2136)","v":0},0,0,0,0,0,0,0,0,0,0,{"$f":"SUM(P2057:P2136)","v":0}]
[561,"Maquinaria y equipo agropecuario",11,null,null,null,null,null,null,null,null,null,null,null,null,{"$f":"SUM(D2057:O2057)","v":0}]
[null,null,12,null,null,null,null,null,null,null,null,null,null,null,null,0]
[null,null,13,null,null,null,null,null,null,null,null,null,null,null,null,0]
[null,null,14,null,null,null,null,null,null,null,null,null,null,null,null,0]
[null,null,15,null,null,null,null,null,null,null,null,null,null,null,null,0]
[null,null,16,null,null,null,null,null,null,null,null,null,null,null,null,0]
[null,null,17,null,null,null,null,null,null,null,null,null,null,null,null,0]
[null,null,25,null,null,null,null,null,null,null,null,null,null,null,null,0]
[null,null,26,null,null,null,null,null,null,null,null,null,null,null,null,0]
[null,null,27,null,null,null,null,null,null,null,null,null,null,null,null,0]
[562,"Maquinaria y equipo industrial",11,null,null,null,null,null,null,null,null,null,null,null,null,0]
[null,null,12,null,null,null,null,null,null,null,null,null,null,null,null,0]
[null,null,13,null,null,null,null,null,null,null,null,null,null,null,null,0]
[null,null,14,null,null,null,null,null,null,null,null,null,null,null,null,0]
[null,null,15,null,null,null,null,null,null,null,null,null,null,null,null,0]
[null,null,16,null,null,null,null,null,null,null,null,null,null,null,null,0]
[null,null,17,null,null,null,null,null,null,null,null,null,null,null,null,0]
[null,null,25,null,null,null,null,null,null,null,null,null,null,null,null,0]
[null,null,26,null,null,null,null,null,null,null,null,null,null,null,null,0]
[null,null,27,null,null,null,null,null,null,null,null,null,null,null,null,0]
[563,"Maquinaria y equipo de construcción",11,null,null,null,null,null,null,null,null,null,null,null,null,0]
[null,null,12,null,null,null,null,null,null,null,null,null,null,null,null,0]
[null,null,13,null,null,null,null,null,null,null,null,null,null,null,null,0]
[null,null,14,null,null,null,null,null,null,null,null,null,null,null,null,0]
[null,null,15,null,null,null,null,null,null,null,null,null,null,null,null,0]
[null,null,16,null,null,null,null,null,null,null,null,null,null,null,null,0]
[null,null,17,null,null,null,null,null,null,null,null,null,null,null,null,0]
[null,null,25,null,null,null,null,null,null,null,null,null,null,null,null,0]
[null,null,26,null,null,null,null,null,null,null,null,null,null,null,null,0]
[null,null,27,null,null,null,null,null,null,null,null,null,null,null,null,0]
[564,"Sistemas de aire acondicionado, calefacción y de refrigeración industrial y comercial",11,null,null,null,null,null,null,null,null,null,null,null,null,0]
[null,null,12,null,null,null,null,null,null,null,null,null,null,null,null,0]
[null,null,13,null,null,null,null,null,null,null,null,null,null,null,null,0]
[null,null,14,null,null,null,null,null,null,null,null,null,null,null,null,0]
[null,null,15,null,null,null,null,null,null,null,null,null,null,null,null,0]
[null,null,16,null,null,null,null,null,null,null,null,null,null,null,null,0]
[null,null,17,null,null,null,null,null,null,null,null,null,null,null,null,0]
[null,null,25,null,null,null,null,null,null,null,null,null,null,null,null,0]
[null,null,26,null,null,null,null,null,null,null,null,null,null,null,null,0]
[null,null,27,null,null,null,null,null,null,null,null,null,null,null,null,0]
[565,"Equipo de comunicación y telecomunicación",11,null,null,null,null,null,null,null,null,null,null,null,null,0]
[null,null,12,null,null,null,null,null,null,null,null,null,null,null,null,0]
[null,null,13,null,null,null,null,null,null,null,null,null,null,null,null,0]
[null,null,14,null,null,null,null,null,null,null,null,null,null,null,null,0]
[null,null,15,null,null,null,null,null,null,null,null,null,null,null,null,0]
[null,null,16,null,null,null,null,null,null,null,null,null,null,null,null,0]
[null,null,17,null,null,null,null,null,null,null,null,null,null,null,null,0]
[null,null,25,null,null,null,null,null,null,null,null,null,null,null,null,0]
[null,null,26,null,null,null,null,null,null,null,null,null,null,null,null,0]
[null,null,27,null,null,null,null,null,null,null,null,null,null,null,null,0]
[566,"Equipo de generación eléctrica, aparatos y accesorios eléctricos",11,null,null,null,null,null,null,null,null,null,null,null,null,0]
[null,null,12,null,null,null,null,null,null,null,null,null,null,null,null,0]
[null,null,13,null,null,null,null,null,null,null,null,null,null,null,null,0]
[null,null,14,null,null,null,null,null,null,null,null,null,null,null,null,0]
[null,null,15,null,null,null,null,null,null,null,null,null,null,null,null,0]
[null,null,16,null,null,null,null,null,null,null,null,null,null,null,null,0]
[null,null,17,null,null,null,null,null,null,null,null,null,null,null,null,0]
[null,null,25,null,null,null,null,null,null,null,null,null,null,null,null,0]
[null,null,26,null,null,null,null,null,null,null,null,null,null,null,null,0]
[null,null,27,null,null,null,null,null,null,null,null,null,null,null,null,0]
[567,"Herramientas y máquinas-herramienta",11,null,null,null,null,null,null,null,null,null,null,null,null,0]
[null,null,12,null,null,null,null,null,null,null,null,null,null,null,null,0]
[null,null,13,null,null,null,null,null,null,null,null,null,null,null,null,0]
[null,null,14,null,null,null,null,null,null,null,null,null,null,null,null,0]
[null,null,15,null,null,null,null,null,null,null,null,null,null,null,null,0]
[null,null,16,null,null,null,null,null,null,null,null,null,null,null,null,0]
[null,null,17,null,null,null,null,null,null,null,null,null,null,null,null,0]
[null,null,25,null,null,null,null,null,null,null,null,null,null,null,null,0]
[null,null,26,null,null,null,null,null,null,null,null,null,null,null,null,0]
[null,null,27,null,null,null,null,null,null,null,null,null,null,null,null,0]
[569,"Otros equipos",11,null,null,null,null,null,null,null,null,null,null,null,null,0]
[null,null,12,null,null,null,null,null,null,null,null,null,null,null,null,0]
[null,null,13,null,null,null,null,null,null,null,null,null,null,null,null,0]
[null,null,14,null,null,null,null,null,null,null,null,null,null,null,null,0]
[null,null,15,null,null,null,null,null,null,null,null,null,null,null,null,0]
[null,null,16,null,null,null,null,null,null,null,null,null,null,null,null,0]
[null,null,17,null,null,null,null,null,null,null,null,null,null,null,null,0]
[null,null,25,null,null,null,null,null,null,null,null,null,null,null,null,0]
[null,null,26,null,null,null,null,null,null,null,null,null,null,null,null,0]
[null,null,27,null,null,null,null,null,null,null,null,null,null,null,null,0]
[5700,"ACTIVOS BIOLÓGICOS",null,{"$f":"SUM(D2138:D2227)","v":0},{"$f":"SUM(E2138:E2227)","v":0},0,0,0,0,0,0,0,0,0,0,{"$f":"SUM(P2138:P2227)","v":0}]
[571,"Bovinos",11,null,null,null,null,null,null,null,null,null,null,null,null,{"$f":"SUM(D2138:O2138)","v":0}]
[null,null,12,null,null,null,null,null,null,null,null,null,null,null,null,0]
[null,null,13,null,null,null,null,null,null,null,null,null,null,null,null,0]
[null,null,14,null,null,null,null,null,null,null,null,null,null,null,null,0]
[null,null,15,null,null,null,null,null,null,null,null,null,null,null,null,0]
[null,null,16,null,null,null,null,null,null,null,null,null,null,null,null,0]
[null,null,17,null,null,null,null,null,null,null,null,null,null,null,null,0]
[null,null,25,null,null,null,null,null,null,null,null,null,null,null,null,0]
[null,null,26,null,null,null,null,null,null,null,null,null,null,null,null,0]
[null,null,27,null,null,null,null,null,null,null,null,null,null,null,null,0]
[572,"Porcinos",11,null,null,null,null,null,null,null,null,null,null,null,null,0]
[null,null,12,null,null,null,null,null,null,null,null,null,null,null,null,0]
[null,null,13,null,null,null,null,null,null,null,null,null,null,null,null,0]
[null,null,14,null,null,null,null,null,null,null,null,null,null,null,null,0]
[null,null,15,null,null,null,null,null,null,null,null,null,null,null,null,0]
[null,null,16,null,null,null,null,null,null,null,null,null,null,null,null,0]
[null,null,17,null,null,null,null,null,null,null,null,null,null,null,null,0]
[null,null,25,null,null,null,null,null,null,null,null,null,null,null,null,0]
[null,null,26,null,null,null,null,null,null,null,null,null,null,null,null,0]
[null,null,27,null,null,null,null,null,null,null,null,null,null,null,null,0]
[573,"Aves",11,null,null,null,null,null,null,null,null,null,null,null,null,0]
[null,null,12,null,null,null,null,null,null,null,null,null,null,null,null,0]
[null,null,13,null,null,null,null,null,null,null,null,null,null,null,null,0]
[null,null,14,null,null,null,null,null,null,null,null,null,null,null,null,0]
[null,null,15,null,null,null,null,null,null,null,null,null,null,null,null,0]
[null,null,16,null,null,null,null,null,null,null,null,null,null,null,null,0]
[null,null,17,null,null,null,null,null,null,null,null,null,null,null,null,0]
[null,null,25,null,null,null,null,null,null,null,null,null,null,null,null,0]
[null,null,26,null,null,null,null,null,null,null,null,null,null,null,null,0]
[null,null,27,null,null,null,null,null,null,null,null,null,null,null,null,0]
[574,"Ovinos y caprinos ",11,null,null,null,null,null,null,null,null,null,null,null,null,0]
[null,null,12,null,null,null,null,null,null,null,null,null,null,null,null,0]
[null,null,13,null,null,null,null,null,null,null,null,null,null,null,null,0]
[null,null,14,null,null,null,null,null,null,null,null,null,null,null,null,0]
[null,null,15,null,null,null,null,null,null,null,null,null,null,null,null,0]
[null,null,16,null,null,null,null,null,null,null,null,null,null,null,null,0]
[null,null,17,null,null,null,null,null,null,null,null,null,null,null,null,0]
[null,null,25,null,null,null,null,null,null,null,null,null,null,null,null,0]
[null,null,26,null,null,null,null,null,null,null,null,null,null,null,null,0]
[null,null,27,null,null,null,null,null,null,null,null,null,null,null,null,0]
[575,"Peces y acuicultura",11,null,null,null,null,null,null,null,null,null,null,null,null,0]
[null,null,12,null,null,null,null,null,null,null,null,null,null,null,null,0]
[null,null,13,null,null,null,null,null,null,null,null,null,null,null,null,0]
[null,null,14,null,null,null,null,null,null,null,null,null,null,null,null,0]
[null,null,15,null,null,null,null,null,null,null,null,null,null,null,null,0]
[null,null,16,null,null,null,null,null,null,null,null,null,null,null,null,0]
[null,null,17,null,null,null,null,null,null,null,null,null,null,null,null,0]
[null,null,25,null,null,null,null,null,null,null,null,null,null,null,null,0]
[null,null,26,null,null,null,null,null,null,null,null,null,null,null,null,0]
[null,null,27,null,null,null,null,null,null,null,null,null,null,null,null,0]
[576,"Equinos",11,null,null,null,null,null,null,null,null,null,null,null,null,0]
[null,null,12,null,null,null,null,null,null,null,null,null,null,null,null,0]
[null,null,13,null,null,null,null,null,null,null,null,null,null,null,null,0]
[null,null,14,null,null,null,null,null,null,null,null,null,null,null,null,0]
[null,null,15,null,null,null,null,null,null,null,null,null,null,null,null,0]
[null,null,16,null,null,null,null,null,null,null,null,null,null,null,null,0]
[null,null,17,null,null,null,null,null,null,null,null,null,null,null,null,0]
[null,null,25,null,null,null,null,null,null,null,null,null,null,null,null,0]
[null,null,26,null,null,null,null,null,null,null,null,null,null,null,null,0]
[null,null,27,null,null,null,null,null,null,null,null,null,null,null,null,0]
[577,"Especies menores y de zoológico",11,null,null,null,null,null,null,null,null,null,null,null,null,0]
[null,null,12,null,null,null,null,null,null,null,null,null,null,null,null,0]
[null,null,13,null,null,null,null,null,null,null,null,null,null,null,null,0]
[null,null,14,null,null,null,null,null,null,null,null,null,null,null,null,0]
[null,null,15,null,null,null,null,null,null,null,null,null,null,null,null,0]
[null,null,16,null,null,null,null,null,null,null,null,null,null,null,null,0]
[null,null,17,null,null,null,null,null,null,null,null,null,null,null,null,0]
[null,null,25,null,null,null,null,null,null,null,null,null,null,null,null,0]
[null,null,26,null,null,null,null,null,null,null,null,null,null,null,null,0]
[null,null,27,null,null,null,null,null,null,null,null,null,null,null,null,0]
[578,"Árboles y plantas",11,null,null,null,null,null,null,null,null,null,null,null,null,0]
[null,null,12,null,null,null,null,null,null,null,null,null,null,null,null,0]
[null,null,13,null,null,null,null,null,null,null,null,null,null,null,null,0]
[null,null,14,null,null,null,null,null,null,null,null,null,null,null,null,0]
[null,null,15,null,null,null,null,null,null,null,null,null,null,null,null,0]
[null,null,16,null,null,null,null,null,null,null,null,null,null,null,null,0]
[null,null,17,null,null,null,null,null,null,null,null,null,null,null,null,0]
[null,null,25,null,null,null,null,null,null,null,null,null,null,null,null,0]
[null,null,26,null,null,null,null,null,null,null,null,null,null,null,null,0]
[null,null,27,null,null,null,null,null,null,null,null,null,null,null,null,0]
[579,"Otros activos biológicos",11,null,null,null,null,null,null,null,null,null,null,null,null,0]
[null,null,12,null,null,null,null,null,null,null,null,null,null,null,null,{"$f":"SUM(D2219:O2219)","v":0}]
[null,null,13,null,null,null,null,null,null,null,null,null,null,null,null,0]
[null,null,14,null,null,null,null,null,null,null,null,null,null,null,null,0]
[null,null,15,null,null,null,null,null,null,null,null,null,null,null,null,0]
[null,null,16,null,null,null,null,null,null,null,null,null,null,null,null,0]
[null,null,17,null,null,null,null,null,null,null,null,null,null,null,null,0]
[null,null,25,null,null,null,null,null,null,null,null,null,null,null,null,0]
[null,null,26,null,null,null,null,null,null,null,null,null,null,null,null,0]
[null,null,27,null,null,null,null,null,null,null,null,null,null,null,null,0]
[5800,"BIENES INMUEBLES",null,{"$f":"SUM(D2229:D2268)","v":0},{"$f":"SUM(E2229:E2268)","v":0},0,0,0,0,0,0,0,0,0,0,{"$f":"SUM(P2229:P2268)","v":0}]
[581,"Terrenos",11,null,null,null,null,null,null,null,null,null,null,null,null,{"$f":"SUM(D2229:O2229)","v":0}]
[null,null,12,null,null,null,null,null,null,null,null,null,null,null,null,{"$f":"SUM(D2230:O2230)","v":0}]
[null,null,13,null,null,null,null,null,null,null,null,null,null,null,null,0]
[null,null,14,null,null,null,null,null,null,null,null,null,null,null,null,0]
[null,null,15,null,null,null,null,null,null,null,null,null,null,null,null,0]
[null,null,16,null,null,null,null,null,null,null,null,null,null,null,null,0]
[null,null,17,null,null,null,null,null,null,null,null,null,null,null,null,0]
[null,null,25,null,null,null,null,null,null,null,null,null,null,null,null,0]
[null,null,26,null,null,null,null,null,null,null,null,null,null,null,null,0]
[null,null,27,null,null,null,null,null,null,null,null,null,null,null,null,0]
[582,"Viviendas ",11,null,null,null,null,null,null,null,null,null,null,null,null,0]
[null,null,12,null,null,null,null,null,null,null,null,null,null,null,null,0]
[null,null,13,null,null,null,null,null,null,null,null,null,null,null,null,0]
[null,null,14,null,null,null,null,null,null,null,null,null,null,null,null,0]
[null,null,15,null,null,null,null,null,null,null,null,null,null,null,null,0]
[null,null,16,null,null,null,null,null,null,null,null,null,null,null,null,0]
[null,null,17,null,null,null,null,null,null,null,null,null,null,null,null,0]
[null,null,25,null,null,null,null,null,null,null,null,null,null,null,null,0]
[null,null,26,null,null,null,null,null,null,null,null,null,null,null,null,0]
[null,null,27,null,null,null,null,null,null,null,null,null,null,null,null,0]
[583,"Edificios no residenciales",11,null,null,null,null,null,null,null,null,null,null,null,null,0]
[null,null,12,null,null,null,null,null,null,null,null,null,null,null,null,0]
[null,null,13,null,null,null,null,null,null,null,null,null,null,null,null,0]
[null,null,14,null,null,null,null,null,null,null,null,null,null,null,null,0]
[null,null,15,null,null,null,null,null,null,null,null,null,null,null,null,0]
[null,null,16,null,null,null,null,null,null,null,null,null,null,null,null,0]
[null,null,17,null,null,null,null,null,null,null,null,null,null,null,null,0]
[null,null,25,null,null,null,null,null,null,null,null,null,null,null,null,0]
[null,null,26,null,null,null,null,null,null,null,null,null,null,null,null,0]
[null,null,27,null,null,null,null,null,null,null,null,null,null,null,null,0]
[589,"Otros bienes inmuebles",11,null,null,null,null,null,null,null,null,null,null,null,null,0]
[null,null,12,null,null,null,null,null,null,null,null,null,null,null,null,0]
[null,null,13,null,null,null,null,null,null,null,null,null,null,null,null,0]
[null,null,14,null,null,null,null,null,null,null,null,null,null,null,null,0]
[null,null,15,null,null,null,null,null,null,null,null,null,null,null,null,0]
[null,null,16,null,null,null,null,null,null,null,null,null,null,null,null,0]
[null,null,17,null,null,null,null,null,null,null,null,null,null,null,null,0]
[null,null,25,null,null,null,null,null,null,null,null,null,null,null,null,0]
[null,null,26,null,null,null,null,null,null,null,null,null,null,null,null,0]
[null,null,27,null,null,null,null,null,null,null,null,null,null,null,null,0]
[5900,"ACTIVOS INTANGIBLES",null,{"$f":"SUM(D2270:D2359)","v":0},{"$f":"SUM(E2270:E2359)","v":0},0,0,0,0,0,0,0,0,0,0,{"$f":"SUM(P2270:P2359)","v":0}]
[591,"Software",11,null,null,null,null,null,null,null,null,null,null,null,null,{"$f":"SUM(D2270:O2270)","v":0}]
[null,null,12,null,null,null,null,null,null,null,null,null,null,null,null,0]
[null,null,13,null,null,null,null,null,null,null,null,null,null,null,null,0]
[null,null,14,null,null,null,null,null,null,null,null,null,null,null,null,0]
[null,null,15,null,null,null,null,null,null,null,null,null,null,null,null,0]
[null,null,16,null,null,null,null,null,null,null,null,null,null,null,null,0]
[null,null,17,null,null,null,null,null,null,null,null,null,null,null,null,0]
[null,null,25,null,null,null,null,null,null,null,null,null,null,null,null,0]
[null,null,26,null,null,null,null,null,null,null,null,null,null,null,null,0]
[null,null,27,null,null,null,null,null,null,null,null,null,null,null,null,0]
[592,"Patentes",11,null,null,null,null,null,null,null,null,null,null,null,null,0]
[null,null,12,null,null,null,null,null,null,null,null,null,null,null,null,0]
[null,null,13,null,null,null,null,null,null,null,null,null,null,null,null,0]
[null,null,14,null,null,null,null,null,null,null,null,null,null,null,null,0]
[null,null,15,null,null,null,null,null,null,null,null,null,null,null,null,0]
[null,null,16,null,null,null,null,null,null,null,null,null,null,null,null,0]
[null,null,17,null,null,null,null,null,null,null,null,null,null,null,null,0]
[null,null,25,null,null,null,null,null,null,null,null,null,null,null,null,0]
[null,null,26,null,null,null,null,null,null,null,null,null,null,null,null,0]
[null,null,27,null,null,null,null,null,null,null,null,null,null,null,null,0]
[593,"Marcas",11,null,null,null,null,null,null,null,null,null,null,null,null,0]
[null,null,12,null,null,null,null,null,null,null,null,null,null,null,null,0]
[null,null,13,null,null,null,null,null,null,null,null,null,null,null,null,0]
[null,null,14,null,null,null,null,null,null,null,null,null,null,null,null,0]
[null,null,15,null,null,null,null,null,null,null,null,null,null,null,null,0]
[null,null,16,null,null,null,null,null,null,null,null,null,null,null,null,0]
[null,null,17,null,null,null,null,null,null,null,null,null,null,null,null,0]
[null,null,25,null,null,null,null,null,null,null,null,null,null,null,null,0]
[null,null,26,null,null,null,null,null,null,null,null,null,null,null,null,0]
[null,null,27,null,null,null,null,null,null,null,null,null,null,null,null,0]
[594,"Derechos",11,null,null,null,null,null,null,null,null,null,null,null,null,0]
[null,null,12,null,null,null,null,null,null,null,null,null,null,null,null,0]
[null,null,13,null,null,null,null,null,null,null,null,null,null,null,null,0]
[null,null,14,null,null,null,null,null,null,null,null,null,null,null,null,0]
[null,null,15,null,null,null,null,null,null,null,null,null,null,null,null,0]
[null,null,16,null,null,null,null,null,null,null,null,null,null,null,null,0]
[null,null,17,null,null,null,null,null,null,null,null,null,null,null,null,0]
[null,null,25,null,null,null,null,null,null,null,null,null,null,null,null,0]
[null,null,26,null,null,null,null,null,null,null,null,null,null,null,null,0]
[null,null,27,null,null,null,null,null,null,null,null,null,null,null,null,0]
[595,"Concesiones",11,null,null,null,null,null,null,null,null,null,null,null,null,0]
[null,null,12,null,null,null,null,null,null,null,null,null,null,null,null,0]
[null,null,13,null,null,null,null,null,null,null,null,null,null,null,null,0]
[null,null,14,null,null,null,null,null,null,null,null,null,null,null,null,0]
[null,null,15,null,null,null,null,null,null,null,null,null,null,null,null,0]
[null,null,16,null,null,null,null,null,null,null,null,null,null,null,null,0]
[null,null,17,null,null,null,null,null,null,null,null,null,null,null,null,0]
[null,null,25,null,null,null,null,null,null,null,null,null,null,null,null,0]
[null,null,26,null,null,null,null,null,null,null,null,null,null,null,null,0]
[null,null,27,null,null,null,null,null,null,null,null,null,null,null,null,0]
[596,"Franquicias",11,null,null,null,null,null,null,null,null,null,null,null,null,0]
[null,null,12,null,null,null,null,null,null,null,null,null,null,null,null,0]
[null,null,13,null,null,null,null,null,null,null,null,null,null,null,null,0]
[null,null,14,null,null,null,null,null,null,null,null,null,null,null,null,0]
[null,null,15,null,null,null,null,null,null,null,null,null,null,null,null,0]
[null,null,16,null,null,null,null,null,null,null,null,null,null,null,null,0]
[null,null,17,null,null,null,null,null,null,null,null,null,null,null,null,0]
[null,null,25,null,null,null,null,null,null,null,null,null,null,null,null,0]
[null,null,26,null,null,null,null,null,null,null,null,null,null,null,null,0]
[null,null,27,null,null,null,null,null,null,null,null,null,null,null,null,0]
[597,"Licencias informáticas e intelectuales",11,null,null,null,null,null,null,null,null,null,null,null,null,0]
[null,null,12,null,null,null,null,null,null,null,null,null,null,null,null,0]
[null,null,13,null,null,null,null,null,null,null,null,null,null,null,null,0]
[null,null,14,null,null,null,null,null,null,null,null,null,null,null,null,0]
[null,null,15,null,null,null,null,null,null,null,null,null,null,null,null,0]
[null,null,16,null,null,null,null,null,null,null,null,null,null,null,null,0]
[null,null,17,null,null,null,null,null,null,null,null,null,null,null,null,0]
[null,null,25,null,null,null,null,null,null,null,null,null,null,null,null,0]
[null,null,26,null,null,null,null,null,null,null,null,null,null,null,null,0]
[null,null,27,null,null,null,null,null,null,null,null,null,null,null,null,0]
[598,"Licencias industriales, comerciales y otras",11,null,null,null,null,null,null,null,null,null,null,null,null,0]
[null,null,12,null,null,null,null,null,null,null,null,null,null,null,null,0]
[null,null,13,null,null,null,null,null,null,null,null,null,null,null,null,0]
[null,null,14,null,null,null,null,null,null,null,null,null,null,null,null,0]
[null,null,15,null,null,null,null,null,null,null,null,null,null,null,null,0]
[null,null,16,null,null,null,null,null,null,null,null,null,null,null,null,0]
[null,null,17,null,null,null,null,null,null,null,null,null,null,null,null,0]
[null,null,25,null,null,null,null,null,null,null,null,null,null,null,null,0]
[null,null,26,null,null,null,null,null,null,null,null,null,null,null,null,0]
[null,null,27,null,null,null,null,null,null,null,null,null,null,null,null,0]
[599,"Otros activos intangibles",11,null,null,null,null,null,null,null,null,null,null,null,null,0]
[null,null,12,null,null,null,null,null,null,null,null,null,null,null,null,{"$f":"SUM(D2351:O2351)","v":0}]
[null,null,13,null,null,null,null,null,null,null,null,null,null,null,null,0]
[null,null,14,null,null,null,null,null,null,null,null,null,null,null,null,0]
[null,null,15,null,null,null,null,null,null,null,null,null,null,null,null,0]
[null,null,16,null,null,null,null,null,null,null,null,null,null,null,null,0]
[null,null,17,null,null,null,null,null,null,null,null,null,null,null,null,0]
[null,null,25,null,null,null,null,null,null,null,null,null,null,null,null,0]
[null,null,26,null,null,null,null,null,null,null,null,null,null,null,null,0]
[null,null,27,null,null,null,null,null,null,null,null,null,null,null,null,0]
[6000,"INVERSIÓN PÚBLICA",null,{"$f":"D2361+D2442+D2523","v":0},0,0,0,0,0,0,0,0,0,0,0,0]
[6100,"OBRA PÚBLICA EN BIENES DE DOMINIO PÚBLICO",null,{"$f":"SUM(D2362:D2441)","v":0},{"$f":"SUM(E2362:E2441)","v":0},0,0,0,0,0,0,0,0,0,0,{"$f":"SUM(P2362:P2441)","v":0}]
[611,"Edificación habitacional",11,null,null,null,null,null,null,null,null,null,null,null,null,{"$f":"SUM(D2362:O2362)","v":0}]
[null,null,12,null,null,null,null,null,null,null,null,null,null,null,null,0]
[null,null,13,null,null,null,null,null,null,null,null,null,null,null,null,0]
[null,null,14,null,null,null,null,null,null,null,null,null,null,null,null,0]
[null,null,15,null,null,null,null,null,null,null,null,null,null,null,null,0]
[null,null,16,null,null,null,null,null,null,null,null,null,null,null,null,0]
[null,null,17,null,null,null,null,null,null,null,null,null,null,null,null,0]
[null,null,25,null,null,null,null,null,null,null,null,null,null,null,null,0]
[null,null,26,null,null,null,null,null,null,null,null,null,null,null,null,0]
[null,null,27,null,null,null,null,null,null,null,null,null,null,null,null,0]
[612,"Edificación no  habitacional",11,null,null,null,null,null,null,null,null,null,null,null,null,0]
[null,null,12,null,null,null,null,null,null,null,null,null,null,null,null,0]
[null,null,13,null,null,null,null,null,null,null,null,null,null,null,null,0]
[null,null,14,null,null,null,null,null,null,null,null,null,null,null,null,0]
[null,null,15,null,null,null,null,null,null,null,null,null,null,null,null,0]
[null,null,16,null,null,null,null,null,null,null,null,null,null,null,null,0]
[null,null,17,null,null,null,null,null,null,null,null,null,null,null,null,0]
[null,null,25,null,null,null,null,null,null,null,null,null,null,null,null,0]
[null,null,26,null,null,null,null,null,null,null,null,null,null,null,null,0]
[null,null,27,null,null,null,null,null,null,null,null,null,null,null,null,0]
[613,"Construcción de obras para el abastecimiento de agua, petróleo, gas, electricidad y telecomunicaciones",11,null,null,null,null,null,null,null,null,null,null,null,null,0]
[null,null,12,null,null,null,null,null,null,null,null,null,null,null,null,0]
[null,null,13,null,null,null,null,null,null,null,null,null,null,null,null,0]
[null,null,14,null,null,null,null,null,null,null,null,null,null,null,null,0]
[null,null,15,null,null,null,null,null,null,null,null,null,null,null,null,0]
[null,null,16,null,null,null,null,null,null,null,null,null,null,null,null,0]
[null,null,17,null,null,null,null,null,null,null,null,null,null,null,null,0]
[null,null,25,null,null,null,null,null,null,null,null,null,null,null,null,0]
[null,null,26,null,null,null,null,null,null,null,null,null,null,null,null,0]
[null,null,27,null,null,null,null,null,null,null,null,null,null,null,null,0]
[614,"División de terrenos y construcción de obras de urbanización",11,null,null,null,null,null,null,null,null,null,null,null,null,0]
[null,null,12,null,null,null,null,null,null,null,null,null,null,null,null,0]
[null,null,13,null,null,null,null,null,null,null,null,null,null,null,null,0]
[null,null,14,null,null,null,null,null,null,null,null,null,null,null,null,0]
[null,null,15,null,null,null,null,null,null,null,null,null,null,null,null,0]
[null,null,16,null,null,null,null,null,null,null,null,null,null,null,null,0]
[null,null,17,null,null,null,null,null,null,null,null,null,null,null,null,0]
[null,null,25,null,null,null,null,null,null,null,null,null,null,null,null,0]
[null,null,26,null,null,null,null,null,null,null,null,null,null,null,null,0]
[null,null,27,null,null,null,null,null,null,null,null,null,null,null,null,0]
[615,"Construcción de vías de comunicación",11,null,null,null,null,null,null,null,null,null,null,null,null,0]
[null,null,12,null,null,null,null,null,null,null,null,null,null,null,null,0]
[null,null,13,null,null,null,null,null,null,null,null,null,null,null,null,0]
[null,null,14,null,null,null,null,null,null,null,null,null,null,null,null,0]
[null,null,15,null,null,null,null,null,null,null,null,null,null,null,null,0]
[null,null,16,null,null,null,null,null,null,null,null,null,null,null,null,0]
[null,null,17,null,null,null,null,null,null,null,null,null,null,null,null,0]
[null,null,25,null,null,null,null,null,null,null,null,null,null,null,null,0]
[null,null,26,null,null,null,null,null,null,null,null,null,null,null,null,0]
[null,null,27,null,null,null,null,null,null,null,null,null,null,null,null,0]
[616,"Otras construcciones de ingeniería civil u obra pesada",11,null,null,null,null,null,null,null,null,null,null,null,null,0]
[null,null,12,null,null,null,null,null,null,null,null,null,null,null,null,0]
[null,null,13,null,null,null,null,null,null,null,null,null,null,null,null,0]
[null,null,14,null,null,null,null,null,null,null,null,null,null,null,null,0]
[null,null,15,null,null,null,null,null,null,null,null,null,null,null,null,0]
[null,null,16,null,null,null,null,null,null,null,null,null,null,null,null,0]
[null,null,17,null,null,null,null,null,null,null,null,null,null,null,null,0]
[null,null,25,null,null,null,null,null,null,null,null,null,null,null,null,0]
[null,null,26,null,null,null,null,null,null,null,null,null,null,null,null,0]
[null,null,27,null,null,null,null,null,null,null,null,null,null,null,null,0]
[617,"Instalaciones y equipamiento en construcciones",11,null,null,null,null,null,null,null,null,null,null,null,null,0]
[null,null,12,null,null,null,null,null,null,null,null,null,null,null,null,0]
[null,null,13,null,null,null,null,null,null,null,null,null,null,null,null,0]
[null,null,14,null,null,null,null,null,null,null,null,null,null,null,null,0]
[null,null,15,null,null,null,null,null,null,null,null,null,null,null,null,0]
[null,null,16,null,null,null,null,null,null,null,null,null,null,null,null,0]
[null,null,17,null,null,null,null,null,null,null,null,null,null,null,null,0]
[null,null,25,null,null,null,null,null,null,null,null,null,null,null,null,0]
[null,null,26,null,null,null,null,null,null,null,null,null,null,null,null,0]
[null,null,27,null,null,null,null,null,null,null,null,null,null,null,null,0]
[619,"Trabajo de acabados en edificaciones y otros trabajos especializados",11,null,null,null,null,null,null,null,null,null,null,null,null,0]
[null,null,12,null,null,null,null,null,null,null,null,null,null,null,null,0]
[null,null,13,null,null,null,null,null,null,null,null,null,null,null,null,0]
[null,null,14,null,null,null,null,null,null,null,null,null,null,null,null,0]
[null,null,15,null,null,null,null,null,null,null,null,null,null,null,null,0]
[null,null,16,null,null,null,null,null,null,null,null,null,null,null,null,0]
[null,null,17,null,null,null,null,null,null,null,null,null,null,null,null,0]
[null,null,25,null,null,null,null,null,null,null,null,null,null,null,null,0]
[null,null,26,null,null,null,null,null,null,null,null,null,null,null,null,0]
[null,null,27,null,null,null,null,null,null,null,null,null,null,null,null,0]
[6200,"OBRA PÚBLICA EN BIENES PROPIOS",null,{"$f":"SUM(D2443:D2522)","v":0},{"$f":"SUM(E2443:E2522)","v":0},0,0,0,0,0,0,0,0,0,0,{"$f":"SUM(P2443:P2522)","v":0}]
[621,"Edificación habitacional",11,null,null,null,null,null,null,null,null,null,null,null,null,{"$f":"SUM(D2443:O2443)","v":0}]
[null,null,12,null,null,null,null,null,null,null,null,null,null,null,null,0]
[null,null,13,null,null,null,null,null,null,null,null,null,null,null,null,0]
[null,null,14,null,null,null,null,null,null,null,null,null,null,null,null,0]
[null,null,15,null,null,null,null,null,null,null,null,null,null,null,null,0]
[null,null,16,null,null,null,null,null,null,null,null,null,null,null,null,0]
[null,null,17,null,null,null,null,null,null,null,null,null,null,null,null,0]
[null,null,25,null,null,null,null,null,null,null,null,null,null,null,null,0]
[null,null,26,null,null,null,null,null,null,null,null,null,null,null,null,0]
[null,null,27,null,null,null,null,null,null,null,null,null,null,null,null,0]
[622,"Edificación no habitacional",11,null,null,null,null,null,null,null,null,null,null,null,null,0]
[null,null,12,null,null,null,null,null,null,null,null,null,null,null,null,0]
[null,null,13,null,null,null,null,null,null,null,null,null,null,null,null,0]
[null,null,14,null,null,null,null,null,null,null,null,null,null,null,null,0]
[null,null,15,null,null,null,null,null,null,null,null,null,null,null,null,0]
[null,null,16,null,null,null,null,null,null,null,null,null,null,null,null,0]
[null,null,17,null,null,null,null,null,null,null,null,null,null,null,null,0]
[null,null,25,null,null,null,null,null,null,null,null,null,null,null,null,0]
[null,null,26,null,null,null,null,null,null,null,null,null,null,null,null,0]
[null,null,27,null,null,null,null,null,null,null,null,null,null,null,null,0]
[623,"Construcción de obras para  el abastecimiento de agua,  petróleo, gas, electricidad y telecomunicaciones",11,null,null,null,null,null,null,null,null,null,null,null,null,0]
[null,null,12,null,null,null,null,null,null,null,null,null,null,null,null,0]
[null,null,13,null,null,null,null,null,null,null,null,null,null,null,null,0]
[null,null,14,null,null,null,null,null,null,null,null,null,null,null,null,0]
[null,null,15,null,null,null,null,null,null,null,null,null,null,null,null,0]
[null,null,16,null,null,null,null,null,null,null,null,null,null,null,null,0]
[null,null,17,null,null,null,null,null,null,null,null,null,null,null,null,0]
[null,null,25,null,null,null,null,null,null,null,null,null,null,null,null,0]
[null,null,26,null,null,null,null,null,null,null,null,null,null,null,null,0]
[null,null,27,null,null,null,null,null,null,null,null,null,null,null,null,0]
[624,"División de terrenos y construcción de obras de urbanización",11,null,null,null,null,null,null,null,null,null,null,null,null,0]
[null,null,12,null,null,null,null,null,null,null,null,null,null,null,null,0]
[null,null,13,null,null,null,null,null,null,null,null,null,null,null,null,0]
[null,null,14,null,null,null,null,null,null,null,null,null,null,null,null,0]
[null,null,15,null,null,null,null,null,null,null,null,null,null,null,null,0]
[null,null,16,null,null,null,null,null,null,null,null,null,null,null,null,0]
[null,null,17,null,null,null,null,null,null,null,null,null,null,null,null,0]
[null,null,25,null,null,null,null,null,null,null,null,null,null,null,null,0]
[null,null,26,null,null,null,null,null,null,null,null,null,null,null,null,0]
[null,null,27,null,null,null,null,null,null,null,null,null,null,null,null,0]
[625,"Construcción de vías de comunicación",11,null,null,null,null,null,null,null,null,null,null,null,null,0]
[null,null,12,null,null,null,null,null,null,null,null,null,null,null,null,0]
[null,null,13,null,null,null,null,null,null,null,null,null,null,null,null,0]
[null,null,14,null,null,null,null,null,null,null,null,null,null,null,null,0]
[null,null,15,null,null,null,null,null,null,null,null,null,null,null,null,0]
[null,null,16,null,null,null,null,null,null,null,null,null,null,null,null,0]
[null,null,17,null,null,null,null,null,null,null,null,null,null,null,null,0]
[null,null,25,null,null,null,null,null,null,null,null,null,null,null,null,0]
[null,null,26,null,null,null,null,null,null,null,null,null,null,null,null,0]
[null,null,27,null,null,null,null,null,null,null,null,null,null,null,null,0]
[626,"Otras construcciones de ingeniería civil u obra pesada",11,null,null,null,null,null,null,null,null,null,null,null,null,0]
[null,null,12,null,null,null,null,null,null,null,null,null,null,null,null,0]
[null,null,13,null,null,null,null,null,null,null,null,null,null,null,null,0]
[null,null,14,null,null,null,null,null,null,null,null,null,null,null,null,0]
[null,null,15,null,null,null,null,null,null,null,null,null,null,null,null,0]
[null,null,16,null,null,null,null,null,null,null,null,null,null,null,null,0]
[null,null,17,null,null,null,null,null,null,null,null,null,null,null,null,0]
[null,null,25,null,null,null,null,null,null,null,null,null,null,null,null,0]
[null,null,26,null,null,null,null,null,null,null,null,null,null,null,null,0]
[null,null,27,null,null,null,null,null,null,null,null,null,null,null,null,0]
[627,"Instalaciones y equipamiento en construcciones",11,null,null,null,null,null,null,null,null,null,null,null,null,0]
[null,null,12,null,null,null,null,null,null,null,null,null,null,null,null,0]
[null,null,13,null,null,null,null,null,null,null,null,null,null,null,null,0]
[null,null,14,null,null,null,null,null,null,null,null,null,null,null,null,0]
[null,null,15,null,null,null,null,null,null,null,null,null,null,null,null,0]
[null,null,16,null,null,null,null,null,null,null,null,null,null,null,null,0]
[null,null,17,null,null,null,null,null,null,null,null,null,null,null,null,0]
[null,null,25,null,null,null,null,null,null,null,null,null,null,null,null,0]
[null,null,26,null,null,null,null,null,null,null,null,null,null,null,null,0]
[null,null,27,null,null,null,null,null,null,null,null,null,null,null,null,0]
[629,"Trabajos de acabados en edificaciones y otros trabajos especializados",11,null,null,null,null,null,null,null,null,null,null,null,null,0]
[null,null,12,null,null,null,null,null,null,null,null,null,null,null,null,0]
[null,null,13,null,null,null,null,null,null,null,null,null,null,null,null,0]
[null,null,14,null,null,null,null,null,null,null,null,null,null,null,null,0]
[null,null,15,null,null,null,null,null,null,null,null,null,null,null,null,0]
[null,null,16,null,null,null,null,null,null,null,null,null,null,null,null,0]
[null,null,17,null,null,null,null,null,null,null,null,null,null,null,null,0]
[null,null,25,null,null,null,null,null,null,null,null,null,null,null,null,0]
[null,null,26,null,null,null,null,null,null,null,null,null,null,null,null,0]
[null,null,27,null,null,null,null,null,null,null,null,null,null,null,null,0]
[6300,"PROYECTOS PRODUCTIVOS Y ACCIONES DE FOMENTO",null,{"$f":"SUM(D2524:D2543)","v":0},{"$f":"SUM(E2524:E2543)","v":0},0,0,0,0,0,0,0,0,0,0,{"$f":"SUM(P2524:P2543)","v":0}]
[631,"Estudios, formulación y evaluación de proyectos productivos no incluidos en conceptos anteriores de este capítulo",11,null,null,null,null,null,null,null,null,null,null,null,null,{"$f":"SUM(D2524:O2524)","v":0}]
[null,null,12,null,null,null,null,null,null,null,null,null,null,null,null,{"$f":"SUM(D2525:O2525)","v":0}]
[null,null,13,null,null,null,null,null,null,null,null,null,null,null,null,0]
[null,null,14,null,null,null,null,null,null,null,null,null,null,null,null,0]
[null,null,15,null,null,null,null,null,null,null,null,null,null,null,null,0]
[null,null,16,null,null,null,null,null,null,null,null,null,null,null,null,0]
[null,null,17,null,null,null,null,null,null,null,null,null,null,null,null,0]
[null,null,25,null,null,null,null,null,null,null,null,null,null,null,null,0]
[null,null,26,null,null,null,null,null,null,null,null,null,null,null,null,0]
[null,null,27,null,null,null,null,null,null,null,null,null,null,null,null,0]
[632,"Ejecución de proyectos productivos no incluidos en conceptos anteriores de este capítulo",11,null,null,null,null,null,null,null,null,null,null,null,null,0]
[null,null,12,null,null,null,null,null,null,null,null,null,null,null,null,0]
[null,null,13,null,null,null,null,null,null,null,null,null,null,null,null,0]
[null,null,14,null,null,null,null,null,null,null,null,null,null,null,null,0]
[null,null,15,null,null,null,null,null,null,null,null,null,null,null,null,0]
[null,null,16,null,null,null,null,null,null,null,null,null,null,null,null,0]
[null,null,17,null,null,null,null,null,null,null,null,null,null,null,null,0]
[null,null,25,null,null,null,null,null,null,null,null,null,null,null,null,0]
[null,null,26,null,null,null,null,null,null,null,null,null,null,null,null,0]
[null,null,27,null,null,null,null,null,null,null,null,null,null,null,null,0]
[7000,"INVERSIONES FINANCIERAS Y OTRAS PROVISIONES",null,{"$f":"D2545+D2557+D2630+D2691+D2755+D2801+D2822","v":0},0,0,0,0,0,0,0,0,0,0,0,0]
[7100,"INVERSIONES PARA EL FOMENTO DE ACTIVIDADES PRODUCTIVAS",null,{"$f":"SUM(D2546:D2556)","v":0},{"$f":"SUM(E2546:E2556)","v":0},0,0,0,0,0,0,0,0,0,0,{"$f":"SUM(P2546:P2556)","v":0}]
[711,"Créditos otorgados por entidades federativas y municipios al sector social y privado para el fomento de actividades productivas",11,null,null,null,null,null,null,null,null,null,null,null,null,{"$f":"SUM(D2546:O2546)","v":0}]
[null,null,12,null,null,null,null,null,null,null,null,null,null,null,null,{"$f":"SUM(D2547:O2547)","v":0}]
[null,null,13,null,null,null,null,null,null,null,null,null,null,null,null,0]
[null,null,14,null,null,null,null,null,null,null,null,null,null,null,null,0]
[null,null,15,null,null,null,null,null,null,null,null,null,null,null,null,0]
[null,null,16,null,null,null,null,null,null,null,null,null,null,null,null,0]
[null,null,17,null,null,null,null,null,null,null,null,null,null,null,null,0]
[null,null,25,null,null,null,null,null,null,null,null,null,null,null,null,0]
[null,null,26,null,null,null,null,null,null,null,null,null,null,null,null,0]
[null,null,27,null,null,null,null,null,null,null,null,null,null,null,null,0]
[712,"Créditos otorgados por las entidades federativas a municipios para el fomento de actividades productivas",null,null,null,null,null,null,null,null,null,null,null,null,null,{"$f":"SUM(D2556:O2556)","v":0}]
[7200,"ACCIONES Y PARTICIPACIONES DE CAPITAL",null,{"$f":"SUM(D2558:D2629)","v":0},{"$f":"SUM(E2558:E2629)","v":0},0,0,0,0,0,0,0,0,0,0,{"$f":"SUM(P2558:P2629)","v":0}]
[721,"Acciones y participaciones de capital en entidades paraestatales no empresariales y no financieras con fines de política económica",11,null,null,null,null,null,null,null,null,null,null,null,null,{"$f":"SUM(D2558:O2558)","v":0}]
[null,null,12,null,null,null,null,null,null,null,null,null,null,null,null,0]
[null,null,13,null,null,null,null,null,null,null,null,null,null,null,null,0]
[null,null,14,null,null,null,null,null,null,null,null,null,null,null,null,0]
[null,null,15,null,null,null,null,null,null,null,null,null,null,null,null,0]
[null,null,16,null,null,null,null,null,null,null,null,null,null,null,null,0]
[null,null,17,null,null,null,null,null,null,null,null,null,null,null,null,0]
[null,null,25,null,null,null,null,null,null,null,null,null,null,null,null,0]
[null,null,26,null,null,null,null,null,null,null,null,null,null,null,null,0]
[null,null,27,null,null,null,null,null,null,null,null,null,null,null,null,0]
[722,"Acciones y participaciones de capital en entidades paraestatales empresariales y no financieras con fines de política económica",null,null,null,null,null,null,null,null,null,null,null,null,null,0]
[723,"Acciones  y participaciones de capital en instituciones paraestatales públicas financieras con fines de política económica",null,null,null,null,null,null,null,null,null,null,null,null,null,0]
[724,"Acciones y participaciones  de capital en el sector privado con fines de política económica",11,null,null,null,null,null,null,null,null,null,null,null,null,0]
[null,null,12,null,null,null,null,null,null,null,null,null,null,null,null,0]
[null,null,13,null,null,null,null,null,null,null,null,null,null,null,null,0]
[null,null,14,null,null,null,null,null,null,null,null,null,null,null,null,0]
[null,null,15,null,null,null,null,null,null,null,null,null,null,null,null,0]
[null,null,16,null,null,null,null,null,null,null,null,null,null,null,null,0]
[null,null,17,null,null,null,null,null,null,null,null,null,null,null,null,0]
[null,null,25,null,null,null,null,null,null,null,null,null,null,null,null,0]
[null,null,26,null,null,null,null,null,null,null,null,null,null,null,null,0]
[null,null,27,null,null,null,null,null,null,null,null,null,null,null,null,0]
[725,"Acciones y participaciones de capital en organismos internacionales con fines de política económica",11,null,null,null,null,null,null,null,null,null,null,null,null,0]
[null,null,12,null,null,null,null,null,null,null,null,null,null,null,null,0]
[null,null,13,null,null,null,null,null,null,null,null,null,null,null,null,0]
[null,null,14,null,null,null,null,null,null,null,null,null,null,null,null,0]
[null,null,15,null,null,null,null,null,null,null,null,null,null,null,null,0]
[null,null,16,null,null,null,null,null,null,null,null,null,null,null,null,0]
[null,null,17,null,null,null,null,null,null,null,null,null,null,null,null,0]
[null,null,25,null,null,null,null,null,null,null,null,null,null,null,null,0]
[null,null,26,null,null,null,null,null,null,null,null,null,null,null,null,0]
[null,null,27,null,null,null,null,null,null,null,null,null,null,null,null,0]
[726,"Acciones y participaciones de capital en el sector externo con fines de política económica",11,null,null,null,null,null,null,null,null,null,null,null,null,0]
[null,null,12,null,null,null,null,null,null,null,null,null,null,null,null,0]
[null,null,13,null,null,null,null,null,null,null,null,null,null,null,null,0]
[null,null,14,null,null,null,null,null,null,null,null,null,null,null,null,0]
[null,null,15,null,null,null,null,null,null,null,null,null,null,null,null,0]
[null,null,16,null,null,null,null,null,null,null,null,null,null,null,null,0]
[null,null,17,null,null,null,null,null,null,null,null,null,null,null,null,0]
[null,null,25,null,null,null,null,null,null,null,null,null,null,null,null,0]
[null,null,26,null,null,null,null,null,null,null,null,null,null,null,null,0]
[null,null,27,null,null,null,null,null,null,null,null,null,null,null,null,0]
[727,"Acciones y participaciones de capital en el sector público con fines de gestión de la liquidez",11,null,null,null,null,null,null,null,null,null,null,null,null,0]
[null,null,12,null,null,null,null,null,null,null,null,null,null,null,null,0]
[null,null,13,null,null,null,null,null,null,null,null,null,null,null,null,0]
[null,null,14,null,null,null,null,null,null,null,null,null,null,null,null,0]
[null,null,15,null,null,null,null,null,null,null,null,null,null,null,null,0]
[null,null,16,null,null,null,null,null,null,null,null,null,null,null,null,0]
[null,null,17,null,null,null,null,null,null,null,null,null,null,null,null,0]
[null,null,25,null,null,null,null,null,null,null,null,null,null,null,null,0]
[null,null,26,null,null,null,null,null,null,null,null,null,null,null,null,0]
[null,null,27,null,null,null,null,null,null,null,null,null,null,null,null,0]
[728,"Acciones y participaciones de capital  en el sector privado con fines de gestión de liquidez",11,null,null,null,null,null,null,null,null,null,null,null,null,0]
[null,null,12,null,null,null,null,null,null,null,null,null,null,null,null,0]
[null,null,13,null,null,null,null,null,null,null,null,null,null,null,null,0]
[null,null,14,null,null,null,null,null,null,null,null,null,null,null,null,0]
[null,null,15,null,null,null,null,null,null,null,null,null,null,null,null,0]
[null,null,16,null,null,null,null,null,null,null,null,null,null,null,null,0]
[null,null,17,null,null,null,null,null,null,null,null,null,null,null,null,0]
[null,null,25,null,null,null,null,null,null,null,null,null,null,null,null,0]
[null,null,26,null,null,null,null,null,null,null,null,null,null,null,null,0]
[null,null,27,null,null,null,null,null,null,null,null,null,null,null,null,0]
[729,"Acciones y participaciones de capital en el sector externo con fines de gestión  de liquidez",11,null,null,null,null,null,null,null,null,null,null,null,null,0]
[null,null,12,null,null,null,null,null,null,null,null,null,null,null,null,0]
[null,null,13,null,null,null,null,null,null,null,null,null,null,null,null,0]
[null,null,14,null,null,null,null,null,null,null,null,null,null,null,null,0]
[null,null,15,null,null,null,null,null,null,null,null,null,null,null,null,0]
[null,null,16,null,null,null,null,null,null,null,null,null,null,null,null,0]
[null,null,17,null,null,null,null,null,null,null,null,null,null,null,null,0]
[null,null,25,null,null,null,null,null,null,null,null,null,null,null,null,0]
[null,null,26,null,null,null,null,null,null,null,null,null,null,null,null,0]
[null,null,27,null,null,null,null,null,null,null,null,null,null,null,null,0]
[7300,"COMPRA DE TÍTULOS Y VALORES",null,{"$f":"SUM(D2631:D2690)","v":0},{"$f":"SUM(E2631:E2690)","v":0},0,0,0,0,0,0,0,0,0,0,{"$f":"SUM(P2631:P2690)","v":0}]
[731,"Bonos",11,null,null,null,null,null,null,null,null,null,null,null,null,{"$f":"SUM(D2631:O2631)","v":0}]
[null,null,12,null,null,null,null,null,null,null,null,null,null,null,null,0]
[null,null,13,null,null,null,null,null,null,null,null,null,null,null,null,0]
[null,null,14,null,null,null,null,null,null,null,null,null,null,null,null,0]
[null,null,15,null,null,null,null,null,null,null,null,null,null,null,null,0]
[null,null,16,null,null,null,null,null,null,null,null,null,null,null,null,0]
[null,null,17,null,null,null,null,null,null,null,null,null,null,null,null,0]
[null,null,25,null,null,null,null,null,null,null,null,null,null,null,null,0]
[null,null,26,null,null,null,null,null,null,null,null,null,null,null,null,0]
[null,null,27,null,null,null,null,null,null,null,null,null,null,null,null,0]
[732,"Valores representativos de deuda adquiridos con fines de política económica",11,null,null,null,null,null,null,null,null,null,null,null,null,0]
[null,null,12,null,null,null,null,null,null,null,null,null,null,null,null,0]
[null,null,13,null,null,null,null,null,null,null,null,null,null,null,null,0]
[null,null,14,null,null,null,null,null,null,null,null,null,null,null,null,0]
[null,null,15,null,null,null,null,null,null,null,null,null,null,null,null,0]
[null,null,16,null,null,null,null,null,null,null,null,null,null,null,null,0]
[null,null,17,null,null,null,null,null,null,null,null,null,null,null,null,0]
[null,null,25,null,null,null,null,null,null,null,null,null,null,null,null,0]
[null,null,26,null,null,null,null,null,null,null,null,null,null,null,null,0]
[null,null,27,null,null,null,null,null,null,null,null,null,null,null,null,0]
[733,"Valores representativos de deuda  adquiridos con fines de gestión de liquidez",11,null,null,null,null,null,null,null,null,null,null,null,null,0]
[null,null,12,null,null,null,null,null,null,null,null,null,null,null,null,0]
[null,null,13,null,null,null,null,null,null,null,null,null,null,null,null,0]
[null,null,14,null,null,null,null,null,null,null,null,null,null,null,null,0]
[null,null,15,null,null,null,null,null,null,null,null,null,null,null,null,0]
[null,null,16,null,null,null,null,null,null,null,null,null,null,null,null,0]
[null,null,17,null,null,null,null,null,null,null,null,null,null,null,null,0]
[null,null,25,null,null,null,null,null,null,null,null,null,null,null,null,0]
[null,null,26,null,null,null,null,null,null,null,null,null,null,null,null,0]
[null,null,27,null,null,null,null,null,null,null,null,null,null,null,null,0]
[734,"Obligaciones negociables adquiridas con fines de política económica",11,null,null,null,null,null,null,null,null,null,null,null,null,0]
[null,null,12,null,null,null,null,null,null,null,null,null,null,null,null,0]
[null,null,13,null,null,null,null,null,null,null,null,null,null,null,null,0]
[null,null,14,null,null,null,null,null,null,null,null,null,null,null,null,0]
[null,null,15,null,null,null,null,null,null,null,null,null,null,null,null,0]
[null,null,16,null,null,null,null,null,null,null,null,null,null,null,null,0]
[null,null,17,null,null,null,null,null,null,null,null,null,null,null,null,0]
[null,null,25,null,null,null,null,null,null,null,null,null,null,null,null,0]
[null,null,26,null,null,null,null,null,null,null,null,null,null,null,null,0]
[null,null,27,null,null,null,null,null,null,null,null,null,null,null,null,0]
[735,"Obligaciones negociables adquiridas con fines de gestión de liquidez",11,null,null,null,null,null,null,null,null,null,null,null,null,0]
[null,null,12,null,null,null,null,null,null,null,null,null,null,null,null,0]
[null,null,13,null,null,null,null,null,null,null,null,null,null,null,null,0]
[null,null,14,null,null,null,null,null,null,null,null,null,null,null,null,0]
[null,null,15,null,null,null,null,null,null,null,null,null,null,null,null,0]
[null,null,16,null,null,null,null,null,null,null,null,null,null,null,null,0]
[null,null,17,null,null,null,null,null,null,null,null,null,null,null,null,0]
[null,null,25,null,null,null,null,null,null,null,null,null,null,null,null,0]
[null,null,26,null,null,null,null,null,null,null,null,null,null,null,null,0]
[null,null,27,null,null,null,null,null,null,null,null,null,null,null,null,0]
[739,"Otros valores",11,null,null,null,null,null,null,null,null,null,null,null,null,0]
[null,null,12,null,null,null,null,null,null,null,null,null,null,null,null,0]
[null,null,13,null,null,null,null,null,null,null,null,null,null,null,null,0]
[null,null,14,null,null,null,null,null,null,null,null,null,null,null,null,0]
[null,null,15,null,null,null,null,null,null,null,null,null,null,null,null,0]
[null,null,16,null,null,null,null,null,null,null,null,null,null,null,null,0]
[null,null,17,null,null,null,null,null,null,null,null,null,null,null,null,0]
[null,null,25,null,null,null,null,null,null,null,null,null,null,null,null,0]
[null,null,26,null,null,null,null,null,null,null,null,null,null,null,null,0]
[null,null,27,null,null,null,null,null,null,null,null,null,null,null,null,0]
[7400,"CONCESIÓN DE PRÉSTAMOS",null,{"$f":"SUM(D2692:D2754)","v":0},{"$f":"SUM(E2692:E2754)","v":0},0,0,0,0,0,0,0,0,0,0,{"$f":"SUM(P2692:P2754)","v":0}]
[741,"Concesión de préstamos a entidades paraestatales no empresariales y no financieras con fines de política económica",11,null,null,null,null,null,null,null,null,null,null,null,null,{"$f":"SUM(D2692:O2692)","v":0}]
[null,null,12,null,null,null,null,null,null,null,null,null,null,null,null,0]
[null,null,13,null,null,null,null,null,null,null,null,null,null,null,null,0]
[null,null,14,null,null,null,null,null,null,null,null,null,null,null,null,0]
[null,null,15,null,null,null,null,null,null,null,null,null,null,null,null,0]
[null,null,16,null,null,null,null,null,null,null,null,null,null,null,null,0]
[null,null,17,null,null,null,null,null,null,null,null,null,null,null,null,0]
[null,null,25,null,null,null,null,null,null,null,null,null,null,null,null,0]
[null,null,26,null,null,null,null,null,null,null,null,null,null,null,null,0]
[null,null,27,null,null,null,null,null,null,null,null,null,null,null,null,0]
[742,"Concesión de préstamos a entidades paraestatales empresariales y no financieras con fines de política económica",null,null,null,null,null,null,null,null,null,null,null,null,null,0]
[743,"Concesión de préstamos a instituciones paraestatales públicas financieras con fines de política económica",null,null,null,null,null,null,null,null,null,null,null,null,null,0]
[744,"Concesión de préstamos a entidades federativas  y municipios con fines de política económica",null,null,null,null,null,null,null,null,null,null,null,null,null,0]
[745,"Concesión de préstamos al sector privado con fines de política económica",11,null,null,null,null,null,null,null,null,null,null,null,null,0]
[null,null,12,null,null,null,null,null,null,null,null,null,null,null,null,0]
[null,null,13,null,null,null,null,null,null,null,null,null,null,null,null,0]
[null,null,14,null,null,null,null,null,null,null,null,null,null,null,null,0]
[null,null,15,null,null,null,null,null,null,null,null,null,null,null,null,0]
[null,null,16,null,null,null,null,null,null,null,null,null,null,null,null,0]
[null,null,17,null,null,null,null,null,null,null,null,null,null,null,null,0]
[null,null,25,null,null,null,null,null,null,null,null,null,null,null,null,0]
[null,null,26,null,null,null,null,null,null,null,null,null,null,null,null,0]
[null,null,27,null,null,null,null,null,null,null,null,null,null,null,null,0]
[746,"Concesión de préstamos al sector externo con fines de política económica",11,null,null,null,null,null,null,null,null,null,null,null,null,0]
[null,null,12,null,null,null,null,null,null,null,null,null,null,null,null,0]
[null,null,13,null,null,null,null,null,null,null,null,null,null,null,null,0]
[null,null,14,null,null,null,null,null,null,null,null,null,null,null,null,0]
[null,null,15,null,null,null,null,null,null,null,null,null,null,null,null,0]
[null,null,16,null,null,null,null,null,null,null,null,null,null,null,null,0]
[null,null,17,null,null,null,null,null,null,null,null,null,null,null,null,0]
[null,null,25,null,null,null,null,null,null,null,null,null,null,null,null,0]
[null,null,26,null,null,null,null,null,null,null,null,null,null,null,null,0]
[null,null,27,null,null,null,null,null,null,null,null,null,null,null,null,0]
[747,"Concesión de préstamos al sector público con fines de gestión de liquidez",11,null,null,null,null,null,null,null,null,null,null,null,null,0]
[null,null,12,null,null,null,null,null,null,null,null,null,null,null,null,0]
[null,null,13,null,null,null,null,null,null,null,null,null,null,null,null,0]
[null,null,14,null,null,null,null,null,null,null,null,null,null,null,null,0]
[null,null,15,null,null,null,null,null,null,null,null,null,null,null,null,0]
[null,null,16,null,null,null,null,null,null,null,null,null,null,null,null,0]
[null,null,17,null,null,null,null,null,null,null,null,null,null,null,null,0]
[null,null,25,null,null,null,null,null,null,null,null,null,null,null,null,0]
[null,null,26,null,null,null,null,null,null,null,null,null,null,null,null,0]
[null,null,27,null,null,null,null,null,null,null,null,null,null,null,null,0]
[748,"Concesión de préstamos al sector privado con fines de gestión de liquidez",11,null,null,null,null,null,null,null,null,null,null,null,null,0]
[null,null,12,null,null,null,null,null,null,null,null,null,null,null,null,0]
[null,null,13,null,null,null,null,null,null,null,null,null,null,null,null,0]
[null,null,14,null,null,null,null,null,null,null,null,null,null,null,null,0]
[null,null,15,null,null,null,null,null,null,null,null,null,null,null,null,0]
[null,null,16,null,null,null,null,null,null,null,null,null,null,null,null,0]
[null,null,17,null,null,null,null,null,null,null,null,null,null,null,null,0]
[null,null,25,null,null,null,null,null,null,null,null,null,null,null,null,0]
[null,null,26,null,null,null,null,null,null,null,null,null,null,null,null,0]
[null,null,27,null,null,null,null,null,null,null,null,null,null,null,null,0]
[749,"Concesión de  préstamos al sector externo con fines de gestión de liquidez",11,null,null,null,null,null,null,null,null,null,null,null,null,0]
[null,null,12,null,null,null,null,null,null,null,null,null,null,null,null,0]
[null,null,13,null,null,null,null,null,null,null,null,null,null,null,null,0]
[null,null,14,null,null,null,null,null,null,null,null,null,null,null,null,0]
[null,null,15,null,null,null,null,null,null,null,null,null,null,null,null,0]
[null,null,16,null,null,null,null,null,null,null,null,null,null,null,null,0]
[null,null,17,null,null,null,null,null,null,null,null,null,null,null,null,0]
[null,null,25,null,null,null,null,null,null,null,null,null,null,null,null,0]
[null,null,26,null,null,null,null,null,null,null,null,null,null,null,null,0]
[null,null,27,null,null,null,null,null,null,null,null,null,null,null,null,0]
[7500,"INVERSIONES EN FIDEICOMISOS, MANDATOS Y OTROS  ANÁLOGOS",null,{"$f":"SUM(D2756:D2800)","v":0},{"$f":"SUM(E2756:E2800)","v":0},0,0,0,0,0,0,0,0,0,0,{"$f":"SUM(P2756:P2800)","v":0}]
[751,"Inversiones en fideicomisos del Poder Ejecutivo",11,null,null,null,null,null,null,null,null,null,null,null,null,{"$f":"SUM(D2756:O2756)","v":0}]
[null,null,12,null,null,null,null,null,null,null,null,null,null,null,null,0]
[null,null,13,null,null,null,null,null,null,null,null,null,null,null,null,0]
[null,null,14,null,null,null,null,null,null,null,null,null,null,null,null,0]
[null,null,15,null,null,null,null,null,null,null,null,null,null,null,null,0]
[null,null,16,null,null,null,null,null,null,null,null,null,null,null,null,0]
[null,null,17,null,null,null,null,null,null,null,null,null,null,null,null,0]
[null,null,25,null,null,null,null,null,null,null,null,null,null,null,null,0]
[null,null,26,null,null,null,null,null,null,null,null,null,null,null,null,0]
[null,null,27,null,null,null,null,null,null,null,null,null,null,null,null,0]
[752,"Inversiones en fideicomisos del Poder Legislativo",null,null,null,null,null,null,null,null,null,null,null,null,null,0]
[753,"Inversiones en fideicomisos del Poder Judicial",null,null,null,null,null,null,null,null,null,null,null,null,null,0]
[754,"Inversiones en fideicomisos públicos no empresariales y no financieros",11,null,null,null,null,null,null,null,null,null,null,null,null,0]
[null,null,12,null,null,null,null,null,null,null,null,null,null,null,null,0]
[null,null,13,null,null,null,null,null,null,null,null,null,null,null,null,0]
[null,null,14,null,null,null,null,null,null,null,null,null,null,null,null,0]
[null,null,15,null,null,null,null,null,null,null,null,null,null,null,null,0]
[null,null,16,null,null,null,null,null,null,null,null,null,null,null,null,0]
[null,null,17,null,null,null,null,null,null,null,null,null,null,null,null,0]
[null,null,25,null,null,null,null,null,null,null,null,null,null,null,null,0]
[null,null,26,null,null,null,null,null,null,null,null,null,null,null,null,0]
[null,null,27,null,null,null,null,null,null,null,null,null,null,null,null,0]
[755,"Inversiones en fideicomisos públicos empresariales y no financieros",null,null,null,null,null,null,null,null,null,null,null,null,null,0]
[756,"Inversiones en fideicomisos públicos financieros ",null,null,null,null,null,null,null,null,null,null,null,null,null,0]
[757,"Inversiones en fideicomisos de entidades federativas",11,null,null,null,null,null,null,null,null,null,null,null,null,0]
[null,null,12,null,null,null,null,null,null,null,null,null,null,null,null,0]
[null,null,13,null,null,null,null,null,null,null,null,null,null,null,null,0]
[null,null,14,null,null,null,null,null,null,null,null,null,null,null,null,0]
[null,null,15,null,null,null,null,null,null,null,null,null,null,null,null,0]
[null,null,16,null,null,null,null,null,null,null,null,null,null,null,null,0]
[null,null,17,null,null,null,null,null,null,null,null,null,null,null,null,0]
[null,null,25,null,null,null,null,null,null,null,null,null,null,null,null,0]
[null,null,26,null,null,null,null,null,null,null,null,null,null,null,null,0]
[null,null,27,null,null,null,null,null,null,null,null,null,null,null,null,0]
[758,"Inversiones en fideicomisos de municipios",null,null,null,null,null,null,null,null,null,null,null,null,null,{"$f":"SUM(D2790:O2790)","v":0}]
[759,"Otras inversiones en fideicomisos",11,null,null,null,null,null,null,null,null,null,null,null,null,0]
[null,null,12,null,null,null,null,null,null,null,null,null,null,null,null,0]
[null,null,13,null,null,null,null,null,null,null,null,null,null,null,null,0]
[null,null,14,null,null,null,null,null,null,null,null,null,null,null,null,0]
[null,null,15,null,null,null,null,null,null,null,null,null,null,null,null,0]
[null,null,16,null,null,null,null,null,null,null,null,null,null,null,null,0]
[null,null,17,null,null,null,null,null,null,null,null,null,null,null,null,0]
[null,null,25,null,null,null,null,null,null,null,null,null,null,null,null,0]
[null,null,26,null,null,null,null,null,null,null,null,null,null,null,null,0]
[null,null,27,null,null,null,null,null,null,null,null,null,null,null,null,0]
[7600,"OTRAS INVERSIONES FINANCIERAS",null,{"$f":"SUM(D2802:D2821)","v":0},{"$f":"SUM(E2802:E2821)","v":0},0,0,0,0,0,0,0,0,0,0,{"$f":"SUM(P2802:P2821)","v":0}]
[761,"Depósitos a largo plazo en moneda nacional",11,null,null,null,null,null,null,null,null,null,null,null,null,{"$f":"SUM(D2802:O2802)","v":0}]
[null,null,12,null,null,null,null,null,null,null,null,null,null,null,null,{"$f":"SUM(D2803:O2803)","v":0}]
[null,null,13,null,null,null,null,null,null,null,null,null,null,null,null,0]
[null,null,14,null,null,null,null,null,null,null,null,null,null,null,null,0]
[null,null,15,null,null,null,null,null,null,null,null,null,null,null,null,0]
[null,null,16,null,null,null,null,null,null,null,null,null,null,null,null,0]
[null,null,17,null,null,null,null,null,null,null,null,null,null,null,null,0]
[null,null,25,null,null,null,null,null,null,null,null,null,null,null,null,0]
[null,null,26,null,null,null,null,null,null,null,null,null,null,null,null,0]
[null,null,27,null,null,null,null,null,null,null,null,null,null,null,null,0]
[762,"Depósitos a largo plazo en moneda extranjera",11,null,null,null,null,null,null,null,null,null,null,null,null,0]
[null,null,12,null,null,null,null,null,null,null,null,null,null,null,null,0]
[null,null,13,null,null,null,null,null,null,null,null,null,null,null,null,0]
[null,null,14,null,null,null,null,null,null,null,null,null,null,null,null,0]
[null,null,15,null,null,null,null,null,null,null,null,null,null,null,null,0]
[null,null,16,null,null,null,null,null,null,null,null,null,null,null,null,0]
[null,null,17,null,null,null,null,null,null,null,null,null,null,null,null,0]
[null,null,25,null,null,null,null,null,null,null,null,null,null,null,null,0]
[null,null,26,null,null,null,null,null,null,null,null,null,null,null,null,0]
[null,null,27,null,null,null,null,null,null,null,null,null,null,null,null,0]
[7900,"PROVISIONES PARA CONTINGENCIAS Y OTRAS EROGACIONES ESPECIALES",null,{"$f":"SUM(D2823:D2852)","v":0},{"$f":"SUM(E2823:E2852)","v":0},0,0,0,0,0,0,0,0,0,0,{"$f":"SUM(P2823:P2852)","v":0}]
[791,"Contingencias por fenómenos naturales",11,null,null,null,null,null,null,null,null,null,null,null,null,{"$f":"SUM(D2823:O2823)","v":0}]
[null,null,12,null,null,null,null,null,null,null,null,null,null,null,null,{"$f":"SUM(D2824:O2824)","v":0}]
[null,null,13,null,null,null,null,null,null,null,null,null,null,null,null,0]
[null,null,14,null,null,null,null,null,null,null,null,null,null,null,null,0]
[null,null,15,null,null,null,null,null,null,null,null,null,null,null,null,0]
[null,null,16,null,null,null,null,null,null,null,null,null,null,null,null,0]
[null,null,17,null,null,null,null,null,null,null,null,null,null,null,null,0]
[null,null,25,null,null,null,null,null,null,null,null,null,null,null,null,0]
[null,null,26,null,null,null,null,null,null,null,null,null,null,null,null,0]
[null,null,27,null,null,null,null,null,null,null,null,null,null,null,null,0]
[792,"Contingencias socioeconómicas",11,null,null,null,null,null,null,null,null,null,null,null,null,0]
[null,null,12,null,null,null,null,null,null,null,null,null,null,null,null,0]
[null,null,13,null,null,null,null,null,null,null,null,null,null,null,null,0]
[null,null,14,null,null,null,null,null,null,null,null,null,null,null,null,0]
[null,null,15,null,null,null,null,null,null,null,null,null,null,null,null,0]
[null,null,16,null,null,null,null,null,null,null,null,null,null,null,null,0]
[null,null,17,null,null,null,null,null,null,null,null,null,null,null,null,0]
[null,null,25,null,null,null,null,null,null,null,null,null,null,null,null,0]
[null,null,26,null,null,null,null,null,null,null,null,null,null,null,null,0]
[null,null,27,null,null,null,null,null,null,null,null,null,null,null,null,0]
[799,"Otras erogaciones especiales",11,null,null,null,null,null,null,null,null,null,null,null,null,0]
[null,null,12,null,null,null,null,null,null,null,null,null,null,null,null,0]
[null,null,13,null,null,null,null,null,null,null,null,null,null,null,null,0]
[null,null,14,null,null,null,null,null,null,null,null,null,null,null,null,0]
[null,null,15,null,null,null,null,null,null,null,null,null,null,null,null,0]
[null,null,16,null,null,null,null,null,null,null,null,null,null,null,null,0]
[null,null,17,null,null,null,null,null,null,null,null,null,null,null,null,0]
[null,null,25,null,null,null,null,null,null,null,null,null,null,null,null,0]
[null,null,26,null,null,null,null,null,null,null,null,null,null,null,null,0]
[null,null,27,null,null,null,null,null,null,null,null,null,null,null,null,0]
[8000,"PARTICIPACIONES Y APORTACIONES",null,{"$f":"D2854+D2870+D2876","v":0},{"$f":"E2854+E2870+E2876","v":0},0,0,0,0,0,0,0,0,0,0,0]
[8100,"PARTICIPACIONES",null,{"$f":"SUM(D2855:D2869)","v":0},{"$f":"SUM(E2855:E2869)","v":0},0,0,0,0,0,0,0,0,0,0,{"$f":"SUM(P2855:P2869)","v":0}]
[811,"Fondo general de participaciones",null,null,null,null,null,null,null,null,null,null,null,null,null,{"$f":"SUM(D2855:O2855)","v":0}]
[812,"Fondo de fomento municipal",null,null,null,null,null,null,null,null,null,null,null,null,null,0]
[813,"Participaciones de las entidades federativas a los municipios",null,null,null,null,null,null,null,null,null,null,null,null,null,0]
[814,"Otros conceptos participables de la Federación a entidades federativas",null,null,null,null,null,null,null,null,null,null,null,null,null,0]
[815,"Otros conceptos participables de la Federación a municipios",null,null,null,null,null,null,null,null,null,null,null,null,null,0]
[816,"Convenios de colaboración administrativa",11,null,null,null,null,null,null,null,null,null,null,null,null,0]
[null,null,12,null,null,null,null,null,null,null,null,null,null,null,null,0]
[null,null,13,null,null,null,null,null,null,null,null,null,null,null,null,0]
[null,null,14,null,null,null,null,null,null,null,null,null,null,null,null,0]
[null,null,15,null,null,null,null,null,null,null,null,null,null,null,null,0]
[null,null,16,null,null,null,null,null,null,null,null,null,null,null,null,0]
[null,null,17,null,null,null,null,null,null,null,null,null,null,null,null,0]
[null,null,25,null,null,null,null,null,null,null,null,null,null,null,null,0]
[null,null,26,null,null,null,null,null,null,null,null,null,null,null,null,0]
[null,null,27,null,null,null,null,null,null,null,null,null,null,null,null,0]
[8300,"APORTACIONES",null,{"$f":"SUM(D2871:D2875)","v":0},{"$f":"SUM(E2871:E2875)","v":0},0,0,0,0,0,0,0,0,0,0,{"$f":"SUM(P2871:P2875)","v":0}]
[831,"Aportaciones de la Federación a las entidades federativas",null,null,null,null,null,null,null,null,null,null,null,null,null,{"$f":"SUM(D2871:O2871)","v":0}]
[832,"Aportaciones de la Federación a municipios",null,null,null,null,null,null,null,null,null,null,null,null,null,0]
[833,"Aportaciones de las entidades federativas a los municipios",null,null,null,null,null,null,null,null,null,null,null,null,null,0]
[834,"Aportaciones  previstas en leyes y decretos al sistema de protección social",null,null,null,null,null,null,null,null,null,null,null,null,null,0]
[835,"Aportaciones previstas en leyes y decretos compensatorias a entidades federativas y municipios",null,null,null,null,null,null,null,null,null,null,null,null,null,0]
[8500,"CONVENIOS",null,{"$f":"SUM(D2877:D2906)","v":0},{"$f":"SUM(E2877:E2906)","v":0},0,0,0,0,0,0,0,0,0,0,{"$f":"SUM(P2877:P2906)","v":0}]
[851,"Convenios de reasignación",11,null,null,null,null,null,null,null,null,null,null,null,null,{"$f":"SUM(D2877:O2877)","v":0}]
[null,null,12,null,null,null,null,null,null,null,null,null,null,null,null,{"$f":"SUM(D2878:O2878)","v":0}]
[null,null,13,null,null,null,null,null,null,null,null,null,null,null,null,0]
[null,null,14,null,null,null,null,null,null,null,null,null,null,null,null,0]
[null,null,15,null,null,null,null,null,null,null,null,null,null,null,null,0]
[null,null,16,null,null,null,null,null,null,null,null,null,null,null,null,0]
[null,null,17,null,null,null,null,null,null,null,null,null,null,null,null,0]
[null,null,25,null,null,null,null,null,null,null,null,null,null,null,null,0]
[null,null,26,null,null,null,null,null,null,null,null,null,null,null,null,0]
[null,null,27,null,null,null,null,null,null,null,null,null,null,null,null,0]
[852,"Convenios de descentralización",11,null,null,null,null,null,null,null,null,null,null,null,null,0]
[null,null,12,null,null,null,null,null,null,null,null,null,null,null,null,0]
[null,null,13,null,null,null,null,null,null,null,null,null,null,null,null,0]
[null,null,14,null,null,null,null,null,null,null,null,null,null,null,null,0]
[null,null,15,null,null,null,null,null,null,null,null,null,null,null,null,0]
[null,null,16,null,null,null,null,null,null,null,null,null,null,null,null,0]
[null,null,17,null,null,null,null,null,null,null,null,null,null,null,null,0]
[null,null,25,null,null,null,null,null,null,null,null,null,null,null,null,0]
[null,null,26,null,null,null,null,null,null,null,null,null,null,null,null,0]
[null,null,27,null,null,null,null,null,null,null,null,null,null,null,null,0]
[853,"Otros convenios",11,null,null,null,null,null,null,null,null,null,null,null,null,0]
[null,null,12,null,null,null,null,null,null,null,null,null,null,null,null,0]
[null,null,13,null,null,null,null,null,null,null,null,null,null,null,null,0]
[null,null,14,null,null,null,null,null,null,null,null,null,null,null,null,0]
[null,null,15,null,null,null,null,null,null,null,null,null,null,null,null,0]
[null,null,16,null,null,null,null,null,null,null,null,null,null,null,null,0]
[null,null,17,null,null,null,null,null,null,null,null,null,null,null,null,0]
[null,null,25,null,null,null,null,null,null,null,null,null,null,null,null,0]
[null,null,26,null,null,null,null,null,null,null,null,null,null,null,null,0]
[null,null,27,null,null,null,null,null,null,null,null,null,null,null,null,0]
[9000,"DEUDA  PÚBLICA",null,{"$f":"D2908+D2944+D2980+D2992+D3004+D3015+D3018","v":0},0,0,0,0,0,0,0,0,0,0,0,0]
[9100,"AMORTIZACIÓN DE LA DEUDA PÚBLICA ",null,{"$f":"SUM(D2909:D2943)","v":0},{"$f":"SUM(E2909:E2943)","v":0},0,0,0,0,0,0,0,0,0,0,{"$f":"SUM(P2909:P2943)","v":0}]
[911,"Amortización de la deuda interna con instituciones de crédito",11,null,null,null,null,null,null,null,null,null,null,null,null,{"$f":"SUM(D2909:O2909)","v":0}]
[null,null,12,null,null,null,null,null,null,null,null,null,null,null,null,0]
[null,null,13,null,null,null,null,null,null,null,null,null,null,null,null,0]
[null,null,14,null,null,null,null,null,null,null,null,null,null,null,null,0]
[null,null,15,null,null,null,null,null,null,null,null,null,null,null,null,0]
[null,null,16,null,null,null,null,null,null,null,null,null,null,null,null,0]
[null,null,17,null,null,null,null,null,null,null,null,null,null,null,null,0]
[null,null,25,null,null,null,null,null,null,null,null,null,null,null,null,0]
[null,null,26,null,null,null,null,null,null,null,null,null,null,null,null,0]
[null,null,27,null,null,null,null,null,null,null,null,null,null,null,null,0]
[912,"Amortización  de la deuda interna por emisión de títulos y valores",11,null,null,null,null,null,null,null,null,null,null,null,null,0]
[null,null,12,null,null,null,null,null,null,null,null,null,null,null,null,0]
[null,null,13,null,null,null,null,null,null,null,null,null,null,null,null,0]
[null,null,14,null,null,null,null,null,null,null,null,null,null,null,null,0]
[null,null,15,null,null,null,null,null,null,null,null,null,null,null,null,0]
[null,null,16,null,null,null,null,null,null,null,null,null,null,null,null,0]
[null,null,17,null,null,null,null,null,null,null,null,null,null,null,null,0]
[null,null,25,null,null,null,null,null,null,null,null,null,null,null,null,0]
[null,null,26,null,null,null,null,null,null,null,null,null,null,null,null,0]
[null,null,27,null,null,null,null,null,null,null,null,null,null,null,null,0]
[913,"Amortización de arrendamientos financieros nacionales",11,null,null,null,null,null,null,null,null,null,null,null,null,0]
[null,null,12,null,null,null,null,null,null,null,null,null,null,null,null,0]
[null,null,13,null,null,null,null,null,null,null,null,null,null,null,null,0]
[null,null,14,null,null,null,null,null,null,null,null,null,null,null,null,0]
[null,null,15,null,null,null,null,null,null,null,null,null,null,null,null,0]
[null,null,16,null,null,null,null,null,null,null,null,null,null,null,null,0]
[null,null,17,null,null,null,null,null,null,null,null,null,null,null,null,0]
[null,null,25,null,null,null,null,null,null,null,null,null,null,null,null,0]
[null,null,26,null,null,null,null,null,null,null,null,null,null,null,null,0]
[null,null,27,null,null,null,null,null,null,null,null,null,null,null,null,0]
[914,"Amortización de la deuda externa con instituciones de crédito ",null,null,null,null,null,null,null,null,null,null,null,null,null,0]
[915,"Amortización de deuda externa con organismos financieros internacionales",null,null,null,null,null,null,null,null,null,null,null,null,null,0]
[916,"Amortización de la deuda bilateral",null,null,null,null,null,null,null,null,null,null,null,null,null,0]
[917,"Amortización de la deuda externa por emisión de títulos y valores",null,null,null,null,null,null,null,null,null,null,null,null,null,0]
[918,"Amortización de arrendamientos financieros internacionales",null,null,null,null,null,null,null,null,null,null,null,null,null,0]
[9200,"INTERESES DE LA DEUDA PÚBLICA",null,{"$f":"SUM(D2945:D2979)","v":0},{"$f":"SUM(E2945:E2979)","v":0},0,0,0,0,0,0,0,0,0,0,{"$f":"SUM(P2945:P2979)","v":0}]
[921,"Intereses de la deuda interna con instituciones de crédito",11,null,null,null,null,null,null,null,null,null,null,null,null,{"$f":"SUM(D2945:O2945)","v":0}]
[null,null,12,null,null,null,null,null,null,null,null,null,null,null,null,0]
[null,null,13,null,null,null,null,null,null,null,null,null,null,null,null,0]
[null,null,14,null,null,null,null,null,null,null,null,null,null,null,null,0]
[null,null,15,null,null,null,null,null,null,null,null,null,null,null,null,0]
[null,null,16,null,null,null,null,null,null,null,null,null,null,null,null,0]
[null,null,17,null,null,null,null,null,null,null,null,null,null,null,null,0]
[null,null,25,null,null,null,null,null,null,null,null,null,null,null,null,0]
[null,null,26,null,null,null,null,null,null,null,null,null,null,null,null,0]
[null,null,27,null,null,null,null,null,null,null,null,null,null,null,null,0]
[922,"Intereses derivados de la colocación de títulos y valores",11,null,null,null,null,null,null,null,null,null,null,null,null,0]
[null,null,12,null,null,null,null,null,null,null,null,null,null,null,null,0]
[null,null,13,null,null,null,null,null,null,null,null,null,null,null,null,0]
[null,null,14,null,null,null,null,null,null,null,null,null,null,null,null,0]
[null,null,15,null,null,null,null,null,null,null,null,null,null,null,null,0]
[null,null,16,null,null,null,null,null,null,null,null,null,null,null,null,0]
[null,null,17,null,null,null,null,null,null,null,null,null,null,null,null,0]
[null,null,25,null,null,null,null,null,null,null,null,null,null,null,null,0]
[null,null,26,null,null,null,null,null,null,null,null,null,null,null,null,0]
[null,null,27,null,null,null,null,null,null,null,null,null,null,null,null,0]
[923,"Intereses por arrendamientos  financieros nacionales",11,null,null,null,null,null,null,null,null,null,null,null,null,0]
[null,null,12,null,null,null,null,null,null,null,null,null,null,null,null,0]
[null,null,13,null,null,null,null,null,null,null,null,null,null,null,null,0]
[null,null,14,null,null,null,null,null,null,null,null,null,null,null,null,0]
[null,null,15,null,null,null,null,null,null,null,null,null,null,null,null,0]
[null,null,16,null,null,null,null,null,null,null,null,null,null,null,null,0]
[null,null,17,null,null,null,null,null,null,null,null,null,null,null,null,0]
[null,null,25,null,null,null,null,null,null,null,null,null,null,null,null,0]
[null,null,26,null,null,null,null,null,null,null,null,null,null,null,null,0]
[null,null,27,null,null,null,null,null,null,null,null,null,null,null,null,0]
[924,"Intereses de la deuda externa con instituciones de crédito ",null,null,null,null,null,null,null,null,null,null,null,null,null,0]
[925,"Intereses de la deuda con organismos financieros internacionales",null,null,null,null,null,null,null,null,null,null,null,null,null,0]
[926,"Intereses de la deuda bilateral  ",null,null,null,null,null,null,null,null,null,null,null,null,null,0]
[927,"Intereses derivados de la colocación de títulos y valores en el exterior",null,null,null,null,null,null,null,null,null,null,null,null,null,0]
[928,"Intereses por arrendamientos financieros internacionales",null,null,null,null,null,null,null,null,null,null,null,null,null,0]
[9300,"COMISIONES DE LA DEUDA PÚBLICA",null,{"$f":"SUM(D2981:D2991)","v":0},{"$f":"SUM(E2981:E2991)","v":0},0,0,0,0,0,0,0,0,0,0,{"$f":"SUM(P2981:P2991)","v":0}]
[931,"Comisiones de la deuda pública interna",11,null,null,null,null,null,null,null,null,null,null,null,null,{"$f":"SUM(D2981:O2981)","v":0}]
[null,null,12,null,null,null,null,null,null,null,null,null,null,null,null,{"$f":"SUM(D2982:O2982)","v":0}]
[null,null,13,null,null,null,null,null,null,null,null,null,null,null,null,0]
[null,null,14,null,null,null,null,null,null,null,null,null,null,null,null,0]
[null,null,15,null,null,null,null,null,null,null,null,null,null,null,null,0]
[null,null,16,null,null,null,null,null,null,null,null,null,null,null,null,0]
[null,null,17,null,null,null,null,null,null,null,null,null,null,null,null,0]
[null,null,25,null,null,null,null,null,null,null,null,null,null,null,null,0]
[null,null,26,null,null,null,null,null,null,null,null,null,null,null,null,0]
[null,null,27,null,null,null,null,null,null,null,null,null,null,null,null,0]
[932,"Comisiones de la deuda pública externa",null,null,null,null,null,null,null,null,null,null,null,null,null,{"$f":"SUM(D2991:O2991)","v":0}]
[9400,"GASTOS DE LA DEUDA PÚBLICA",null,{"$f":"SUM(D2993:D3003)","v":0},{"$f":"SUM(E2993:E3003)","v":0},0,0,0,0,0,0,0,0,0,0,{"$f":"SUM(P2993:P3003)","v":0}]
[941,"Gastos de la deuda pública interna",11,null,null,null,null,null,null,null,null,null,null,null,null,{"$f":"SUM(D2993:O2993)","v":0}]
[null,null,12,null,null,null,null,null,null,null,null,null,null,null,null,{"$f":"SUM(D2994:O2994)","v":0}]
[null,null,13,null,null,null,null,null,null,null,null,null,null,null,null,0]
[null,null,14,null,null,null,null,null,null,null,null,null,null,null,null,0]
[null,null,15,null,null,null,null,null,null,null,null,null,null,null,null,0]
[null,null,16,null,null,null,null,null,null,null,null,null,null,null,null,0]
[null,null,17,null,null,null,null,null,null,null,null,null,null,null,null,0]
[null,null,25,null,null,null,null,null,null,null,null,null,null,null,null,0]
[null,null,26,null,null,null,null,null,null,null,null,null,null,null,null,0]
[null,null,27,null,null,null,null,null,null,null,null,null,null,null,null,0]
[942,"Gastos de la deuda  pública externa",null,null,null,null,null,null,null,null,null,null,null,null,null,{"$f":"SUM(D3003:O3003)","v":0}]
[9500,"COSTO POR COBERTURAS",null,{"$f":"SUM(D3005:D3014)","v":0},{"$f":"SUM(E3005:E3014)","v":0},0,0,0,0,0,0,0,0,0,0,{"$f":"SUM(P3005:P3014)","v":0}]
[951,"Costos por coberturas",11,null,null,null,null,null,null,null,null,null,null,null,null,{"$f":"SUM(D3005:O3005)","v":0}]
[null,null,12,null,null,null,null,null,null,null,null,null,null,null,null,{"$f":"SUM(D3006:O3006)","v":0}]
[null,null,13,null,null,null,null,null,null,null,null,null,null,null,null,0]
[null,null,14,null,null,null,null,null,null,null,null,null,null,null,null,0]
[null,null,15,null,null,null,null,null,null,null,null,null,null,null,null,0]
[null,null,16,null,null,null,null,null,null,null,null,null,null,null,null,0]
[null,null,17,null,null,null,null,null,null,null,null,null,null,null,null,0]
[null,null,25,null,null,null,null,null,null,null,null,null,null,null,null,0]
[null,null,26,null,null,null,null,null,null,null,null,null,null,null,null,0]
[null,null,27,null,null,null,null,null,null,null,null,null,null,null,null,0]
[9600,"APOYOS FINANCIEROS",null,{"$f":"SUM(D3016:D3017)","v":0},{"$f":"SUM(E3016:E3017)","v":0},0,0,0,0,0,0,0,0,0,0,{"$f":"SUM(P3016:P3017)","v":0}]
[961,"Apoyos a intermediarios financieros",null,null,null,null,null,null,null,null,null,null,null,null,null,{"$f":"SUM(D3016:O3016)","v":0}]
[962,"Apoyos a ahorradores y deudores del Sistema Financiero Nacional",null,null,null,null,null,null,null,null,null,null,null,null,null,0]
[9900,"ADEUDOS DE EJERCICIOS FISCALES ANTERIORES (ADEFAS)",null,{"$f":"SUM(D3019:D3028)","v":0},{"$f":"SUM(E3019:E3028)","v":0},0,0,0,0,0,0,0,0,0,0,{"$f":"SUM(P3019:P3028)","v":0}]
[991,"ADEFAS",11,null,null,null,null,null,null,null,null,null,null,null,null,{"$f":"SUM(D3019:O3019)","v":0}]
[null,null,12,null,null,null,null,null,null,null,null,null,null,null,null,{"$f":"SUM(D3020:O3020)","v":0}]
[null,null,13,null,null,null,null,null,null,null,null,null,null,null,null,0]
[null,null,14,null,null,null,null,null,null,null,null,null,null,null,null,0]
[null,null,15,null,null,null,null,null,null,null,null,null,null,null,null,0]
[null,null,16,null,null,null,null,null,null,null,null,null,null,null,null,0]
[null,null,17,null,null,null,null,null,null,null,null,null,null,null,null,0]
[null,null,25,null,null,null,null,null,null,null,null,null,null,null,null,0]
[null,null,26,null,null,null,null,null,null,null,null,null,null,null,null,0]
[null,null,27,null,null,null,null,null,null,null,null,null,null,null,null,0]
[null,"TOTAL DE EGRESOS",null,{"$f":"D2+D264+D743+D1494+D1860+D2360+D2544+D2853+D2907","v":0},0,0,0,0,0,0,0,0,0,0,0,0]

{"sheet":"CRI-RYP","index":6,"n_rows":35,"n_cols":8,"rows_kept":35,"cut":false,"hidden":false,"merged":[]}
[null,"Resultado\n2018","Resultado\n2019","Resultado\n2020","Estimación\n2021","Proyección\n2022","Proyección\n2023","Proyección\n2024"]
["INGRESOS DE LIBRE DISPOSCIÓN"]
["Impuestos",null,null,null,{"$f":"'CRI-DE'!F2","v":0}]
["Cuotas y aportaciones de seguridad social",null,null,null,{"$f":"'CRI-DE'!F21","v":0}]
["Contribuciones de mejoras",null,null,null,{"$f":"'CRI-DE'!F27","v":0}]
["Derechos",null,null,null,{"$f":"'CRI-DE'!F30","v":0}]
["Productos",null,null,null,{"$f":"'CRI-DE'!F60","v":0}]
["Aprovechamientos",null,null,null,{"$f":"'CRI-DE'!F65","v":0}]
["Ingresos por venta de bienes y prestación de servicios",null,null,null,{"$f":"'CRI-DE'!F79","v":0}]
["Participaciones",null,null,null,{"$f":"'CRI-DE'!F94","v":0}]
["Incentivos derivados de la colaboración fiscal",null,null,null,{"$f":"'CRI-DE'!F115","v":0}]
["Transferencias y asignaciones",null,null,null,{"$f":"'CRI-DE'!D124","v":0}]
["Convenios",null,null,null,{"$f":"'CRI-DE'!D110","v":0}]
["Otros ingresos de libre disposición",null,null,null,0]
["Total de ingresos de libre disposición",{"$f":"SUM(B3:B14)","v":0},{"$f":"SUM(C3:C14)","v":0},0,0,0,0,0]
["TRANSFERENCIAS FEDERALES ETIQUETADAS"]
["Aportaciones",null,null,null,{"$f":"'CRI-DE'!E107","v":0}]
["Convenios",null,null,null,{"$f":"'CRI-DE'!E110","v":0}]
["Fondos distintos de aportaciones",null,null,null,{"$f":"'CRI-DE'!E121","v":0}]
["Transferencias, asignaciones, subsidios y subvenciones y pensiones y jubilaciones",null,null,null,{"$f":"'CRI-DE'!E124","v":0}]
["Otras transferencias federales etiquetadas",null,null,null,0]
["Total de ingresos etiquetados",{"$f":"SUM(B17:B21)","v":0},0,0,0,0,0,0]
["Ingresos derivados de financiamientos",{"$f":"B29","v":0},{"$f":"C29","v":0},{"$f":"D29","v":0},{"$f":"E29","v":0},{"$f":"F29","v":0},0,0]
["TOTAL DE INGRESOS",{"$f":"B15+B22+B23","v":0},{"$f":"C15+C22+C23","v":0},0,0,0,0,0]
[]
["DATOS INFORMATIVOS"]
["Ingresos derivados de financiamientos con fuente de pago de recursos de libre disposición",null,null,null,{"$f":"'CRI-DE'!D136","v":0}]
["Ingresos derivados de financiamientos con fuente de pago de transferencias federales etiquetadas",null,null,null,{"$f":"'CRI-DE'!E136","v":0}]
["Ingresos derivados de financiamiento",{"$f":"SUM(B27:B28)","v":0},0,0,0,0,0,0]
[]
[]
[]
[]
[]
[{"$f":"SUM(B24:H24)","v":0}]

{"sheet":"COG-RYP","index":7,"n_rows":160,"n_cols":8,"rows_kept":160,"cut":false,"hidden":false,"merged":[]}
[null,"Resultado\n2018","Resultado\n2019","Resultado\n2020","Presupuesto\n2021","Proyección\n2022","Proyección\n2023","Proyección\n2024"]
["GASTOS NO ETIQUETADO"]
["Servicios personales",null,null,null,{"$f":"SUM('COG-FF'!C3:I3)","v":0}]
["Materiales y suministros",null,null,null,{"$f":"SUM('COG-FF'!C40:I40)","v":0}]
["Servicios generales",null,null,null,{"$f":"SUM('COG-FF'!C105:I105)","v":0}]
["Transferencias, asignaciones, subsidios y otras ayudas",null,null,null,{"$f":"SUM('COG-FF'!C190:I190)","v":0}]
["Bienes muebles, inmuebles e intangibles",null,null,null,{"$f":"SUM('COG-FF'!C250:I250)","v":0}]
["Inversion pública",null,null,null,{"$f":"SUM('COG-FF'!C309:I309)","v":0}]
["Inversiones financieras y otras provisiones",null,null,null,{"$f":"SUM('COG-FF'!C331:I331)","v":0}]
["Participaciones y aportaciones",null,null,null,{"$f":"SUM('COG-FF'!C379:I379)","v":0}]
["Deuda pública",null,null,null,{"$f":"SUM('COG-FF'!C397:I397)","v":0}]
["Total de gasto no etiquetado",{"$f":"SUM(B3:B11)","v":0},0,0,0,0,0,0]
["GASTO ETIQUETADO"]
["Servicios personales",null,null,null,{"$f":"SUM('COG-FF'!J3:L3)","v":0}]
["Materiales y suministros",null,null,null,{"$f":"SUM('COG-FF'!J40:L40)","v":0}]
["Servicios generales",null,null,null,{"$f":"SUM('COG-FF'!J105:L105)","v":0}]
["Transferencias, asignaciones, subsidios y otras ayudas",null,null,null,{"$f":"SUM('COG-FF'!J190:L190)","v":0}]
["Bienes muebles, inmuebles e intangibles",null,null,null,{"$f":"SUM('COG-FF'!J250:L250)","v":0}]
["Inversion pública",null,null,null,{"$f":"SUM('COG-FF'!J309:L309)","v":0}]
["Inversiones financieras y otras provisiones",null,null,null,{"$f":"SUM('COG-FF'!J331:L331)","v":0}]
["Participaciones y aportaciones",null,null,null,{"$f":"SUM('COG-FF'!J379:L379)","v":0}]
["Deuda pública",null,null,null,{"$f":"SUM('COG-FF'!J397:L397)","v":0}]
["Total de gasto etiquetado",{"$f":"SUM(B14:B22)","v":0},0,0,0,0,0,0]
["TOTAL DE EGRESOS",{"$f":"B12+B23","v":0},{"$f":"C12+C23","v":0},0,0,0,0,0]
[]
[]
[]
[]
[]
[]
[]
[]
[]
[]
[]
[]
[]
[]
[]
[]
[]
[]
[]
[]
[]
[]
[]
[]
[]
[]
[]
[]
[]
[]
[]
[]
[]
[]
[]
[]
[]
[]
[]
[]
[]
[]
[]
[]
[]
[]
[]
[]
[]
[]
[]
[]
[]
[]
[]
[]
[]
[]
[]
[]
[]
[]
[]
[]
[]
[]
[]
[]
[]
[]
[]
[]
[]
[]
[]
[]
[]
[]
[]
[]
[]
[]
[]
[]
[]
[]
[]
[]
[]
[]
[]
[]
[]
[]
[]
[]
[]
[]
[]
[]
[]
[]
[]
[]
[]
[]
[]
[]
[]
[]
[]
[]
[]
[]
[]
[]
[]
[]
[]
[]
[]
[]
[]
[]
[]
[]
[]
[]
[]
[]
[]
[]
[]
[]
[]
[null,{"$f":"SUM(B24:H24)","v":0}]

{"sheet":"CF","index":8,"n_rows":146,"n_cols":3,"rows_kept":146,"cut":false,"hidden":false,"merged":[[0,0,1,0],[0,1,1,1],[0,2,1,2]]}
["CF","DESCRIPCIÓN","TOTAL ANUAL"]
[]
[1,"GOBIERNO",{"$f":"C4+C7+C12+C22+C24+C27+C31+C36","v":0}]
[11,"LEGISLACIÓN",{"$f":"SUM(C5:C6)","v":0}]
[111,"Legislación"]
[112,"Fiscalización"]
[12,"JUSTICIA",{"$f":"SUM(C8:C11)","v":0}]
[121,"Impartición de justicia"]
[122,"Procuración de justicia"]
[123,"Reclusión y readaptación social"]
[124,"Derechos humanos"]
[13,"COORDINACIÓN DE LA POLÍTICA DE GOBIERNO",{"$f":"SUM(C13:C21)","v":0}]
[131,"Presidencia/Gubernatura"]
[132,"Política interior"]
[133,"Preservación y cuidado del patrimonio público"]
[134,"Función pública"]
[135,"Asuntos jurídicos"]
[136,"Organización de procesos electorales"]
[137,"Población"]
[138,"Territorio"]
[139,"Otros"]
[14,"RELACIONES EXTERIORES",{"$f":"SUM(C23:C23)","v":0}]
[141,"Relaciones exteriores"]
[15,"ASUNTOS FINANCIEROS Y HACENDARIOS",{"$f":"SUM(C25:C26)","v":0}]
[151,"Asuntos financieros  "]
[152,"Asuntos hacendarios"]
[16,"SEGURIDAD NACIONAL",{"$f":"SUM(C28:C30)","v":0}]
[161,"Defensa"]
[162,"Marina"]
[163,"Inteligencia para la preservación de la seguridad nacional"]
[17,"ASUNTOS DE ORDEN PÚBLICO Y DE SEGURIDAD INTERIOR",{"$f":"SUM(C32:C35)","v":0}]
[171,"Policía"]
[172,"Protección civil"]
[173,"Otros asuntos de orden público y seguridad"]
[174,"Sistema nacional de seguridad pública"]
[18,"OTROS SERVICIOS GENERALES",{"$f":"SUM(C37:C41)","v":0}]
[181,"Servicios registrales, administrativos y patrimoniales"]
[182,"Servicios estadísticos"]
[183,"Servicios de comunicación y medios"]
[184,"Acceso a la información pública gubernamental"]
[185,"Otros"]
[2,"DESARROLLO SOCIAL",{"$f":"C43+C50+C58+C64+C69+C76+C86","v":0}]
[21,"PROTECCIÓN AMBIENTAL",{"$f":"SUM(C44:C49)","v":0}]
[211,"Ordenación de desechos"]
[212,"Administración del agua"]
[213,"Ordenación de aguas residuales, drenaje y alcantarillado"]
[214,"Reducción de la contaminación"]
[215,"Protección de la diversidad biológica y del paisaje"]
[216,"Otros de protección ambiental"]
[22,"VIVIENDA Y SERVICIOS A LA COMUNIDAD",{"$f":"SUM(C51:C57)","v":0}]
[221,"Urbanización"]
[222,"Desarrollo comunitario"]
[223,"Abastecimiento de agua"]
[224,"Alumbrado público"]
[225,"Vivienda"]
[226,"Servicios comunales"]
[227,"Desarrollo regional"]
[23,"SALUD",{"$f":"SUM(C59:C63)","v":0}]
[231,"Prestación de servicios de salud a la comunidad"]
[232,"Prestación de servicios de salud a la persona"]
[233,"Generación de recursos para la salud"]
[234,"Rectoría del sistema de salud"]
[235,"Protección social en salud"]
[24,"RECREACIÓN, CULTURA Y OTRAS MANIFESTACIONES SOCIALES",{"$f":"SUM(C65:C68)","v":0}]
[241,"Deporte y recreación"]
[242,"Cultura"]
[243,"Radio, televisión y editoriales"]
[244,"Asuntos religiosos y otras manifestaciones sociales"]
[25,"EDUCACIÓN",{"$f":"SUM(C70:C75)","v":0}]
[251,"Educación básica"]
[252,"Educación media superior"]
[253,"Educación superior"]
[254,"Posgrado"]
[255,"Educación para adultos"]
[256,"Otros servicios educativos y actividades inherentes"]
[26,"PROTECCIÓN SOCIAL  ",{"$f":"SUM(C77:C85)","v":0}]
[261,"Enfermedades e incapacidad"]
[262,"Edad avanzada"]
[263,"Familia e hijos"]
[264,"Desempleo"]
[265,"Alimentación y nutrición"]
[266,"Apoyo social para la vivienda"]
[267,"Indígenas"]
[268,"Otros grupos vulnerables"]
[269,"Otros de seguridad social y asistencia social"]
[27,"OTROS ASUNTOS SOCIALES",{"$f":"SUM(C87:C87)","v":0}]
[271,"Otros asuntos sociales"]
[3,"DESARROLLO ECONÓMICO",{"$f":"C89+C92+C99+C106+C110+C117+C119+C122+C127","v":0}]
[31,"ASUNTOS ECONÓMICOS, COMERCIALES Y LABORALES EN GENERAL",{"$f":"SUM(C90:C91)","v":0}]
[311,"Asuntos económicos y comerciales en general"]
[312,"Asuntos laborales generales"]
[32,"AGROPECUARÍA, SILVICULTURA, PESCA Y CAZA",{"$f":"SUM(C93:C98)","v":0}]
[321,"Agropecuaria"]
[322,"Silvicultura"]
[323,"Acuacultura, pesca y caza"]
[324,"Agroindustrial"]
[325,"Hidroagrícola"]
[326,"Apoyo financiero a la banca y seguro agropecuario"]
[33,"COMBUSTIBLE Y ENERGÍA",{"$f":"SUM(C100:C105)","v":0}]
[331,"Carbón y otros combustibles minerales sólidos"]
[332,"Petróleo y gas natural (hidrocarburos)"]
[333,"Combustibles Nucleares"]
[334,"Otros combustibles"]
[335,"Electricidad"]
[336,"Energía no Eléctrica"]
[34,"MINERÍA, MANUFACTURAS Y CONSTRUCCIÓN",{"$f":"SUM(C107:C109)","v":0}]
[341,"Extracción de recursos minerales excepto los combustibles minerales"]
[342,"Manufacturas"]
[343,"Construcción"]
[35,"TRANSPORTE",{"$f":"SUM(C111:C116)","v":0}]
[351,"Transporte por carretera"]
[352,"Transporte por agua y puertos"]
[353,"Transporte por ferrocarril"]
[354,"Transporte aéreo"]
[355,"Transporte por oleoductos y gasoductos y otros sistemas de transporte"]
[356,"Otros relacionados con transporte"]
[36,"COMUNICACIONES",{"$f":"SUM(C118:C118)","v":0}]
[361,"Comunicaciones"]
[37,"TURISMO",{"$f":"SUM(C120:C121)","v":0}]
[371,"Turismo"]
[372,"Hoteles y restaurantes"]
[38,"CIENCIA, TECNOLOGÍA E INNOVACIÓN",{"$f":"SUM(C123:C126)","v":0}]
[381,"Investigación científica"]
[382,"Desarrollo tecnológico"]
[383,"Servicios científicos y tecnológicos"]
[384,"Innovación"]
[39,"OTRAS INDUSTRIAS Y OTROS ASUNTOS ECONÓMICOS",{"$f":"SUM(C128:C130)","v":0}]
[391,"Comercio, distribución, almacenamiento y depósito"]
[392,"Otras industrias  "]
[393,"Otros asuntos económicos"]
[4,"OTRAS NO CLASIFICADAS EN FUNCIONES ANTERIORES",{"$f":"C132+C135+C139+C144","v":0}]
[41,"TRANSACCIONES DE LA DEUDA PÚBLICA/COSTO FINANCIERO DE LA DEUDA",{"$f":"SUM(C133:C134)","v":0}]
[411,"Deuda pública interna"]
[412,"Deuda pública externa"]
[42,"TRANSFERENCIAS, PARTICIPACIONES Y APORTACIONES ENTRE DIFERENTES NIVELES Y ORDENES DE GOBIERNO",{"$f":"SUM(C136:C138)","v":0}]
[421,"Transferencia entre diferentes niveles y ordenes de gobierno"]
[422,"Participaciones entre diferentes niveles y ordenes de gobierno"]
[423,"Aportaciones entre diferentes niveles y ordenes de gobierno"]
[43,"SANEAMIENTO DEL SISTEMA FINANCIERO",{"$f":"SUM(C140:C143)","v":0}]
[431,"Saneamiento del sistema financiero"]
[432,"Apoyos IPAB"]
[433,"Banca de desarrollo"]
[434,"Apoyo a los programas de reestructura en unidades de inversión (UDIS)"]
[44,"ADEUDOS DE EJERCICIOS FISCALES ANTERIORES  ",{"$f":"SUM(C145:C145)","v":0}]
[441,"Adeudos de ejercicios fiscales anteriores"]
[null,"TOTAL DE EGRESOS",{"$f":"C3+C42+C88+C131","v":0}]

{"sheet":"CA","index":9,"n_rows":76,"n_cols":4,"rows_kept":76,"cut":false,"hidden":false,"merged":[[0,0,1,0],[0,1,1,1],[0,2,1,2],[0,3,1,3]]}
["CA","UA","NOMBRE DE LA UNIDAD RESPONSABLE","TOTAL ANUAL"]
[]
["3.0.0.0.0.",null,"SECTOR PÚBLICO MUNICIPAL"]
["3.1.1.0.0.",null,"GOBIERNO GENERAL MUNICIPAL"]
["3.1.1.1.0.",null,"Gobierno Municipal"]
[]
[]
[]
[]
[]
[]
[]
[]
[]
[]
[]
[]
[]
[]
[]
[]
[]
[]
[]
[]
[]
[]
[]
[]
[]
[]
[]
[]
[]
[]
[]
[]
[]
[]
[]
[]
[]
[]
[]
[]
[]
[]
[]
[]
[]
[]
[]
[]
[]
[]
[]
[]
[]
[]
[]
[]
[]
[]
[]
[]
[]
[]
[]
[]
[]
[]
[]
[]
[]
[]
[null,null,"SUMA",{"$f":"SUM(D6:D75)","v":0}]

{"sheet":"EA","index":10,"n_rows":53,"n_cols":6,"rows_kept":53,"cut":false,"hidden":false,"merged":[]}
[null,"Pensiones y jubilaciones","Salud","Riesgos de trabajo","Invalidez y vida","Obras prestaciones sociales"]
["Tipo de sistema"]
["Prestación laboral o fondo general para trabajadores del  municipio"]
["Beneficio definido, contribución definida o mixto"]
["Población afiliada"]
["Activos "]
["Edad máxima"]
["Edad mínima"]
["Edad promedio"]
["Pensionados y jubilados"]
["Edad máxima"]
["Edad mínima"]
["Edad promedio"]
["Beneficiarios"]
["Promedio de años de servicio (trabajadores activos)"]
["Aportación individual al plan de pensión como % del salario"]
["Aportación del ente público al plan de pensión como % del salario"]
["Crecimiento esperado de los pensionados y jubilados (como %)"]
["Crecimiento esperado de los activos (como %)"]
["Edad de jubilación o pensión"]
["Esperanza de vida"]
["Ingresos del fondo"]
["Ingresos anuales al fondo de pensiones"]
["Nómina anual"]
["Activos"]
["Pensiones y jubilados"]
["Beneficiarios de pensionados y jubilados"]
["Monto mensual por pensión "]
["Máximo"]
["Mínimo"]
["Promedio"]
["Monto de la reserva"]
["Valor presente de las obligaciones"]
["Pensiones y jubilaciones en curso de pago"]
["Generación actual"]
["Generaciones futuras"]
["Valor presente de las contribuciones asociadas a los sueldos futuros de cotización X%"]
["Generación actual"]
["Generaciones futuras"]
["Otros ingresos"]
["Déficit/superávit actuarial"]
["Generación actual"]
["Generaciones futuras"]
["Periodo de suficiencia"]
["Año de descapitalización"]
["Tasa de rendimiento"]
["Estudio actuarial"]
["Año de elaboración del estudio actuarial"]
["Empresa que elaboró el estudio actuarial"]
[]
[]
[]
[null,{"$f":"COUNTA(B6:F21,B3:F4,B23:F23,B25:F27,B29:F32,B34:F36,B38:F40,B42:F43,B45:F46,B48:F49)","v":0}]

{"sheet":"Plantilla","index":11,"n_rows":429,"n_cols":15,"rows_kept":429,"cut":false,"hidden":false,"merged":[[0,6,0,7],[0,14,1,14],[2,0,2,1],[3,0,3,1],[4,0,4,1],[5,0,5,1],[6,0,6,1],[7,0,7,1],[8,0,8,1],[0,0,1,1],[0,2,1,2],[0,4,1,4],[0,5,1,5],[0,3,1,3],[16,0,16,1],[17,0,17,1],[18,0,18,1],[19,0,19,1],[20,0,20,1],[9,0,9,1],[10,0,10,1],[11,0,11,1],[12,0,12,1],[13,0,13,1],[14,0,14,1],[15,0,15,1],[27,0,27,1],[28,0,28,1],[29,0,29,1],[30,0,30,1],[31,0,31,1],[32,0,32,1],[21,0,21,1],[22,0,22,1],[23,0,23,1],[24,0,24,1],[25,0,25,1],[26,0,26,1],[39,0,39,1],[40,0,40,1],[41,0,41,1],[42,0,42,1],[43,0,43,1],[44,0,44,1],[33,0,33,1],[34,0,34,1],[35,0,35,1],[36,0,36,1],[37,0,37,1],[38,0,38,1],[51,0,51,1],[52,0,52,1],[53,0,53,1],[54,0,54,1],[55,0,55,1],[56,0,56,1],[45,0,45,1],[46,0,46,1],[47,0,47,1],[48,0,48,1],[49,0,49,1],[50,0,50,1],[63,0,63,1],[64,0,64,1],[65,0,65,1],[66,0,66,1],[67,0,67,1],[68,0,68,1],[57,0,57,1],[58,0,58,1],[59,0,59,1],[60,0,60,1],[61,0,61,1],[62,0,62,1],[75,0,75,1],[76,0,76,1],[77,0,77,1],[78,0,78,1],[79,0,79,1],[80,0,80,1],[69,0,69,1],[70,0,70,1],[71,0,71,1],[72,0,72,1],[73,0,73,1],[74,0,74,1],[87,0,87,1],[88,0,88,1],[89,0,89,1],[90,0,90,1],[91,0,91,1],[92,0,92,1],[81,0,81,1],[82,0,82,1],[83,0,83,1],[84,0,84,1],[85,0,85,1],[86,0,86,1],[99,0,99,1],[100,0,100,1],[101,0,101,1],[102,0,102,1],[103,0,103,1],[104,0,104,1],[93,0,93,1],[94,0,94,1],[95,0,95,1],[96,0,96,1],[97,0,97,1],[98,0,98,1],[111,0,111,1],[112,0,112,1],[113,0,113,1],[114,0,114,1],[115,0,115,1],[116,0,116,1],[105,0,105,1],[106,0,106,1],[107,0,107,1],[108,0,108,1],[109,0,109,1],[110,0,110,1],[123,0,123,1],[124,0,124,1],[125,0,125,1],[126,0,126,1],[127,0,127,1],[128,0,128,1],[117,0,117,1],[118,0,118,1],[119,0,119,1],[120,0,120,1],[121,0,121,1],[122,0,122,1],[135,0,135,1],[136,0,136,1],[137,0,137,1],[138,0,138,1],[139,0,139,1],[140,0,140,1],[129,0,129,1],[130,0,130,1],[131,0,131,1],[132,0,132,1],[133,0,133,1],[134,0,134,1],[147,0,147,1],[148,0,148,1],[149,0,149,1],[150,0,150,1],[151,0,151,1],[152,0,152,1],[141,0,141,1],[142,0,142,1],[143,0,143,1],[144,0,144,1],[145,0,145,1],[146,0,146,1],[159,0,159,1],[160,0,160,1],[161,0,161,1],[162,0,162,1],[163,0,163,1],[164,0,164,1],[153,0,153,1],[154,0,154,1],[155,0,155,1],[156,0,156,1],[157,0,157,1],[158,0,158,1],[171,0,171,1],[172,0,172,1],[173,0,173,1],[174,0,174,1],[175,0,175,1],[176,0,176,1],[165,0,165,1],[166,0,166,1],[167,0,167,1],[168,0,168,1],[169,0,169,1],[170,0,170,1],[183,0,183,1],[184,0,184,1],[185,0,185,1],[186,0,186,1],[187,0,187,1],[188,0,188,1],[177,0,177,1],[178,0,178,1],[179,0,179,1],[180,0,180,1],[181,0,181,1],[182,0,182,1],[195,0,195,1],[196,0,196,1],[197,0,197,1],[198,0,198,1],[199,0,199,1],[200,0,200,1],[189,0,189,1],[190,0,190,1],[191,0,191,1],[192,0,192,1],[193,0,193,1],[194,0,194,1],[207,0,207,1],[208,0,208,1],[209,0,209,1],[210,0,210,1],[211,0,211,1],[212,0,212,1],[201,0,201,1],[202,0,202,1],[203,0,203,1],[204,0,204,1],[205,0,205,1],[206,0,206,1],[219,0,219,1],[220,0,220,1],[221,0,221,1],[222,0,222,1],[223,0,223,1],[224,0,224,1],[213,0,213,1],[214,0,214,1],[215,0,215,1],[216,0,216,1],[217,0,217,1],[218,0,218,1],[231,0,231,1],[232,0,232,1],[233,0,233,1],[234,0,234,1],[235,0,235,1],[236,0,236,1],[225,0,225,1],[226,0,226,1],[227,0,227,1],[228,0,228,1],[229,0,229,1],[230,0,230,1],[243,0,243,1],[244,0,244,1],[245,0,245,1],[246,0,246,1],[247,0,247,1],[248,0,248,1],[237,0,237,1],[238,0,238,1],[239,0,239,1],[240,0,240,1],[241,0,241,1],[242,0,242,1],[255,0,255,1],[256,0,256,1],[257,0,257,1],[258,0,258,1],[259,0,259,1],[260,0,260,1],[249,0,249,1],[250,0,250,1],[251,0,251,1],[252,0,252,1],[253,0,253,1],[254,0,254,1],[267,0,267,1],[268,0,268,1],[269,0,269,1],[270,0,270,1],[271,0,271,1],[272,0,272,1],[261,0,261,1],[262,0,262,1],[263,0,263,1],[264,0,264,1],[265,0,265,1],[266,0,266,1],[279,0,279,1],[280,0,280,1],[281,0,281,1],[282,0,282,1],[283,0,283,1],[284,0,284,1],[273,0,273,1],[274,0,274,1],[275,0,275,1],[276,0,276,1],[277,0,277,1],[278,0,278,1],[291,0,291,1],[292,0,292,1],[293,0,293,1],[294,0,294,1],[295,0,295,1],[296,0,296,1],[285,0,285,1],[286,0,286,1],[287,0,287,1],[288,0,288,1],[289,0,289,1],[290,0,290,1],[303,0,303,1],[304,0,304,1],[305,0,305,1],[306,0,306,1],[307,0,307,1],[308,0,308,1],[297,0,297,1],[298,0,298,1],[299,0,299,1],[300,0,300,1],[301,0,301,1],[302,0,302,1],[315,0,315,1],[316,0,316,1],[317,0,317,1],[318,0,318,1],[319,0,319,1],[320,0,320,1],[309,0,309,1],[310,0,310,1],[311,0,311,1],[312,0,312,1],[313,0,313,1],[314,0,314,1],[327,0,327,1],[328,0,328,1],[329,0,329,1],[330,0,330,1],[331,0,331,1],[332,0,332,1],[321,0,321,1],[322,0,322,1],[323,0,323,1],[324,0,324,1],[325,0,325,1],[326,0,326,1],[339,0,339,1],[340,0,340,1],[341,0,341,1],[342,0,342,1],[343,0,343,1],[344,0,344,1],[333,0,333,1],[334,0,334,1],[335,0,335,1],[336,0,336,1],[337,0,337,1],[338,0,338,1],[351,0,351,1],[352,0,352,1],[353,0,353,1],[354,0,354,1],[355,0,355,1],[356,0,356,1],[345,0,345,1],[346,0,346,1],[347,0,347,1],[348,0,348,1],[349,0,349,1],[350,0,350,1],[363,0,363,1],[364,0,364,1],[365,0,365,1],[366,0,366,1],[367,0,367,1],[368,0,368,1],[357,0,357,1],[358,0,358,1],[359,0,359,1],[360,0,360,1],[361,0,361,1],[362,0,362,1],[375,0,375,1],[376,0,376,1],[377,0,377,1],[378,0,378,1],[379,0,379,1],[380,0,380,1],[369,0,369,1],[370,0,370,1],[371,0,371,1],[372,0,372,1],[373,0,373,1],[374,0,374,1],[387,0,387,1],[388,0,388,1],[389,0,389,1],[390,0,390,1],[391,0,391,1],[392,0,392,1],[381,0,381,1],[382,0,382,1],[383,0,383,1],[384,0,384,1],[385,0,385,1],[386,0,386,1],[399,0,399,1],[400,0,400,1],[401,0,401,1],[402,0,402,1],[403,0,403,1],[404,0,404,1],[393,0,393,1],[394,0,394,1],[395,0,395,1],[396,0,396,1],[397,0,397,1],[398,0,398,1],[411,0,411,1],[412,0,412,1],[413,0,413,1],[414,0,414,1],[415,0,415,1],[416,0,416,1],[405,0,405,1],[406,0,406,1],[407,0,407,1],[408,0,408,1],[409,0,409,1],[410,0,410,1],[423,0,423,1],[424,0,424,1],[425,0,425,1],[426,0,426,1],[427,0,427,1],[428,1,428,4],[417,0,417,1],[418,0,418,1],[419,0,419,1],[420,0,420,1],[421,0,421,1],[422,0,422,1]]}
["NOMBRE DE LA PLAZA",null,"ADSCRIPCIÓN DE LA PLAZA","PARTIDA GENERICA","FF ","No. PLAZAS","111-113\nDIETAS Y SUELDO BASE",null,131,132,132,133,134,1500,"SUMA TOTAL DE REMUNERACIONES"]
[null,null,null,null,null,null,"MENSUAL","ANUAL","PRIMAS POR AÑOS DE SERVICIOS EFECTIVOS PRESTADOS","PRIMA VACACIONAL Y DOMINICAL","GRATIFICACIÓN DE FIN DE AÑO (AGUINALDO)","HORAS EXTRAORDINARIAS","COMPENSACIONES","OTRAS PRESTACIONES"]
["Regidores",null,"Sala de regidores",111,null,null,null,{"$f":"IF(E3=\"\",\"SE REQUIERE ASIGNAR LA FUENTE DE FINANCIAMIENTO\",IF(F3=\"\",\"ES NECESARIO ESTABLECER EL NÚMERO DE PLAZAS\",IF(G3=\"\",\"SE NECESITA ESTABLECER UN MONTO MENSUAL\",F3*G3*12)))","v":"SE REQUIERE ASIGNAR LA FUENTE DE FINANCIAMIENTO"},null,null,null,null,null,null,{"$f":"SUM(H3:N3)","v":0}]
["Sindíco",null,"Sindicatura",111,null,null,null,{"$f":"IF(E4=\"\",\"SE REQUIERE ASIGNAR LA FUENTE DE FINANCIAMIENTO\",IF(F4=\"\",\"ES NECESARIO ESTABLECER EL NÚMERO DE PLAZAS\",IF(G4=\"\",\"SE NECESITA ESTABLECER UN MONTO MENSUAL\",F4*G4*12)))","v":"SE REQUIERE ASIGNAR LA FUENTE DE FINANCIAMIENTO"},null,null,null,null,null,null,{"$f":"SUM(H4:N4)","v":0}]
["Secretario general",null,"Secretaría general",113,null,null,null,"SE REQUIERE ASIGNAR LA FUENTE DE FINANCIAMIENTO",null,null,null,null,null,null,0]
["Presidente",null,"Presidencia",113,null,null,null,"SE REQUIERE ASIGNAR LA FUENTE DE FINANCIAMIENTO",null,null,null,null,null,null,0]
[null,null,null,113,null,null,null,"SE REQUIERE ASIGNAR LA FUENTE DE FINANCIAMIENTO",null,null,null,null,null,null,0]
[null,null,null,113,null,null,null,"SE REQUIERE ASIGNAR LA FUENTE DE FINANCIAMIENTO",null,null,null,null,null,null,0]
[null,null,null,113,null,null,null,"SE REQUIERE ASIGNAR LA FUENTE DE FINANCIAMIENTO",null,null,null,null,null,null,0]
[null,null,null,113,null,null,null,"SE REQUIERE ASIGNAR LA FUENTE DE FINANCIAMIENTO",null,null,null,null,null,null,0]
[null,null,null,113,null,null,null,"SE REQUIERE ASIGNAR LA FUENTE DE FINANCIAMIENTO",null,null,null,null,null,null,0]
[null,null,null,113,null,null,null,"SE REQUIERE ASIGNAR LA FUENTE DE FINANCIAMIENTO",null,null,null,null,null,null,0]
[null,null,null,113,null,null,null,"SE REQUIERE ASIGNAR LA FUENTE DE FINANCIAMIENTO",null,null,null,null,null,null,0]
[null,null,null,113,null,null,null,"SE REQUIERE ASIGNAR LA FUENTE DE FINANCIAMIENTO",null,null,null,null,null,null,0]
[null,null,null,113,null,null,null,"SE REQUIERE ASIGNAR LA FUENTE DE FINANCIAMIENTO",null,null,null,null,null,null,0]
[null,null,null,113,null,null,null,"SE REQUIERE ASIGNAR LA FUENTE DE FINANCIAMIENTO",null,null,null,null,null,null,0]
[null,null,null,113,null,null,null,"SE REQUIERE ASIGNAR LA FUENTE DE FINANCIAMIENTO",null,null,null,null,null,null,0]
[null,null,null,113,null,null,null,"SE REQUIERE ASIGNAR LA FUENTE DE FINANCIAMIENTO",null,null,null,null,null,null,0]
[null,null,null,113,null,null,null,"SE REQUIERE ASIGNAR LA FUENTE DE FINANCIAMIENTO",null,null,null,null,null,null,0]
[null,null,null,113,null,null,null,"SE REQUIERE ASIGNAR LA FUENTE DE FINANCIAMIENTO",null,null,null,null,null,null,0]
[null,null,null,113,null,null,null,"SE REQUIERE ASIGNAR LA FUENTE DE FINANCIAMIENTO",null,null,null,null,null,null,0]
[null,null,null,113,null,null,null,"SE REQUIERE ASIGNAR LA FUENTE DE FINANCIAMIENTO",null,null,null,null,null,null,0]
[null,null,null,113,null,null,null,"SE REQUIERE ASIGNAR LA FUENTE DE FINANCIAMIENTO",null,null,null,null,null,null,0]
[null,null,null,113,null,null,null,"SE REQUIERE ASIGNAR LA FUENTE DE FINANCIAMIENTO",null,null,null,null,null,null,0]
[null,null,null,113,null,null,null,"SE REQUIERE ASIGNAR LA FUENTE DE FINANCIAMIENTO",null,null,null,null,null,null,0]
[null,null,null,113,null,null,null,"SE REQUIERE ASIGNAR LA FUENTE DE FINANCIAMIENTO",null,null,null,null,null,null,0]
[null,null,null,113,null,null,null,"SE REQUIERE ASIGNAR LA FUENTE DE FINANCIAMIENTO",null,null,null,null,null,null,0]
[null,null,null,113,null,null,null,"SE REQUIERE ASIGNAR LA FUENTE DE FINANCIAMIENTO",null,null,null,null,null,null,0]
[null,null,null,113,null,null,null,"SE REQUIERE ASIGNAR LA FUENTE DE FINANCIAMIENTO",null,null,null,null,null,null,0]
[null,null,null,113,null,null,null,"SE REQUIERE ASIGNAR LA FUENTE DE FINANCIAMIENTO",null,null,null,null,null,null,0]
[null,null,null,113,null,null,null,"SE REQUIERE ASIGNAR LA FUENTE DE FINANCIAMIENTO",null,null,null,null,null,null,0]
[null,null,null,113,null,null,null,"SE REQUIERE ASIGNAR LA FUENTE DE FINANCIAMIENTO",null,null,null,null,null,null,0]
[null,null,null,113,null,null,null,"SE REQUIERE ASIGNAR LA FUENTE DE FINANCIAMIENTO",null,null,null,null,null,null,0]
[null,null,null,113,null,null,null,"SE REQUIERE ASIGNAR LA FUENTE DE FINANCIAMIENTO",null,null,null,null,null,null,0]
[null,null,null,113,null,null,null,"SE REQUIERE ASIGNAR LA FUENTE DE FINANCIAMIENTO",null,null,null,null,null,null,0]
[null,null,null,113,null,null,null,"SE REQUIERE ASIGNAR LA FUENTE DE FINANCIAMIENTO",null,null,null,null,null,null,0]
[null,null,null,113,null,null,null,"SE REQUIERE ASIGNAR LA FUENTE DE FINANCIAMIENTO",null,null,null,null,null,null,0]
[null,null,null,113,null,null,null,"SE REQUIERE ASIGNAR LA FUENTE DE FINANCIAMIENTO",null,null,null,null,null,null,0]
[null,null,null,113,null,null,null,"SE REQUIERE ASIGNAR LA FUENTE DE FINANCIAMIENTO",null,null,null,null,null,null,0]
[null,null,null,113,null,null,null,"SE REQUIERE ASIGNAR LA FUENTE DE FINANCIAMIENTO",null,null,null,null,null,null,0]
[null,null,null,113,null,null,null,"SE REQUIERE ASIGNAR LA FUENTE DE FINANCIAMIENTO",null,null,null,null,null,null,0]
[null,null,null,113,null,null,null,"SE REQUIERE ASIGNAR LA FUENTE DE FINANCIAMIENTO",null,null,null,null,null,null,0]
[null,null,null,113,null,null,null,"SE REQUIERE ASIGNAR LA FUENTE DE FINANCIAMIENTO",null,null,null,null,null,null,0]
[null,null,null,113,null,null,null,"SE REQUIERE ASIGNAR LA FUENTE DE FINANCIAMIENTO",null,null,null,null,null,null,0]
[null,null,null,113,null,null,null,"SE REQUIERE ASIGNAR LA FUENTE DE FINANCIAMIENTO",null,null,null,null,null,null,0]
[null,null,null,113,null,null,null,"SE REQUIERE ASIGNAR LA FUENTE DE FINANCIAMIENTO",null,null,null,null,null,null,0]
[null,null,null,113,null,null,null,"SE REQUIERE ASIGNAR LA FUENTE DE FINANCIAMIENTO",null,null,null,null,null,null,0]
[null,null,null,113,null,null,null,"SE REQUIERE ASIGNAR LA FUENTE DE FINANCIAMIENTO",null,null,null,null,null,null,0]
[null,null,null,113,null,null,null,"SE REQUIERE ASIGNAR LA FUENTE DE FINANCIAMIENTO",null,null,null,null,null,null,0]
[null,null,null,113,null,null,null,"SE REQUIERE ASIGNAR LA FUENTE DE FINANCIAMIENTO",null,null,null,null,null,null,0]
[null,null,null,113,null,null,null,"SE REQUIERE ASIGNAR LA FUENTE DE FINANCIAMIENTO",null,null,null,null,null,null,0]
[null,null,null,113,null,null,null,"SE REQUIERE ASIGNAR LA FUENTE DE FINANCIAMIENTO",null,null,null,null,null,null,0]
[null,null,null,113,null,null,null,"SE REQUIERE ASIGNAR LA FUENTE DE FINANCIAMIENTO",null,null,null,null,null,null,0]
[null,null,null,113,null,null,null,"SE REQUIERE ASIGNAR LA FUENTE DE FINANCIAMIENTO",null,null,null,null,null,null,0]
[null,null,null,113,null,null,null,"SE REQUIERE ASIGNAR LA FUENTE DE FINANCIAMIENTO",null,null,null,null,null,null,0]
[null,null,null,113,null,null,null,"SE REQUIERE ASIGNAR LA FUENTE DE FINANCIAMIENTO",null,null,null,null,null,null,0]
[null,null,null,113,null,null,null,"SE REQUIERE ASIGNAR LA FUENTE DE FINANCIAMIENTO",null,null,null,null,null,null,0]
[null,null,null,113,null,null,null,"SE REQUIERE ASIGNAR LA FUENTE DE FINANCIAMIENTO",null,null,null,null,null,null,0]
[null,null,null,113,null,null,null,"SE REQUIERE ASIGNAR LA FUENTE DE FINANCIAMIENTO",null,null,null,null,null,null,0]
[null,null,null,113,null,null,null,"SE REQUIERE ASIGNAR LA FUENTE DE FINANCIAMIENTO",null,null,null,null,null,null,0]
[null,null,null,113,null,null,null,"SE REQUIERE ASIGNAR LA FUENTE DE FINANCIAMIENTO",null,null,null,null,null,null,0]
[null,null,null,113,null,null,null,"SE REQUIERE ASIGNAR LA FUENTE DE FINANCIAMIENTO",null,null,null,null,null,null,0]
[null,null,null,113,null,null,null,"SE REQUIERE ASIGNAR LA FUENTE DE FINANCIAMIENTO",null,null,null,null,null,null,0]
[null,null,null,113,null,null,null,"SE REQUIERE ASIGNAR LA FUENTE DE FINANCIAMIENTO",null,null,null,null,null,null,0]
[null,null,null,113,null,null,null,"SE REQUIERE ASIGNAR LA FUENTE DE FINANCIAMIENTO",null,null,null,null,null,null,0]
[null,null,null,113,null,null,null,"SE REQUIERE ASIGNAR LA FUENTE DE FINANCIAMIENTO",null,null,null,null,null,null,0]
[null,null,null,113,null,null,null,"SE REQUIERE ASIGNAR LA FUENTE DE FINANCIAMIENTO",null,null,null,null,null,null,0]
[null,null,null,113,null,null,null,{"$f":"IF(E68=\"\",\"SE REQUIERE ASIGNAR LA FUENTE DE FINANCIAMIENTO\",IF(F68=\"\",\"ES NECESARIO ESTABLECER EL NÚMERO DE PLAZAS\",IF(G68=\"\",\"SE NECESITA ESTABLECER UN MONTO MENSUAL\",F68*G68*12)))","v":"SE REQUIERE ASIGNAR LA FUENTE DE FINANCIAMIENTO"},null,null,null,null,null,null,{"$f":"SUM(H68:N68)","v":0}]
[null,null,null,113,null,null,null,"SE REQUIERE ASIGNAR LA FUENTE DE FINANCIAMIENTO",null,null,null,null,null,null,0]
[null,null,null,113,null,null,null,"SE REQUIERE ASIGNAR LA FUENTE DE FINANCIAMIENTO",null,null,null,null,null,null,0]
[null,null,null,113,null,null,null,"SE REQUIERE ASIGNAR LA FUENTE DE FINANCIAMIENTO",null,null,null,null,null,null,0]
[null,null,null,113,null,null,null,"SE REQUIERE ASIGNAR LA FUENTE DE FINANCIAMIENTO",null,null,null,null,null,null,0]
[null,null,null,113,null,null,null,"SE REQUIERE ASIGNAR LA FUENTE DE FINANCIAMIENTO",null,null,null,null,null,null,0]
[null,null,null,113,null,null,null,"SE REQUIERE ASIGNAR LA FUENTE DE FINANCIAMIENTO",null,null,null,null,null,null,0]
[null,null,null,113,null,null,null,"SE REQUIERE ASIGNAR LA FUENTE DE FINANCIAMIENTO",null,null,null,null,null,null,0]
[null,null,null,113,null,null,null,"SE REQUIERE ASIGNAR LA FUENTE DE FINANCIAMIENTO",null,null,null,null,null,null,0]
[null,null,null,113,null,null,null,"SE REQUIERE ASIGNAR LA FUENTE DE FINANCIAMIENTO",null,null,null,null,null,null,0]
[null,null,null,113,null,null,null,"SE REQUIERE ASIGNAR LA FUENTE DE FINANCIAMIENTO",null,null,null,null,null,null,0]
[null,null,null,113,null,null,null,"SE REQUIERE ASIGNAR LA FUENTE DE FINANCIAMIENTO",null,null,null,null,null,null,0]
[null,null,null,113,null,null,null,"SE REQUIERE ASIGNAR LA FUENTE DE FINANCIAMIENTO",null,null,null,null,null,null,0]
[null,null,null,113,null,null,null,"SE REQUIERE ASIGNAR LA FUENTE DE FINANCIAMIENTO",null,null,null,null,null,null,0]
[null,null,null,113,null,null,null,"SE REQUIERE ASIGNAR LA FUENTE DE FINANCIAMIENTO",null,null,null,null,null,null,0]
[null,null,null,113,null,null,null,"SE REQUIERE ASIGNAR LA FUENTE DE FINANCIAMIENTO",null,null,null,null,null,null,0]
[null,null,null,113,null,null,null,"SE REQUIERE ASIGNAR LA FUENTE DE FINANCIAMIENTO",null,null,null,null,null,null,0]
[null,null,null,113,null,null,null,"SE REQUIERE ASIGNAR LA FUENTE DE FINANCIAMIENTO",null,null,null,null,null,null,0]
[null,null,null,113,null,null,null,"SE REQUIERE ASIGNAR LA FUENTE DE FINANCIAMIENTO",null,null,null,null,null,null,0]
[null,null,null,113,null,null,null,"SE REQUIERE ASIGNAR LA FUENTE DE FINANCIAMIENTO",null,null,null,null,null,null,0]
[null,null,null,113,null,null,null,"SE REQUIERE ASIGNAR LA FUENTE DE FINANCIAMIENTO",null,null,null,null,null,null,0]
[null,null,null,113,null,null,null,"SE REQUIERE ASIGNAR LA FUENTE DE FINANCIAMIENTO",null,null,null,null,null,null,0]
[null,null,null,113,null,null,null,"SE REQUIERE ASIGNAR LA FUENTE DE FINANCIAMIENTO",null,null,null,null,null,null,0]
[null,null,null,113,null,null,null,"SE REQUIERE ASIGNAR LA FUENTE DE FINANCIAMIENTO",null,null,null,null,null,null,0]
[null,null,null,113,null,null,null,"SE REQUIERE ASIGNAR LA FUENTE DE FINANCIAMIENTO",null,null,null,null,null,null,0]
[null,null,null,113,null,null,null,"SE REQUIERE ASIGNAR LA FUENTE DE FINANCIAMIENTO",null,null,null,null,null,null,0]
[null,null,null,113,null,null,null,"SE REQUIERE ASIGNAR LA FUENTE DE FINANCIAMIENTO",null,null,null,null,null,null,0]
[null,null,null,113,null,null,null,"SE REQUIERE ASIGNAR LA FUENTE DE FINANCIAMIENTO",null,null,null,null,null,null,0]
[null,null,null,113,null,null,null,"SE REQUIERE ASIGNAR LA FUENTE DE FINANCIAMIENTO",null,null,null,null,null,null,0]
[null,null,null,113,null,null,null,"SE REQUIERE ASIGNAR LA FUENTE DE FINANCIAMIENTO",null,null,null,null,null,null,0]
[null,null,null,113,null,null,null,"SE REQUIERE ASIGNAR LA FUENTE DE FINANCIAMIENTO",null,null,null,null,null,null,0]
[null,null,null,113,null,null,null,"SE REQUIERE ASIGNAR LA FUENTE DE FINANCIAMIENTO",null,null,null,null,null,null,0]
[null,null,null,113,null,null,null,"SE REQUIERE ASIGNAR LA FUENTE DE FINANCIAMIENTO",null,null,null,null,null,null,0]
[null,null,null,113,null,null,null,"SE REQUIERE ASIGNAR LA FUENTE DE FINANCIAMIENTO",null,null,null,null,null,null,0]
[null,null,null,113,null,null,null,"SE REQUIERE ASIGNAR LA FUENTE DE FINANCIAMIENTO",null,null,null,null,null,null,0]
[null,null,null,113,null,null,null,"SE REQUIERE ASIGNAR LA FUENTE DE FINANCIAMIENTO",null,null,null,null,null,null,0]
[null,null,null,113,null,null,null,"SE REQUIERE ASIGNAR LA FUENTE DE FINANCIAMIENTO",null,null,null,null,null,null,0]
[null,null,null,113,null,null,null,"SE REQUIERE ASIGNAR LA FUENTE DE FINANCIAMIENTO",null,null,null,null,null,null,0]
[null,null,null,113,null,null,null,"SE REQUIERE ASIGNAR LA FUENTE DE FINANCIAMIENTO",null,null,null,null,null,null,0]
[null,null,null,113,null,null,null,"SE REQUIERE ASIGNAR LA FUENTE DE FINANCIAMIENTO",null,null,null,null,null,null,0]
[null,null,null,113,null,null,null,"SE REQUIERE ASIGNAR LA FUENTE DE FINANCIAMIENTO",null,null,null,null,null,null,0]
[null,null,null,113,null,null,null,"SE REQUIERE ASIGNAR LA FUENTE DE FINANCIAMIENTO",null,null,null,null,null,null,0]
[null,null,null,113,null,null,null,"SE REQUIERE ASIGNAR LA FUENTE DE FINANCIAMIENTO",null,null,null,null,null,null,0]
[null,null,null,113,null,null,null,"SE REQUIERE ASIGNAR LA FUENTE DE FINANCIAMIENTO",null,null,null,null,null,null,0]
[null,null,null,113,null,null,null,"SE REQUIERE ASIGNAR LA FUENTE DE FINANCIAMIENTO",null,null,null,null,null,null,0]
[null,null,null,113,null,null,null,"SE REQUIERE ASIGNAR LA FUENTE DE FINANCIAMIENTO",null,null,null,null,null,null,0]
[null,null,null,113,null,null,null,"SE REQUIERE ASIGNAR LA FUENTE DE FINANCIAMIENTO",null,null,null,null,null,null,0]
[null,null,null,113,null,null,null,"SE REQUIERE ASIGNAR LA FUENTE DE FINANCIAMIENTO",null,null,null,null,null,null,0]
[null,null,null,113,null,null,null,"SE REQUIERE ASIGNAR LA FUENTE DE FINANCIAMIENTO",null,null,null,null,null,null,0]
[null,null,null,113,null,null,null,"SE REQUIERE ASIGNAR LA FUENTE DE FINANCIAMIENTO",null,null,null,null,null,null,0]
[null,null,null,113,null,null,null,"SE REQUIERE ASIGNAR LA FUENTE DE FINANCIAMIENTO",null,null,null,null,null,null,0]
[null,null,null,113,null,null,null,"SE REQUIERE ASIGNAR LA FUENTE DE FINANCIAMIENTO",null,null,null,null,null,null,0]
[null,null,null,113,null,null,null,"SE REQUIERE ASIGNAR LA FUENTE DE FINANCIAMIENTO",null,null,null,null,null,null,0]
[null,null,null,113,null,null,null,"SE REQUIERE ASIGNAR LA FUENTE DE FINANCIAMIENTO",null,null,null,null,null,null,0]
[null,null,null,113,null,null,null,"SE REQUIERE ASIGNAR LA FUENTE DE FINANCIAMIENTO",null,null,null,null,null,null,0]
[null,null,null,113,null,null,null,"SE REQUIERE ASIGNAR LA FUENTE DE FINANCIAMIENTO",null,null,null,null,null,null,0]
[null,null,null,113,null,null,null,"SE REQUIERE ASIGNAR LA FUENTE DE FINANCIAMIENTO",null,null,null,null,null,null,0]
[null,null,null,113,null,null,null,"SE REQUIERE ASIGNAR LA FUENTE DE FINANCIAMIENTO",null,null,null,null,null,null,0]
[null,null,null,113,null,null,null,"SE REQUIERE ASIGNAR LA FUENTE DE FINANCIAMIENTO",null,null,null,null,null,null,0]
[null,null,null,113,null,null,null,"SE REQUIERE ASIGNAR LA FUENTE DE FINANCIAMIENTO",null,null,null,null,null,null,0]
[null,null,null,113,null,null,null,"SE REQUIERE ASIGNAR LA FUENTE DE FINANCIAMIENTO",null,null,null,null,null,null,0]
[null,null,null,113,null,null,null,"SE REQUIERE ASIGNAR LA FUENTE DE FINANCIAMIENTO",null,null,null,null,null,null,0]
[null,null,null,113,null,null,null,"SE REQUIERE ASIGNAR LA FUENTE DE FINANCIAMIENTO",null,null,null,null,null,null,0]
[null,null,null,113,null,null,null,"SE REQUIERE ASIGNAR LA FUENTE DE FINANCIAMIENTO",null,null,null,null,null,null,0]
[null,null,null,113,null,null,null,{"$f":"IF(E132=\"\",\"SE REQUIERE ASIGNAR LA FUENTE DE FINANCIAMIENTO\",IF(F132=\"\",\"ES NECESARIO ESTABLECER EL NÚMERO DE PLAZAS\",IF(G132=\"\",\"SE NECESITA ESTABLECER UN MONTO MENSUAL\",F132*G132*12)))","v":"SE REQUIERE ASIGNAR LA FUENTE DE FINANCIAMIENTO"},null,null,null,null,null,null,{"$f":"SUM(H132:N132)","v":0}]
[null,null,null,113,null,null,null,"SE REQUIERE ASIGNAR LA FUENTE DE FINANCIAMIENTO",null,null,null,null,null,null,0]
[null,null,null,113,null,null,null,"SE REQUIERE ASIGNAR LA FUENTE DE FINANCIAMIENTO",null,null,null,null,null,null,0]
[null,null,null,113,null,null,null,"SE REQUIERE ASIGNAR LA FUENTE DE FINANCIAMIENTO",null,null,null,null,null,null,0]
[null,null,null,113,null,null,null,"SE REQUIERE ASIGNAR LA FUENTE DE FINANCIAMIENTO",null,null,null,null,null,null,0]
[null,null,null,113,null,null,null,"SE REQUIERE ASIGNAR LA FUENTE DE FINANCIAMIENTO",null,null,null,null,null,null,0]
[null,null,null,113,null,null,null,"SE REQUIERE ASIGNAR LA FUENTE DE FINANCIAMIENTO",null,null,null,null,null,null,0]
[null,null,null,113,null,null,null,"SE REQUIERE ASIGNAR LA FUENTE DE FINANCIAMIENTO",null,null,null,null,null,null,0]
[null,null,null,113,null,null,null,"SE REQUIERE ASIGNAR LA FUENTE DE FINANCIAMIENTO",null,null,null,null,null,null,0]
[null,null,null,113,null,null,null,"SE REQUIERE ASIGNAR LA FUENTE DE FINANCIAMIENTO",null,null,null,null,null,null,0]
[null,null,null,113,null,null,null,"SE REQUIERE ASIGNAR LA FUENTE DE FINANCIAMIENTO",null,null,null,null,null,null,0]
[null,null,null,113,null,null,null,"SE REQUIERE ASIGNAR LA FUENTE DE FINANCIAMIENTO",null,null,null,null,null,null,0]
[null,null,null,113,null,null,null,"SE REQUIERE ASIGNAR LA FUENTE DE FINANCIAMIENTO",null,null,null,null,null,null,0]
[null,null,null,113,null,null,null,"SE REQUIERE ASIGNAR LA FUENTE DE FINANCIAMIENTO",null,null,null,null,null,null,0]
[null,null,null,113,null,null,null,"SE REQUIERE ASIGNAR LA FUENTE DE FINANCIAMIENTO",null,null,null,null,null,null,0]
[null,null,null,113,null,null,null,"SE REQUIERE ASIGNAR LA FUENTE DE FINANCIAMIENTO",null,null,null,null,null,null,0]
[null,null,null,113,null,null,null,"SE REQUIERE ASIGNAR LA FUENTE DE FINANCIAMIENTO",null,null,null,null,null,null,0]
[null,null,null,113,null,null,null,"SE REQUIERE ASIGNAR LA FUENTE DE FINANCIAMIENTO",null,null,null,null,null,null,0]
[null,null,null,113,null,null,null,"SE REQUIERE ASIGNAR LA FUENTE DE FINANCIAMIENTO",null,null,null,null,null,null,0]
[null,null,null,113,null,null,null,"SE REQUIERE ASIGNAR LA FUENTE DE FINANCIAMIENTO",null,null,null,null,null,null,0]
[null,null,null,113,null,null,null,"SE REQUIERE ASIGNAR LA FUENTE DE FINANCIAMIENTO",null,null,null,null,null,null,0]
[null,null,null,113,null,null,null,"SE REQUIERE ASIGNAR LA FUENTE DE FINANCIAMIENTO",null,null,null,null,null,null,0]
[null,null,null,113,null,null,null,"SE REQUIERE ASIGNAR LA FUENTE DE FINANCIAMIENTO",null,null,null,null,null,null,0]
[null,null,null,113,null,null,null,"SE REQUIERE ASIGNAR LA FUENTE DE FINANCIAMIENTO",null,null,null,null,null,null,0]
[null,null,null,113,null,null,null,"SE REQUIERE ASIGNAR LA FUENTE DE FINANCIAMIENTO",null,null,null,null,null,null,0]
[null,null,null,113,null,null,null,"SE REQUIERE ASIGNAR LA FUENTE DE FINANCIAMIENTO",null,null,null,null,null,null,0]
[null,null,null,113,null,null,null,"SE REQUIERE ASIGNAR LA FUENTE DE FINANCIAMIENTO",null,null,null,null,null,null,0]
[null,null,null,113,null,null,null,"SE REQUIERE ASIGNAR LA FUENTE DE FINANCIAMIENTO",null,null,null,null,null,null,0]
[null,null,null,113,null,null,null,"SE REQUIERE ASIGNAR LA FUENTE DE FINANCIAMIENTO",null,null,null,null,null,null,0]
[null,null,null,113,null,null,null,"SE REQUIERE ASIGNAR LA FUENTE DE FINANCIAMIENTO",null,null,null,null,null,null,0]
[null,null,null,113,null,null,null,"SE REQUIERE ASIGNAR LA FUENTE DE FINANCIAMIENTO",null,null,null,null,null,null,0]
[null,null,null,113,null,null,null,"SE REQUIERE ASIGNAR LA FUENTE DE FINANCIAMIENTO",null,null,null,null,null,null,0]
[null,null,null,113,null,null,null,"SE REQUIERE ASIGNAR LA FUENTE DE FINANCIAMIENTO",null,null,null,null,null,null,0]
[null,null,null,113,null,null,null,"SE REQUIERE ASIGNAR LA FUENTE DE FINANCIAMIENTO",null,null,null,null,null,null,0]
[null,null,null,113,null,null,null,"SE REQUIERE ASIGNAR LA FUENTE DE FINANCIAMIENTO",null,null,null,null,null,null,0]
[null,null,null,113,null,null,null,"SE REQUIERE ASIGNAR LA FUENTE DE FINANCIAMIENTO",null,null,null,null,null,null,0]
[null,null,null,113,null,null,null,"SE REQUIERE ASIGNAR LA FUENTE DE FINANCIAMIENTO",null,null,null,null,null,null,0]
[null,null,null,113,null,null,null,"SE REQUIERE ASIGNAR LA FUENTE DE FINANCIAMIENTO",null,null,null,null,null,null,0]
[null,null,null,113,null,null,null,"SE REQUIERE ASIGNAR LA FUENTE DE FINANCIAMIENTO",null,null,null,null,null,null,0]
[null,null,null,113,null,null,null,"SE REQUIERE ASIGNAR LA FUENTE DE FINANCIAMIENTO",null,null,null,null,null,null,0]
[null,null,null,113,null,null,null,"SE REQUIERE ASIGNAR LA FUENTE DE FINANCIAMIENTO",null,null,null,null,null,null,0]
[null,null,null,113,null,null,null,"SE REQUIERE ASIGNAR LA FUENTE DE FINANCIAMIENTO",null,null,null,null,null,null,0]
[null,null,null,113,null,null,null,"SE REQUIERE ASIGNAR LA FUENTE DE FINANCIAMIENTO",null,null,null,null,null,null,0]
[null,null,null,113,null,null,null,"SE REQUIERE ASIGNAR LA FUENTE DE FINANCIAMIENTO",null,null,null,null,null,null,0]
[null,null,null,113,null,null,null,"SE REQUIERE ASIGNAR LA FUENTE DE FINANCIAMIENTO",null,null,null,null,null,null,0]
[null,null,null,113,null,null,null,"SE REQUIERE ASIGNAR LA FUENTE DE FINANCIAMIENTO",null,null,null,null,null,null,0]
[null,null,null,113,null,null,null,"SE REQUIERE ASIGNAR LA FUENTE DE FINANCIAMIENTO",null,null,null,null,null,null,0]
[null,null,null,113,null,null,null,"SE REQUIERE ASIGNAR LA FUENTE DE FINANCIAMIENTO",null,null,null,null,null,null,0]
[null,null,null,113,null,null,null,"SE REQUIERE ASIGNAR LA FUENTE DE FINANCIAMIENTO",null,null,null,null,null,null,0]
[null,null,null,113,null,null,null,"SE REQUIERE ASIGNAR LA FUENTE DE FINANCIAMIENTO",null,null,null,null,null,null,0]
[null,null,null,113,null,null,null,"SE REQUIERE ASIGNAR LA FUENTE DE FINANCIAMIENTO",null,null,null,null,null,null,0]
[null,null,null,113,null,null,null,"SE REQUIERE ASIGNAR LA FUENTE DE FINANCIAMIENTO",null,null,null,null,null,null,0]
[null,null,null,113,null,null,null,"SE REQUIERE ASIGNAR LA FUENTE DE FINANCIAMIENTO",null,null,null,null,null,null,0]
[null,null,null,113,null,null,null,"SE REQUIERE ASIGNAR LA FUENTE DE FINANCIAMIENTO",null,null,null,null,null,null,0]
[null,null,null,113,null,null,null,"SE REQUIERE ASIGNAR LA FUENTE DE FINANCIAMIENTO",null,null,null,null,null,null,0]
[null,null,null,113,null,null,null,"SE REQUIERE ASIGNAR LA FUENTE DE FINANCIAMIENTO",null,null,null,null,null,null,0]
[null,null,null,113,null,null,null,"SE REQUIERE ASIGNAR LA FUENTE DE FINANCIAMIENTO",null,null,null,null,null,null,0]
[null,null,null,113,null,null,null,"SE REQUIERE ASIGNAR LA FUENTE DE FINANCIAMIENTO",null,null,null,null,null,null,0]
[null,null,null,113,null,null,null,"SE REQUIERE ASIGNAR LA FUENTE DE FINANCIAMIENTO",null,null,null,null,null,null,0]
[null,null,null,113,null,null,null,"SE REQUIERE ASIGNAR LA FUENTE DE FINANCIAMIENTO",null,null,null,null,null,null,0]
[null,null,null,113,null,null,null,"SE REQUIERE ASIGNAR LA FUENTE DE FINANCIAMIENTO",null,null,null,null,null,null,0]
[null,null,null,113,null,null,null,"SE REQUIERE ASIGNAR LA FUENTE DE FINANCIAMIENTO",null,null,null,null,null,null,0]
[null,null,null,113,null,null,null,"SE REQUIERE ASIGNAR LA FUENTE DE FINANCIAMIENTO",null,null,null,null,null,null,0]
[null,null,null,113,null,null,null,"SE REQUIERE ASIGNAR LA FUENTE DE FINANCIAMIENTO",null,null,null,null,null,null,0]
[null,null,null,113,null,null,null,{"$f":"IF(E196=\"\",\"SE REQUIERE ASIGNAR LA FUENTE DE FINANCIAMIENTO\",IF(F196=\"\",\"ES NECESARIO ESTABLECER EL NÚMERO DE PLAZAS\",IF(G196=\"\",\"SE NECESITA ESTABLECER UN MONTO MENSUAL\",F196*G196*12)))","v":"SE REQUIERE ASIGNAR LA FUENTE DE FINANCIAMIENTO"},null,null,null,null,null,null,{"$f":"SUM(H196:N196)","v":0}]
[null,null,null,113,null,null,null,"SE REQUIERE ASIGNAR LA FUENTE DE FINANCIAMIENTO",null,null,null,null,null,null,0]
[null,null,null,113,null,null,null,"SE REQUIERE ASIGNAR LA FUENTE DE FINANCIAMIENTO",null,null,null,null,null,null,0]
[null,null,null,113,null,null,null,"SE REQUIERE ASIGNAR LA FUENTE DE FINANCIAMIENTO",null,null,null,null,null,null,0]
[null,null,null,113,null,null,null,"SE REQUIERE ASIGNAR LA FUENTE DE FINANCIAMIENTO",null,null,null,null,null,null,0]
[null,null,null,113,null,null,null,"SE REQUIERE ASIGNAR LA FUENTE DE FINANCIAMIENTO",null,null,null,null,null,null,0]
[null,null,null,113,null,null,null,"SE REQUIERE ASIGNAR LA FUENTE DE FINANCIAMIENTO",null,null,null,null,null,null,0]
[null,null,null,113,null,null,null,"SE REQUIERE ASIGNAR LA FUENTE DE FINANCIAMIENTO",null,null,null,null,null,null,0]
[null,null,null,113,null,null,null,"SE REQUIERE ASIGNAR LA FUENTE DE FINANCIAMIENTO",null,null,null,null,null,null,0]
[null,null,null,113,null,null,null,"SE REQUIERE ASIGNAR LA FUENTE DE FINANCIAMIENTO",null,null,null,null,null,null,0]
[null,null,null,113,null,null,null,"SE REQUIERE ASIGNAR LA FUENTE DE FINANCIAMIENTO",null,null,null,null,null,null,0]
[null,null,null,113,null,null,null,"SE REQUIERE ASIGNAR LA FUENTE DE FINANCIAMIENTO",null,null,null,null,null,null,0]
[null,null,null,113,null,null,null,"SE REQUIERE ASIGNAR LA FUENTE DE FINANCIAMIENTO",null,null,null,null,null,null,0]
[null,null,null,113,null,null,null,"SE REQUIERE ASIGNAR LA FUENTE DE FINANCIAMIENTO",null,null,null,null,null,null,0]
[null,null,null,113,null,null,null,"SE REQUIERE ASIGNAR LA FUENTE DE FINANCIAMIENTO",null,null,null,null,null,null,0]
[null,null,null,113,null,null,null,"SE REQUIERE ASIGNAR LA FUENTE DE FINANCIAMIENTO",null,null,null,null,null,null,0]
[null,null,null,113,null,null,null,"SE REQUIERE ASIGNAR LA FUENTE DE FINANCIAMIENTO",null,null,null,null,null,null,0]
[null,null,null,113,null,null,null,"SE REQUIERE ASIGNAR LA FUENTE DE FINANCIAMIENTO",null,null,null,null,null,null,0]
[null,null,null,113,null,null,null,"SE REQUIERE ASIGNAR LA FUENTE DE FINANCIAMIENTO",null,null,null,null,null,null,0]
[null,null,null,113,null,null,null,"SE REQUIERE ASIGNAR LA FUENTE DE FINANCIAMIENTO",null,null,null,null,null,null,0]
[null,null,null,113,null,null,null,"SE REQUIERE ASIGNAR LA FUENTE DE FINANCIAMIENTO",null,null,null,null,null,null,0]
[null,null,null,113,null,null,null,"SE REQUIERE ASIGNAR LA FUENTE DE FINANCIAMIENTO",null,null,null,null,null,null,0]
[null,null,null,113,null,null,null,"SE REQUIERE ASIGNAR LA FUENTE DE FINANCIAMIENTO",null,null,null,null,null,null,0]
[null,null,null,113,null,null,null,"SE REQUIERE ASIGNAR LA FUENTE DE FINANCIAMIENTO",null,null,null,null,null,null,0]
[null,null,null,113,null,null,null,"SE REQUIERE ASIGNAR LA FUENTE DE FINANCIAMIENTO",null,null,null,null,null,null,0]
[null,null,null,113,null,null,null,"SE REQUIERE ASIGNAR LA FUENTE DE FINANCIAMIENTO",null,null,null,null,null,null,0]
[null,null,null,113,null,null,null,"SE REQUIERE ASIGNAR LA FUENTE DE FINANCIAMIENTO",null,null,null,null,null,null,0]
[null,null,null,113,null,null,null,"SE REQUIERE ASIGNAR LA FUENTE DE FINANCIAMIENTO",null,null,null,null,null,null,0]
[null,null,null,113,null,null,null,"SE REQUIERE ASIGNAR LA FUENTE DE FINANCIAMIENTO",null,null,null,null,null,null,0]
[null,null,null,113,null,null,null,"SE REQUIERE ASIGNAR LA FUENTE DE FINANCIAMIENTO",null,null,null,null,null,null,0]
[null,null,null,113,null,null,null,"SE REQUIERE ASIGNAR LA FUENTE DE FINANCIAMIENTO",null,null,null,null,null,null,0]
[null,null,null,113,null,null,null,"SE REQUIERE ASIGNAR LA FUENTE DE FINANCIAMIENTO",null,null,null,null,null,null,0]
[null,null,null,113,null,null,null,"SE REQUIERE ASIGNAR LA FUENTE DE FINANCIAMIENTO",null,null,null,null,null,null,0]
[null,null,null,113,null,null,null,"SE REQUIERE ASIGNAR LA FUENTE DE FINANCIAMIENTO",null,null,null,null,null,null,0]
[null,null,null,113,null,null,null,"SE REQUIERE ASIGNAR LA FUENTE DE FINANCIAMIENTO",null,null,null,null,null,null,0]
[null,null,null,113,null,null,null,"SE REQUIERE ASIGNAR LA FUENTE DE FINANCIAMIENTO",null,null,null,null,null,null,0]
[null,null,null,113,null,null,null,"SE REQUIERE ASIGNAR LA FUENTE DE FINANCIAMIENTO",null,null,null,null,null,null,0]
[null,null,null,113,null,null,null,"SE REQUIERE ASIGNAR LA FUENTE DE FINANCIAMIENTO",null,null,null,null,null,null,0]
[null,null,null,113,null,null,null,"SE REQUIERE ASIGNAR LA FUENTE DE FINANCIAMIENTO",null,null,null,null,null,null,0]
[null,null,null,113,null,null,null,"SE REQUIERE ASIGNAR LA FUENTE DE FINANCIAMIENTO",null,null,null,null,null,null,0]
[null,null,null,113,null,null,null,"SE REQUIERE ASIGNAR LA FUENTE DE FINANCIAMIENTO",null,null,null,null,null,null,0]
[null,null,null,113,null,null,null,"SE REQUIERE ASIGNAR LA FUENTE DE FINANCIAMIENTO",null,null,null,null,null,null,0]
[null,null,null,113,null,null,null,"SE REQUIERE ASIGNAR LA FUENTE DE FINANCIAMIENTO",null,null,null,null,null,null,0]
[null,null,null,113,null,null,null,"SE REQUIERE ASIGNAR LA FUENTE DE FINANCIAMIENTO",null,null,null,null,null,null,0]
[null,null,null,113,null,null,null,"SE REQUIERE ASIGNAR LA FUENTE DE FINANCIAMIENTO",null,null,null,null,null,null,0]
[null,null,null,113,null,null,null,"SE REQUIERE ASIGNAR LA FUENTE DE FINANCIAMIENTO",null,null,null,null,null,null,0]
[null,null,null,113,null,null,null,"SE REQUIERE ASIGNAR LA FUENTE DE FINANCIAMIENTO",null,null,null,null,null,null,0]
[null,null,null,113,null,null,null,"SE REQUIERE ASIGNAR LA FUENTE DE FINANCIAMIENTO",null,null,null,null,null,null,0]
[null,null,null,113,null,null,null,"SE REQUIERE ASIGNAR LA FUENTE DE FINANCIAMIENTO",null,null,null,null,null,null,0]
[null,null,null,113,null,null,null,"SE REQUIERE ASIGNAR LA FUENTE DE FINANCIAMIENTO",null,null,null,null,null,null,0]
[null,null,null,113,null,null,null,"SE REQUIERE ASIGNAR LA FUENTE DE FINANCIAMIENTO",null,null,null,null,null,null,0]
[null,null,null,113,null,null,null,"SE REQUIERE ASIGNAR LA FUENTE DE FINANCIAMIENTO",null,null,null,null,null,null,0]
[null,null,null,113,null,null,null,"SE REQUIERE ASIGNAR LA FUENTE DE FINANCIAMIENTO",null,null,null,null,null,null,0]
[null,null,null,113,null,null,null,"SE REQUIERE ASIGNAR LA FUENTE DE FINANCIAMIENTO",null,null,null,null,null,null,0]
[null,null,null,113,null,null,null,"SE REQUIERE ASIGNAR LA FUENTE DE FINANCIAMIENTO",null,null,null,null,null,null,0]
[null,null,null,113,null,null,null,"SE REQUIERE ASIGNAR LA FUENTE DE FINANCIAMIENTO",null,null,null,null,null,null,0]
[null,null,null,113,null,null,null,"SE REQUIERE ASIGNAR LA FUENTE DE FINANCIAMIENTO",null,null,null,null,null,null,0]
[null,null,null,113,null,null,null,"SE REQUIERE ASIGNAR LA FUENTE DE FINANCIAMIENTO",null,null,null,null,null,null,0]
[null,null,null,113,null,null,null,"SE REQUIERE ASIGNAR LA FUENTE DE FINANCIAMIENTO",null,null,null,null,null,null,0]
[null,null,null,113,null,null,null,"SE REQUIERE ASIGNAR LA FUENTE DE FINANCIAMIENTO",null,null,null,null,null,null,0]
[null,null,null,113,null,null,null,"SE REQUIERE ASIGNAR LA FUENTE DE FINANCIAMIENTO",null,null,null,null,null,null,0]
[null,null,null,113,null,null,null,"SE REQUIERE ASIGNAR LA FUENTE DE FINANCIAMIENTO",null,null,null,null,null,null,0]
[null,null,null,113,null,null,null,"SE REQUIERE ASIGNAR LA FUENTE DE FINANCIAMIENTO",null,null,null,null,null,null,0]
[null,null,null,113,null,null,null,"SE REQUIERE ASIGNAR LA FUENTE DE FINANCIAMIENTO",null,null,null,null,null,null,0]
[null,null,null,113,null,null,null,{"$f":"IF(E260=\"\",\"SE REQUIERE ASIGNAR LA FUENTE DE FINANCIAMIENTO\",IF(F260=\"\",\"ES NECESARIO ESTABLECER EL NÚMERO DE PLAZAS\",IF(G260=\"\",\"SE NECESITA ESTABLECER UN MONTO MENSUAL\",F260*G260*12)))","v":"SE REQUIERE ASIGNAR LA FUENTE DE FINANCIAMIENTO"},null,null,null,null,null,null,{"$f":"SUM(H260:N260)","v":0}]
[null,null,null,113,null,null,null,"SE REQUIERE ASIGNAR LA FUENTE DE FINANCIAMIENTO",null,null,null,null,null,null,0]
[null,null,null,113,null,null,null,"SE REQUIERE ASIGNAR LA FUENTE DE FINANCIAMIENTO",null,null,null,null,null,null,0]
[null,null,null,113,null,null,null,"SE REQUIERE ASIGNAR LA FUENTE DE FINANCIAMIENTO",null,null,null,null,null,null,0]
[null,null,null,113,null,null,null,"SE REQUIERE ASIGNAR LA FUENTE DE FINANCIAMIENTO",null,null,null,null,null,null,0]
[null,null,null,113,null,null,null,"SE REQUIERE ASIGNAR LA FUENTE DE FINANCIAMIENTO",null,null,null,null,null,null,0]
[null,null,null,113,null,null,null,"SE REQUIERE ASIGNAR LA FUENTE DE FINANCIAMIENTO",null,null,null,null,null,null,0]
[null,null,null,113,null,null,null,"SE REQUIERE ASIGNAR LA FUENTE DE FINANCIAMIENTO",null,null,null,null,null,null,0]
[null,null,null,113,null,null,null,"SE REQUIERE ASIGNAR LA FUENTE DE FINANCIAMIENTO",null,null,null,null,null,null,0]
[null,null,null,113,null,null,null,"SE REQUIERE ASIGNAR LA FUENTE DE FINANCIAMIENTO",null,null,null,null,null,null,0]
[null,null,null,113,null,null,null,"SE REQUIERE ASIGNAR LA FUENTE DE FINANCIAMIENTO",null,null,null,null,null,null,0]
[null,null,null,113,null,null,null,"SE REQUIERE ASIGNAR LA FUENTE DE FINANCIAMIENTO",null,null,null,null,null,null,0]
[null,null,null,113,null,null,null,"SE REQUIERE ASIGNAR LA FUENTE DE FINANCIAMIENTO",null,null,null,null,null,null,0]
[null,null,null,113,null,null,null,"SE REQUIERE ASIGNAR LA FUENTE DE FINANCIAMIENTO",null,null,null,null,null,null,0]
[null,null,null,113,null,null,null,"SE REQUIERE ASIGNAR LA FUENTE DE FINANCIAMIENTO",null,null,null,null,null,null,0]
[null,null,null,113,null,null,null,"SE REQUIERE ASIGNAR LA FUENTE DE FINANCIAMIENTO",null,null,null,null,null,null,0]
[null,null,null,113,null,null,null,"SE REQUIERE ASIGNAR LA FUENTE DE FINANCIAMIENTO",null,null,null,null,null,null,0]
[null,null,null,113,null,null,null,"SE REQUIERE ASIGNAR LA FUENTE DE FINANCIAMIENTO",null,null,null,null,null,null,0]
[null,null,null,113,null,null,null,"SE REQUIERE ASIGNAR LA FUENTE DE FINANCIAMIENTO",null,null,null,null,null,null,0]
[null,null,null,113,null,null,null,"SE REQUIERE ASIGNAR LA FUENTE DE FINANCIAMIENTO",null,null,null,null,null,null,0]
[null,null,null,113,null,null,null,"SE REQUIERE ASIGNAR LA FUENTE DE FINANCIAMIENTO",null,null,null,null,null,null,0]
[null,null,null,113,null,null,null,"SE REQUIERE ASIGNAR LA FUENTE DE FINANCIAMIENTO",null,null,null,null,null,null,0]
[null,null,null,113,null,null,null,"SE REQUIERE ASIGNAR LA FUENTE DE FINANCIAMIENTO",null,null,null,null,null,null,0]
[null,null,null,113,null,null,null,"SE REQUIERE ASIGNAR LA FUENTE DE FINANCIAMIENTO",null,null,null,null,null,null,0]
[null,null,null,113,null,null,null,"SE REQUIERE ASIGNAR LA FUENTE DE FINANCIAMIENTO",null,null,null,null,null,null,0]
[null,null,null,113,null,null,null,"SE REQUIERE ASIGNAR LA FUENTE DE FINANCIAMIENTO",null,null,null,null,null,null,0]
[null,null,null,113,null,null,null,"SE REQUIERE ASIGNAR LA FUENTE DE FINANCIAMIENTO",null,null,null,null,null,null,0]
[null,null,null,113,null,null,null,"SE REQUIERE ASIGNAR LA FUENTE DE FINANCIAMIENTO",null,null,null,null,null,null,0]
[null,null,null,113,null,null,null,"SE REQUIERE ASIGNAR LA FUENTE DE FINANCIAMIENTO",null,null,null,null,null,null,0]
[null,null,null,113,null,null,null,"SE REQUIERE ASIGNAR LA FUENTE DE FINANCIAMIENTO",null,null,null,null,null,null,0]
[null,null,null,113,null,null,null,"SE REQUIERE ASIGNAR LA FUENTE DE FINANCIAMIENTO",null,null,null,null,null,null,0]
[null,null,null,113,null,null,null,"SE REQUIERE ASIGNAR LA FUENTE DE FINANCIAMIENTO",null,null,null,null,null,null,0]
[null,null,null,113,null,null,null,"SE REQUIERE ASIGNAR LA FUENTE DE FINANCIAMIENTO",null,null,null,null,null,null,0]
[null,null,null,113,null,null,null,"SE REQUIERE ASIGNAR LA FUENTE DE FINANCIAMIENTO",null,null,null,null,null,null,0]
[null,null,null,113,null,null,null,"SE REQUIERE ASIGNAR LA FUENTE DE FINANCIAMIENTO",null,null,null,null,null,null,0]
[null,null,null,113,null,null,null,"SE REQUIERE ASIGNAR LA FUENTE DE FINANCIAMIENTO",null,null,null,null,null,null,0]
[null,null,null,113,null,null,null,"SE REQUIERE ASIGNAR LA FUENTE DE FINANCIAMIENTO",null,null,null,null,null,null,0]
[null,null,null,113,null,null,null,"SE REQUIERE ASIGNAR LA FUENTE DE FINANCIAMIENTO",null,null,null,null,null,null,0]
[null,null,null,113,null,null,null,"SE REQUIERE ASIGNAR LA FUENTE DE FINANCIAMIENTO",null,null,null,null,null,null,0]
[null,null,null,113,null,null,null,"SE REQUIERE ASIGNAR LA FUENTE DE FINANCIAMIENTO",null,null,null,null,null,null,0]
[null,null,null,113,null,null,null,"SE REQUIERE ASIGNAR LA FUENTE DE FINANCIAMIENTO",null,null,null,null,null,null,0]
[null,null,null,113,null,null,null,"SE REQUIERE ASIGNAR LA FUENTE DE FINANCIAMIENTO",null,null,null,null,null,null,0]
[null,null,null,113,null,null,null,"SE REQUIERE ASIGNAR LA FUENTE DE FINANCIAMIENTO",null,null,null,null,null,null,0]
[null,null,null,113,null,null,null,"SE REQUIERE ASIGNAR LA FUENTE DE FINANCIAMIENTO",null,null,null,null,null,null,0]
[null,null,null,113,null,null,null,"SE REQUIERE ASIGNAR LA FUENTE DE FINANCIAMIENTO",null,null,null,null,null,null,0]
[null,null,null,113,null,null,null,"SE REQUIERE ASIGNAR LA FUENTE DE FINANCIAMIENTO",null,null,null,null,null,null,0]
[null,null,null,113,null,null,null,"SE REQUIERE ASIGNAR LA FUENTE DE FINANCIAMIENTO",null,null,null,null,null,null,0]
[null,null,null,113,null,null,null,"SE REQUIERE ASIGNAR LA FUENTE DE FINANCIAMIENTO",null,null,null,null,null,null,0]
[null,null,null,113,null,null,null,"SE REQUIERE ASIGNAR LA FUENTE DE FINANCIAMIENTO",null,null,null,null,null,null,0]
[null,null,null,113,null,null,null,"SE REQUIERE ASIGNAR LA FUENTE DE FINANCIAMIENTO",null,null,null,null,null,null,0]
[null,null,null,113,null,null,null,"SE REQUIERE ASIGNAR LA FUENTE DE FINANCIAMIENTO",null,null,null,null,null,null,0]
[null,null,null,113,null,null,null,"SE REQUIERE ASIGNAR LA FUENTE DE FINANCIAMIENTO",null,null,null,null,null,null,0]
[null,null,null,113,null,null,null,"SE REQUIERE ASIGNAR LA FUENTE DE FINANCIAMIENTO",null,null,null,null,null,null,0]
[null,null,null,113,null,null,null,"SE REQUIERE ASIGNAR LA FUENTE DE FINANCIAMIENTO",null,null,null,null,null,null,0]
[null,null,null,113,null,null,null,"SE REQUIERE ASIGNAR LA FUENTE DE FINANCIAMIENTO",null,null,null,null,null,null,0]
[null,null,null,113,null,null,null,"SE REQUIERE ASIGNAR LA FUENTE DE FINANCIAMIENTO",null,null,null,null,null,null,0]
[null,null,null,113,null,null,null,"SE REQUIERE ASIGNAR LA FUENTE DE FINANCIAMIENTO",null,null,null,null,null,null,0]
[null,null,null,113,null,null,null,"SE REQUIERE ASIGNAR LA FUENTE DE FINANCIAMIENTO",null,null,null,null,null,null,0]
[null,null,null,113,null,null,null,"SE REQUIERE ASIGNAR LA FUENTE DE FINANCIAMIENTO",null,null,null,null,null,null,0]
[null,null,null,113,null,null,null,"SE REQUIERE ASIGNAR LA FUENTE DE FINANCIAMIENTO",null,null,null,null,null,null,0]
[null,null,null,113,null,null,null,"SE REQUIERE ASIGNAR LA FUENTE DE FINANCIAMIENTO",null,null,null,null,null,null,0]
[null,null,null,113,null,null,null,"SE REQUIERE ASIGNAR LA FUENTE DE FINANCIAMIENTO",null,null,null,null,null,null,0]
[null,null,null,113,null,null,null,"SE REQUIERE ASIGNAR LA FUENTE DE FINANCIAMIENTO",null,null,null,null,null,null,0]
[null,null,null,113,null,null,null,"SE REQUIERE ASIGNAR LA FUENTE DE FINANCIAMIENTO",null,null,null,null,null,null,0]
[null,null,null,113,null,null,null,{"$f":"IF(E324=\"\",\"SE REQUIERE ASIGNAR LA FUENTE DE FINANCIAMIENTO\",IF(F324=\"\",\"ES NECESARIO ESTABLECER EL NÚMERO DE PLAZAS\",IF(G324=\"\",\"SE NECESITA ESTABLECER UN MONTO MENSUAL\",F324*G324*12)))","v":"SE REQUIERE ASIGNAR LA FUENTE DE FINANCIAMIENTO"},null,null,null,null,null,null,{"$f":"SUM(H324:N324)","v":0}]
[null,null,null,113,null,null,null,"SE REQUIERE ASIGNAR LA FUENTE DE FINANCIAMIENTO",null,null,null,null,null,null,0]
[null,null,null,113,null,null,null,"SE REQUIERE ASIGNAR LA FUENTE DE FINANCIAMIENTO",null,null,null,null,null,null,0]
[null,null,null,113,null,null,null,"SE REQUIERE ASIGNAR LA FUENTE DE FINANCIAMIENTO",null,null,null,null,null,null,0]
[null,null,null,113,null,null,null,"SE REQUIERE ASIGNAR LA FUENTE DE FINANCIAMIENTO",null,null,null,null,null,null,0]
[null,null,null,113,null,null,null,"SE REQUIERE ASIGNAR LA FUENTE DE FINANCIAMIENTO",null,null,null,null,null,null,0]
[null,null,null,113,null,null,null,"SE REQUIERE ASIGNAR LA FUENTE DE FINANCIAMIENTO",null,null,null,null,null,null,0]
[null,null,null,113,null,null,null,"SE REQUIERE ASIGNAR LA FUENTE DE FINANCIAMIENTO",null,null,null,null,null,null,0]
[null,null,null,113,null,null,null,"SE REQUIERE ASIGNAR LA FUENTE DE FINANCIAMIENTO",null,null,null,null,null,null,0]
[null,null,null,113,null,null,null,"SE REQUIERE ASIGNAR LA FUENTE DE FINANCIAMIENTO",null,null,null,null,null,null,0]
[null,null,null,113,null,null,null,"SE REQUIERE ASIGNAR LA FUENTE DE FINANCIAMIENTO",null,null,null,null,null,null,0]
[null,null,null,113,null,null,null,"SE REQUIERE ASIGNAR LA FUENTE DE FINANCIAMIENTO",null,null,null,null,null,null,0]
[null,null,null,113,null,null,null,"SE REQUIERE ASIGNAR LA FUENTE DE FINANCIAMIENTO",null,null,null,null,null,null,0]
[null,null,null,113,null,null,null,"SE REQUIERE ASIGNAR LA FUENTE DE FINANCIAMIENTO",null,null,null,null,null,null,0]
[null,null,null,113,null,null,null,"SE REQUIERE ASIGNAR LA FUENTE DE FINANCIAMIENTO",null,null,null,null,null,null,0]
[null,null,null,113,null,null,null,"SE REQUIERE ASIGNAR LA FUENTE DE FINANCIAMIENTO",null,null,null,null,null,null,0]
[null,null,null,113,null,null,null,"SE REQUIERE ASIGNAR LA FUENTE DE FINANCIAMIENTO",null,null,null,null,null,null,0]
[null,null,null,113,null,null,null,"SE REQUIERE ASIGNAR LA FUENTE DE FINANCIAMIENTO",null,null,null,null,null,null,0]
[null,null,null,113,null,null,null,"SE REQUIERE ASIGNAR LA FUENTE DE FINANCIAMIENTO",null,null,null,null,null,null,0]
[null,null,null,113,null,null,null,"SE REQUIERE ASIGNAR LA FUENTE DE FINANCIAMIENTO",null,null,null,null,null,null,0]
[null,null,null,113,null,null,null,"SE REQUIERE ASIGNAR LA FUENTE DE FINANCIAMIENTO",null,null,null,null,null,null,0]
[null,null,null,113,null,null,null,"SE REQUIERE ASIGNAR LA FUENTE DE FINANCIAMIENTO",null,null,null,null,null,null,0]
[null,null,null,113,null,null,null,"SE REQUIERE ASIGNAR LA FUENTE DE FINANCIAMIENTO",null,null,null,null,null,null,0]
[null,null,null,113,null,null,null,"SE REQUIERE ASIGNAR LA FUENTE DE FINANCIAMIENTO",null,null,null,null,null,null,0]
[null,null,null,113,null,null,null,"SE REQUIERE ASIGNAR LA FUENTE DE FINANCIAMIENTO",null,null,null,null,null,null,0]
[null,null,null,113,null,null,null,"SE REQUIERE ASIGNAR LA FUENTE DE FINANCIAMIENTO",null,null,null,null,null,null,0]
[null,null,null,113,null,null,null,"SE REQUIERE ASIGNAR LA FUENTE DE FINANCIAMIENTO",null,null,null,null,null,null,0]
[null,null,null,113,null,null,null,"SE REQUIERE ASIGNAR LA FUENTE DE FINANCIAMIENTO",null,null,null,null,null,null,0]
[null,null,null,113,null,null,null,"SE REQUIERE ASIGNAR LA FUENTE DE FINANCIAMIENTO",null,null,null,null,null,null,0]
[null,null,null,113,null,null,null,"SE REQUIERE ASIGNAR LA FUENTE DE FINANCIAMIENTO",null,null,null,null,null,null,0]
[null,null,null,113,null,null,null,"SE REQUIERE ASIGNAR LA FUENTE DE FINANCIAMIENTO",null,null,null,null,null,null,0]
[null,null,null,113,null,null,null,"SE REQUIERE ASIGNAR LA FUENTE DE FINANCIAMIENTO",null,null,null,null,null,null,0]
[null,null,null,113,null,null,null,"SE REQUIERE ASIGNAR LA FUENTE DE FINANCIAMIENTO",null,null,null,null,null,null,0]
[null,null,null,113,null,null,null,"SE REQUIERE ASIGNAR LA FUENTE DE FINANCIAMIENTO",null,null,null,null,null,null,0]
[null,null,null,113,null,null,null,"SE REQUIERE ASIGNAR LA FUENTE DE FINANCIAMIENTO",null,null,null,null,null,null,0]
[null,null,null,113,null,null,null,"SE REQUIERE ASIGNAR LA FUENTE DE FINANCIAMIENTO",null,null,null,null,null,null,0]
[null,null,null,113,null,null,null,"SE REQUIERE ASIGNAR LA FUENTE DE FINANCIAMIENTO",null,null,null,null,null,null,0]
[null,null,null,113,null,null,null,"SE REQUIERE ASIGNAR LA FUENTE DE FINANCIAMIENTO",null,null,null,null,null,null,0]
[null,null,null,113,null,null,null,"SE REQUIERE ASIGNAR LA FUENTE DE FINANCIAMIENTO",null,null,null,null,null,null,0]
[null,null,null,113,null,null,null,"SE REQUIERE ASIGNAR LA FUENTE DE FINANCIAMIENTO",null,null,null,null,null,null,0]
[null,null,null,113,null,null,null,"SE REQUIERE ASIGNAR LA FUENTE DE FINANCIAMIENTO",null,null,null,null,null,null,0]
[null,null,null,113,null,null,null,"SE REQUIERE ASIGNAR LA FUENTE DE FINANCIAMIENTO",null,null,null,null,null,null,0]
[null,null,null,113,null,null,null,"SE REQUIERE ASIGNAR LA FUENTE DE FINANCIAMIENTO",null,null,null,null,null,null,0]
[null,null,null,113,null,null,null,"SE REQUIERE ASIGNAR LA FUENTE DE FINANCIAMIENTO",null,null,null,null,null,null,0]
[null,null,null,113,null,null,null,"SE REQUIERE ASIGNAR LA FUENTE DE FINANCIAMIENTO",null,null,null,null,null,null,0]
[null,null,null,113,null,null,null,"SE REQUIERE ASIGNAR LA FUENTE DE FINANCIAMIENTO",null,null,null,null,null,null,0]
[null,null,null,113,null,null,null,"SE REQUIERE ASIGNAR LA FUENTE DE FINANCIAMIENTO",null,null,null,null,null,null,0]
[null,null,null,113,null,null,null,"SE REQUIERE ASIGNAR LA FUENTE DE FINANCIAMIENTO",null,null,null,null,null,null,0]
[null,null,null,113,null,null,null,"SE REQUIERE ASIGNAR LA FUENTE DE FINANCIAMIENTO",null,null,null,null,null,null,0]
[null,null,null,113,null,null,null,"SE REQUIERE ASIGNAR LA FUENTE DE FINANCIAMIENTO",null,null,null,null,null,null,0]
[null,null,null,113,null,null,null,"SE REQUIERE ASIGNAR LA FUENTE DE FINANCIAMIENTO",null,null,null,null,null,null,0]
[null,null,null,113,null,null,null,"SE REQUIERE ASIGNAR LA FUENTE DE FINANCIAMIENTO",null,null,null,null,null,null,0]
[null,null,null,113,null,null,null,"SE REQUIERE ASIGNAR LA FUENTE DE FINANCIAMIENTO",null,null,null,null,null,null,0]
[null,null,null,113,null,null,null,"SE REQUIERE ASIGNAR LA FUENTE DE FINANCIAMIENTO",null,null,null,null,null,null,0]
[null,null,null,113,null,null,null,"SE REQUIERE ASIGNAR LA FUENTE DE FINANCIAMIENTO",null,null,null,null,null,null,0]
[null,null,null,113,null,null,null,"SE REQUIERE ASIGNAR LA FUENTE DE FINANCIAMIENTO",null,null,null,null,null,null,0]
[null,null,null,113,null,null,null,"SE REQUIERE ASIGNAR LA FUENTE DE FINANCIAMIENTO",null,null,null,null,null,null,0]
[null,null,null,113,null,null,null,"SE REQUIERE ASIGNAR LA FUENTE DE FINANCIAMIENTO",null,null,null,null,null,null,0]
[null,null,null,113,null,null,null,"SE REQUIERE ASIGNAR LA FUENTE DE FINANCIAMIENTO",null,null,null,null,null,null,0]
[null,null,null,113,null,null,null,"SE REQUIERE ASIGNAR LA FUENTE DE FINANCIAMIENTO",null,null,null,null,null,null,0]
[null,null,null,113,null,null,null,"SE REQUIERE ASIGNAR LA FUENTE DE FINANCIAMIENTO",null,null,null,null,null,null,0]
[null,null,null,113,null,null,null,"SE REQUIERE ASIGNAR LA FUENTE DE FINANCIAMIENTO",null,null,null,null,null,null,0]
[null,null,null,113,null,null,null,"SE REQUIERE ASIGNAR LA FUENTE DE FINANCIAMIENTO",null,null,null,null,null,null,0]
[null,null,null,113,null,null,null,"SE REQUIERE ASIGNAR LA FUENTE DE FINANCIAMIENTO",null,null,null,null,null,null,0]
[null,null,null,113,null,null,null,{"$f":"IF(E388=\"\",\"SE REQUIERE ASIGNAR LA FUENTE DE FINANCIAMIENTO\",IF(F388=\"\",\"ES NECESARIO ESTABLECER EL NÚMERO DE PLAZAS\",IF(G388=\"\",\"SE NECESITA ESTABLECER UN MONTO MENSUAL\",F388*G388*12)))","v":"SE REQUIERE ASIGNAR LA FUENTE DE FINANCIAMIENTO"},null,null,null,null,null,null,{"$f":"SUM(H388:N388)","v":0}]
[null,null,null,113,null,null,null,"SE REQUIERE ASIGNAR LA FUENTE DE FINANCIAMIENTO",null,null,null,null,null,null,0]
[null,null,null,113,null,null,null,"SE REQUIERE ASIGNAR LA FUENTE DE FINANCIAMIENTO",null,null,null,null,null,null,0]
[null,null,null,113,null,null,null,"SE REQUIERE ASIGNAR LA FUENTE DE FINANCIAMIENTO",null,null,null,null,null,null,0]
[null,null,null,113,null,null,null,"SE REQUIERE ASIGNAR LA FUENTE DE FINANCIAMIENTO",null,null,null,null,null,null,0]
[null,null,null,113,null,null,null,"SE REQUIERE ASIGNAR LA FUENTE DE FINANCIAMIENTO",null,null,null,null,null,null,0]
[null,null,null,113,null,null,null,"SE REQUIERE ASIGNAR LA FUENTE DE FINANCIAMIENTO",null,null,null,null,null,null,0]
[null,null,null,113,null,null,null,"SE REQUIERE ASIGNAR LA FUENTE DE FINANCIAMIENTO",null,null,null,null,null,null,0]
[null,null,null,113,null,null,null,"SE REQUIERE ASIGNAR LA FUENTE DE FINANCIAMIENTO",null,null,null,null,null,null,0]
[null,null,null,113,null,null,null,"SE REQUIERE ASIGNAR LA FUENTE DE FINANCIAMIENTO",null,null,null,null,null,null,0]
[null,null,null,113,null,null,null,"SE REQUIERE ASIGNAR LA FUENTE DE FINANCIAMIENTO",null,null,null,null,null,null,0]
[null,null,null,113,null,null,null,"SE REQUIERE ASIGNAR LA FUENTE DE FINANCIAMIENTO",null,null,null,null,null,null,0]
[null,null,null,113,null,null,null,"SE REQUIERE ASIGNAR LA FUENTE DE FINANCIAMIENTO",null,null,null,null,null,null,0]
[null,null,null,113,null,null,null,"SE REQUIERE ASIGNAR LA FUENTE DE FINANCIAMIENTO",null,null,null,null,null,null,0]
[null,null,null,113,null,null,null,"SE REQUIERE ASIGNAR LA FUENTE DE FINANCIAMIENTO",null,null,null,null,null,null,0]
[null,null,null,113,null,null,null,"SE REQUIERE ASIGNAR LA FUENTE DE FINANCIAMIENTO",null,null,null,null,null,null,0]
[null,null,null,113,null,null,null,"SE REQUIERE ASIGNAR LA FUENTE DE FINANCIAMIENTO",null,null,null,null,null,null,0]
[null,null,null,113,null,null,null,"SE REQUIERE ASIGNAR LA FUENTE DE FINANCIAMIENTO",null,null,null,null,null,null,0]
[null,null,null,113,null,null,null,"SE REQUIERE ASIGNAR LA FUENTE DE FINANCIAMIENTO",null,null,null,null,null,null,0]
[null,null,null,113,null,null,null,"SE REQUIERE ASIGNAR LA FUENTE DE FINANCIAMIENTO",null,null,null,null,null,null,0]
[null,null,null,113,null,null,null,"SE REQUIERE ASIGNAR LA FUENTE DE FINANCIAMIENTO",null,null,null,null,null,null,0]
[null,null,null,113,null,null,null,"SE REQUIERE ASIGNAR LA FUENTE DE FINANCIAMIENTO",null,null,null,null,null,null,0]
[null,null,null,113,null,null,null,"SE REQUIERE ASIGNAR LA FUENTE DE FINANCIAMIENTO",null,null,null,null,null,null,0]
[null,null,null,113,null,null,null,"SE REQUIERE ASIGNAR LA FUENTE DE FINANCIAMIENTO",null,null,null,null,null,null,0]
[null,null,null,113,null,null,null,"SE REQUIERE ASIGNAR LA FUENTE DE FINANCIAMIENTO",null,null,null,null,null,null,0]
[null,null,null,113,null,null,null,"SE REQUIERE ASIGNAR LA FUENTE DE FINANCIAMIENTO",null,null,null,null,null,null,0]
[null,null,null,113,null,null,null,"SE REQUIERE ASIGNAR LA FUENTE DE FINANCIAMIENTO",null,null,null,null,null,null,0]
[null,null,null,113,null,null,null,"SE REQUIERE ASIGNAR LA FUENTE DE FINANCIAMIENTO",null,null,null,null,null,null,0]
[null,null,null,113,null,null,null,"SE REQUIERE ASIGNAR LA FUENTE DE FINANCIAMIENTO",null,null,null,null,null,null,0]
[null,null,null,113,null,null,null,"SE REQUIERE ASIGNAR LA FUENTE DE FINANCIAMIENTO",null,null,null,null,null,null,0]
[null,null,null,113,null,null,null,"SE REQUIERE ASIGNAR LA FUENTE DE FINANCIAMIENTO",null,null,null,null,null,null,0]
[null,null,null,113,null,null,null,"SE REQUIERE ASIGNAR LA FUENTE DE FINANCIAMIENTO",null,null,null,null,null,null,0]
[null,null,null,113,null,null,null,"SE REQUIERE ASIGNAR LA FUENTE DE FINANCIAMIENTO",null,null,null,null,null,null,0]
[null,null,null,113,null,null,null,"SE REQUIERE ASIGNAR LA FUENTE DE FINANCIAMIENTO",null,null,null,null,null,null,0]
[null,null,null,113,null,null,null,"SE REQUIERE ASIGNAR LA FUENTE DE FINANCIAMIENTO",null,null,null,null,null,null,0]
[null,null,null,113,null,null,null,"SE REQUIERE ASIGNAR LA FUENTE DE FINANCIAMIENTO",null,null,null,null,null,null,0]
[null,null,null,113,null,null,null,"SE REQUIERE ASIGNAR LA FUENTE DE FINANCIAMIENTO",null,null,null,null,null,null,0]
[null,null,null,113,null,null,null,"SE REQUIERE ASIGNAR LA FUENTE DE FINANCIAMIENTO",null,null,null,null,null,null,0]
[null,null,null,113,null,null,null,"SE REQUIERE ASIGNAR LA FUENTE DE FINANCIAMIENTO",null,null,null,null,null,null,0]
[null,null,null,113,null,null,null,"SE REQUIERE ASIGNAR LA FUENTE DE FINANCIAMIENTO",null,null,null,null,null,null,0]
[null,null,null,113,null,null,null,"SE REQUIERE ASIGNAR LA FUENTE DE FINANCIAMIENTO",null,null,null,null,null,null,0]
[null,"TOTALES",null,null,null,{"$f":"SUM(F3:F428)","v":0},0,0,{"$f":"SUM(I3:I428)","v":0},0,0,0,0,0,{"$f":"SUM(O3:O428)","v":0}]

{"sheet":"CRI-DE","index":12,"n_rows":141,"n_cols":6,"rows_kept":141,"cut":false,"hidden":false,"merged":[[6,0,6,1],[7,0,7,1],[8,1,8,2],[9,1,9,2],[10,1,10,2],[11,1,11,2],[0,1,0,2],[1,1,1,2],[2,1,2,2],[3,0,3,1],[4,1,4,2],[5,0,5,1],[18,1,18,2],[19,0,19,1],[20,1,20,2],[21,1,21,2],[22,1,22,2],[23,1,23,2],[12,1,12,2],[13,0,13,1],[14,0,14,1],[15,0,15,1],[16,0,16,1],[17,0,17,1],[30,1,30,2],[31,0,31,1],[32,0,32,1],[33,0,33,1],[34,0,34,1],[35,1,35,2],[24,1,24,2],[25,1,25,2],[26,1,26,2],[27,1,27,2],[28,0,28,1],[29,1,29,2],[42,0,42,1],[43,0,43,1],[44,0,44,1],[45,0,45,1],[46,0,46,1],[47,0,47,1],[36,1,36,2],[37,0,37,1],[38,0,38,1],[39,0,39,1],[40,0,40,1],[41,0,41,1],[54,0,54,1],[55,0,55,1],[56,0,56,1],[57,0,57,1],[58,0,58,1],[59,1,59,2],[48,0,48,1],[49,0,49,1],[50,0,50,1],[51,1,51,2],[52,0,52,1],[53,1,53,2],[66,0,66,1],[67,0,67,1],[68,0,68,1],[69,1,69,2],[70,0,70,1],[71,0,71,1],[60,1,60,2],[61,0,61,1],[62,0,62,1],[63,1,63,2],[64,1,64,2],[65,1,65,2],[78,1,78,2],[79,1,79,2],[80,0,80,1],[81,1,81,2],[82,1,82,2],[83,0,83,1],[72,1,72,2],[73,0,73,1],[74,0,74,1],[75,0,75,1],[76,0,76,1],[77,0,77,1],[90,1,90,2],[91,0,91,1],[92,1,92,2],[93,1,93,2],[94,0,94,1],[95,0,95,1],[84,1,84,2],[85,1,85,2],[86,1,86,2],[87,1,87,2],[88,0,88,1],[89,1,89,2],[102,0,102,1],[103,0,103,1],[104,0,104,1],[105,0,105,1],[106,1,106,2],[107,0,107,1],[96,0,96,1],[97,0,97,1],[98,0,98,1],[99,0,99,1],[100,0,100,1],[101,0,101,1],[114,1,114,2],[115,0,115,1],[116,0,116,1],[117,0,117,1],[118,0,118,1],[119,0,119,1],[108,0,108,1],[109,1,109,2],[110,0,110,1],[111,0,111,1],[112,0,112,1],[113,0,113,1],[126,1,126,2],[127,1,127,2],[128,0,128,1],[129,1,129,2],[130,1,130,2],[131,0,131,1],[120,1,120,2],[121,0,121,1],[122,0,122,1],[123,1,123,2],[124,1,124,2],[125,0,125,1],[138,1,138,2],[139,0,139,1],[140,0,140,2],[132,1,132,2],[133,1,133,2],[134,0,134,1],[135,1,135,2],[136,1,136,2],[137,1,137,2]]}
["CRI-LI","DESCRIPCIÓN",null,"INGRESOS DE LIBRE DISPOSICIÓN","INGRESOS ETIQUETADOS","TOTAL"]
[1000,"IMPUESTOS",null,{"$f":"D3+D5+D9+D10+D11+D12+D13+D19","v":0},{"$f":"E3+E5+E9+E10+E11+E12+E13+E19","v":0},{"$f":"D2+E2","v":0}]
[1100,"Impuestos sobre los ingresos",null,{"$f":"SUM(D4)","v":0},{"$f":"SUM(E4)","v":0},{"$f":"D3+E3","v":0}]
[1101,null,"Impuestos sobre espectáculos públicos",{"$f":"'CRI-M'!P4","v":0},null,0]
[1200,"Impuestos sobre el patrimonio",null,{"$f":"SUM(D6:D8)","v":0},{"$f":"SUM(E6:E8)","v":0},0]
[1201,null,"Impuesto predial",{"$f":"'CRI-M'!P6","v":0},null,0]
[1202,null,"Impuestos sobre transmisiones patrimoniales",{"$f":"'CRI-M'!P7","v":0},null,0]
[1203,null,"Impuestos sobre negocios jurídicos",{"$f":"'CRI-M'!P8","v":0},null,0]
[1300,"Impuestos sobre la producción, el consumo y las transacciones",null,0,0,0]
[1400,"Impuestos al comercio exterior",null,0,0,0]
[1500,"Impuestos sobre nóminas y asimilables",null,0,0,0]
[1600,"Impuestos ecológicos",null,0,0,0]
[1700,"Accesorios de impuestos",null,{"$f":"SUM(D14:D18)","v":0},{"$f":"SUM(E14:E18)","v":0},0]
[1701,null,"Recargos",{"$f":"'CRI-M'!P14","v":0},null,0]
[1702,null,"Actualizaciones",{"$f":"'CRI-M'!P15","v":0},null,0]
[1703,null,"Multas",{"$f":"'CRI-M'!P16","v":0},null,0]
[1704,null,"Gastos de ejecución",{"$f":"'CRI-M'!P17","v":0},null,0]
[1709,null,"Otros no especificados",{"$f":"'CRI-M'!P18","v":0},null,0]
[1800,"Otros impuestos",null,{"$f":"SUM(D20)","v":0},{"$f":"SUM(E20)","v":0},0]
[1801,null,"Otros impuestos",{"$f":"'CRI-M'!P20","v":0},null,0]
[2000,"CUOTAS Y APORTACIONES DE SEGURIDAD SOCIAL",null,{"$f":"SUM(D22:D26)","v":0},{"$f":"SUM(E22:E26)","v":0},0]
[2100,"Aportaciones para fondos de vivienda",null,null,null,0]
[2200,"Cuotas para la seguirdad social",null,null,null,0]
[2300,"Cuotas de ahorro para el retiro",null,null,null,0]
[2400,"Otras cuotas y aportaciones para la seguirdad social",null,null,null,0]
[2500,"Accesorios de cuotas y aportaciones de seguirdad social",null,null,null,0]
[3000,"CONTRIBUCIONES DE MEJORAS",null,{"$f":"SUM(D28)","v":0},{"$f":"SUM(E28)","v":0},0]
[3100,"Contribuciones de mejoras por obras públicas",null,{"$f":"SUM(D29)","v":0},{"$f":"SUM(E29)","v":0},0]
[3101,null,"Contribuciones de mejoras por obras públicas",{"$f":"'CRI-M'!P29","v":0},null,0]
[4000,"DERECHOS",null,{"$f":"D31+D36+D37+D52+D54","v":0},{"$f":"E31+E36+E37+E52+E54","v":0},0]
[4100,"Derechos por el uso, goce, aprovechamiento o explotación de bienes de dominio público",null,{"$f":"SUM(D32:D35)","v":0},{"$f":"SUM(E32:E35)","v":0},0]
[4101,null,"Derechos por el uso del piso",{"$f":"'CRI-M'!P32","v":0},null,0]
[4102,null,"Derechos por el uso de los estacionamientos",{"$f":"'CRI-M'!P33","v":0},null,0]
[4103,null,"Derechos de uso de cementerios y panteones municipales",{"$f":"'CRI-M'!P34","v":0},null,0]
[4104,null,"Derechos de concesiones y demas inmuebles de propiedad municipal",{"$f":"'CRI-M'!P35","v":0},null,0]
[4200,"Derechos a los hidrocarburos (Derogado)",null,null,null,0]
[4300,"Derechos por prestación de servicios",null,{"$f":"SUM(D38:D51)","v":0},{"$f":"SUM(E38:E51)","v":0},0]
["43-01",null,"Derechos de licencias y permisos de giros",{"$f":"'CRI-M'!P38","v":0},null,0]
["43-02",null,"Derechos de licencias y permisos de anuncios",{"$f":"'CRI-M'!P39","v":0},null,0]
[4303,null,"Derechos de licencias de construcción, reconstrucción, reparación o demolición de obras",{"$f":"'CRI-M'!P40","v":0},null,0]
[4304,null,"Derechos de regularizaciones de los registros de obra",{"$f":"'CRI-M'!P41","v":0},null,0]
[4305,null,"Derechos de alineamiento, designación de número oficial e inspección",{"$f":"'CRI-M'!P42","v":0},null,0]
[4306,null,"Derechos de licencias de cambio de régimen de propiedad y urbanización",{"$f":"'CRI-M'!P43","v":0},null,0]
[4307,null,"Derechos de servicios de obra",{"$f":"'CRI-M'!P44","v":0},null,0]
[4308,null,"Derechos de servicios de sanidad",{"$f":"'CRI-M'!P45","v":0},null,0]
[4309,null,"Derechos de servicio de limpieza, recolección, traslado, tratamiento y disposición final de residuos",{"$f":"'CRI-M'!P46","v":0},null,0]
[4310,null,"Derechos de agua potable, drenaje, alcantarillado, tratamiento y disposición final de aguas residuales",{"$f":"'CRI-M'!P47","v":0},null,0]
[4311,null,"Derechos del rastro",{"$f":"'CRI-M'!P48","v":0},null,0]
[4312,null,"Derechos del registro civil",{"$f":"'CRI-M'!P49","v":0},null,0]
[4313,null,"Derechos de las certificaciones",{"$f":"'CRI-M'!P50","v":0},null,0]
[4314,null,"Derechos de los servicios de catastro",{"$f":"'CRI-M'!P51","v":0},null,0]
[4400,"Otros derechos",null,{"$f":"SUM(D53)","v":0},{"$f":"SUM(E53)","v":0},0]
[4401,null,"Otros derechos",{"$f":"'CRI-M'!P53","v":0},null,0]
[4500,"Accesorios de derechos",null,{"$f":"SUM(D55:D59)","v":0},{"$f":"SUM(E55:E59)","v":0},0]
[4501,null,"Recargos",{"$f":"'CRI-M'!P55","v":0},null,0]
[4502,null,"Actualizaciones",{"$f":"'CRI-M'!P56","v":0},null,0]
[4503,null,"Multas",{"$f":"'CRI-M'!P57","v":0},null,0]
[4504,null,"Gastos de ejecución",{"$f":"'CRI-M'!P58","v":0},null,0]
[4509,null,"Otros no especificados",{"$f":"'CRI-M'!P59","v":0},null,0]
[5000,"PRODUCTOS",null,{"$f":"D61+D64","v":0},{"$f":"E61+E64","v":0},0]
[5100,"Productos",null,{"$f":"SUM(D62:D63)","v":0},{"$f":"SUM(E62:E63)","v":0},0]
[5101,null,"Uso, goce, aprovechamiento o explotación de bienes de dominio privado",{"$f":"'CRI-M'!P62","v":0},null,0]
[5102,null,"Productos diversos",{"$f":"'CRI-M'!P63","v":0},null,0]
[5200,"Productos de capital (Derogado)",null,null,null,0]
[6000,"APROVECHAMIENTOS",null,{"$f":"D66+D70+D73","v":0},{"$f":"E66+E70+E73","v":0},0]
[6100,"Aprovechamientos",null,{"$f":"SUM(D67:D69)","v":0},{"$f":"SUM(E67:E69)","v":0},0]
[6101,null,"Aprovechamientos de las sanciones, multas, honorarios y donativos",{"$f":"'CRI-M'!P67","v":0},null,{"$f":"D67+E67","v":0}]
[6102,null,"Aprovechamientos de las indemnizaciones a favor del municipio",{"$f":"'CRI-M'!P68","v":0},null,0]
[6103,null,"Otros aprovechamientos",{"$f":"'CRI-M'!P69","v":0},null,0]
[6200,"Aprovechamientos patrimoniales",null,{"$f":"SUM(D71:D72)","v":0},{"$f":"SUM(E71:E72)","v":0},0]
["62-01",null,"Aprovechamientos por el uso o enajenación de bienes",{"$f":"'CRI-M'!P71","v":0},null,0]
[6202,null,"Aporvechamientos por recuperación de capital o patrimonio invertido",{"$f":"'CRI-M'!P72","v":0},null,0]
[6300,"Accesorios de aprovechamientos",null,{"$f":"SUM(D74:D78)","v":0},{"$f":"SUM(E74:E78)","v":0},0]
[6301,null,"Recargos",{"$f":"'CRI-M'!P74","v":0},null,0]
[6302,null,"Actualizaciones",{"$f":"'CRI-M'!P75","v":0},null,0]
[6303,null,"Multas",{"$f":"'CRI-M'!P76","v":0},null,0]
[6304,null,"Gastos de ejecución",{"$f":"'CRI-M'!P77","v":0},null,0]
[6309,null,"Otros no especificados",{"$f":"'CRI-M'!P78","v":0},null,0]
[7000,"INGRESOS POR VENTAS DE BIENES, PRESTACIÓN DE SERVICIOS Y OTROS INGRESOS",null,{"$f":"D80+D82+D83+D85+D86+D87+D88+D90+D91","v":0},{"$f":"E80+E82+E83+E85+E86+E87+E88+E90+E91","v":0},0]
[7100,"Ingresos por venta de bienes y prestación de servicios de instituciones públicas de seguridad social",null,{"$f":"SUM(D81)","v":0},{"$f":"SUM(E81)","v":0},0]
[7101,null,"Ingresos por venta de bienes y prestación de servicios de instituciones públicas de seguridad social",{"$f":"'CRI-M'!P81","v":0},null,0]
[7200,"Ingresos por venta de bienes y prestación de servicios de empresas productivas del estado",null,null,null,0]
[7300,"Ingresos por venta de bienes y prestación de servicios de entidades paraestatales y fideicomisos no empresariales y no financieros",null,{"$f":"SUM(D84)","v":0},{"$f":"SUM(E84)","v":0},0]
[7301,null,"Ingresos por venta de bienes y prestación de servicios de entidades paraestatales y fideicomisos no empresariales y no financieros",{"$f":"'CRI-M'!P84","v":0},null,0]
[7400,"Ingresos por venta de bienes y prestación de servicios de entidades paraestatales empresariales no financieras con participación estatal mayoritaria",null,null,null,0]
[7500,"Ingresos por venta de bienes y prestación de servicios de entidades paraestatales empresariales financieras monetarias con participación estatal mayoritaria",null,null,null,0]
[7600,"Ingresos por venta de bienes y prestación de servicios de entidades paraestatales empresariales financieras no monetarias con participación estatal mayoritaria",null,null,null,0]
[7700,"Ingresos por venta de bienes y prestación de servicios de fideicomisos financieros públicos con participación estatal mayoritaria",null,{"$f":"SUM(D89)","v":0},{"$f":"SUM(E89)","v":0},0]
[7701,null,"Ingresos por venta de bienes y prestación de servicios de fideicomisos financieros públicos con participación estatal mayoritaria",{"$f":"'CRI-M'!P89","v":0},null,0]
[7800,"Ingresos por venta de bienes y prestación de servicios de los poderes legislativo y judicial, y de los órganos autónomos",null,null,null,0]
[7900,"Otros ingresos",null,{"$f":"SUM(D92)","v":0},{"$f":"SUM(E92)","v":0},0]
[7901,null,"Otros ingresos",{"$f":"'CRI-M'!P92","v":0},null,0]
[8000,"PARTICIPACIONES, APORTACIONES, CONVENIOS, INCENTIVOS DERIVADOS DE LA COLABORACIÓN FISCAL Y FONDOS DISTINTOS DE LAS APORTACIONES",null,{"$f":"D94+D107+D110+D115+D121","v":0},{"$f":"E94+E107+E110+E115+E121","v":0},0]
[8100,"Participaciones",null,{"$f":"SUM(D95:D106)","v":0},{"$f":"SUM(E95:E106)","v":0},0]
[8101,null,"Fondo general de participaciones (federal)",{"$f":"'CRI-M'!P95","v":0},null,0]
[8102,null,"Fondo de fomento municipal (federal)",{"$f":"'CRI-M'!P96","v":0},null,0]
[8103,null,"Fondo de fiscalización y recaudación (federal)",{"$f":"'CRI-M'!P97","v":0},null,0]
[8104,null,"Fondo de compensación (federal)",{"$f":"'CRI-M'!P98","v":0},null,0]
[8105,null,"Fondo de extracción de hidrocarburos (federal)",{"$f":"'CRI-M'!P99","v":0},null,0]
[8106,null,"Impuesto especial sobre producción y servicios (federal)",{"$f":"'CRI-M'!P100","v":0},null,0]
[8107,null,"0.136% de la recaudación federal participable (federal)",{"$f":"'CRI-M'!P101","v":0},null,0]
[8108,null,"3.17% sobre extracción de petróleo (federal)",{"$f":"'CRI-M'!P102","v":0},null,0]
[8109,null,"Gasolinas y diésel (federal)",{"$f":"'CRI-M'!P103","v":0},null,0]
[8110,null,"Fondo del impuesto sobre la renta (federal)",{"$f":"'CRI-M'!P104","v":0},null,0]
[8111,null,"Fondo de estabilización de los ingresos de las entidades federativas (federal)",{"$f":"'CRI-M'!P105","v":0},null,0]
[8112,null,"Participaciones del estado",{"$f":"'CRI-M'!P106","v":0},null,0]
[8200,"Aportaciones",null,{"$f":"SUM(D108:D109)","v":0},{"$f":"SUM(E108:E109)","v":0},0]
[8201,null,"Fondo de aportaciones para la infraestructura social municipal",null,{"$f":"'CRI-M'!P108","v":0},0]
[8202,null,"Fondo de aportaciones para el fortalecimiento municipal",null,{"$f":"'CRI-M'!P109","v":0},0]
[8300,"Convenios",null,{"$f":"SUM(D111:D114)","v":0},{"$f":"SUM(E111:E114)","v":0},0]
[8301,null,"Convenios de protección social en salud",null,{"$f":"'CRI-M'!P111","v":0},0]
[8302,null,"Convenios de descentralizados",null,{"$f":"'CRI-M'!P112","v":0},0]
[8303,null,"Convenio de reasignación",null,{"$f":"'CRI-M'!P113","v":0},0]
[8304,null,"Otros convenios y subsidios",{"$f":"'CRI-M'!P114","v":0},{"$f":"'CRI-M'!P115+'CRI-M'!P116","v":0},0]
[8400,"Incentivos derivados de la colaboración fiscal",null,{"$f":"SUM(D116:D120)","v":0},{"$f":"SUM(E116:E120)","v":0},0]
[8401,null,"Tenencia o uso de vehículos",{"$f":"'CRI-M'!P118","v":0},null,0]
[8402,null,"Fondo de compensación ISAN",{"$f":"'CRI-M'!P119","v":0},null,0]
[8403,null,"Impuesto sobre automóviles nuevos",{"$f":"'CRI-M'!P120","v":0},null,0]
[8404,null,"Fondo de compensación de repecos-intermedios",{"$f":"'CRI-M'!P121","v":0},null,0]
[8405,null,"Otros incentivos económicos",{"$f":"'CRI-M'!P122","v":0},null,0]
[8500,"Fondos distintos de aportaciones",null,{"$f":"SUM(D122:D123)","v":0},{"$f":"SUM(E122:E123)","v":0},0]
[8501,null,"Fondo para entidades federativas y municipios productores de hidrocarburos",null,{"$f":"'CRI-M'!P124","v":0},0]
[8502,null,"Fondo minero",null,{"$f":"'CRI-M'!P125","v":0},0]
[9000,"TRANSFERENCIAS, ASIGNACIONES, SUBSIDIOS Y SUBVENCIONES Y PENSIONES Y JUBILACIONES",null,{"$f":"D125+D127+D128+D130+D131+D133+D134","v":0},{"$f":"E125+E127+E128+E130+E131+E133+E134","v":0},0]
[9100,"Transferencias y asignaciones",null,{"$f":"SUM(D126)","v":0},{"$f":"SUM(E126)","v":0},0]
[9101,null,"Transferencias y asignaciones",{"$f":"'CRI-M'!P128","v":0},{"$f":"'CRI-M'!P129+'CRI-M'!P135","v":0},0]
[9200,"Transferencias al resto del sector público (derogado)",null,null,null,0]
[9300,"Subsidios y subvenciones",null,{"$f":"SUM(D129)","v":0},{"$f":"SUM(E129)","v":0},0]
[9301,null,"Subsidios y subvenciones",{"$f":"'CRI-M'!P133","v":0},{"$f":"'CRI-M'!P134+'CRI-M'!P135","v":0},0]
[9400,"Ayudas sociales (derogado)",null,null,null,0]
[9500,"Pensiones y juvilaciones",null,{"$f":"SUM(D132)","v":0},{"$f":"SUM(E132)","v":0},{"$f":"D131+E131","v":0}]
[9501,null,"Pensiones y juvilaciones",{"$f":"'CRI-M'!P138","v":0},null,0]
[9600,"Transferencias a fideicomisos, mandatos y análogos (derogado)",null,null,null,0]
[9700,"Transferencias del fondo mexicano del petróleo para la estabilización y el desarrollo",null,{"$f":"SUM(D135)","v":0},{"$f":"SUM(E135)","v":0},0]
["97-01",null,"Transferencias del fondo mexicano del petróleo para la estabilización y el desarrollo",{"$f":"'CRI-M'!P141","v":0},null,0]
[0,"INGRESOS DERIVADOS DE FINANCIAMIENTO",null,{"$f":"D137+D138+D139","v":0},{"$f":"E137+E138+E139","v":0},0]
[100,"Endeudamiento interno",null,null,null,0]
[200,"Endeudamiento externo",null,null,null,0]
[300,"Financiamiento interno",null,{"$f":"SUM(D140)","v":0},{"$f":"SUM(E140)","v":0},0]
[301,null,"Financiamiento interno",null,{"$f":"'CRI-M'!P146","v":0},0]
["ESTIMACIÓN DE INGRESOS",null,null,{"$f":"D2+D21+D27+D30+D60+D65+D79+D93+D124+D136","v":0},{"$f":"E2+E21+E27+E30+E60+E65+E79+E93+E124+E136","v":0},{"$f":"F2+F21+F27+F30+F60+F65+F79+F93+F124+F136","v":0}]

{"sheet":"COG-FF","index":13,"n_rows":429,"n_cols":13,"rows_kept":429,"cut":false,"hidden":false,"merged":[[0,0,1,0],[0,1,1,1],[0,2,0,8],[0,9,0,11],[0,12,1,12]]}
["COG-FF","DESCRIPCIÓN","1.  NO ETIQUETADO",null,null,null,null,null,null,"2.  ETIQUETADO",null,null,"TOTAL ANUAL"]
[null,null,"11\nRECURSOS FISCALES","12\nFINANCIAMIENTOS INTERNOS","13\nFINANCIAMIENTOS EXTERNOS","14\nINGRESOS \nPROPIOS","15\nRECURSOS\nFEDERALES","16\nRECURSOS\nESTATALES","17\nOTROS RECURSOS DE LIBRE DISPOSICIÓN","25 \nRECURSOS FEDERALES","26\nRECURSOS\nESTATALES","27\nOTROS RECURSOS DE TRANSFERENCIAS FEDERALES ETIQUETADAS"]
[1000,"SERVICIOS PERSONALES",{"$f":"C4+C9+C14+C23+C28+C35+C37","v":0},0,0,0,0,0,0,0,0,0,{"$f":"M4+M9+M14+M23+M28+M35+M37","v":0}]
[1100,"REMUNERACIONES AL PERSONAL DE CARÁCTER PERMANENTE",{"$f":"SUM(C5:C8)","v":0},0,0,0,0,0,0,{"$f":"SUM(J5:J8)","v":0},{"$f":"SUM(K5:K8)","v":0},{"$f":"SUM(L5:L8)","v":0},{"$f":"SUM(M5:M8)","v":0}]
[111,"Dietas",{"$f":"'COG-M'!P4","v":0},{"$f":"'COG-M'!P5","v":0},{"$f":"'COG-M'!P6","v":0},{"$f":"'COG-M'!P7","v":0},{"$f":"'COG-M'!P8","v":0},{"$f":"'COG-M'!P9","v":0},{"$f":"'COG-M'!P10","v":0},{"$f":"'COG-M'!P11","v":0},{"$f":"'COG-M'!P12","v":0},{"$f":"'COG-M'!P13","v":0},{"$f":"SUM(C5:L5)","v":0}]
[112,"Haberes",null,null,null,null,null,null,null,null,null,null,{"$f":"SUM(C6:L6)","v":0}]
[113,"Sueldos base al personal permanente",{"$f":"'COG-M'!P15","v":0},{"$f":"'COG-M'!P16","v":0},{"$f":"'COG-M'!P17","v":0},{"$f":"'COG-M'!P18","v":0},{"$f":"'COG-M'!P19","v":0},{"$f":"'COG-M'!P20","v":0},{"$f":"'COG-M'!P21","v":0},{"$f":"'COG-M'!P22","v":0},{"$f":"'COG-M'!P23","v":0},{"$f":"'COG-M'!P24","v":0},{"$f":"SUM(C7:L7)","v":0}]
[114,"Remuneraciones por adscripción laboral en el extranjero",{"$f":"'COG-M'!P25","v":0},{"$f":"'COG-M'!P26","v":0},{"$f":"'COG-M'!P27","v":0},{"$f":"'COG-M'!P28","v":0},{"$f":"'COG-M'!P29","v":0},{"$f":"'COG-M'!P30","v":0},{"$f":"'COG-M'!P31","v":0},{"$f":"'COG-M'!P32","v":0},{"$f":"'COG-M'!P33","v":0},{"$f":"'COG-M'!P34","v":0},{"$f":"SUM(C8:L8)","v":0}]
[1200,"REMUNERACIONES AL PERSONAL DE CARÁCTER TRANSITORIO",{"$f":"SUM(C10:C13)","v":0},{"$f":"SUM(D10:D13)","v":0},0,0,0,0,0,0,0,0,0]
[121,"Honorarios asimilables a salarios",{"$f":"'COG-M'!P36","v":0},{"$f":"'COG-M'!P37","v":0},{"$f":"'COG-M'!P38","v":0},{"$f":"'COG-M'!P39","v":0},{"$f":"'COG-M'!P40","v":0},{"$f":"'COG-M'!P41","v":0},{"$f":"'COG-M'!P42","v":0},{"$f":"'COG-M'!P43","v":0},{"$f":"'COG-M'!P44","v":0},{"$f":"'COG-M'!P45","v":0},{"$f":"SUM(C10:L10)","v":0}]
[122,"Sueldos base al personal eventual",{"$f":"'COG-M'!P46","v":0},{"$f":"'COG-M'!P47","v":0},{"$f":"'COG-M'!P48","v":0},{"$f":"'COG-M'!P49","v":0},{"$f":"'COG-M'!P50","v":0},{"$f":"'COG-M'!P51","v":0},{"$f":"'COG-M'!P52","v":0},{"$f":"'COG-M'!P53","v":0},{"$f":"'COG-M'!P54","v":0},{"$f":"'COG-M'!P55","v":0},{"$f":"SUM(C11:L11)","v":0}]
[123,"Retribuciones por servicios de carácter social",{"$f":"'COG-M'!P56","v":0},{"$f":"'COG-M'!P57","v":0},{"$f":"'COG-M'!P58","v":0},{"$f":"'COG-M'!P59","v":0},{"$f":"'COG-M'!P60","v":0},{"$f":"'COG-M'!P61","v":0},{"$f":"'COG-M'!P62","v":0},{"$f":"'COG-M'!P63","v":0},{"$f":"'COG-M'!P64","v":0},{"$f":"'COG-M'!P65","v":0},{"$f":"SUM(C12:L12)","v":0}]
[124,"Retribución a los representantes de los trabajadores y de los patrones en la Junta de Conciliación y Arbitraje",null,null,null,null,null,null,null,null,null,null,{"$f":"SUM(C13:L13)","v":0}]
[1300,"REMUNERACIONES ADICIONALES Y ESPECIALES",{"$f":"SUM(C15:C22)","v":0},0,0,0,0,0,0,0,0,0,0]
[131,"Primas por años de servicios efectivos prestados",{"$f":"'COG-M'!P68","v":0},{"$f":"'COG-M'!P69","v":0},{"$f":"'COG-M'!P70","v":0},{"$f":"'COG-M'!P71","v":0},{"$f":"'COG-M'!P72","v":0},{"$f":"'COG-M'!P73","v":0},{"$f":"'COG-M'!P74","v":0},{"$f":"'COG-M'!P75","v":0},{"$f":"'COG-M'!P76","v":0},{"$f":"'COG-M'!P77","v":0},{"$f":"SUM(C15:L15)","v":0}]
[132,"Primas de vacaciones, dominical y gratificación de fin de año",{"$f":"'COG-M'!P78","v":0},{"$f":"'COG-M'!P79","v":0},{"$f":"'COG-M'!P80","v":0},{"$f":"'COG-M'!P81","v":0},{"$f":"'COG-M'!P82","v":0},{"$f":"'COG-M'!P83","v":0},{"$f":"'COG-M'!P84","v":0},{"$f":"'COG-M'!P85","v":0},{"$f":"'COG-M'!P86","v":0},{"$f":"'COG-M'!P87","v":0},0]
[133,"Horas extraordinarias",{"$f":"'COG-M'!P88","v":0},{"$f":"'COG-M'!P89","v":0},{"$f":"'COG-M'!P90","v":0},{"$f":"'COG-M'!P91","v":0},{"$f":"'COG-M'!P92","v":0},{"$f":"'COG-M'!P93","v":0},{"$f":"'COG-M'!P94","v":0},{"$f":"'COG-M'!P95","v":0},{"$f":"'COG-M'!P96","v":0},{"$f":"'COG-M'!P97","v":0},0]
[134,"Compensaciones",{"$f":"'COG-M'!P98","v":0},{"$f":"'COG-M'!P99","v":0},{"$f":"'COG-M'!P100","v":0},{"$f":"'COG-M'!P101","v":0},{"$f":"'COG-M'!P102","v":0},{"$f":"'COG-M'!P103","v":0},{"$f":"'COG-M'!P104","v":0},{"$f":"'COG-M'!P105","v":0},{"$f":"'COG-M'!P106","v":0},{"$f":"'COG-M'!P107","v":0},0]
[135,"Sobrehaberes",null,null,null,null,null,null,null,null,null,null,0]
[136,"Asignaciones de técnico, de mando, por comisión, de vuelo y de técnico especial",null,null,null,null,null,null,null,null,null,null,0]
[137,"Honorarios especiales",{"$f":"'COG-M'!P110","v":0},{"$f":"'COG-M'!P111","v":0},{"$f":"'COG-M'!P112","v":0},{"$f":"'COG-M'!P113","v":0},{"$f":"'COG-M'!P114","v":0},{"$f":"'COG-M'!P115","v":0},{"$f":"'COG-M'!P116","v":0},{"$f":"'COG-M'!P117","v":0},{"$f":"'COG-M'!P118","v":0},{"$f":"'COG-M'!P119","v":0},0]
[138,"Participaciones por vigilancia en el cumplimiento de la leyes y custodia de valores",{"$f":"'COG-M'!P120","v":0},{"$f":"'COG-M'!P121","v":0},{"$f":"'COG-M'!P122","v":0},{"$f":"'COG-M'!P123","v":0},{"$f":"'COG-M'!P124","v":0},{"$f":"'COG-M'!P125","v":0},{"$f":"'COG-M'!P126","v":0},{"$f":"'COG-M'!P127","v":0},{"$f":"'COG-M'!P128","v":0},{"$f":"'COG-M'!P129","v":0},0]
[1400,"SEGURIDAD SOCIAL",{"$f":"SUM(C24:C27)","v":0},0,0,0,0,0,0,0,0,0,0]
[141,"Aportaciones de seguridad social",{"$f":"'COG-M'!P131","v":0},{"$f":"'COG-M'!P132","v":0},{"$f":"'COG-M'!P133","v":0},{"$f":"'COG-M'!P134","v":0},{"$f":"'COG-M'!P135","v":0},{"$f":"'COG-M'!P136","v":0},{"$f":"'COG-M'!P137","v":0},{"$f":"'COG-M'!P138","v":0},{"$f":"'COG-M'!P139","v":0},{"$f":"'COG-M'!P140","v":0},{"$f":"SUM(C24:L24)","v":0}]
[142,"Aportaciones a fondos de vivienda",{"$f":"'COG-M'!P141","v":0},{"$f":"'COG-M'!P142","v":0},{"$f":"'COG-M'!P143","v":0},{"$f":"'COG-M'!P144","v":0},{"$f":"'COG-M'!P145","v":0},{"$f":"'COG-M'!P146","v":0},{"$f":"'COG-M'!P147","v":0},{"$f":"'COG-M'!P148","v":0},{"$f":"'COG-M'!P149","v":0},{"$f":"'COG-M'!P150","v":0},{"$f":"SUM(C25:L25)","v":0}]
[143,"Aportaciones al sistema para el retiro",{"$f":"'COG-M'!P151","v":0},{"$f":"'COG-M'!P152","v":0},{"$f":"'COG-M'!P153","v":0},{"$f":"'COG-M'!P154","v":0},{"$f":"'COG-M'!P155","v":0},{"$f":"'COG-M'!P156","v":0},{"$f":"'COG-M'!P157","v":0},{"$f":"'COG-M'!P158","v":0},{"$f":"'COG-M'!P159","v":0},{"$f":"'COG-M'!P160","v":0},{"$f":"SUM(C26:L26)","v":0}]
[144,"Aportaciones para seguros",{"$f":"'COG-M'!P161","v":0},{"$f":"'COG-M'!P162","v":0},{"$f":"'COG-M'!P163","v":0},{"$f":"'COG-M'!P164","v":0},{"$f":"'COG-M'!P165","v":0},{"$f":"'COG-M'!P166","v":0},{"$f":"'COG-M'!P167","v":0},{"$f":"'COG-M'!P168","v":0},{"$f":"'COG-M'!P169","v":0},{"$f":"'COG-M'!P170","v":0},{"$f":"SUM(C27:L27)","v":0}]
[1500,"OTRAS PRESTACIONES SOCIALES Y ECONÓMICAS",{"$f":"SUM(C29:C34)","v":0},0,0,0,0,0,0,0,0,0,0]
[151,"Cuotas para el fondo de ahorro y fondo de trabajo",{"$f":"'COG-M'!P172","v":0},{"$f":"'COG-M'!P173","v":0},{"$f":"'COG-M'!P174","v":0},{"$f":"'COG-M'!P175","v":0},{"$f":"'COG-M'!P176","v":0},{"$f":"'COG-M'!P177","v":0},{"$f":"'COG-M'!P178","v":0},{"$f":"'COG-M'!P179","v":0},{"$f":"'COG-M'!P180","v":0},{"$f":"'COG-M'!P181","v":0},{"$f":"SUM(C29:L29)","v":0}]
[152,"Indemnizaciones",{"$f":"'COG-M'!P182","v":0},{"$f":"'COG-M'!P183","v":0},{"$f":"'COG-M'!P184","v":0},{"$f":"'COG-M'!P185","v":0},{"$f":"'COG-M'!P186","v":0},{"$f":"'COG-M'!P187","v":0},{"$f":"'COG-M'!P188","v":0},{"$f":"'COG-M'!P189","v":0},{"$f":"'COG-M'!P190","v":0},{"$f":"'COG-M'!P191","v":0},0]
[153,"Prestaciones y haberes de retiro",{"$f":"'COG-M'!P192","v":0},{"$f":"'COG-M'!P193","v":0},{"$f":"'COG-M'!P194","v":0},{"$f":"'COG-M'!P195","v":0},{"$f":"'COG-M'!P196","v":0},{"$f":"'COG-M'!P197","v":0},{"$f":"'COG-M'!P198","v":0},{"$f":"'COG-M'!P199","v":0},{"$f":"'COG-M'!P200","v":0},{"$f":"'COG-M'!P201","v":0},0]
[154,"Prestaciones contractuales",{"$f":"'COG-M'!P202","v":0},{"$f":"'COG-M'!P203","v":0},{"$f":"'COG-M'!P204","v":0},{"$f":"'COG-M'!P205","v":0},{"$f":"'COG-M'!P206","v":0},{"$f":"'COG-M'!P207","v":0},{"$f":"'COG-M'!P208","v":0},{"$f":"'COG-M'!P209","v":0},{"$f":"'COG-M'!P210","v":0},{"$f":"'COG-M'!P211","v":0},0]
[155,"Apoyos a la capacitación de los servidores públicos",{"$f":"'COG-M'!P212","v":0},{"$f":"'COG-M'!P213","v":0},{"$f":"'COG-M'!P214","v":0},{"$f":"'COG-M'!P215","v":0},{"$f":"'COG-M'!P216","v":0},{"$f":"'COG-M'!P217","v":0},{"$f":"'COG-M'!P218","v":0},{"$f":"'COG-M'!P219","v":0},{"$f":"'COG-M'!P220","v":0},{"$f":"'COG-M'!P221","v":0},0]
[159,"Otras prestaciones sociales y económicas",{"$f":"'COG-M'!P222","v":0},{"$f":"'COG-M'!P223","v":0},{"$f":"'COG-M'!P224","v":0},{"$f":"'COG-M'!P225","v":0},{"$f":"'COG-M'!P226","v":0},{"$f":"'COG-M'!P227","v":0},{"$f":"'COG-M'!P228","v":0},{"$f":"'COG-M'!P229","v":0},{"$f":"'COG-M'!P230","v":0},{"$f":"'COG-M'!P231","v":0},0]
[1600,"PREVISIONES",{"$f":"SUM(C36)","v":0},0,0,0,0,0,0,0,0,0,0]
[161,"Previsiones de carácter laboral, económica y de seguridad social",{"$f":"'COG-M'!P233","v":0},{"$f":"'COG-M'!P234","v":0},{"$f":"'COG-M'!P235","v":0},{"$f":"'COG-M'!P236","v":0},{"$f":"'COG-M'!P237","v":0},{"$f":"'COG-M'!P238","v":0},{"$f":"'COG-M'!P239","v":0},{"$f":"'COG-M'!P240","v":0},{"$f":"'COG-M'!P241","v":0},{"$f":"'COG-M'!P242","v":0},{"$f":"SUM(C36:L36)","v":0}]
[1700,"PAGO DE ESTÍMULOS A SERVIDORES PÚBLICOS",{"$f":"SUM(C38:C39)","v":0},0,0,0,0,0,0,0,0,0,0]
[171,"Estímulos",{"$f":"'COG-M'!P244","v":0},{"$f":"'COG-M'!P245","v":0},{"$f":"'COG-M'!P246","v":0},{"$f":"'COG-M'!P247","v":0},{"$f":"'COG-M'!P248","v":0},{"$f":"'COG-M'!P249","v":0},{"$f":"'COG-M'!P250","v":0},{"$f":"'COG-M'!P251","v":0},{"$f":"'COG-M'!P252","v":0},{"$f":"'COG-M'!P253","v":0},{"$f":"SUM(C38:L38)","v":0}]
[172,"Recompensas",{"$f":"'COG-M'!P254","v":0},{"$f":"'COG-M'!P255","v":0},{"$f":"'COG-M'!P256","v":0},{"$f":"'COG-M'!P257","v":0},{"$f":"'COG-M'!P258","v":0},{"$f":"'COG-M'!P259","v":0},{"$f":"'COG-M'!P260","v":0},{"$f":"'COG-M'!P261","v":0},{"$f":"'COG-M'!P262","v":0},{"$f":"'COG-M'!P263","v":0},{"$f":"SUM(C39:L39)","v":0}]
[2000,"MATERIALES Y SUMINISTROS",{"$f":"C41+C50+C54+C64+C74+C82+C85+C91+C95","v":0},0,0,0,0,0,0,{"$f":"J41+J50+J54+J64+J74+J82+J85+J91+J95","v":0},{"$f":"K41+K50+K54+K64+K74+K82+K85+K91+K95","v":0},{"$f":"L41+L50+L54+L64+L74+L82+L85+L91+L95","v":0},{"$f":"M41+M50+M54+M64+M74+M82+M85+M91+M95","v":0}]
[2100,"MATERIALES DE ADMINISTRACIÓN, EMISIÓN DE DOCUMENTOS Y ARTÍCULOS OFICIALES",{"$f":"SUM(C42:C49)","v":0},0,0,0,0,0,0,{"$f":"SUM(J42:J49)","v":0},{"$f":"SUM(K42:K49)","v":0},{"$f":"SUM(L42:L49)","v":0},{"$f":"SUM(M42:M49)","v":0}]
[211,"Materiales, útiles y equipos menores de oficina",{"$f":"'COG-M'!P266","v":0},{"$f":"'COG-M'!P267","v":0},{"$f":"'COG-M'!P268","v":0},{"$f":"'COG-M'!P269","v":0},{"$f":"'COG-M'!P270","v":0},{"$f":"'COG-M'!P271","v":0},{"$f":"'COG-M'!P272","v":0},{"$f":"'COG-M'!P273","v":0},{"$f":"'COG-M'!P274","v":0},{"$f":"'COG-M'!P275","v":0},{"$f":"SUM(C42:L42)","v":0}]
[212,"Materiales y útiles de impresión y reproducción",{"$f":"'COG-M'!P276","v":0},{"$f":"'COG-M'!P277","v":0},{"$f":"'COG-M'!P277","v":0},{"$f":"'COG-M'!P279","v":0},{"$f":"'COG-M'!P280","v":0},{"$f":"'COG-M'!P281","v":0},{"$f":"'COG-M'!P282","v":0},{"$f":"'COG-M'!P283","v":0},{"$f":"'COG-M'!P284","v":0},{"$f":"'COG-M'!P285","v":0},0]
[213,"Material estadístico y geográfico",{"$f":"'COG-M'!P286","v":0},{"$f":"'COG-M'!P287","v":0},{"$f":"'COG-M'!P288","v":0},{"$f":"'COG-M'!P289","v":0},{"$f":"'COG-M'!P290","v":0},{"$f":"'COG-M'!P291","v":0},{"$f":"'COG-M'!P292","v":0},{"$f":"'COG-M'!P293","v":0},{"$f":"'COG-M'!P294","v":0},{"$f":"'COG-M'!P295","v":0},0]
[214,"Materiales, útiles y equipos menores de tecnologías de la información y comunicaciones",{"$f":"'COG-M'!P296","v":0},{"$f":"'COG-M'!P297","v":0},{"$f":"'COG-M'!P298","v":0},{"$f":"'COG-M'!P299","v":0},{"$f":"'COG-M'!P300","v":0},{"$f":"'COG-M'!P301","v":0},{"$f":"'COG-M'!P302","v":0},{"$f":"'COG-M'!P303","v":0},{"$f":"'COG-M'!P304","v":0},{"$f":"'COG-M'!P305","v":0},0]
[215,"Material impreso e información digital",{"$f":"'COG-M'!P306","v":0},{"$f":"'COG-M'!P307","v":0},{"$f":"'COG-M'!P308","v":0},{"$f":"'COG-M'!P309","v":0},{"$f":"'COG-M'!P310","v":0},{"$f":"'COG-M'!P311","v":0},{"$f":"'COG-M'!P312","v":0},{"$f":"'COG-M'!P313","v":0},{"$f":"'COG-M'!P314","v":0},{"$f":"'COG-M'!P315","v":0},0]
[216,"Material de limpieza",{"$f":"'COG-M'!P316","v":0},{"$f":"'COG-M'!P317","v":0},{"$f":"'COG-M'!P318","v":0},{"$f":"'COG-M'!P319","v":0},{"$f":"'COG-M'!P320","v":0},{"$f":"'COG-M'!P321","v":0},{"$f":"'COG-M'!P322","v":0},{"$f":"'COG-M'!P323","v":0},{"$f":"'COG-M'!P324","v":0},{"$f":"'COG-M'!P325","v":0},0]
[217,"Materiales y útiles de enseñanza",{"$f":"'COG-M'!P326","v":0},{"$f":"'COG-M'!P327","v":0},{"$f":"'COG-M'!P328","v":0},{"$f":"'COG-M'!P329","v":0},{"$f":"'COG-M'!P330","v":0},{"$f":"'COG-M'!P331","v":0},{"$f":"'COG-M'!P332","v":0},{"$f":"'COG-M'!P333","v":0},{"$f":"'COG-M'!P334","v":0},{"$f":"'COG-M'!P335","v":0},0]
[218,"Materiales para el registro e identificación de bienes y personas",{"$f":"'COG-M'!P336","v":0},{"$f":"'COG-M'!P337","v":0},{"$f":"'COG-M'!P338","v":0},{"$f":"'COG-M'!P339","v":0},{"$f":"'COG-M'!P340","v":0},{"$f":"'COG-M'!P341","v":0},{"$f":"'COG-M'!P342","v":0},{"$f":"'COG-M'!P343","v":0},{"$f":"'COG-M'!P344","v":0},{"$f":"'COG-M'!P345","v":0},0]
[2200,"ALIMENTOS Y UTENSILIOS",{"$f":"SUM(C51:C53)","v":0},0,0,0,0,0,0,{"$f":"SUM(J51:J53)","v":0},{"$f":"SUM(K51:K53)","v":0},{"$f":"SUM(L51:L53)","v":0},{"$f":"SUM(M51:M53)","v":0}]
[221,"Productos alimenticios para personas",{"$f":"'COG-M'!P347","v":0},{"$f":"'COG-M'!P348","v":0},{"$f":"'COG-M'!P349","v":0},{"$f":"'COG-M'!P350","v":0},{"$f":"'COG-M'!P351","v":0},{"$f":"'COG-M'!P352","v":0},{"$f":"'COG-M'!P353","v":0},{"$f":"'COG-M'!P354","v":0},{"$f":"'COG-M'!P355","v":0},{"$f":"'COG-M'!P356","v":0},{"$f":"SUM(C51:L51)","v":0}]
[222,"Productos alimenticios para animales",{"$f":"'COG-M'!P357","v":0},{"$f":"'COG-M'!P358","v":0},{"$f":"'COG-M'!P359","v":0},{"$f":"'COG-M'!P360","v":0},{"$f":"'COG-M'!P361","v":0},{"$f":"'COG-M'!P362","v":0},{"$f":"'COG-M'!P363","v":0},{"$f":"'COG-M'!P364","v":0},{"$f":"'COG-M'!P365","v":0},{"$f":"'COG-M'!P366","v":0},{"$f":"SUM(C52:L52)","v":0}]
[223,"Utensilios para el servicio de alimentación",{"$f":"'COG-M'!P367","v":0},{"$f":"'COG-M'!P368","v":0},{"$f":"'COG-M'!P369","v":0},{"$f":"'COG-M'!P370","v":0},{"$f":"'COG-M'!P371","v":0},{"$f":"'COG-M'!P372","v":0},{"$f":"'COG-M'!P373","v":0},{"$f":"'COG-M'!P374","v":0},{"$f":"'COG-M'!P375","v":0},{"$f":"'COG-M'!P376","v":0},{"$f":"SUM(C53:L53)","v":0}]
[2300,"MATERIAS PRIMAS Y MATERIALES DE PRODUCCIÓN Y COMERCIALIZACIÓN",{"$f":"SUM(C55:C63)","v":0},0,0,0,0,0,0,{"$f":"SUM(J55:J63)","v":0},{"$f":"SUM(K55:K63)","v":0},{"$f":"SUM(L55:L63)","v":0},{"$f":"SUM(M55:M63)","v":0}]
[231,"Productos alimenticios, agropecuarios y forestales adquiridos como materia prima",null,null,null,null,null,null,null,null,null,null,{"$f":"SUM(C55:L55)","v":0}]
[232,"Insumos textiles adquiridos como materia prima",null,null,null,null,null,null,null,null,null,null,0]
[233,"Productos de papel, cartón e impresos adquiridos como materia prima",null,null,null,null,null,null,null,null,null,null,0]
[234,"Combustibles, lubricantes, aditivos, carbón y sus derivados adquiridos como materia prima",null,null,null,null,null,null,null,null,null,null,0]
[235,"Productos químicos, farmacéuticos y de laboratorio adquiridos como materia prima",null,null,null,null,null,null,null,null,null,null,0]
[236,"Productos metálicos y a base de minerales no metálicos adquiridos como materia prima",null,null,null,null,null,null,null,null,null,null,0]
[237,"Productos de cuero, piel, plástico y hule adquiridos como materia prima",null,null,null,null,null,null,null,null,null,null,0]
[238,"Mercancías adquiridas para su comercialización",null,null,null,null,null,null,null,null,null,null,0]
[239,"Otros productos adquiridos como materia prima",null,null,null,null,null,null,null,null,null,null,0]
[2400,"MATERIALES Y ARTÍCULOS DE CONSTRUCCIÓN Y DE REPARACIÓN",{"$f":"SUM(C65:C73)","v":0},0,0,0,0,0,0,{"$f":"SUM(J65:J73)","v":0},{"$f":"SUM(K65:K73)","v":0},{"$f":"SUM(L65:L73)","v":0},{"$f":"SUM(M65:M73)","v":0}]
[241,"Productos minerales no metálicos",{"$f":"'COG-M'!P388","v":0},{"$f":"'COG-M'!P389","v":0},{"$f":"'COG-M'!P390","v":0},{"$f":"'COG-M'!P391","v":0},{"$f":"'COG-M'!P392","v":0},{"$f":"'COG-M'!P393","v":0},{"$f":"'COG-M'!P394","v":0},{"$f":"'COG-M'!P395","v":0},{"$f":"'COG-M'!P396","v":0},{"$f":"'COG-M'!P397","v":0},{"$f":"SUM(C65:L65)","v":0}]
[242,"Cemento y productos de concreto",{"$f":"'COG-M'!P398","v":0},{"$f":"'COG-M'!P399","v":0},{"$f":"'COG-M'!P400","v":0},{"$f":"'COG-M'!P401","v":0},{"$f":"'COG-M'!P402","v":0},{"$f":"'COG-M'!P403","v":0},{"$f":"'COG-M'!P404","v":0},{"$f":"'COG-M'!P405","v":0},{"$f":"'COG-M'!P406","v":0},{"$f":"'COG-M'!P407","v":0},0]
[243,"Cal, yeso y productos de yeso",{"$f":"'COG-M'!P408","v":0},{"$f":"'COG-M'!P409","v":0},{"$f":"'COG-M'!P410","v":0},{"$f":"'COG-M'!P411","v":0},{"$f":"'COG-M'!P412","v":0},{"$f":"'COG-M'!P413","v":0},{"$f":"'COG-M'!P414","v":0},{"$f":"'COG-M'!P415","v":0},{"$f":"'COG-M'!P416","v":0},{"$f":"'COG-M'!P417","v":0},0]
[244,"Madera y productos de madera",{"$f":"'COG-M'!P418","v":0},{"$f":"'COG-M'!P419","v":0},{"$f":"'COG-M'!P420","v":0},{"$f":"'COG-M'!P421","v":0},{"$f":"'COG-M'!P422","v":0},{"$f":"'COG-M'!P423","v":0},{"$f":"'COG-M'!P424","v":0},{"$f":"'COG-M'!P425","v":0},{"$f":"'COG-M'!P426","v":0},{"$f":"'COG-M'!P427","v":0},0]
[245,"Vidrio y productos de vidrio",{"$f":"'COG-M'!P428","v":0},{"$f":"'COG-M'!P429","v":0},{"$f":"'COG-M'!P430","v":0},{"$f":"'COG-M'!P431","v":0},{"$f":"'COG-M'!P432","v":0},{"$f":"'COG-M'!P433","v":0},{"$f":"'COG-M'!P434","v":0},{"$f":"'COG-M'!P435","v":0},{"$f":"'COG-M'!P436","v":0},{"$f":"'COG-M'!P437","v":0},0]
[246,"Material eléctrico y electrónico",{"$f":"'COG-M'!P438","v":0},{"$f":"'COG-M'!P439","v":0},{"$f":"'COG-M'!P440","v":0},{"$f":"'COG-M'!P441","v":0},{"$f":"'COG-M'!P442","v":0},{"$f":"'COG-M'!P443","v":0},{"$f":"'COG-M'!P444","v":0},{"$f":"'COG-M'!P445","v":0},{"$f":"'COG-M'!P446","v":0},{"$f":"'COG-M'!P447","v":0},0]
[247,"Artículos metálicos para la construcción",{"$f":"'COG-M'!P448","v":0},{"$f":"'COG-M'!P449","v":0},{"$f":"'COG-M'!P450","v":0},{"$f":"'COG-M'!P451","v":0},{"$f":"'COG-M'!P452","v":0},{"$f":"'COG-M'!P453","v":0},{"$f":"'COG-M'!P454","v":0},{"$f":"'COG-M'!P455","v":0},{"$f":"'COG-M'!P456","v":0},{"$f":"'COG-M'!P457","v":0},0]
[248,"Materiales complementarios",{"$f":"'COG-M'!P458","v":0},{"$f":"'COG-M'!P459","v":0},{"$f":"'COG-M'!P460","v":0},{"$f":"'COG-M'!P461","v":0},{"$f":"'COG-M'!P462","v":0},{"$f":"'COG-M'!P463","v":0},{"$f":"'COG-M'!P464","v":0},{"$f":"'COG-M'!P465","v":0},{"$f":"'COG-M'!P466","v":0},{"$f":"'COG-M'!P467","v":0},0]
[249,"Otros materiales y artículos de construcción y reparación",{"$f":"'COG-M'!P468","v":0},{"$f":"'COG-M'!P469","v":0},{"$f":"'COG-M'!P470","v":0},{"$f":"'COG-M'!P471","v":0},{"$f":"'COG-M'!P472","v":0},{"$f":"'COG-M'!P473","v":0},{"$f":"'COG-M'!P474","v":0},{"$f":"'COG-M'!P475","v":0},{"$f":"'COG-M'!P476","v":0},{"$f":"'COG-M'!P477","v":0},0]
[2500,"PRODUCTOS QUÍMICOS, FARMACÉUTICOS Y DE LABORATORIO",{"$f":"SUM(C75:C81)","v":0},0,0,0,0,0,0,{"$f":"SUM(J75:J81)","v":0},{"$f":"SUM(K75:K81)","v":0},{"$f":"SUM(L75:L81)","v":0},{"$f":"SUM(M75:M81)","v":0}]
[251,"Productos químicos básicos",{"$f":"'COG-M'!P479","v":0},{"$f":"'COG-M'!P480","v":0},{"$f":"'COG-M'!P481","v":0},{"$f":"'COG-M'!P482","v":0},{"$f":"'COG-M'!P483","v":0},{"$f":"'COG-M'!P484","v":0},{"$f":"'COG-M'!P485","v":0},{"$f":"'COG-M'!P486","v":0},{"$f":"'COG-M'!P487","v":0},{"$f":"'COG-M'!P488","v":0},{"$f":"SUM(C75:L75)","v":0}]
[252,"Fertilizantes, pesticidas y otros agroquímicos",{"$f":"'COG-M'!P489","v":0},{"$f":"'COG-M'!P490","v":0},{"$f":"'COG-M'!P491","v":0},{"$f":"'COG-M'!P492","v":0},{"$f":"'COG-M'!P493","v":0},{"$f":"'COG-M'!P494","v":0},{"$f":"'COG-M'!P495","v":0},{"$f":"'COG-M'!P496","v":0},{"$f":"'COG-M'!P497","v":0},{"$f":"'COG-M'!P498","v":0},0]
[253,"Medicinas y productos farmacéuticos",{"$f":"'COG-M'!P499","v":0},{"$f":"'COG-M'!P500","v":0},{"$f":"'COG-M'!P501","v":0},{"$f":"'COG-M'!P502","v":0},{"$f":"'COG-M'!P503","v":0},{"$f":"'COG-M'!P504","v":0},{"$f":"'COG-M'!P505","v":0},{"$f":"'COG-M'!P506","v":0},{"$f":"'COG-M'!P507","v":0},{"$f":"'COG-M'!P508","v":0},0]
[254,"Materiales, accesorios y suministros médicos",{"$f":"'COG-M'!P509","v":0},{"$f":"'COG-M'!P510","v":0},{"$f":"'COG-M'!P511","v":0},{"$f":"'COG-M'!P512","v":0},{"$f":"'COG-M'!P513","v":0},{"$f":"'COG-M'!P514","v":0},{"$f":"'COG-M'!P515","v":0},{"$f":"'COG-M'!P516","v":0},{"$f":"'COG-M'!P517","v":0},{"$f":"'COG-M'!P518","v":0},0]
[255,"Materiales, accesorios y suministros de laboratorio",{"$f":"'COG-M'!P519","v":0},{"$f":"'COG-M'!P520","v":0},{"$f":"'COG-M'!P521","v":0},{"$f":"'COG-M'!P522","v":0},{"$f":"'COG-M'!P523","v":0},{"$f":"'COG-M'!P524","v":0},{"$f":"'COG-M'!P525","v":0},{"$f":"'COG-M'!P526","v":0},{"$f":"'COG-M'!P527","v":0},{"$f":"'COG-M'!P528","v":0},0]
[256,"Fibras sintéticas, hules plásticos y derivados",{"$f":"'COG-M'!P529","v":0},{"$f":"'COG-M'!P530","v":0},{"$f":"'COG-M'!P531","v":0},{"$f":"'COG-M'!P532","v":0},{"$f":"'COG-M'!P533","v":0},{"$f":"'COG-M'!P534","v":0},{"$f":"'COG-M'!P535","v":0},{"$f":"'COG-M'!P536","v":0},{"$f":"'COG-M'!P537","v":0},{"$f":"'COG-M'!P538","v":0},0]
[259,"Otros productos químicos",{"$f":"'COG-M'!P539","v":0},{"$f":"'COG-M'!P540","v":0},{"$f":"'COG-M'!P541","v":0},{"$f":"'COG-M'!P542","v":0},{"$f":"'COG-M'!P543","v":0},{"$f":"'COG-M'!P544","v":0},{"$f":"'COG-M'!P545","v":0},{"$f":"'COG-M'!P546","v":0},{"$f":"'COG-M'!P547","v":0},{"$f":"'COG-M'!P548","v":0},0]
[2600,"COMBUSTIBLES, LUBRICANTES Y ADITIVOS",{"$f":"SUM(C83:C84)","v":0},0,0,0,0,0,0,{"$f":"SUM(J83:J84)","v":0},{"$f":"SUM(K83:K84)","v":0},{"$f":"SUM(L83:L84)","v":0},{"$f":"SUM(M83:M84)","v":0}]
[261,"Combustibles, lubricantes y aditivos",{"$f":"'COG-M'!P550","v":0},{"$f":"'COG-M'!P551","v":0},{"$f":"'COG-M'!P552","v":0},{"$f":"'COG-M'!P553","v":0},{"$f":"'COG-M'!P554","v":0},{"$f":"'COG-M'!P555","v":0},{"$f":"'COG-M'!P556","v":0},{"$f":"'COG-M'!P557","v":0},{"$f":"'COG-M'!P558","v":0},{"$f":"'COG-M'!P559","v":0},{"$f":"SUM(C83:L83)","v":0}]
[262,"Carbón y sus derivados",{"$f":"'COG-M'!P560","v":0},{"$f":"'COG-M'!P561","v":0},{"$f":"'COG-M'!P562","v":0},{"$f":"'COG-M'!P563","v":0},{"$f":"'COG-M'!P564","v":0},{"$f":"'COG-M'!P565","v":0},{"$f":"'COG-M'!P566","v":0},{"$f":"'COG-M'!P567","v":0},{"$f":"'COG-M'!P568","v":0},{"$f":"'COG-M'!P569","v":0},{"$f":"SUM(C84:L84)","v":0}]
[2700,"VESTUARIO, BLANCOS, PRENDAS DE PROTECCIÓN Y ARTÍCULOS DEPORTIVOS",{"$f":"SUM(C86:C90)","v":0},0,0,0,0,0,0,{"$f":"SUM(J86:J90)","v":0},{"$f":"SUM(K86:K90)","v":0},{"$f":"SUM(L86:L90)","v":0},{"$f":"SUM(M86:M90)","v":0}]
[271,"Vestuario y uniformes",{"$f":"'COG-M'!P571","v":0},{"$f":"'COG-M'!P572","v":0},{"$f":"'COG-M'!P573","v":0},{"$f":"'COG-M'!P574","v":0},{"$f":"'COG-M'!P575","v":0},{"$f":"'COG-M'!P576","v":0},{"$f":"'COG-M'!P577","v":0},{"$f":"'COG-M'!P578","v":0},{"$f":"'COG-M'!P579","v":0},{"$f":"'COG-M'!P580","v":0},{"$f":"SUM(C86:L86)","v":0}]
[272,"Prendas de seguridad y protección personal",{"$f":"'COG-M'!P581","v":0},{"$f":"'COG-M'!P582","v":0},{"$f":"'COG-M'!P583","v":0},{"$f":"'COG-M'!P584","v":0},{"$f":"'COG-M'!P585","v":0},{"$f":"'COG-M'!P586","v":0},{"$f":"'COG-M'!P587","v":0},{"$f":"'COG-M'!P588","v":0},{"$f":"'COG-M'!P589","v":0},{"$f":"'COG-M'!P590","v":0},{"$f":"SUM(C87:L87)","v":0}]
[273,"Artículos deportivos",{"$f":"'COG-M'!P591","v":0},{"$f":"'COG-M'!P592","v":0},{"$f":"'COG-M'!P593","v":0},{"$f":"'COG-M'!P594","v":0},{"$f":"'COG-M'!P595","v":0},{"$f":"'COG-M'!P596","v":0},{"$f":"'COG-M'!P597","v":0},{"$f":"'COG-M'!P598","v":0},{"$f":"'COG-M'!P599","v":0},{"$f":"'COG-M'!P600","v":0},{"$f":"SUM(C88:L88)","v":0}]
[274,"Productos textiles",{"$f":"'COG-M'!P601","v":0},{"$f":"'COG-M'!P602","v":0},{"$f":"'COG-M'!P603","v":0},{"$f":"'COG-M'!P604","v":0},{"$f":"'COG-M'!P605","v":0},{"$f":"'COG-M'!P606","v":0},{"$f":"'COG-M'!P607","v":0},{"$f":"'COG-M'!P608","v":0},{"$f":"'COG-M'!P609","v":0},{"$f":"'COG-M'!P610","v":0},{"$f":"SUM(C89:L89)","v":0}]
[275,"Blancos y otros productos textiles, excepto prendas de vestir",{"$f":"'COG-M'!P611","v":0},{"$f":"'COG-M'!P612","v":0},{"$f":"'COG-M'!P613","v":0},{"$f":"'COG-M'!P614","v":0},{"$f":"'COG-M'!P615","v":0},{"$f":"'COG-M'!P616","v":0},{"$f":"'COG-M'!P617","v":0},{"$f":"'COG-M'!P618","v":0},{"$f":"'COG-M'!P619","v":0},{"$f":"'COG-M'!P620","v":0},{"$f":"SUM(C90:L90)","v":0}]
[2800,"MATERIALES Y SUMINISTROS PARA SEGURIDAD",{"$f":"SUM(C92:C94)","v":0},0,0,0,0,0,0,{"$f":"SUM(J92:J94)","v":0},{"$f":"SUM(K92:K94)","v":0},{"$f":"SUM(L92:L94)","v":0},{"$f":"SUM(M92:M94)","v":0}]
[281,"Sustancias y materiales explosivos",{"$f":"'COG-M'!P622","v":0},{"$f":"'COG-M'!P623","v":0},{"$f":"'COG-M'!P624","v":0},{"$f":"'COG-M'!P625","v":0},{"$f":"'COG-M'!P626","v":0},{"$f":"'COG-M'!P627","v":0},{"$f":"'COG-M'!P628","v":0},{"$f":"'COG-M'!P629","v":0},{"$f":"'COG-M'!P630","v":0},{"$f":"'COG-M'!P631","v":0},{"$f":"SUM(C92:L92)","v":0}]
[282,"Materiales de seguridad pública",{"$f":"'COG-M'!P632","v":0},{"$f":"'COG-M'!P633","v":0},{"$f":"'COG-M'!P634","v":0},{"$f":"'COG-M'!P635","v":0},{"$f":"'COG-M'!P636","v":0},{"$f":"'COG-M'!P637","v":0},{"$f":"'COG-M'!P638","v":0},{"$f":"'COG-M'!P639","v":0},{"$f":"'COG-M'!P640","v":0},{"$f":"'COG-M'!P641","v":0},{"$f":"SUM(C93:L93)","v":0}]
[283,"Prendas de protección para seguridad pública y nacional",{"$f":"'COG-M'!P642","v":0},{"$f":"'COG-M'!P643","v":0},{"$f":"'COG-M'!P644","v":0},{"$f":"'COG-M'!P645","v":0},{"$f":"'COG-M'!P646","v":0},{"$f":"'COG-M'!P647","v":0},{"$f":"'COG-M'!P648","v":0},{"$f":"'COG-M'!P649","v":0},{"$f":"'COG-M'!P650","v":0},{"$f":"'COG-M'!P651","v":0},{"$f":"SUM(C94:L94)","v":0}]
[2900,"HERRAMIENTAS, REFACCIONES Y ACCESORIOS MENORES",{"$f":"SUM(C96:C104)","v":0},0,0,0,0,0,0,{"$f":"SUM(J96:J104)","v":0},{"$f":"SUM(K96:K104)","v":0},{"$f":"SUM(L96:L104)","v":0},{"$f":"SUM(M96:M104)","v":0}]
[291,"Herramientas menores",{"$f":"'COG-M'!P653","v":0},{"$f":"'COG-M'!P654","v":0},{"$f":"'COG-M'!P655","v":0},{"$f":"'COG-M'!P656","v":0},{"$f":"'COG-M'!P657","v":0},{"$f":"'COG-M'!P658","v":0},{"$f":"'COG-M'!P659","v":0},{"$f":"'COG-M'!P660","v":0},{"$f":"'COG-M'!P661","v":0},{"$f":"'COG-M'!P662","v":0},{"$f":"SUM(C96:L96)","v":0}]
[292,"Refacciones y accesorios menores de edificios",{"$f":"'COG-M'!P663","v":0},{"$f":"'COG-M'!P664","v":0},{"$f":"'COG-M'!P665","v":0},{"$f":"'COG-M'!P666","v":0},{"$f":"'COG-M'!P667","v":0},{"$f":"'COG-M'!P668","v":0},{"$f":"'COG-M'!P669","v":0},{"$f":"'COG-M'!P670","v":0},{"$f":"'COG-M'!P671","v":0},{"$f":"'COG-M'!P672","v":0},0]
[293,"Refacciones y accesorios menores de mobiliario  y equipo de administración, educacional y recreativo",{"$f":"'COG-M'!P673","v":0},{"$f":"'COG-M'!P674","v":0},{"$f":"'COG-M'!P675","v":0},{"$f":"'COG-M'!P676","v":0},{"$f":"'COG-M'!P677","v":0},{"$f":"'COG-M'!P678","v":0},{"$f":"'COG-M'!P679","v":0},{"$f":"'COG-M'!P680","v":0},{"$f":"'COG-M'!P681","v":0},{"$f":"'COG-M'!P682","v":0},0]
[294,"Refacciones y accesorios menores de equipo de cómputo y tecnologías de la información",{"$f":"'COG-M'!P683","v":0},{"$f":"'COG-M'!P684","v":0},{"$f":"'COG-M'!P685","v":0},{"$f":"'COG-M'!P686","v":0},{"$f":"'COG-M'!P687","v":0},{"$f":"'COG-M'!P688","v":0},{"$f":"'COG-M'!P689","v":0},{"$f":"'COG-M'!P690","v":0},{"$f":"'COG-M'!P691","v":0},{"$f":"'COG-M'!P692","v":0},0]
[295,"Refacciones y accesorios menores de equipo e instrumental médico y de laboratorio",{"$f":"'COG-M'!P693","v":0},{"$f":"'COG-M'!P694","v":0},{"$f":"'COG-M'!P695","v":0},{"$f":"'COG-M'!P696","v":0},{"$f":"'COG-M'!P697","v":0},{"$f":"'COG-M'!P698","v":0},{"$f":"'COG-M'!P699","v":0},{"$f":"'COG-M'!P700","v":0},{"$f":"'COG-M'!P701","v":0},{"$f":"'COG-M'!P702","v":0},0]
[296,"Refacciones y accesorios menores de equipo de transporte",{"$f":"'COG-M'!P703","v":0},{"$f":"'COG-M'!P704","v":0},{"$f":"'COG-M'!P705","v":0},{"$f":"'COG-M'!P706","v":0},{"$f":"'COG-M'!P707","v":0},{"$f":"'COG-M'!P708","v":0},{"$f":"'COG-M'!P709","v":0},{"$f":"'COG-M'!P710","v":0},{"$f":"'COG-M'!P711","v":0},{"$f":"'COG-M'!P712","v":0},0]
[297,"Refacciones y accesorios menores de equipo de defensa y seguridad",{"$f":"'COG-M'!P713","v":0},{"$f":"'COG-M'!P714","v":0},{"$f":"'COG-M'!P715","v":0},{"$f":"'COG-M'!P716","v":0},{"$f":"'COG-M'!P717","v":0},{"$f":"'COG-M'!P718","v":0},{"$f":"'COG-M'!P719","v":0},{"$f":"'COG-M'!P720","v":0},{"$f":"'COG-M'!P721","v":0},{"$f":"'COG-M'!P722","v":0},0]
[298,"Refacciones y accesorios menores de maquinaria y otros equipos",{"$f":"'COG-M'!P723","v":0},{"$f":"'COG-M'!P724","v":0},{"$f":"'COG-M'!P725","v":0},{"$f":"'COG-M'!P726","v":0},{"$f":"'COG-M'!P727","v":0},{"$f":"'COG-M'!P728","v":0},{"$f":"'COG-M'!P729","v":0},{"$f":"'COG-M'!P730","v":0},{"$f":"'COG-M'!P731","v":0},{"$f":"'COG-M'!P732","v":0},0]
[299,"Refacciones y accesorios menores otros bienes muebles",{"$f":"'COG-M'!P733","v":0},{"$f":"'COG-M'!P734","v":0},{"$f":"'COG-M'!P735","v":0},{"$f":"'COG-M'!P736","v":0},{"$f":"'COG-M'!P737","v":0},{"$f":"'COG-M'!P738","v":0},{"$f":"'COG-M'!P739","v":0},{"$f":"'COG-M'!P740","v":0},{"$f":"'COG-M'!P741","v":0},{"$f":"'COG-M'!P742","v":0},0]
[3000,"SERVICIOS GENERALES",{"$f":"C106+C116+C126+C136+C146+C156+C164+C174+C180","v":0},{"$f":"D106+D116+D126+D136+D146+D156+D164+D174+D180","v":0},0,0,0,0,0,0,0,0,0]
[3100,"SERVICIOS BÁSICOS",{"$f":"SUM(C107:C115)","v":0},{"$f":"SUM(D107:D115)","v":0},0,0,0,0,0,0,0,0,0]
[311,"Energía eléctrica",{"$f":"'COG-M'!P745","v":0},{"$f":"'COG-M'!P746","v":0},{"$f":"'COG-M'!P747","v":0},{"$f":"'COG-M'!P748","v":0},{"$f":"'COG-M'!P749","v":0},{"$f":"'COG-M'!P750","v":0},{"$f":"'COG-M'!P751","v":0},{"$f":"'COG-M'!P752","v":0},{"$f":"'COG-M'!P753","v":0},{"$f":"'COG-M'!P754","v":0},{"$f":"SUM(C107:L107)","v":0}]
[312,"Gas ",{"$f":"'COG-M'!P755","v":0},{"$f":"'COG-M'!P756","v":0},{"$f":"'COG-M'!P757","v":0},{"$f":"'COG-M'!P758","v":0},{"$f":"'COG-M'!P759","v":0},{"$f":"'COG-M'!P760","v":0},{"$f":"'COG-M'!P761","v":0},{"$f":"'COG-M'!P762","v":0},{"$f":"'COG-M'!P763","v":0},{"$f":"'COG-M'!P764","v":0},0]
[313,"Agua",{"$f":"'COG-M'!P765","v":0},{"$f":"'COG-M'!P766","v":0},{"$f":"'COG-M'!P767","v":0},{"$f":"'COG-M'!P768","v":0},{"$f":"'COG-M'!P769","v":0},{"$f":"'COG-M'!P770","v":0},{"$f":"'COG-M'!P771","v":0},{"$f":"'COG-M'!P772","v":0},{"$f":"'COG-M'!P773","v":0},{"$f":"'COG-M'!P774","v":0},0]
[314,"Telefonía tradicional",{"$f":"'COG-M'!P775","v":0},{"$f":"'COG-M'!P776","v":0},{"$f":"'COG-M'!P777","v":0},{"$f":"'COG-M'!P778","v":0},{"$f":"'COG-M'!P779","v":0},{"$f":"'COG-M'!P780","v":0},{"$f":"'COG-M'!P781","v":0},{"$f":"'COG-M'!P782","v":0},{"$f":"'COG-M'!P783","v":0},{"$f":"'COG-M'!P784","v":0},0]
[315,"Telefonía celular",{"$f":"'COG-M'!P785","v":0},{"$f":"'COG-M'!P786","v":0},{"$f":"'COG-M'!P787","v":0},{"$f":"'COG-M'!P788","v":0},{"$f":"'COG-M'!P789","v":0},{"$f":"'COG-M'!P790","v":0},{"$f":"'COG-M'!P791","v":0},{"$f":"'COG-M'!P792","v":0},{"$f":"'COG-M'!P793","v":0},{"$f":"'COG-M'!P794","v":0},0]
[316,"Servicios de telecomunicaciones y satélites",{"$f":"'COG-M'!P795","v":0},{"$f":"'COG-M'!P796","v":0},{"$f":"'COG-M'!P797","v":0},{"$f":"'COG-M'!P798","v":0},{"$f":"'COG-M'!P799","v":0},{"$f":"'COG-M'!P800","v":0},{"$f":"'COG-M'!P801","v":0},{"$f":"'COG-M'!P802","v":0},{"$f":"'COG-M'!P803","v":0},{"$f":"'COG-M'!P804","v":0},0]
[317,"Servicios de acceso de Internet, redes y procesamiento de información",{"$f":"'COG-M'!P805","v":0},{"$f":"'COG-M'!P806","v":0},{"$f":"'COG-M'!P807","v":0},{"$f":"'COG-M'!P808","v":0},{"$f":"'COG-M'!P809","v":0},{"$f":"'COG-M'!P810","v":0},{"$f":"'COG-M'!P811","v":0},{"$f":"'COG-M'!P812","v":0},{"$f":"'COG-M'!P813","v":0},{"$f":"'COG-M'!P814","v":0},0]
[318,"Servicios postales y telegráficos",{"$f":"'COG-M'!P815","v":0},{"$f":"'COG-M'!P816","v":0},{"$f":"'COG-M'!P817","v":0},{"$f":"'COG-M'!P818","v":0},{"$f":"'COG-M'!P819","v":0},{"$f":"'COG-M'!P820","v":0},{"$f":"'COG-M'!P821","v":0},{"$f":"'COG-M'!P822","v":0},{"$f":"'COG-M'!P823","v":0},{"$f":"'COG-M'!P824","v":0},0]
[319,"Servicios integrales y otros servicios",{"$f":"'COG-M'!P825","v":0},{"$f":"'COG-M'!P826","v":0},{"$f":"'COG-M'!P827","v":0},{"$f":"'COG-M'!P828","v":0},{"$f":"'COG-M'!P829","v":0},{"$f":"'COG-M'!P830","v":0},{"$f":"'COG-M'!P831","v":0},{"$f":"'COG-M'!P832","v":0},{"$f":"'COG-M'!P833","v":0},{"$f":"'COG-M'!P834","v":0},0]
[3200,"SERVICIOS DE ARRENDAMIENTO",{"$f":"SUM(C117:C125)","v":0},{"$f":"SUM(D117:D125)","v":0},0,0,0,0,0,0,0,0,0]
[321,"Arrendamiento de terrenos",{"$f":"'COG-M'!P836","v":0},{"$f":"'COG-M'!P837","v":0},{"$f":"'COG-M'!P838","v":0},{"$f":"'COG-M'!P839","v":0},{"$f":"'COG-M'!P840","v":0},{"$f":"'COG-M'!P841","v":0},{"$f":"'COG-M'!P842","v":0},{"$f":"'COG-M'!P843","v":0},{"$f":"'COG-M'!P844","v":0},{"$f":"'COG-M'!P845","v":0},{"$f":"SUM(C117:L117)","v":0}]
[322,"Arrendamiento de edificios",{"$f":"'COG-M'!P846","v":0},{"$f":"'COG-M'!P847","v":0},{"$f":"'COG-M'!P848","v":0},{"$f":"'COG-M'!P849","v":0},{"$f":"'COG-M'!P850","v":0},{"$f":"'COG-M'!P851","v":0},{"$f":"'COG-M'!P852","v":0},{"$f":"'COG-M'!P853","v":0},{"$f":"'COG-M'!P854","v":0},{"$f":"'COG-M'!P855","v":0},0]
[323,"Arrendamiento de mobiliario y equipo de administración, educacional y recreativo",{"$f":"'COG-M'!P856","v":0},{"$f":"'COG-M'!P857","v":0},{"$f":"'COG-M'!P858","v":0},{"$f":"'COG-M'!P859","v":0},{"$f":"'COG-M'!P860","v":0},{"$f":"'COG-M'!P861","v":0},{"$f":"'COG-M'!P862","v":0},{"$f":"'COG-M'!P863","v":0},{"$f":"'COG-M'!P864","v":0},{"$f":"'COG-M'!P865","v":0},0]
[324,"Arrendamiento de equipo e instrumental médico y de laboratorio",{"$f":"'COG-M'!P866","v":0},{"$f":"'COG-M'!P867","v":0},{"$f":"'COG-M'!P868","v":0},{"$f":"'COG-M'!P869","v":0},{"$f":"'COG-M'!P870","v":0},{"$f":"'COG-M'!P871","v":0},{"$f":"'COG-M'!P872","v":0},{"$f":"'COG-M'!P873","v":0},{"$f":"'COG-M'!P874","v":0},{"$f":"'COG-M'!P875","v":0},0]
[325,"Arrendamiento de equipo de transporte",{"$f":"'COG-M'!P876","v":0},{"$f":"'COG-M'!P877","v":0},{"$f":"'COG-M'!P878","v":0},{"$f":"'COG-M'!P879","v":0},{"$f":"'COG-M'!P880","v":0},{"$f":"'COG-M'!P881","v":0},{"$f":"'COG-M'!P882","v":0},{"$f":"'COG-M'!P883","v":0},{"$f":"'COG-M'!P884","v":0},{"$f":"'COG-M'!P885","v":0},0]
[326,"Arrendamiento de maquinaria, otros equipos y herramientas",{"$f":"'COG-M'!P886","v":0},{"$f":"'COG-M'!P887","v":0},{"$f":"'COG-M'!P888","v":0},{"$f":"'COG-M'!P889","v":0},{"$f":"'COG-M'!P890","v":0},{"$f":"'COG-M'!P891","v":0},{"$f":"'COG-M'!P892","v":0},{"$f":"'COG-M'!P893","v":0},{"$f":"'COG-M'!P894","v":0},{"$f":"'COG-M'!P895","v":0},0]
[327,"Arrendamiento de activos intangibles",{"$f":"'COG-M'!P896","v":0},{"$f":"'COG-M'!P897","v":0},{"$f":"'COG-M'!P898","v":0},{"$f":"'COG-M'!P899","v":0},{"$f":"'COG-M'!P900","v":0},{"$f":"'COG-M'!P901","v":0},{"$f":"'COG-M'!P902","v":0},{"$f":"'COG-M'!P903","v":0},{"$f":"'COG-M'!P904","v":0},{"$f":"'COG-M'!P905","v":0},0]
[328,"Arrendamiento financiero",{"$f":"'COG-M'!P906","v":0},{"$f":"'COG-M'!P907","v":0},{"$f":"'COG-M'!P908","v":0},{"$f":"'COG-M'!P909","v":0},{"$f":"'COG-M'!P910","v":0},{"$f":"'COG-M'!P911","v":0},{"$f":"'COG-M'!P912","v":0},{"$f":"'COG-M'!P913","v":0},{"$f":"'COG-M'!P914","v":0},{"$f":"'COG-M'!P915","v":0},0]
[329,"Otros arrendamientos",{"$f":"'COG-M'!P916","v":0},{"$f":"'COG-M'!P917","v":0},{"$f":"'COG-M'!P918","v":0},{"$f":"'COG-M'!P919","v":0},{"$f":"'COG-M'!P920","v":0},{"$f":"'COG-M'!P921","v":0},{"$f":"'COG-M'!P922","v":0},{"$f":"'COG-M'!P923","v":0},{"$f":"'COG-M'!P924","v":0},{"$f":"'COG-M'!P925","v":0},0]
[3300,"SERVICIOS PROFESIONALES, CIENTÍFICOS, TÉCNICOS Y OTROS SERVICIOS",{"$f":"SUM(C127:C135)","v":0},{"$f":"SUM(D127:D135)","v":0},0,0,0,0,0,0,0,0,0]
[331,"Servicios legales, de contabilidad, auditoría y relacionados",{"$f":"'COG-M'!P927","v":0},{"$f":"'COG-M'!P928","v":0},{"$f":"'COG-M'!P929","v":0},{"$f":"'COG-M'!P930","v":0},{"$f":"'COG-M'!P931","v":0},{"$f":"'COG-M'!P932","v":0},{"$f":"'COG-M'!P933","v":0},{"$f":"'COG-M'!P934","v":0},{"$f":"'COG-M'!P935","v":0},{"$f":"'COG-M'!P936","v":0},{"$f":"SUM(C127:L127)","v":0}]
[332,"Servicios de diseño, arquitectura, ingeniería y actividades relacionadas",{"$f":"'COG-M'!P937","v":0},{"$f":"'COG-M'!P938","v":0},{"$f":"'COG-M'!P939","v":0},{"$f":"'COG-M'!P940","v":0},{"$f":"'COG-M'!P941","v":0},{"$f":"'COG-M'!P942","v":0},{"$f":"'COG-M'!P943","v":0},{"$f":"'COG-M'!P944","v":0},{"$f":"'COG-M'!P945","v":0},{"$f":"'COG-M'!P946","v":0},0]
[333,"Servicios de consultoría administrativa, procesos, técnica y en tecnologías de la información",{"$f":"'COG-M'!P947","v":0},{"$f":"'COG-M'!P948","v":0},{"$f":"'COG-M'!P949","v":0},{"$f":"'COG-M'!P950","v":0},{"$f":"'COG-M'!P951","v":0},{"$f":"'COG-M'!P952","v":0},{"$f":"'COG-M'!P953","v":0},{"$f":"'COG-M'!P954","v":0},{"$f":"'COG-M'!P955","v":0},{"$f":"'COG-M'!P956","v":0},0]
[334,"Servicios de capacitación",{"$f":"'COG-M'!P957","v":0},{"$f":"'COG-M'!P958","v":0},{"$f":"'COG-M'!P959","v":0},{"$f":"'COG-M'!P960","v":0},{"$f":"'COG-M'!P961","v":0},{"$f":"'COG-M'!P962","v":0},{"$f":"'COG-M'!P963","v":0},{"$f":"'COG-M'!P964","v":0},{"$f":"'COG-M'!P965","v":0},{"$f":"'COG-M'!P966","v":0},0]
[335,"Servicios de investigación científica y desarrollo",{"$f":"'COG-M'!P967","v":0},{"$f":"'COG-M'!P968","v":0},{"$f":"'COG-M'!P969","v":0},{"$f":"'COG-M'!P970","v":0},{"$f":"'COG-M'!P971","v":0},{"$f":"'COG-M'!P972","v":0},{"$f":"'COG-M'!P973","v":0},{"$f":"'COG-M'!P974","v":0},{"$f":"'COG-M'!P975","v":0},{"$f":"'COG-M'!P976","v":0},0]
[336,"Servicios de apoyo administrativo, traducción, fotocopiado e impresión",{"$f":"'COG-M'!P977","v":0},{"$f":"'COG-M'!P978","v":0},{"$f":"'COG-M'!P979","v":0},{"$f":"'COG-M'!P980","v":0},{"$f":"'COG-M'!P981","v":0},{"$f":"'COG-M'!P982","v":0},{"$f":"'COG-M'!P983","v":0},{"$f":"'COG-M'!P984","v":0},{"$f":"'COG-M'!P985","v":0},{"$f":"'COG-M'!P986","v":0},0]
[337,"Servicios de protección y seguridad",{"$f":"'COG-M'!P987","v":0},{"$f":"'COG-M'!P988","v":0},{"$f":"'COG-M'!P989","v":0},{"$f":"'COG-M'!P990","v":0},{"$f":"'COG-M'!P991","v":0},{"$f":"'COG-M'!P992","v":0},{"$f":"'COG-M'!P993","v":0},{"$f":"'COG-M'!P994","v":0},{"$f":"'COG-M'!P995","v":0},{"$f":"'COG-M'!P996","v":0},0]
[338,"Servicios de vigilancia",{"$f":"'COG-M'!P997","v":0},{"$f":"'COG-M'!P998","v":0},{"$f":"'COG-M'!P999","v":0},{"$f":"'COG-M'!P1000","v":0},{"$f":"'COG-M'!P1001","v":0},{"$f":"'COG-M'!P1002","v":0},{"$f":"'COG-M'!P1003","v":0},{"$f":"'COG-M'!P1004","v":0},{"$f":"'COG-M'!P1005","v":0},{"$f":"'COG-M'!P1006","v":0},0]
[339,"Servicios profesionales, científicos y técnicos integrales",{"$f":"'COG-M'!P1007","v":0},{"$f":"'COG-M'!P1008","v":0},{"$f":"'COG-M'!P1009","v":0},{"$f":"'COG-M'!P1010","v":0},{"$f":"'COG-M'!P1011","v":0},{"$f":"'COG-M'!P1012","v":0},{"$f":"'COG-M'!P1013","v":0},{"$f":"'COG-M'!P1014","v":0},{"$f":"'COG-M'!P1015","v":0},{"$f":"'COG-M'!P1016","v":0},0]
[3400,"SERVICIOS FINANCIEROS, BANCARIOS Y COMERCIALES",{"$f":"SUM(C137:C145)","v":0},{"$f":"SUM(D137:D145)","v":0},0,0,0,0,0,0,0,0,0]
[341,"Servicios financieros y bancarios",{"$f":"'COG-M'!P1018","v":0},{"$f":"'COG-M'!P1019","v":0},{"$f":"'COG-M'!P1020","v":0},{"$f":"'COG-M'!P1021","v":0},{"$f":"'COG-M'!P1022","v":0},{"$f":"'COG-M'!P1023","v":0},{"$f":"'COG-M'!P1024","v":0},{"$f":"'COG-M'!P1025","v":0},{"$f":"'COG-M'!P1026","v":0},{"$f":"'COG-M'!P1027","v":0},{"$f":"SUM(C137:L137)","v":0}]
[342,"Servicios de cobranza, investigación crediticia y similar",{"$f":"'COG-M'!P1028","v":0},{"$f":"'COG-M'!P1029","v":0},{"$f":"'COG-M'!P1030","v":0},{"$f":"'COG-M'!P1031","v":0},{"$f":"'COG-M'!P1032","v":0},{"$f":"'COG-M'!P1033","v":0},{"$f":"'COG-M'!P1034","v":0},{"$f":"'COG-M'!P1035","v":0},{"$f":"'COG-M'!P1036","v":0},{"$f":"'COG-M'!P1037","v":0},0]
[343,"Servicios de recaudación, traslado y custodia de valores",{"$f":"'COG-M'!P1038","v":0},{"$f":"'COG-M'!P1039","v":0},{"$f":"'COG-M'!P1040","v":0},{"$f":"'COG-M'!P1041","v":0},{"$f":"'COG-M'!P1042","v":0},{"$f":"'COG-M'!P1043","v":0},{"$f":"'COG-M'!P1044","v":0},{"$f":"'COG-M'!P1045","v":0},{"$f":"'COG-M'!P1046","v":0},{"$f":"'COG-M'!P1047","v":0},0]
[344,"Seguros de responsabilidad patrimonial y fianzas",{"$f":"'COG-M'!P1048","v":0},{"$f":"'COG-M'!P1049","v":0},{"$f":"'COG-M'!P1050","v":0},{"$f":"'COG-M'!P1051","v":0},{"$f":"'COG-M'!P1052","v":0},{"$f":"'COG-M'!P1053","v":0},{"$f":"'COG-M'!P1054","v":0},{"$f":"'COG-M'!P1055","v":0},{"$f":"'COG-M'!P1056","v":0},{"$f":"'COG-M'!P1057","v":0},0]
[345,"Seguro de bienes patrimoniales",{"$f":"'COG-M'!P1058","v":0},{"$f":"'COG-M'!P1059","v":0},{"$f":"'COG-M'!P1060","v":0},{"$f":"'COG-M'!P1061","v":0},{"$f":"'COG-M'!P1062","v":0},{"$f":"'COG-M'!P1063","v":0},{"$f":"'COG-M'!P1064","v":0},{"$f":"'COG-M'!P1065","v":0},{"$f":"'COG-M'!P1066","v":0},{"$f":"'COG-M'!P1067","v":0},0]
[346,"Almacenaje, envase y embalaje",{"$f":"'COG-M'!P1068","v":0},{"$f":"'COG-M'!P1069","v":0},{"$f":"'COG-M'!P1070","v":0},{"$f":"'COG-M'!P1071","v":0},{"$f":"'COG-M'!P1072","v":0},{"$f":"'COG-M'!P1073","v":0},{"$f":"'COG-M'!P1074","v":0},{"$f":"'COG-M'!P1075","v":0},{"$f":"'COG-M'!P1076","v":0},{"$f":"'COG-M'!P1077","v":0},0]
[347,"Fletes y maniobras",{"$f":"'COG-M'!P1078","v":0},{"$f":"'COG-M'!P1079","v":0},{"$f":"'COG-M'!P1080","v":0},{"$f":"'COG-M'!P1081","v":0},{"$f":"'COG-M'!P1082","v":0},{"$f":"'COG-M'!P1083","v":0},{"$f":"'COG-M'!P1084","v":0},{"$f":"'COG-M'!P1085","v":0},{"$f":"'COG-M'!P1086","v":0},{"$f":"'COG-M'!P1087","v":0},0]
[348,"Comisiones por ventas",{"$f":"'COG-M'!P1088","v":0},{"$f":"'COG-M'!P1089","v":0},{"$f":"'COG-M'!P1090","v":0},{"$f":"'COG-M'!P1091","v":0},{"$f":"'COG-M'!P1092","v":0},{"$f":"'COG-M'!P1093","v":0},{"$f":"'COG-M'!P1094","v":0},{"$f":"'COG-M'!P1095","v":0},{"$f":"'COG-M'!P1096","v":0},{"$f":"'COG-M'!P1097","v":0},0]
[349,"Servicios financieros, bancarios y comerciales integrales",{"$f":"'COG-M'!P1098","v":0},{"$f":"'COG-M'!P1099","v":0},{"$f":"'COG-M'!P1100","v":0},{"$f":"'COG-M'!P1101","v":0},{"$f":"'COG-M'!P1102","v":0},{"$f":"'COG-M'!P1103","v":0},{"$f":"'COG-M'!P1104","v":0},{"$f":"'COG-M'!P1105","v":0},{"$f":"'COG-M'!P1106","v":0},{"$f":"'COG-M'!P1107","v":0},0]
[3500,"SERVICIOS DE INSTALACIÓN, REPARACIÓN, MANTENIMIENTO Y CONSERVACIÓN",{"$f":"SUM(C147:C155)","v":0},{"$f":"SUM(D147:D155)","v":0},0,0,0,0,0,0,0,0,0]
[351,"Conservación y mantenimiento menor de inmuebles",{"$f":"'COG-M'!P1109","v":0},{"$f":"'COG-M'!P1110","v":0},{"$f":"'COG-M'!P1111","v":0},{"$f":"'COG-M'!P1112","v":0},{"$f":"'COG-M'!P1113","v":0},{"$f":"'COG-M'!P1114","v":0},{"$f":"'COG-M'!P1115","v":0},{"$f":"'COG-M'!P1116","v":0},{"$f":"'COG-M'!P1117","v":0},{"$f":"'COG-M'!P1118","v":0},{"$f":"SUM(C147:L147)","v":0}]
[352,"Instalación, reparación y mantenimiento de mobiliario y equipo de administración, educacional y recreativo",{"$f":"'COG-M'!P1119","v":0},{"$f":"'COG-M'!P1120","v":0},{"$f":"'COG-M'!P1121","v":0},{"$f":"'COG-M'!P1122","v":0},{"$f":"'COG-M'!P1123","v":0},{"$f":"'COG-M'!P1124","v":0},{"$f":"'COG-M'!P1125","v":0},{"$f":"'COG-M'!P1126","v":0},{"$f":"'COG-M'!P1127","v":0},{"$f":"'COG-M'!P1128","v":0},0]
[353,"Instalación, reparación y mantenimiento de equipo de cómputo y tecnología de la información",{"$f":"'COG-M'!P1129","v":0},{"$f":"'COG-M'!P1130","v":0},{"$f":"'COG-M'!P1131","v":0},{"$f":"'COG-M'!P1132","v":0},{"$f":"'COG-M'!P1133","v":0},{"$f":"'COG-M'!P1134","v":0},{"$f":"'COG-M'!P1135","v":0},{"$f":"'COG-M'!P1136","v":0},{"$f":"'COG-M'!P1137","v":0},{"$f":"'COG-M'!P1138","v":0},0]
[354,"Instalación, reparación y mantenimiento de equipo e instrumental médico y de laboratorio",{"$f":"'COG-M'!P1139","v":0},{"$f":"'COG-M'!P1140","v":0},{"$f":"'COG-M'!P1141","v":0},{"$f":"'COG-M'!P1142","v":0},{"$f":"'COG-M'!P1143","v":0},{"$f":"'COG-M'!P1144","v":0},{"$f":"'COG-M'!P1145","v":0},{"$f":"'COG-M'!P1146","v":0},{"$f":"'COG-M'!P1147","v":0},{"$f":"'COG-M'!P1148","v":0},0]
[355,"Reparación y mantenimiento de equipo de transporte",{"$f":"'COG-M'!P1149","v":0},{"$f":"'COG-M'!P1150","v":0},{"$f":"'COG-M'!P1151","v":0},{"$f":"'COG-M'!P1152","v":0},{"$f":"'COG-M'!P1153","v":0},{"$f":"'COG-M'!P1154","v":0},{"$f":"'COG-M'!P1155","v":0},{"$f":"'COG-M'!P1156","v":0},{"$f":"'COG-M'!P1157","v":0},{"$f":"'COG-M'!P1158","v":0},0]
[356,"Reparación y mantenimiento de equipo de defensa y seguridad",{"$f":"'COG-M'!P1159","v":0},{"$f":"'COG-M'!P1160","v":0},{"$f":"'COG-M'!P1161","v":0},{"$f":"'COG-M'!P1162","v":0},{"$f":"'COG-M'!P1163","v":0},{"$f":"'COG-M'!P1164","v":0},{"$f":"'COG-M'!P1165","v":0},{"$f":"'COG-M'!P1166","v":0},{"$f":"'COG-M'!P1167","v":0},{"$f":"'COG-M'!P1168","v":0},0]
[357,"Instalación, reparación y mantenimiento de maquinaria, otros equipos y herramienta",{"$f":"'COG-M'!P1169","v":0},{"$f":"'COG-M'!P1170","v":0},{"$f":"'COG-M'!P1171","v":0},{"$f":"'COG-M'!P1172","v":0},{"$f":"'COG-M'!P1173","v":0},{"$f":"'COG-M'!P1174","v":0},{"$f":"'COG-M'!P1175","v":0},{"$f":"'COG-M'!P1176","v":0},{"$f":"'COG-M'!P1177","v":0},{"$f":"'COG-M'!P1178","v":0},0]
[358,"Servicios de limpieza y manejo de desechos",{"$f":"'COG-M'!P1179","v":0},{"$f":"'COG-M'!P1180","v":0},{"$f":"'COG-M'!P1181","v":0},{"$f":"'COG-M'!P1182","v":0},{"$f":"'COG-M'!P1183","v":0},{"$f":"'COG-M'!P1184","v":0},{"$f":"'COG-M'!P1185","v":0},{"$f":"'COG-M'!P1186","v":0},{"$f":"'COG-M'!P1187","v":0},{"$f":"'COG-M'!P1188","v":0},0]
[359,"Servicios de jardinería y fumigación",{"$f":"'COG-M'!P1189","v":0},{"$f":"'COG-M'!P1190","v":0},{"$f":"'COG-M'!P1191","v":0},{"$f":"'COG-M'!P1192","v":0},{"$f":"'COG-M'!P1193","v":0},{"$f":"'COG-M'!P1194","v":0},{"$f":"'COG-M'!P1195","v":0},{"$f":"'COG-M'!P1196","v":0},{"$f":"'COG-M'!P1197","v":0},{"$f":"'COG-M'!P1198","v":0},0]
[3600,"SERVICIOS DE COMUNICACIÓN SOCIAL Y PUBLICIDAD",{"$f":"SUM(C157:C163)","v":0},{"$f":"SUM(D157:D163)","v":0},0,0,0,0,0,0,0,0,0]
[361,"Difusión por radio, televisión y otros medios de mensajes sobre programas y actividades gubernamentales",{"$f":"'COG-M'!P1200","v":0},{"$f":"'COG-M'!P1201","v":0},{"$f":"'COG-M'!P1202","v":0},{"$f":"'COG-M'!P1203","v":0},{"$f":"'COG-M'!P1204","v":0},{"$f":"'COG-M'!P1205","v":0},{"$f":"'COG-M'!P1206","v":0},{"$f":"'COG-M'!P1207","v":0},{"$f":"'COG-M'!P1208","v":0},{"$f":"'COG-M'!P1209","v":0},{"$f":"SUM(C157:L157)","v":0}]
[362,"Difusión por radio,  televisión y otros medios de mensajes comerciales para promover la venta de bienes o servicios",{"$f":"'COG-M'!P1210","v":0},{"$f":"'COG-M'!P1211","v":0},{"$f":"'COG-M'!P1212","v":0},{"$f":"'COG-M'!P1213","v":0},{"$f":"'COG-M'!P1214","v":0},{"$f":"'COG-M'!P1215","v":0},{"$f":"'COG-M'!P1216","v":0},{"$f":"'COG-M'!P1217","v":0},{"$f":"'COG-M'!P1218","v":0},{"$f":"'COG-M'!P1219","v":0},0]
[363,"Servicios de creatividad, preproducción y producción de publicidad, excepto Internet",{"$f":"'COG-M'!P1220","v":0},{"$f":"'COG-M'!P1221","v":0},{"$f":"'COG-M'!P1222","v":0},{"$f":"'COG-M'!P1223","v":0},{"$f":"'COG-M'!P1224","v":0},{"$f":"'COG-M'!P1225","v":0},{"$f":"'COG-M'!P1226","v":0},{"$f":"'COG-M'!P1227","v":0},{"$f":"'COG-M'!P1228","v":0},{"$f":"'COG-M'!P1229","v":0},0]
[364,"Servicios de revelado de  fotografías",{"$f":"'COG-M'!P1230","v":0},{"$f":"'COG-M'!P1231","v":0},{"$f":"'COG-M'!P1232","v":0},{"$f":"'COG-M'!P1233","v":0},{"$f":"'COG-M'!P1234","v":0},{"$f":"'COG-M'!P1235","v":0},{"$f":"'COG-M'!P1236","v":0},{"$f":"'COG-M'!P1237","v":0},{"$f":"'COG-M'!P1238","v":0},{"$f":"'COG-M'!P1239","v":0},0]
[365,"Servicios de la industria fílmica, del sonido y del video",{"$f":"'COG-M'!P1240","v":0},{"$f":"'COG-M'!P1241","v":0},{"$f":"'COG-M'!P1242","v":0},{"$f":"'COG-M'!P1243","v":0},{"$f":"'COG-M'!P1244","v":0},{"$f":"'COG-M'!P1245","v":0},{"$f":"'COG-M'!P1246","v":0},{"$f":"'COG-M'!P1247","v":0},{"$f":"'COG-M'!P1248","v":0},{"$f":"'COG-M'!P1249","v":0},0]
[366,"Servicio de creación y difusión de contenido exclusivamente a través de Internet",{"$f":"'COG-M'!P1250","v":0},{"$f":"'COG-M'!P1251","v":0},{"$f":"'COG-M'!P1252","v":0},{"$f":"'COG-M'!P1253","v":0},{"$f":"'COG-M'!P1254","v":0},{"$f":"'COG-M'!P1255","v":0},{"$f":"'COG-M'!P1256","v":0},{"$f":"'COG-M'!P1257","v":0},{"$f":"'COG-M'!P1258","v":0},{"$f":"'COG-M'!P1259","v":0},0]
[369,"Otros servicios de información",{"$f":"'COG-M'!P1260","v":0},{"$f":"'COG-M'!P1261","v":0},{"$f":"'COG-M'!P1262","v":0},{"$f":"'COG-M'!P1263","v":0},{"$f":"'COG-M'!P1264","v":0},{"$f":"'COG-M'!P1265","v":0},{"$f":"'COG-M'!P1266","v":0},{"$f":"'COG-M'!P1267","v":0},{"$f":"'COG-M'!P1268","v":0},{"$f":"'COG-M'!P1269","v":0},0]
[3700,"SERVICIOS DE TRASLADO Y VIÁTICOS",{"$f":"SUM(C165:C173)","v":0},{"$f":"SUM(D165:D173)","v":0},0,0,0,0,0,0,0,0,{"$f":"SUM(M165:M173)","v":0}]
[371,"Pasajes aéreos",{"$f":"'COG-M'!P1271","v":0},{"$f":"'COG-M'!P1272","v":0},{"$f":"'COG-M'!P1273","v":0},{"$f":"'COG-M'!P1274","v":0},{"$f":"'COG-M'!P1275","v":0},{"$f":"'COG-M'!P1276","v":0},{"$f":"'COG-M'!P1277","v":0},{"$f":"'COG-M'!P1278","v":0},{"$f":"'COG-M'!P1279","v":0},{"$f":"'COG-M'!P1280","v":0},{"$f":"SUM(C165:L165)","v":0}]
[372,"Pasajes terrestres",{"$f":"'COG-M'!P1281","v":0},{"$f":"'COG-M'!P1282","v":0},{"$f":"'COG-M'!P1283","v":0},{"$f":"'COG-M'!P1284","v":0},{"$f":"'COG-M'!P1285","v":0},{"$f":"'COG-M'!P1286","v":0},{"$f":"'COG-M'!P1287","v":0},{"$f":"'COG-M'!P1288","v":0},{"$f":"'COG-M'!P1289","v":0},{"$f":"'COG-M'!P1290","v":0},0]
[373,"Pasajes marítimos, lacustres y fluviales",{"$f":"'COG-M'!P1291","v":0},{"$f":"'COG-M'!P1292","v":0},{"$f":"'COG-M'!P1293","v":0},{"$f":"'COG-M'!P1294","v":0},{"$f":"'COG-M'!P1295","v":0},{"$f":"'COG-M'!P1296","v":0},{"$f":"'COG-M'!P1297","v":0},{"$f":"'COG-M'!P1298","v":0},{"$f":"'COG-M'!P1299","v":0},{"$f":"'COG-M'!P1300","v":0},0]
[374,"Autotransporte",{"$f":"'COG-M'!P1301","v":0},{"$f":"'COG-M'!P1302","v":0},{"$f":"'COG-M'!P1303","v":0},{"$f":"'COG-M'!P1304","v":0},{"$f":"'COG-M'!P1305","v":0},{"$f":"'COG-M'!P1306","v":0},{"$f":"'COG-M'!P1307","v":0},{"$f":"'COG-M'!P1308","v":0},{"$f":"'COG-M'!P1309","v":0},{"$f":"'COG-M'!P1310","v":0},0]
[375,"Viáticos en el país",{"$f":"'COG-M'!P1311","v":0},{"$f":"'COG-M'!P1312","v":0},{"$f":"'COG-M'!P1313","v":0},{"$f":"'COG-M'!P1314","v":0},{"$f":"'COG-M'!P1315","v":0},{"$f":"'COG-M'!P1316","v":0},{"$f":"'COG-M'!P1317","v":0},{"$f":"'COG-M'!P1318","v":0},{"$f":"'COG-M'!P1319","v":0},{"$f":"'COG-M'!P1320","v":0},0]
[376,"Viáticos en el extranjero ",{"$f":"'COG-M'!P1321","v":0},{"$f":"'COG-M'!P1322","v":0},{"$f":"'COG-M'!P1323","v":0},{"$f":"'COG-M'!P1324","v":0},{"$f":"'COG-M'!P1325","v":0},{"$f":"'COG-M'!P1326","v":0},{"$f":"'COG-M'!P1327","v":0},{"$f":"'COG-M'!P1328","v":0},{"$f":"'COG-M'!P1329","v":0},{"$f":"'COG-M'!P1330","v":0},0]
[377,"Gastos de instalación y traslado de menaje",{"$f":"'COG-M'!P1331","v":0},{"$f":"'COG-M'!P1332","v":0},{"$f":"'COG-M'!P1333","v":0},{"$f":"'COG-M'!P1334","v":0},{"$f":"'COG-M'!P1335","v":0},{"$f":"'COG-M'!P1336","v":0},{"$f":"'COG-M'!P1337","v":0},{"$f":"'COG-M'!P1338","v":0},{"$f":"'COG-M'!P1339","v":0},{"$f":"'COG-M'!P1340","v":0},0]
[378,"Servicios integrales de traslado y viáticos",{"$f":"'COG-M'!P1341","v":0},{"$f":"'COG-M'!P1342","v":0},{"$f":"'COG-M'!P1343","v":0},{"$f":"'COG-M'!P1344","v":0},{"$f":"'COG-M'!P1345","v":0},{"$f":"'COG-M'!P1346","v":0},{"$f":"'COG-M'!P1347","v":0},{"$f":"'COG-M'!P1348","v":0},{"$f":"'COG-M'!P1349","v":0},{"$f":"'COG-M'!P1350","v":0},0]
[379,"Otros servicios de traslado y hospedaje",{"$f":"'COG-M'!P1351","v":0},{"$f":"'COG-M'!P1352","v":0},{"$f":"'COG-M'!P1353","v":0},{"$f":"'COG-M'!P1354","v":0},{"$f":"'COG-M'!P1355","v":0},{"$f":"'COG-M'!P1356","v":0},{"$f":"'COG-M'!P1357","v":0},{"$f":"'COG-M'!P1358","v":0},{"$f":"'COG-M'!P1359","v":0},{"$f":"'COG-M'!P1360","v":0},0]
[3800,"SERVICIOS OFICIALES",{"$f":"SUM(C175:C179)","v":0},{"$f":"SUM(D175:D179)","v":0},0,0,0,0,0,0,0,0,0]
[381,"Gastos de ceremonial",{"$f":"'COG-M'!P1362","v":0},{"$f":"'COG-M'!P1363","v":0},{"$f":"'COG-M'!P1364","v":0},{"$f":"'COG-M'!P1365","v":0},{"$f":"'COG-M'!P1366","v":0},{"$f":"'COG-M'!P1367","v":0},{"$f":"'COG-M'!P1368","v":0},{"$f":"'COG-M'!P1369","v":0},{"$f":"'COG-M'!P1370","v":0},{"$f":"'COG-M'!P1371","v":0},{"$f":"SUM(C175:L175)","v":0}]
[382,"Gastos de orden  social y cultural",{"$f":"'COG-M'!P1372","v":0},{"$f":"'COG-M'!P1373","v":0},{"$f":"'COG-M'!P1374","v":0},{"$f":"'COG-M'!P1375","v":0},{"$f":"'COG-M'!P1376","v":0},{"$f":"'COG-M'!P1377","v":0},{"$f":"'COG-M'!P1378","v":0},{"$f":"'COG-M'!P1379","v":0},{"$f":"'COG-M'!P1380","v":0},{"$f":"'COG-M'!P1381","v":0},{"$f":"SUM(C176:L176)","v":0}]
[383,"Congresos y convenciones",{"$f":"'COG-M'!P1382","v":0},{"$f":"'COG-M'!P1383","v":0},{"$f":"'COG-M'!P1384","v":0},{"$f":"'COG-M'!P1385","v":0},{"$f":"'COG-M'!P1386","v":0},{"$f":"'COG-M'!P1387","v":0},{"$f":"'COG-M'!P1388","v":0},{"$f":"'COG-M'!P1389","v":0},{"$f":"'COG-M'!P1390","v":0},{"$f":"'COG-M'!P1391","v":0},{"$f":"SUM(C177:L177)","v":0}]
[384,"Exposiciones",{"$f":"'COG-M'!P1392","v":0},{"$f":"'COG-M'!P1393","v":0},{"$f":"'COG-M'!P1394","v":0},{"$f":"'COG-M'!P1395","v":0},{"$f":"'COG-M'!P1396","v":0},{"$f":"'COG-M'!P1397","v":0},{"$f":"'COG-M'!P1398","v":0},{"$f":"'COG-M'!P1399","v":0},{"$f":"'COG-M'!P1400","v":0},{"$f":"'COG-M'!P1401","v":0},{"$f":"SUM(C178:L178)","v":0}]
[385,"Gastos de representación",{"$f":"'COG-M'!P1402","v":0},{"$f":"'COG-M'!P1403","v":0},{"$f":"'COG-M'!P1404","v":0},{"$f":"'COG-M'!P1405","v":0},{"$f":"'COG-M'!P1406","v":0},{"$f":"'COG-M'!P1407","v":0},{"$f":"'COG-M'!P1408","v":0},{"$f":"'COG-M'!P1409","v":0},{"$f":"'COG-M'!P1410","v":0},{"$f":"'COG-M'!P1411","v":0},{"$f":"SUM(C179:L179)","v":0}]
[3900,"OTROS SERVICIOS GENERALES",{"$f":"SUM(C181:C189)","v":0},{"$f":"SUM(D181:D189)","v":0},0,0,0,0,0,0,0,0,0]
[391,"Servicios funerarios y de cementerios",{"$f":"'COG-M'!P1413","v":0},{"$f":"'COG-M'!P1414","v":0},{"$f":"'COG-M'!P1415","v":0},{"$f":"'COG-M'!P1416","v":0},{"$f":"'COG-M'!P1417","v":0},{"$f":"'COG-M'!P1418","v":0},{"$f":"'COG-M'!P1419","v":0},{"$f":"'COG-M'!P1420","v":0},{"$f":"'COG-M'!P1421","v":0},{"$f":"'COG-M'!P1422","v":0},{"$f":"SUM(C181:L181)","v":0}]
[392,"Impuestos y derechos",{"$f":"'COG-M'!P1423","v":0},{"$f":"'COG-M'!P1424","v":0},{"$f":"'COG-M'!P1425","v":0},{"$f":"'COG-M'!P1426","v":0},{"$f":"'COG-M'!P1427","v":0},{"$f":"'COG-M'!P1428","v":0},{"$f":"'COG-M'!P1429","v":0},{"$f":"'COG-M'!P1430","v":0},{"$f":"'COG-M'!P1431","v":0},{"$f":"'COG-M'!P1432","v":0},0]
[393,"Impuestos y derechos de importación",{"$f":"'COG-M'!P1433","v":0},{"$f":"'COG-M'!P1434","v":0},{"$f":"'COG-M'!P1435","v":0},{"$f":"'COG-M'!P1436","v":0},{"$f":"'COG-M'!P1437","v":0},{"$f":"'COG-M'!P1438","v":0},{"$f":"'COG-M'!P1439","v":0},{"$f":"'COG-M'!P1440","v":0},{"$f":"'COG-M'!P1441","v":0},{"$f":"'COG-M'!P1442","v":0},0]
[394,"Sentencias y resoluciones por autoridad competente",{"$f":"'COG-M'!P1443","v":0},{"$f":"'COG-M'!P1444","v":0},{"$f":"'COG-M'!P1445","v":0},{"$f":"'COG-M'!P1446","v":0},{"$f":"'COG-M'!P1447","v":0},{"$f":"'COG-M'!P1448","v":0},{"$f":"'COG-M'!P1449","v":0},{"$f":"'COG-M'!P1450","v":0},{"$f":"'COG-M'!P1451","v":0},{"$f":"'COG-M'!P1452","v":0},0]
[395,"Penas, multas, accesorios y actualizaciones",{"$f":"'COG-M'!P1453","v":0},{"$f":"'COG-M'!P1454","v":0},{"$f":"'COG-M'!P1455","v":0},{"$f":"'COG-M'!P1456","v":0},{"$f":"'COG-M'!P1457","v":0},{"$f":"'COG-M'!P1458","v":0},{"$f":"'COG-M'!P1459","v":0},{"$f":"'COG-M'!P1460","v":0},{"$f":"'COG-M'!P1461","v":0},{"$f":"'COG-M'!P1462","v":0},0]
[396,"Otros gastos por responsabilidades",{"$f":"'COG-M'!P1463","v":0},{"$f":"'COG-M'!P1464","v":0},{"$f":"'COG-M'!P1465","v":0},{"$f":"'COG-M'!P1466","v":0},{"$f":"'COG-M'!P1467","v":0},{"$f":"'COG-M'!P1468","v":0},{"$f":"'COG-M'!P1469","v":0},{"$f":"'COG-M'!P1470","v":0},{"$f":"'COG-M'!P1471","v":0},{"$f":"'COG-M'!P1472","v":0},0]
[397,"Utilidades",null,null,null,null,null,null,null,null,null,null,0]
[398,"Impuesto sobre nómina y otros que se deriven de una relación laboral",{"$f":"'COG-M'!P1474","v":0},{"$f":"'COG-M'!P1475","v":0},{"$f":"'COG-M'!P1476","v":0},{"$f":"'COG-M'!P1477","v":0},{"$f":"'COG-M'!P1478","v":0},{"$f":"'COG-M'!P1479","v":0},{"$f":"'COG-M'!P1480","v":0},{"$f":"'COG-M'!P1481","v":0},{"$f":"'COG-M'!P1482","v":0},{"$f":"'COG-M'!P1483","v":0},0]
[399,"Otros servicios generales",{"$f":"'COG-M'!P1484","v":0},{"$f":"'COG-M'!P1485","v":0},{"$f":"'COG-M'!P1486","v":0},{"$f":"'COG-M'!P1487","v":0},{"$f":"'COG-M'!P1488","v":0},{"$f":"'COG-M'!P1489","v":0},{"$f":"'COG-M'!P1490","v":0},{"$f":"'COG-M'!P1491","v":0},{"$f":"'COG-M'!P1492","v":0},{"$f":"'COG-M'!P1493","v":0},0]
[4000,"TRANSFERENCIAS, ASIGNACIONES, SUBSIDIOS Y OTRAS  AYUDAS",{"$f":"C191+C201+C207+C217+C226+C230+C238+C240+C246","v":0},{"$f":"D191+D201+D207+D217+D226+D230+D238+D240+D246","v":0},0,0,0,0,0,0,0,0,0]
[4100,"TRANSFERENCIAS INTERNAS Y ASIGNACIONES AL SECTOR PÚBLICO",{"$f":"SUM(C192:C200)","v":0},{"$f":"SUM(D192:D200)","v":0},0,0,0,0,0,0,0,0,0]
[411,"Asignaciones presupuestarias al Poder Ejecutivo",null,null,null,null,null,null,null,null,null,null,{"$f":"SUM(C192:L192)","v":0}]
[412,"Asignaciones presupuestarias al Poder Legislativo",null,null,null,null,null,null,null,null,null,null,0]
[413,"Asignaciones presupuestarias al Poder Judicial",null,null,null,null,null,null,null,null,null,null,0]
[414,"Asignaciones presupuestarias a Órganos Autónomos",null,null,null,null,null,null,null,null,null,null,0]
[415,"Transferencias internas otorgadas a entidades paraestatales no empresariales y no financieras",{"$f":"'COG-M'!P1500","v":0},{"$f":"'COG-M'!P1501","v":0},{"$f":"'COG-M'!P1502","v":0},{"$f":"'COG-M'!P1503","v":0},{"$f":"'COG-M'!P1504","v":0},{"$f":"'COG-M'!P1505","v":0},{"$f":"'COG-M'!P1506","v":0},{"$f":"'COG-M'!P1507","v":0},{"$f":"'COG-M'!P1508","v":0},{"$f":"'COG-M'!P1509","v":0},0]
[416,"Transferencias internas otorgadas a entidades paraestatales empresariales y no financieras",null,null,null,null,null,null,null,null,null,null,0]
[417,"Transferencias internas otorgadas a fideicomisos públicos empresariales y no financieros",{"$f":"'COG-M'!P1511","v":0},{"$f":"'COG-M'!P1512","v":0},{"$f":"'COG-M'!P1513","v":0},{"$f":"'COG-M'!P1514","v":0},{"$f":"'COG-M'!P1515","v":0},{"$f":"'COG-M'!P1516","v":0},{"$f":"'COG-M'!P1517","v":0},{"$f":"'COG-M'!P1518","v":0},{"$f":"'COG-M'!P1519","v":0},{"$f":"'COG-M'!P1520","v":0},0]
[418,"Transferencias internas otorgadas a instituciones paraestatales públicas financieras",null,null,null,null,null,null,null,null,null,null,0]
[419,"Transferencias internas otorgadas a fideicomisos públicos financieros",null,null,null,null,null,null,null,null,null,null,0]
[4200,"TRANSFERENCIAS AL RESTO DEL SECTOR PÚBLICO",{"$f":"SUM(C202:C206)","v":0},{"$f":"SUM(D202:D206)","v":0},0,0,0,0,0,0,0,0,{"$f":"SUM(M202:M206)","v":0}]
[421,"Transferencias otorgadas a entidades paraestatales no empresariales y no financieras",{"$f":"'COG-M'!P1524","v":0},{"$f":"'COG-M'!P1525","v":0},{"$f":"'COG-M'!P1526","v":0},{"$f":"'COG-M'!P1527","v":0},{"$f":"'COG-M'!P1528","v":0},{"$f":"'COG-M'!P1529","v":0},{"$f":"'COG-M'!P1530","v":0},{"$f":"'COG-M'!P1531","v":0},{"$f":"'COG-M'!P1532","v":0},{"$f":"'COG-M'!P1533","v":0},{"$f":"SUM(C202:L202)","v":0}]
[422,"Transferencias otorgadas para entidades paraestatales empresariales y no financieras",null,null,null,null,null,null,null,null,null,null,{"$f":"SUM(C203:L203)","v":0}]
[423,"Transferencias otorgadas para instituciones paraestatales públicas financieras  ",null,null,null,null,null,null,null,null,null,null,{"$f":"SUM(C204:L204)","v":0}]
[424,"Transferencias otorgadas a entidades federativas y municipios",null,null,null,null,null,null,null,null,null,null,{"$f":"SUM(C205:L205)","v":0}]
[425,"Transferencias a fideicomisos de entidades federativas y municipios",null,null,null,null,null,null,null,null,null,null,{"$f":"SUM(C206:L206)","v":0}]
[4300,"SUBSIDIOS Y SUBVENCIONES",{"$f":"SUM(C208:C216)","v":0},{"$f":"SUM(D208:D216)","v":0},0,0,0,0,0,0,0,0,0]
[431,"Subsidios a la producción",{"$f":"'COG-M'!P1539","v":0},{"$f":"'COG-M'!P1540","v":0},{"$f":"'COG-M'!P1541","v":0},{"$f":"'COG-M'!P1542","v":0},{"$f":"'COG-M'!P1543","v":0},{"$f":"'COG-M'!P1544","v":0},{"$f":"'COG-M'!P1545","v":0},{"$f":"'COG-M'!P1546","v":0},{"$f":"'COG-M'!P1547","v":0},{"$f":"'COG-M'!P1548","v":0},{"$f":"SUM(C208:L208)","v":0}]
[432,"Subsidios a la distribución",{"$f":"'COG-M'!P1549","v":0},{"$f":"'COG-M'!P1550","v":0},{"$f":"'COG-M'!P1551","v":0},{"$f":"'COG-M'!P1552","v":0},{"$f":"'COG-M'!P1553","v":0},{"$f":"'COG-M'!P1554","v":0},{"$f":"'COG-M'!P1555","v":0},{"$f":"'COG-M'!P1556","v":0},{"$f":"'COG-M'!P1557","v":0},{"$f":"'COG-M'!P1558","v":0},0]
[433,"Subsidios a la inversión",{"$f":"'COG-M'!P1559","v":0},{"$f":"'COG-M'!P1560","v":0},{"$f":"'COG-M'!P1561","v":0},{"$f":"'COG-M'!P1562","v":0},{"$f":"'COG-M'!P1563","v":0},{"$f":"'COG-M'!P1564","v":0},{"$f":"'COG-M'!P1565","v":0},{"$f":"'COG-M'!P1566","v":0},{"$f":"'COG-M'!P1567","v":0},{"$f":"'COG-M'!P1568","v":0},0]
[434,"Subsidios a la prestación de servicios públicos",{"$f":"'COG-M'!P1569","v":0},{"$f":"'COG-M'!P1570","v":0},{"$f":"'COG-M'!P1571","v":0},{"$f":"'COG-M'!P1572","v":0},{"$f":"'COG-M'!P1573","v":0},{"$f":"'COG-M'!P1574","v":0},{"$f":"'COG-M'!P1575","v":0},{"$f":"'COG-M'!P1576","v":0},{"$f":"'COG-M'!P1577","v":0},{"$f":"'COG-M'!P1578","v":0},0]
[435,"Subsidios para cubrir diferenciales de tasas de interés",{"$f":"'COG-M'!P1579","v":0},{"$f":"'COG-M'!P1580","v":0},{"$f":"'COG-M'!P1581","v":0},{"$f":"'COG-M'!P1582","v":0},{"$f":"'COG-M'!P1583","v":0},{"$f":"'COG-M'!P1584","v":0},{"$f":"'COG-M'!P1585","v":0},{"$f":"'COG-M'!P1586","v":0},{"$f":"'COG-M'!P1587","v":0},{"$f":"'COG-M'!P1588","v":0},0]
[436,"Subsidios a la vivienda ",{"$f":"'COG-M'!P1589","v":0},{"$f":"'COG-M'!P1590","v":0},{"$f":"'COG-M'!P1591","v":0},{"$f":"'COG-M'!P1592","v":0},{"$f":"'COG-M'!P1593","v":0},{"$f":"'COG-M'!P1594","v":0},{"$f":"'COG-M'!P1595","v":0},{"$f":"'COG-M'!P1596","v":0},{"$f":"'COG-M'!P1597","v":0},{"$f":"'COG-M'!P1598","v":0},0]
[437,"Subvenciones al consumo",{"$f":"'COG-M'!P1599","v":0},{"$f":"'COG-M'!P1600","v":0},{"$f":"'COG-M'!P1601","v":0},{"$f":"'COG-M'!P1602","v":0},{"$f":"'COG-M'!P1603","v":0},{"$f":"'COG-M'!P1604","v":0},{"$f":"'COG-M'!P1605","v":0},{"$f":"'COG-M'!P1606","v":0},{"$f":"'COG-M'!P1607","v":0},{"$f":"'COG-M'!P1608","v":0},0]
[438,"Subsidios a entidades federativas y municipios",null,null,null,null,null,null,null,null,null,null,0]
[439,"Otros subsidios",{"$f":"'COG-M'!P1610","v":0},{"$f":"'COG-M'!P1611","v":0},{"$f":"'COG-M'!P1612","v":0},{"$f":"'COG-M'!P1613","v":0},{"$f":"'COG-M'!P1614","v":0},{"$f":"'COG-M'!P1615","v":0},{"$f":"'COG-M'!P1616","v":0},{"$f":"'COG-M'!P1617","v":0},{"$f":"'COG-M'!P1618","v":0},{"$f":"'COG-M'!P1619","v":0},0]
[4400,"AYUDAS SOCIALES",{"$f":"SUM(C218:C225)","v":0},{"$f":"SUM(D218:D225)","v":0},0,0,0,0,0,0,0,0,0]
[441,"Ayudas sociales a personas ",{"$f":"'COG-M'!P1621","v":0},{"$f":"'COG-M'!P1622","v":0},{"$f":"'COG-M'!P1623","v":0},{"$f":"'COG-M'!P1624","v":0},{"$f":"'COG-M'!P1625","v":0},{"$f":"'COG-M'!P1626","v":0},{"$f":"'COG-M'!P1627","v":0},{"$f":"'COG-M'!P1628","v":0},{"$f":"'COG-M'!P1629","v":0},{"$f":"'COG-M'!P1630","v":0},{"$f":"SUM(C218:L218)","v":0}]
[442,"Becas y otras ayudas para programas de capacitación",{"$f":"'COG-M'!P1631","v":0},{"$f":"'COG-M'!P1632","v":0},{"$f":"'COG-M'!P1633","v":0},{"$f":"'COG-M'!P1634","v":0},{"$f":"'COG-M'!P1635","v":0},{"$f":"'COG-M'!P1636","v":0},{"$f":"'COG-M'!P1637","v":0},{"$f":"'COG-M'!P1638","v":0},{"$f":"'COG-M'!P1639","v":0},{"$f":"'COG-M'!P1640","v":0},0]
[443,"Ayudas sociales a instituciones de enseñanza",{"$f":"'COG-M'!P1641","v":0},{"$f":"'COG-M'!P1642","v":0},{"$f":"'COG-M'!P1643","v":0},{"$f":"'COG-M'!P1644","v":0},{"$f":"'COG-M'!P1645","v":0},{"$f":"'COG-M'!P1646","v":0},{"$f":"'COG-M'!P1647","v":0},{"$f":"'COG-M'!P1648","v":0},{"$f":"'COG-M'!P1649","v":0},{"$f":"'COG-M'!P1650","v":0},0]
[444,"Ayudas sociales a actividades científicas o académicas",{"$f":"'COG-M'!P1651","v":0},{"$f":"'COG-M'!P1652","v":0},{"$f":"'COG-M'!P1653","v":0},{"$f":"'COG-M'!P1654","v":0},{"$f":"'COG-M'!P1655","v":0},{"$f":"'COG-M'!P1656","v":0},{"$f":"'COG-M'!P1657","v":0},{"$f":"'COG-M'!P1658","v":0},{"$f":"'COG-M'!P1659","v":0},{"$f":"'COG-M'!P1660","v":0},0]
[445,"Ayudas sociales a instituciones sin fines de lucro",{"$f":"'COG-M'!P1661","v":0},{"$f":"'COG-M'!P1662","v":0},{"$f":"'COG-M'!P1663","v":0},{"$f":"'COG-M'!P1664","v":0},{"$f":"'COG-M'!P1665","v":0},{"$f":"'COG-M'!P1666","v":0},{"$f":"'COG-M'!P1667","v":0},{"$f":"'COG-M'!P1668","v":0},{"$f":"'COG-M'!P1669","v":0},{"$f":"'COG-M'!P1670","v":0},0]
[446,"Ayudas sociales a cooperativas",{"$f":"'COG-M'!P1671","v":0},{"$f":"'COG-M'!P1672","v":0},{"$f":"'COG-M'!P1673","v":0},{"$f":"'COG-M'!P1674","v":0},{"$f":"'COG-M'!P1675","v":0},{"$f":"'COG-M'!P1676","v":0},{"$f":"'COG-M'!P1677","v":0},{"$f":"'COG-M'!P1678","v":0},{"$f":"'COG-M'!P1679","v":0},{"$f":"'COG-M'!P1680","v":0},0]
[447,"Ayudas sociales a entidades de interés público",{"$f":"'COG-M'!P1681","v":0},{"$f":"'COG-M'!P1682","v":0},{"$f":"'COG-M'!P1683","v":0},{"$f":"'COG-M'!P1684","v":0},{"$f":"'COG-M'!P1685","v":0},{"$f":"'COG-M'!P1686","v":0},{"$f":"'COG-M'!P1687","v":0},{"$f":"'COG-M'!P1688","v":0},{"$f":"'COG-M'!P1689","v":0},{"$f":"'COG-M'!P1690","v":0},0]
[448,"Ayudas por desastres naturales y otros siniestros",{"$f":"'COG-M'!P1691","v":0},{"$f":"'COG-M'!P1692","v":0},{"$f":"'COG-M'!P1693","v":0},{"$f":"'COG-M'!P1694","v":0},{"$f":"'COG-M'!P1695","v":0},{"$f":"'COG-M'!P1696","v":0},{"$f":"'COG-M'!P1697","v":0},{"$f":"'COG-M'!P1698","v":0},{"$f":"'COG-M'!P1699","v":0},{"$f":"'COG-M'!P1700","v":0},0]
[4500,"PENSIONES Y JUBILACIONES",{"$f":"SUM(C227:C229)","v":0},{"$f":"SUM(D227:D229)","v":0},0,0,0,0,0,0,0,0,0]
[451,"Pensiones",{"$f":"'COG-M'!P1702","v":0},{"$f":"'COG-M'!P1703","v":0},{"$f":"'COG-M'!P1704","v":0},{"$f":"'COG-M'!P1705","v":0},{"$f":"'COG-M'!P1706","v":0},{"$f":"'COG-M'!P1707","v":0},{"$f":"'COG-M'!P1708","v":0},{"$f":"'COG-M'!P1709","v":0},{"$f":"'COG-M'!P1710","v":0},{"$f":"'COG-M'!P1711","v":0},{"$f":"SUM(C227:L227)","v":0}]
[452,"Jubilaciones",{"$f":"'COG-M'!P1712","v":0},{"$f":"'COG-M'!P1713","v":0},{"$f":"'COG-M'!P1714","v":0},{"$f":"'COG-M'!P1715","v":0},{"$f":"'COG-M'!P1716","v":0},{"$f":"'COG-M'!P1717","v":0},{"$f":"'COG-M'!P1718","v":0},{"$f":"'COG-M'!P1719","v":0},{"$f":"'COG-M'!P1720","v":0},{"$f":"'COG-M'!P1721","v":0},{"$f":"SUM(C228:L228)","v":0}]
[459,"Otras pensiones y jubilaciones",{"$f":"'COG-M'!P1722","v":0},{"$f":"'COG-M'!P1723","v":0},{"$f":"'COG-M'!P1724","v":0},{"$f":"'COG-M'!P1725","v":0},{"$f":"'COG-M'!P1726","v":0},{"$f":"'COG-M'!P1727","v":0},{"$f":"'COG-M'!P1728","v":0},{"$f":"'COG-M'!P1729","v":0},{"$f":"'COG-M'!P1730","v":0},{"$f":"'COG-M'!P1731","v":0},{"$f":"SUM(C229:L229)","v":0}]
[4600,"TRANSFERENCIAS A FIDEICOMISOS, MANDATOS Y OTROS ANÁLOGOS",{"$f":"SUM(C231:C237)","v":0},{"$f":"SUM(D231:D237)","v":0},0,0,0,0,0,0,0,0,0]
[461,"Transferencias a fideicomisos del Poder Ejecutivo",{"$f":"'COG-M'!P1733","v":0},{"$f":"'COG-M'!P1734","v":0},{"$f":"'COG-M'!P1735","v":0},{"$f":"'COG-M'!P1736","v":0},{"$f":"'COG-M'!P1737","v":0},{"$f":"'COG-M'!P1738","v":0},{"$f":"'COG-M'!P1739","v":0},{"$f":"'COG-M'!P1740","v":0},{"$f":"'COG-M'!P1741","v":0},{"$f":"'COG-M'!P1742","v":0},{"$f":"SUM(C231:L231)","v":0}]
[462,"Transferencias a fideicomisos del Poder Legislativo",null,null,null,null,null,null,null,null,null,null,0]
[463,"Transferencias a fideicomisos del Poder Judicial",null,null,null,null,null,null,null,null,null,null,0]
[464,"Trasferencias a fideicomisos públicos de entidades paraestatales no empresariales y no financieras",{"$f":"'COG-M'!P1745","v":0},{"$f":"'COG-M'!P1746","v":0},{"$f":"'COG-M'!P1747","v":0},{"$f":"'COG-M'!P1748","v":0},{"$f":"'COG-M'!P1749","v":0},{"$f":"'COG-M'!P1750","v":0},{"$f":"'COG-M'!P1751","v":0},{"$f":"'COG-M'!P1752","v":0},{"$f":"'COG-M'!P1753","v":0},{"$f":"'COG-M'!P1754","v":0},0]
[465,"Transferencias a fideicomisos públicos de entidades paraestatales empresariales y no financieras",null,null,null,null,null,null,null,null,null,null,0]
[466,"Transferencias a fideicomisos de instituciones públicas financieras",null,null,null,null,null,null,null,null,null,null,0]
[469,"Otras transferencias a fideicomisos   ",{"$f":"'COG-M'!P1757","v":0},{"$f":"'COG-M'!P1758","v":0},{"$f":"'COG-M'!P1759","v":0},{"$f":"'COG-M'!P1760","v":0},{"$f":"'COG-M'!P1761","v":0},{"$f":"'COG-M'!P1762","v":0},{"$f":"'COG-M'!P1763","v":0},{"$f":"'COG-M'!P1764","v":0},{"$f":"'COG-M'!P1765","v":0},{"$f":"'COG-M'!P1766","v":0},0]
[4700,"TRANSFERENCIAS A LA SEGURIDAD SOCIAL",{"$f":"SUM(C239)","v":0},{"$f":"SUM(D239)","v":0},0,0,0,0,0,0,0,0,0]
[471,"Transferencias por obligación de ley",{"$f":"'COG-M'!P1768","v":0},{"$f":"'COG-M'!P1769","v":0},{"$f":"'COG-M'!P1770","v":0},{"$f":"'COG-M'!P1771","v":0},{"$f":"'COG-M'!P1772","v":0},{"$f":"'COG-M'!P1773","v":0},{"$f":"'COG-M'!P1774","v":0},{"$f":"'COG-M'!P1775","v":0},{"$f":"'COG-M'!P1776","v":0},{"$f":"'COG-M'!P1777","v":0},{"$f":"SUM(C239:L239)","v":0}]
[4800,"DONATIVOS",{"$f":"SUM(C241:C245)","v":0},{"$f":"SUM(D241:D245)","v":0},0,0,0,0,0,0,0,0,0]
[481,"Donativos a instituciones sin fines de lucro",{"$f":"'COG-M'!P1779","v":0},{"$f":"'COG-M'!P1780","v":0},{"$f":"'COG-M'!P1781","v":0},{"$f":"'COG-M'!P1782","v":0},{"$f":"'COG-M'!P1783","v":0},{"$f":"'COG-M'!P1784","v":0},{"$f":"'COG-M'!P1785","v":0},{"$f":"'COG-M'!P1786","v":0},{"$f":"'COG-M'!P1787","v":0},{"$f":"'COG-M'!P1788","v":0},{"$f":"SUM(C241:L241)","v":0}]
[482,"Donativos a entidades federativas ",{"$f":"'COG-M'!P1789","v":0},{"$f":"'COG-M'!P1790","v":0},{"$f":"'COG-M'!P1791","v":0},{"$f":"'COG-M'!P1792","v":0},{"$f":"'COG-M'!P1793","v":0},{"$f":"'COG-M'!P1794","v":0},{"$f":"'COG-M'!P1795","v":0},{"$f":"'COG-M'!P1796","v":0},{"$f":"'COG-M'!P1797","v":0},{"$f":"'COG-M'!P1798","v":0},{"$f":"SUM(C242:L242)","v":0}]
[483,"Donativos a fideicomisos privados",{"$f":"'COG-M'!P1799","v":0},{"$f":"'COG-M'!P1800","v":0},{"$f":"'COG-M'!P1801","v":0},{"$f":"'COG-M'!P1802","v":0},{"$f":"'COG-M'!P1803","v":0},{"$f":"'COG-M'!P1804","v":0},{"$f":"'COG-M'!P1805","v":0},{"$f":"'COG-M'!P1806","v":0},{"$f":"'COG-M'!P1807","v":0},{"$f":"'COG-M'!P1808","v":0},{"$f":"SUM(C243:L243)","v":0}]
[484,"Donativos a fideicomisos estatales",{"$f":"'COG-M'!P1809","v":0},{"$f":"'COG-M'!P1810","v":0},{"$f":"'COG-M'!P1811","v":0},{"$f":"'COG-M'!P1812","v":0},{"$f":"'COG-M'!P1813","v":0},{"$f":"'COG-M'!P1814","v":0},{"$f":"'COG-M'!P1815","v":0},{"$f":"'COG-M'!P1816","v":0},{"$f":"'COG-M'!P1817","v":0},{"$f":"'COG-M'!P1818","v":0},{"$f":"SUM(C244:L244)","v":0}]
[485,"Donativos internacionales",{"$f":"'COG-M'!P1819","v":0},{"$f":"'COG-M'!P1820","v":0},{"$f":"'COG-M'!P1821","v":0},{"$f":"'COG-M'!P1822","v":0},{"$f":"'COG-M'!P1823","v":0},{"$f":"'COG-M'!P1824","v":0},{"$f":"'COG-M'!P1825","v":0},{"$f":"'COG-M'!P1826","v":0},{"$f":"'COG-M'!P1827","v":0},{"$f":"'COG-M'!P1828","v":0},{"$f":"SUM(C245:L245)","v":0}]
[4900,"TRANSFERENCIAS AL EXTERIOR",{"$f":"SUM(C247:C249)","v":0},{"$f":"SUM(D247:D249)","v":0},0,0,0,0,0,0,0,0,0]
[491,"Transferencias para gobiernos extranjeros",{"$f":"'COG-M'!P1830","v":0},{"$f":"'COG-M'!P1831","v":0},{"$f":"'COG-M'!P1832","v":0},{"$f":"'COG-M'!P1833","v":0},{"$f":"'COG-M'!P1834","v":0},{"$f":"'COG-M'!P1835","v":0},{"$f":"'COG-M'!P1836","v":0},{"$f":"'COG-M'!P1837","v":0},{"$f":"'COG-M'!P1838","v":0},{"$f":"'COG-M'!P1839","v":0},{"$f":"SUM(C247:L247)","v":0}]
[492,"Transferencias para organismos internacionales",{"$f":"'COG-M'!P1840","v":0},{"$f":"'COG-M'!P1841","v":0},{"$f":"'COG-M'!P1842","v":0},{"$f":"'COG-M'!P1843","v":0},{"$f":"'COG-M'!P1844","v":0},{"$f":"'COG-M'!P1845","v":0},{"$f":"'COG-M'!P1846","v":0},{"$f":"'COG-M'!P1847","v":0},{"$f":"'COG-M'!P1848","v":0},{"$f":"'COG-M'!P1849","v":0},{"$f":"SUM(C248:L248)","v":0}]
[493,"Transferencias para el sector privado externo",{"$f":"'COG-M'!P1850","v":0},{"$f":"'COG-M'!P1851","v":0},{"$f":"'COG-M'!P1852","v":0},{"$f":"'COG-M'!P1853","v":0},{"$f":"'COG-M'!P1854","v":0},{"$f":"'COG-M'!P1855","v":0},{"$f":"'COG-M'!P1856","v":0},{"$f":"'COG-M'!P1857","v":0},{"$f":"'COG-M'!P1858","v":0},{"$f":"'COG-M'!P1859","v":0},{"$f":"SUM(C249:L249)","v":0}]
[5000,"BIENES MUEBLES, INMUEBLES E INTANGIBLES ",{"$f":"C251+C258+C263+C266+C273+C275+C284+C294+C299","v":0},{"$f":"D251+D258+D263+D266+D273+D275+D284+D294+D299","v":0},0,0,0,0,0,0,0,0,0]
[5100,"MOBILIARIO Y EQUIPO DE ADMINISTRACIÓN",{"$f":"SUM(C252:C257)","v":0},{"$f":"SUM(D252:D257)","v":0},0,0,0,0,0,0,0,0,0]
[511,"Muebles de oficina y estantería ",{"$f":"'COG-M'!P1862","v":0},{"$f":"'COG-M'!P1863","v":0},{"$f":"'COG-M'!P1864","v":0},{"$f":"'COG-M'!P1865","v":0},{"$f":"'COG-M'!P1866","v":0},{"$f":"'COG-M'!P1867","v":0},{"$f":"'COG-M'!P1868","v":0},{"$f":"'COG-M'!P1869","v":0},{"$f":"'COG-M'!P1870","v":0},{"$f":"'COG-M'!P1871","v":0},{"$f":"SUM(C252:L252)","v":0}]
[512,"Muebles, excepto de oficina y estantería",{"$f":"'COG-M'!P1872","v":0},{"$f":"'COG-M'!P1873","v":0},{"$f":"'COG-M'!P1874","v":0},{"$f":"'COG-M'!P1875","v":0},{"$f":"'COG-M'!P1876","v":0},{"$f":"'COG-M'!P1877","v":0},{"$f":"'COG-M'!P1878","v":0},{"$f":"'COG-M'!P1879","v":0},{"$f":"'COG-M'!P1880","v":0},{"$f":"'COG-M'!P1881","v":0},0]
[513,"Bienes artísticos, culturales y científicos",{"$f":"'COG-M'!P1882","v":0},{"$f":"'COG-M'!P1883","v":0},{"$f":"'COG-M'!P1884","v":0},{"$f":"'COG-M'!P1885","v":0},{"$f":"'COG-M'!P1886","v":0},{"$f":"'COG-M'!P1887","v":0},{"$f":"'COG-M'!P1888","v":0},{"$f":"'COG-M'!P1889","v":0},{"$f":"'COG-M'!P1890","v":0},{"$f":"'COG-M'!P1891","v":0},0]
[514,"Objetos de valor",{"$f":"'COG-M'!P1892","v":0},{"$f":"'COG-M'!P1893","v":0},{"$f":"'COG-M'!P1894","v":0},{"$f":"'COG-M'!P1895","v":0},{"$f":"'COG-M'!P1896","v":0},{"$f":"'COG-M'!P1897","v":0},{"$f":"'COG-M'!P1898","v":0},{"$f":"'COG-M'!P1899","v":0},{"$f":"'COG-M'!P1900","v":0},{"$f":"'COG-M'!P1901","v":0},0]
[515,"Equipo de cómputo de tecnologías de la información",{"$f":"'COG-M'!P1902","v":0},{"$f":"'COG-M'!P1903","v":0},{"$f":"'COG-M'!P1904","v":0},{"$f":"'COG-M'!P1905","v":0},{"$f":"'COG-M'!P1906","v":0},{"$f":"'COG-M'!P1907","v":0},{"$f":"'COG-M'!P1908","v":0},{"$f":"'COG-M'!P1909","v":0},{"$f":"'COG-M'!P1910","v":0},{"$f":"'COG-M'!P1911","v":0},0]
[519,"Otros mobiliarios y equipos de administración",{"$f":"'COG-M'!P1912","v":0},{"$f":"'COG-M'!P1913","v":0},{"$f":"'COG-M'!P1914","v":0},{"$f":"'COG-M'!P1915","v":0},{"$f":"'COG-M'!P1916","v":0},{"$f":"'COG-M'!P1917","v":0},{"$f":"'COG-M'!P1918","v":0},{"$f":"'COG-M'!P1919","v":0},{"$f":"'COG-M'!P1920","v":0},{"$f":"'COG-M'!P1921","v":0},0]
[5200,"MOBILIARIO Y EQUIPO EDUCACIONAL Y RECREATIVO",{"$f":"SUM(C259:C262)","v":0},{"$f":"SUM(D259:D262)","v":0},0,0,0,0,0,0,0,0,0]
[521,"Equipos y aparatos audiovisuales",{"$f":"'COG-M'!P1923","v":0},{"$f":"'COG-M'!P1924","v":0},{"$f":"'COG-M'!P1925","v":0},{"$f":"'COG-M'!P1926","v":0},{"$f":"'COG-M'!P1927","v":0},{"$f":"'COG-M'!P1928","v":0},{"$f":"'COG-M'!P1929","v":0},{"$f":"'COG-M'!P1930","v":0},{"$f":"'COG-M'!P1931","v":0},{"$f":"'COG-M'!P1932","v":0},{"$f":"SUM(C259:L259)","v":0}]
[522,"Aparatos deportivos",{"$f":"'COG-M'!P1933","v":0},{"$f":"'COG-M'!P1934","v":0},{"$f":"'COG-M'!P1935","v":0},{"$f":"'COG-M'!P1936","v":0},{"$f":"'COG-M'!P1937","v":0},{"$f":"'COG-M'!P1938","v":0},{"$f":"'COG-M'!P1939","v":0},{"$f":"'COG-M'!P1940","v":0},{"$f":"'COG-M'!P1941","v":0},{"$f":"'COG-M'!P1942","v":0},{"$f":"SUM(C260:L260)","v":0}]
[523,"Cámaras fotográficas y de video",{"$f":"'COG-M'!P1943","v":0},{"$f":"'COG-M'!P1944","v":0},{"$f":"'COG-M'!P1945","v":0},{"$f":"'COG-M'!P1946","v":0},{"$f":"'COG-M'!P1947","v":0},{"$f":"'COG-M'!P1948","v":0},{"$f":"'COG-M'!P1949","v":0},{"$f":"'COG-M'!P1950","v":0},{"$f":"'COG-M'!P1951","v":0},{"$f":"'COG-M'!P1952","v":0},{"$f":"SUM(C261:L261)","v":0}]
[529,"Otro mobiliario y equipo educacional y recreativo ",{"$f":"'COG-M'!P1953","v":0},{"$f":"'COG-M'!P1954","v":0},{"$f":"'COG-M'!P1955","v":0},{"$f":"'COG-M'!P1956","v":0},{"$f":"'COG-M'!P1957","v":0},{"$f":"'COG-M'!P1958","v":0},{"$f":"'COG-M'!P1959","v":0},{"$f":"'COG-M'!P1960","v":0},{"$f":"'COG-M'!P1961","v":0},{"$f":"'COG-M'!P1962","v":0},{"$f":"SUM(C262:L262)","v":0}]
[5300,"EQUIPO E INSTRUMENTAL MÉDICO Y DE LABORATORIO",{"$f":"SUM(C264:C265)","v":0},{"$f":"SUM(D264:D265)","v":0},0,0,0,0,0,0,0,0,0]
[531,"Equipo médico y de laboratorio",{"$f":"'COG-M'!P1964","v":0},{"$f":"'COG-M'!P1965","v":0},{"$f":"'COG-M'!P1966","v":0},{"$f":"'COG-M'!P1967","v":0},{"$f":"'COG-M'!P1968","v":0},{"$f":"'COG-M'!P1969","v":0},{"$f":"'COG-M'!P1970","v":0},{"$f":"'COG-M'!P1971","v":0},{"$f":"'COG-M'!P1972","v":0},{"$f":"'COG-M'!P1973","v":0},{"$f":"SUM(C264:L264)","v":0}]
[532,"Instrumental médico y de laboratorio",{"$f":"'COG-M'!P1974","v":0},{"$f":"'COG-M'!P1975","v":0},{"$f":"'COG-M'!P1976","v":0},{"$f":"'COG-M'!P1977","v":0},{"$f":"'COG-M'!P1978","v":0},{"$f":"'COG-M'!P1979","v":0},{"$f":"'COG-M'!P1980","v":0},{"$f":"'COG-M'!P1981","v":0},{"$f":"'COG-M'!P1982","v":0},{"$f":"'COG-M'!P1983","v":0},{"$f":"SUM(C265:L265)","v":0}]
[5400,"VEHÍCULOS Y EQUIPO DE TRANSPORTE",{"$f":"SUM(C267:C272)","v":0},{"$f":"SUM(D267:D272)","v":0},0,0,0,0,0,0,0,0,0]
[541,"Vehículos y equipo terrestre",{"$f":"'COG-M'!P1985","v":0},{"$f":"'COG-M'!P1986","v":0},{"$f":"'COG-M'!P1987","v":0},{"$f":"'COG-M'!P1988","v":0},{"$f":"'COG-M'!P1989","v":0},{"$f":"'COG-M'!P1990","v":0},{"$f":"'COG-M'!P1991","v":0},{"$f":"'COG-M'!P1992","v":0},{"$f":"'COG-M'!P1993","v":0},{"$f":"'COG-M'!P1994","v":0},{"$f":"SUM(C267:L267)","v":0}]
[542,"Carrocerías  y remolques",{"$f":"'COG-M'!P1995","v":0},{"$f":"'COG-M'!P1996","v":0},{"$f":"'COG-M'!P1997","v":0},{"$f":"'COG-M'!P1998","v":0},{"$f":"'COG-M'!P1999","v":0},{"$f":"'COG-M'!P2000","v":0},{"$f":"'COG-M'!P2001","v":0},{"$f":"'COG-M'!P2002","v":0},{"$f":"'COG-M'!P2003","v":0},{"$f":"'COG-M'!P2004","v":0},0]
[543,"Equipo aeroespacial",{"$f":"'COG-M'!P2005","v":0},{"$f":"'COG-M'!P2006","v":0},{"$f":"'COG-M'!P2007","v":0},{"$f":"'COG-M'!P2008","v":0},{"$f":"'COG-M'!P2009","v":0},{"$f":"'COG-M'!P2010","v":0},{"$f":"'COG-M'!P2011","v":0},{"$f":"'COG-M'!P2012","v":0},{"$f":"'COG-M'!P2013","v":0},{"$f":"'COG-M'!P2014","v":0},0]
[544,"Equipo ferroviario",{"$f":"'COG-M'!P2015","v":0},{"$f":"'COG-M'!P2016","v":0},{"$f":"'COG-M'!P2017","v":0},{"$f":"'COG-M'!P2018","v":0},{"$f":"'COG-M'!P2019","v":0},{"$f":"'COG-M'!P2020","v":0},{"$f":"'COG-M'!P2021","v":0},{"$f":"'COG-M'!P2022","v":0},{"$f":"'COG-M'!P2023","v":0},{"$f":"'COG-M'!P2024","v":0},0]
[545,"Embarcaciones",{"$f":"'COG-M'!P2025","v":0},{"$f":"'COG-M'!P2026","v":0},{"$f":"'COG-M'!P2027","v":0},{"$f":"'COG-M'!P2028","v":0},{"$f":"'COG-M'!P2029","v":0},{"$f":"'COG-M'!P2030","v":0},{"$f":"'COG-M'!P2031","v":0},{"$f":"'COG-M'!P2032","v":0},{"$f":"'COG-M'!P2033","v":0},{"$f":"'COG-M'!P2034","v":0},0]
[549,"Otros equipo de transporte",{"$f":"'COG-M'!P2035","v":0},{"$f":"'COG-M'!P2036","v":0},{"$f":"'COG-M'!P2037","v":0},{"$f":"'COG-M'!P2038","v":0},{"$f":"'COG-M'!P2039","v":0},{"$f":"'COG-M'!P2040","v":0},{"$f":"'COG-M'!P2041","v":0},{"$f":"'COG-M'!P2042","v":0},{"$f":"'COG-M'!P2043","v":0},{"$f":"'COG-M'!P2044","v":0},0]
[5500,"EQUIPO DE DEFENSA Y SEGURIDAD",{"$f":"SUM(C274)","v":0},{"$f":"SUM(D274)","v":0},0,0,0,0,0,0,0,0,0]
[551,"Equipo de defensa y seguridad",{"$f":"'COG-M'!P2046","v":0},{"$f":"'COG-M'!P2047","v":0},{"$f":"'COG-M'!P2048","v":0},{"$f":"'COG-M'!P2049","v":0},{"$f":"'COG-M'!P2050","v":0},{"$f":"'COG-M'!P2051","v":0},{"$f":"'COG-M'!P2052","v":0},{"$f":"'COG-M'!P2053","v":0},{"$f":"'COG-M'!P2054","v":0},{"$f":"'COG-M'!P2055","v":0},{"$f":"SUM(C274:L274)","v":0}]
[5600,"MAQUINARIA, OTROS EQUIPOS Y HERRAMIENTAS",{"$f":"SUM(C276:C283)","v":0},{"$f":"SUM(D276:D283)","v":0},0,0,0,0,0,0,0,0,0]
[561,"Maquinaria y equipo agropecuario",{"$f":"'COG-M'!P2057","v":0},{"$f":"'COG-M'!P2058","v":0},{"$f":"'COG-M'!P2059","v":0},{"$f":"'COG-M'!P2060","v":0},{"$f":"'COG-M'!P2061","v":0},{"$f":"'COG-M'!P2062","v":0},{"$f":"'COG-M'!P2063","v":0},{"$f":"'COG-M'!P2064","v":0},{"$f":"'COG-M'!P2065","v":0},{"$f":"'COG-M'!P2066","v":0},{"$f":"SUM(C276:L276)","v":0}]
[562,"Maquinaria y equipo industrial",{"$f":"'COG-M'!P2067","v":0},{"$f":"'COG-M'!P2068","v":0},{"$f":"'COG-M'!P2069","v":0},{"$f":"'COG-M'!P2070","v":0},{"$f":"'COG-M'!P2071","v":0},{"$f":"'COG-M'!P2072","v":0},{"$f":"'COG-M'!P2073","v":0},{"$f":"'COG-M'!P2074","v":0},{"$f":"'COG-M'!P2075","v":0},{"$f":"'COG-M'!P2076","v":0},0]
[563,"Maquinaria y equipo de construcción",{"$f":"'COG-M'!P2077","v":0},{"$f":"'COG-M'!P2078","v":0},{"$f":"'COG-M'!P2079","v":0},{"$f":"'COG-M'!P2080","v":0},{"$f":"'COG-M'!P2081","v":0},{"$f":"'COG-M'!P2082","v":0},{"$f":"'COG-M'!P2083","v":0},{"$f":"'COG-M'!P2084","v":0},{"$f":"'COG-M'!P2085","v":0},{"$f":"'COG-M'!P2086","v":0},0]
[564,"Sistemas de aire acondicionado, calefacción y de refrigeración industrial y comercial",{"$f":"'COG-M'!P2087","v":0},{"$f":"'COG-M'!P2088","v":0},{"$f":"'COG-M'!P2089","v":0},{"$f":"'COG-M'!P2090","v":0},{"$f":"'COG-M'!P2091","v":0},{"$f":"'COG-M'!P2092","v":0},{"$f":"'COG-M'!P2093","v":0},{"$f":"'COG-M'!P2094","v":0},{"$f":"'COG-M'!P2095","v":0},{"$f":"'COG-M'!P2096","v":0},0]
[565,"Equipo de comunicación y telecomunicación",{"$f":"'COG-M'!P2097","v":0},{"$f":"'COG-M'!P2098","v":0},{"$f":"'COG-M'!P2099","v":0},{"$f":"'COG-M'!P2100","v":0},{"$f":"'COG-M'!P2101","v":0},{"$f":"'COG-M'!P2102","v":0},{"$f":"'COG-M'!P2103","v":0},{"$f":"'COG-M'!P2104","v":0},{"$f":"'COG-M'!P2105","v":0},{"$f":"'COG-M'!P2106","v":0},0]
[566,"Equipo de generación eléctrica, aparatos y accesorios eléctricos",{"$f":"'COG-M'!P2107","v":0},{"$f":"'COG-M'!P2108","v":0},{"$f":"'COG-M'!P2109","v":0},{"$f":"'COG-M'!P2110","v":0},{"$f":"'COG-M'!P2111","v":0},{"$f":"'COG-M'!P2112","v":0},{"$f":"'COG-M'!P2113","v":0},{"$f":"'COG-M'!P2114","v":0},{"$f":"'COG-M'!P2115","v":0},{"$f":"'COG-M'!P2116","v":0},0]
[567,"Herramientas y máquinas-herramienta",{"$f":"'COG-M'!P2117","v":0},{"$f":"'COG-M'!P2118","v":0},{"$f":"'COG-M'!P2119","v":0},{"$f":"'COG-M'!P2120","v":0},{"$f":"'COG-M'!P2121","v":0},{"$f":"'COG-M'!P2122","v":0},{"$f":"'COG-M'!P2123","v":0},{"$f":"'COG-M'!P2124","v":0},{"$f":"'COG-M'!P2125","v":0},{"$f":"'COG-M'!P2126","v":0},0]
[569,"Otros equipos",{"$f":"'COG-M'!P2127","v":0},{"$f":"'COG-M'!P2128","v":0},{"$f":"'COG-M'!P2129","v":0},{"$f":"'COG-M'!P2130","v":0},{"$f":"'COG-M'!P2131","v":0},{"$f":"'COG-M'!P2132","v":0},{"$f":"'COG-M'!P2133","v":0},{"$f":"'COG-M'!P2134","v":0},{"$f":"'COG-M'!P2135","v":0},{"$f":"'COG-M'!P2136","v":0},0]
[5700,"ACTIVOS BIOLÓGICOS",{"$f":"SUM(C285:C293)","v":0},{"$f":"SUM(D285:D293)","v":0},0,0,0,0,0,0,0,0,0]
[571,"Bovinos",{"$f":"'COG-M'!P2138","v":0},{"$f":"'COG-M'!P2139","v":0},{"$f":"'COG-M'!P2140","v":0},{"$f":"'COG-M'!P2141","v":0},{"$f":"'COG-M'!P2142","v":0},{"$f":"'COG-M'!P2143","v":0},{"$f":"'COG-M'!P2144","v":0},{"$f":"'COG-M'!P2145","v":0},{"$f":"'COG-M'!P2146","v":0},{"$f":"'COG-M'!P2147","v":0},{"$f":"SUM(C285:L285)","v":0}]
[572,"Porcinos",{"$f":"'COG-M'!P2148","v":0},{"$f":"'COG-M'!P2149","v":0},{"$f":"'COG-M'!P2150","v":0},{"$f":"'COG-M'!P2151","v":0},{"$f":"'COG-M'!P2152","v":0},{"$f":"'COG-M'!P2153","v":0},{"$f":"'COG-M'!P2154","v":0},{"$f":"'COG-M'!P2155","v":0},{"$f":"'COG-M'!P2156","v":0},{"$f":"'COG-M'!P2157","v":0},0]
[573,"Aves",{"$f":"'COG-M'!P2158","v":0},{"$f":"'COG-M'!P2159","v":0},{"$f":"'COG-M'!P2160","v":0},{"$f":"'COG-M'!P2161","v":0},{"$f":"'COG-M'!P2162","v":0},{"$f":"'COG-M'!P2163","v":0},{"$f":"'COG-M'!P2164","v":0},{"$f":"'COG-M'!P2165","v":0},{"$f":"'COG-M'!P2166","v":0},{"$f":"'COG-M'!P2167","v":0},0]
[574,"Ovinos y caprinos ",{"$f":"'COG-M'!P2168","v":0},{"$f":"'COG-M'!P2169","v":0},{"$f":"'COG-M'!P2170","v":0},{"$f":"'COG-M'!P2171","v":0},{"$f":"'COG-M'!P2172","v":0},{"$f":"'COG-M'!P2173","v":0},{"$f":"'COG-M'!P2174","v":0},{"$f":"'COG-M'!P2175","v":0},{"$f":"'COG-M'!P2176","v":0},{"$f":"'COG-M'!P2177","v":0},0]
[575,"Peces y acuicultura",{"$f":"'COG-M'!P2178","v":0},{"$f":"'COG-M'!P2179","v":0},{"$f":"'COG-M'!P2180","v":0},{"$f":"'COG-M'!P2181","v":0},{"$f":"'COG-M'!P2182","v":0},{"$f":"'COG-M'!P2183","v":0},{"$f":"'COG-M'!P2184","v":0},{"$f":"'COG-M'!P2185","v":0},{"$f":"'COG-M'!P2186","v":0},{"$f":"'COG-M'!P2187","v":0},0]
[576,"Equinos",{"$f":"'COG-M'!P2188","v":0},{"$f":"'COG-M'!P2189","v":0},{"$f":"'COG-M'!P2190","v":0},{"$f":"'COG-M'!P2191","v":0},{"$f":"'COG-M'!P2192","v":0},{"$f":"'COG-M'!P2193","v":0},{"$f":"'COG-M'!P2194","v":0},{"$f":"'COG-M'!P2195","v":0},{"$f":"'COG-M'!P2196","v":0},{"$f":"'COG-M'!P2197","v":0},0]
[577,"Especies menores y de zoológico",{"$f":"'COG-M'!P2198","v":0},{"$f":"'COG-M'!P2199","v":0},{"$f":"'COG-M'!P2200","v":0},{"$f":"'COG-M'!P2201","v":0},{"$f":"'COG-M'!P2202","v":0},{"$f":"'COG-M'!P2203","v":0},{"$f":"'COG-M'!P2204","v":0},{"$f":"'COG-M'!P2205","v":0},{"$f":"'COG-M'!P2206","v":0},{"$f":"'COG-M'!P2207","v":0},0]
[578,"Árboles y plantas",{"$f":"'COG-M'!P2208","v":0},{"$f":"'COG-M'!P2209","v":0},{"$f":"'COG-M'!P2210","v":0},{"$f":"'COG-M'!P2211","v":0},{"$f":"'COG-M'!P2212","v":0},{"$f":"'COG-M'!P2213","v":0},{"$f":"'COG-M'!P2214","v":0},{"$f":"'COG-M'!P2215","v":0},{"$f":"'COG-M'!P2216","v":0},{"$f":"'COG-M'!P2217","v":0},0]
[579,"Otros activos biológicos",{"$f":"'COG-M'!P2218","v":0},{"$f":"'COG-M'!P2219","v":0},{"$f":"'COG-M'!P2220","v":0},{"$f":"'COG-M'!P2221","v":0},{"$f":"'COG-M'!P2222","v":0},{"$f":"'COG-M'!P2223","v":0},{"$f":"'COG-M'!P2224","v":0},{"$f":"'COG-M'!P2225","v":0},{"$f":"'COG-M'!P2226","v":0},{"$f":"'COG-M'!P2227","v":0},0]
[5800,"BIENES INMUEBLES",{"$f":"SUM(C295:C298)","v":0},{"$f":"SUM(D295:D298)","v":0},0,0,0,0,0,0,0,0,0]
[581,"Terrenos",{"$f":"'COG-M'!P2229","v":0},{"$f":"'COG-M'!P2230","v":0},{"$f":"'COG-M'!P2231","v":0},{"$f":"'COG-M'!P2232","v":0},{"$f":"'COG-M'!P2233","v":0},{"$f":"'COG-M'!P2234","v":0},{"$f":"'COG-M'!P2235","v":0},{"$f":"'COG-M'!P2236","v":0},{"$f":"'COG-M'!P2237","v":0},{"$f":"'COG-M'!P2238","v":0},{"$f":"SUM(C295:L295)","v":0}]
[582,"Viviendas ",{"$f":"'COG-M'!P2239","v":0},{"$f":"'COG-M'!P2240","v":0},{"$f":"'COG-M'!P2241","v":0},{"$f":"'COG-M'!P2242","v":0},{"$f":"'COG-M'!P2243","v":0},{"$f":"'COG-M'!P2244","v":0},{"$f":"'COG-M'!P2245","v":0},{"$f":"'COG-M'!P2246","v":0},{"$f":"'COG-M'!P2247","v":0},{"$f":"'COG-M'!P2248","v":0},{"$f":"SUM(C296:L296)","v":0}]
[583,"Edificios no residenciales",{"$f":"'COG-M'!P2249","v":0},{"$f":"'COG-M'!P2250","v":0},{"$f":"'COG-M'!P2251","v":0},{"$f":"'COG-M'!P2252","v":0},{"$f":"'COG-M'!P2253","v":0},{"$f":"'COG-M'!P2254","v":0},{"$f":"'COG-M'!P2255","v":0},{"$f":"'COG-M'!P2256","v":0},{"$f":"'COG-M'!P2257","v":0},{"$f":"'COG-M'!P2258","v":0},{"$f":"SUM(C297:L297)","v":0}]
[589,"Otros bienes inmuebles",{"$f":"'COG-M'!P2259","v":0},{"$f":"'COG-M'!P2260","v":0},{"$f":"'COG-M'!P2261","v":0},{"$f":"'COG-M'!P2262","v":0},{"$f":"'COG-M'!P2263","v":0},{"$f":"'COG-M'!P2264","v":0},{"$f":"'COG-M'!P2265","v":0},{"$f":"'COG-M'!P2266","v":0},{"$f":"'COG-M'!P2267","v":0},{"$f":"'COG-M'!P2268","v":0},{"$f":"SUM(C298:L298)","v":0}]
[5900,"ACTIVOS INTANGIBLES",{"$f":"SUM(C300:C308)","v":0},{"$f":"SUM(D300:D308)","v":0},0,0,0,0,0,0,0,0,0]
[591,"Software",{"$f":"'COG-M'!P2270","v":0},{"$f":"'COG-M'!P2271","v":0},{"$f":"'COG-M'!P2272","v":0},{"$f":"'COG-M'!P2273","v":0},{"$f":"'COG-M'!P2274","v":0},{"$f":"'COG-M'!P2275","v":0},{"$f":"'COG-M'!P2276","v":0},{"$f":"'COG-M'!P2277","v":0},{"$f":"'COG-M'!P2278","v":0},{"$f":"'COG-M'!P2279","v":0},{"$f":"SUM(C300:L300)","v":0}]
[592,"Patentes",{"$f":"'COG-M'!P2280","v":0},{"$f":"'COG-M'!P2281","v":0},{"$f":"'COG-M'!P2282","v":0},{"$f":"'COG-M'!P2283","v":0},{"$f":"'COG-M'!P2284","v":0},{"$f":"'COG-M'!P2285","v":0},{"$f":"'COG-M'!P2286","v":0},{"$f":"'COG-M'!P2287","v":0},{"$f":"'COG-M'!P2288","v":0},{"$f":"'COG-M'!P2289","v":0},0]
[593,"Marcas",{"$f":"'COG-M'!P2290","v":0},{"$f":"'COG-M'!P2291","v":0},{"$f":"'COG-M'!P2292","v":0},{"$f":"'COG-M'!P2293","v":0},{"$f":"'COG-M'!P2294","v":0},{"$f":"'COG-M'!P2295","v":0},{"$f":"'COG-M'!P2296","v":0},{"$f":"'COG-M'!P2297","v":0},{"$f":"'COG-M'!P2298","v":0},{"$f":"'COG-M'!P2299","v":0},0]
[594,"Derechos",{"$f":"'COG-M'!P2300","v":0},{"$f":"'COG-M'!P2301","v":0},{"$f":"'COG-M'!P2302","v":0},{"$f":"'COG-M'!P2303","v":0},{"$f":"'COG-M'!P2304","v":0},{"$f":"'COG-M'!P2305","v":0},{"$f":"'COG-M'!P2306","v":0},{"$f":"'COG-M'!P2307","v":0},{"$f":"'COG-M'!P2308","v":0},{"$f":"'COG-M'!P2309","v":0},0]
[595,"Concesiones",{"$f":"'COG-M'!P2310","v":0},{"$f":"'COG-M'!P2311","v":0},{"$f":"'COG-M'!P2312","v":0},{"$f":"'COG-M'!P2313","v":0},{"$f":"'COG-M'!P2314","v":0},{"$f":"'COG-M'!P2315","v":0},{"$f":"'COG-M'!P2316","v":0},{"$f":"'COG-M'!P2317","v":0},{"$f":"'COG-M'!P2318","v":0},{"$f":"'COG-M'!P2319","v":0},0]
[596,"Franquicias",{"$f":"'COG-M'!P2320","v":0},{"$f":"'COG-M'!P2321","v":0},{"$f":"'COG-M'!P2322","v":0},{"$f":"'COG-M'!P2323","v":0},{"$f":"'COG-M'!P2324","v":0},{"$f":"'COG-M'!P2325","v":0},{"$f":"'COG-M'!P2326","v":0},{"$f":"'COG-M'!P2327","v":0},{"$f":"'COG-M'!P2328","v":0},{"$f":"'COG-M'!P2329","v":0},0]
[597,"Licencias informáticas e intelectuales",{"$f":"'COG-M'!P2330","v":0},{"$f":"'COG-M'!P2331","v":0},{"$f":"'COG-M'!P2332","v":0},{"$f":"'COG-M'!P2333","v":0},{"$f":"'COG-M'!P2334","v":0},{"$f":"'COG-M'!P2335","v":0},{"$f":"'COG-M'!P2336","v":0},{"$f":"'COG-M'!P2337","v":0},{"$f":"'COG-M'!P2338","v":0},{"$f":"'COG-M'!P2339","v":0},0]
[598,"Licencias industriales, comerciales y otras",{"$f":"'COG-M'!P2340","v":0},{"$f":"'COG-M'!P2341","v":0},{"$f":"'COG-M'!P2342","v":0},{"$f":"'COG-M'!P2343","v":0},{"$f":"'COG-M'!P2344","v":0},{"$f":"'COG-M'!P2345","v":0},{"$f":"'COG-M'!P2346","v":0},{"$f":"'COG-M'!P2347","v":0},{"$f":"'COG-M'!P2348","v":0},{"$f":"'COG-M'!P2349","v":0},0]
[599,"Otros activos intangibles",{"$f":"'COG-M'!P2350","v":0},{"$f":"'COG-M'!P2351","v":0},{"$f":"'COG-M'!P2352","v":0},{"$f":"'COG-M'!P2353","v":0},{"$f":"'COG-M'!P2354","v":0},{"$f":"'COG-M'!P2355","v":0},{"$f":"'COG-M'!P2356","v":0},{"$f":"'COG-M'!P2357","v":0},{"$f":"'COG-M'!P2358","v":0},{"$f":"'COG-M'!P2359","v":0},0]
[6000,"INVERSIÓN PÚBLICA",{"$f":"C310+C319+C328","v":0},{"$f":"D310+D319+D328","v":0},0,0,0,0,0,0,0,0,0]
[6100,"OBRA PÚBLICA EN BIENES DE DOMINIO PÚBLICO",{"$f":"SUM(C311:C318)","v":0},{"$f":"SUM(D311:D318)","v":0},0,0,0,0,0,0,0,0,0]
[611,"Edificación habitacional",{"$f":"'COG-M'!P2362","v":0},{"$f":"'COG-M'!P2363","v":0},{"$f":"'COG-M'!P2364","v":0},{"$f":"'COG-M'!P2365","v":0},{"$f":"'COG-M'!P2366","v":0},{"$f":"'COG-M'!P2367","v":0},{"$f":"'COG-M'!P2368","v":0},{"$f":"'COG-M'!P2369","v":0},{"$f":"'COG-M'!P2370","v":0},{"$f":"'COG-M'!P2371","v":0},{"$f":"SUM(C311:L311)","v":0}]
[612,"Edificación no  habitacional",{"$f":"'COG-M'!P2372","v":0},{"$f":"'COG-M'!P2373","v":0},{"$f":"'COG-M'!P2374","v":0},{"$f":"'COG-M'!P2375","v":0},{"$f":"'COG-M'!P2376","v":0},{"$f":"'COG-M'!P2377","v":0},{"$f":"'COG-M'!P2378","v":0},{"$f":"'COG-M'!P2379","v":0},{"$f":"'COG-M'!P2380","v":0},{"$f":"'COG-M'!P2381","v":0},0]
[613,"Construcción de obras para el abastecimiento de agua, petróleo, gas, electricidad y telecomunicaciones",{"$f":"'COG-M'!P2382","v":0},{"$f":"'COG-M'!P2383","v":0},{"$f":"'COG-M'!P2384","v":0},{"$f":"'COG-M'!P2385","v":0},{"$f":"'COG-M'!P2386","v":0},{"$f":"'COG-M'!P2387","v":0},{"$f":"'COG-M'!P2388","v":0},{"$f":"'COG-M'!P2389","v":0},{"$f":"'COG-M'!P2390","v":0},{"$f":"'COG-M'!P2391","v":0},0]
[614,"División de terrenos y construcción de obras de urbanización",{"$f":"'COG-M'!P2392","v":0},{"$f":"'COG-M'!P2393","v":0},{"$f":"'COG-M'!P2394","v":0},{"$f":"'COG-M'!P2395","v":0},{"$f":"'COG-M'!P2396","v":0},{"$f":"'COG-M'!P2397","v":0},{"$f":"'COG-M'!P2398","v":0},{"$f":"'COG-M'!P2399","v":0},{"$f":"'COG-M'!P2400","v":0},{"$f":"'COG-M'!P2401","v":0},0]
[615,"Construcción de vías de comunicación",{"$f":"'COG-M'!P2402","v":0},{"$f":"'COG-M'!P2403","v":0},{"$f":"'COG-M'!P2404","v":0},{"$f":"'COG-M'!P2405","v":0},{"$f":"'COG-M'!P2406","v":0},{"$f":"'COG-M'!P2407","v":0},{"$f":"'COG-M'!P2408","v":0},{"$f":"'COG-M'!P2409","v":0},{"$f":"'COG-M'!P2410","v":0},{"$f":"'COG-M'!P2411","v":0},0]
[616,"Otras construcciones de ingeniería civil u obra pesada",{"$f":"'COG-M'!P2412","v":0},{"$f":"'COG-M'!P2413","v":0},{"$f":"'COG-M'!P2414","v":0},{"$f":"'COG-M'!P2415","v":0},{"$f":"'COG-M'!P2416","v":0},{"$f":"'COG-M'!P2417","v":0},{"$f":"'COG-M'!P2418","v":0},{"$f":"'COG-M'!P2419","v":0},{"$f":"'COG-M'!P2420","v":0},{"$f":"'COG-M'!P2421","v":0},0]
[617,"Instalaciones y equipamiento en construcciones",{"$f":"'COG-M'!P2422","v":0},{"$f":"'COG-M'!P2423","v":0},{"$f":"'COG-M'!P2424","v":0},{"$f":"'COG-M'!P2425","v":0},{"$f":"'COG-M'!P2426","v":0},{"$f":"'COG-M'!P2427","v":0},{"$f":"'COG-M'!P2428","v":0},{"$f":"'COG-M'!P2429","v":0},{"$f":"'COG-M'!P2430","v":0},{"$f":"'COG-M'!P2431","v":0},0]
[619,"Trabajo de acabados en edificaciones y otros trabajos especializados",{"$f":"'COG-M'!P2432","v":0},{"$f":"'COG-M'!P2433","v":0},{"$f":"'COG-M'!P2434","v":0},{"$f":"'COG-M'!P2435","v":0},{"$f":"'COG-M'!P2436","v":0},{"$f":"'COG-M'!P2437","v":0},{"$f":"'COG-M'!P2438","v":0},{"$f":"'COG-M'!P2439","v":0},{"$f":"'COG-M'!P2440","v":0},{"$f":"'COG-M'!P2441","v":0},0]
[6200,"OBRA PÚBLICA EN BIENES PROPIOS",{"$f":"SUM(C320:C327)","v":0},{"$f":"SUM(D320:D327)","v":0},0,0,0,0,0,0,0,0,0]
[621,"Edificación habitacional",{"$f":"'COG-M'!P2443","v":0},{"$f":"'COG-M'!P2444","v":0},{"$f":"'COG-M'!P2445","v":0},{"$f":"'COG-M'!P2446","v":0},{"$f":"'COG-M'!P2447","v":0},{"$f":"'COG-M'!P2448","v":0},{"$f":"'COG-M'!P2449","v":0},{"$f":"'COG-M'!P2450","v":0},{"$f":"'COG-M'!P2451","v":0},{"$f":"'COG-M'!P2452","v":0},{"$f":"SUM(C320:L320)","v":0}]
[622,"Edificación no habitacional",{"$f":"'COG-M'!P2453","v":0},{"$f":"'COG-M'!P2454","v":0},{"$f":"'COG-M'!P2455","v":0},{"$f":"'COG-M'!P2456","v":0},{"$f":"'COG-M'!P2457","v":0},{"$f":"'COG-M'!P2458","v":0},{"$f":"'COG-M'!P2459","v":0},{"$f":"'COG-M'!P2460","v":0},{"$f":"'COG-M'!P2461","v":0},{"$f":"'COG-M'!P2462","v":0},0]
[623,"Construcción de obras para  el abastecimiento de agua,  petróleo, gas, electricidad y telecomunicaciones",{"$f":"'COG-M'!P2463","v":0},{"$f":"'COG-M'!P2464","v":0},{"$f":"'COG-M'!P2465","v":0},{"$f":"'COG-M'!P2466","v":0},{"$f":"'COG-M'!P2467","v":0},{"$f":"'COG-M'!P2468","v":0},{"$f":"'COG-M'!P2469","v":0},{"$f":"'COG-M'!P2470","v":0},{"$f":"'COG-M'!P2471","v":0},{"$f":"'COG-M'!P2472","v":0},0]
[624,"División de terrenos y construcción de obras de urbanización",{"$f":"'COG-M'!P2473","v":0},{"$f":"'COG-M'!P2474","v":0},{"$f":"'COG-M'!P2475","v":0},{"$f":"'COG-M'!P2476","v":0},{"$f":"'COG-M'!P2477","v":0},{"$f":"'COG-M'!P2478","v":0},{"$f":"'COG-M'!P2479","v":0},{"$f":"'COG-M'!P2480","v":0},{"$f":"'COG-M'!P2481","v":0},{"$f":"'COG-M'!P2482","v":0},0]
[625,"Construcción de vías de comunicación",{"$f":"'COG-M'!P2483","v":0},{"$f":"'COG-M'!P2484","v":0},{"$f":"'COG-M'!P2485","v":0},{"$f":"'COG-M'!P2486","v":0},{"$f":"'COG-M'!P2487","v":0},{"$f":"'COG-M'!P2488","v":0},{"$f":"'COG-M'!P2489","v":0},{"$f":"'COG-M'!P2490","v":0},{"$f":"'COG-M'!P2491","v":0},{"$f":"'COG-M'!P2492","v":0},0]
[626,"Otras construcciones de ingeniería civil u obra pesada",{"$f":"'COG-M'!P2493","v":0},{"$f":"'COG-M'!P2494","v":0},{"$f":"'COG-M'!P2495","v":0},{"$f":"'COG-M'!P2496","v":0},{"$f":"'COG-M'!P2497","v":0},{"$f":"'COG-M'!P2498","v":0},{"$f":"'COG-M'!P2499","v":0},{"$f":"'COG-M'!P2500","v":0},{"$f":"'COG-M'!P2501","v":0},{"$f":"'COG-M'!P2502","v":0},0]
[627,"Instalaciones y equipamiento en construcciones",{"$f":"'COG-M'!P2503","v":0},{"$f":"'COG-M'!P2504","v":0},{"$f":"'COG-M'!P2505","v":0},{"$f":"'COG-M'!P2506","v":0},{"$f":"'COG-M'!P2507","v":0},{"$f":"'COG-M'!P2508","v":0},{"$f":"'COG-M'!P2509","v":0},{"$f":"'COG-M'!P2510","v":0},{"$f":"'COG-M'!P2511","v":0},{"$f":"'COG-M'!P2512","v":0},0]
[629,"Trabajos de acabados en edificaciones y otros trabajos especializados",{"$f":"'COG-M'!P2513","v":0},{"$f":"'COG-M'!P2514","v":0},{"$f":"'COG-M'!P2515","v":0},{"$f":"'COG-M'!P2516","v":0},{"$f":"'COG-M'!P2517","v":0},{"$f":"'COG-M'!P2518","v":0},{"$f":"'COG-M'!P2519","v":0},{"$f":"'COG-M'!P2520","v":0},{"$f":"'COG-M'!P2521","v":0},{"$f":"'COG-M'!P2522","v":0},0]
[6300,"PROYECTOS PRODUCTIVOS Y ACCIONES DE FOMENTO",{"$f":"SUM(C329:C330)","v":0},{"$f":"SUM(D329:D330)","v":0},0,0,0,0,0,0,0,0,0]
[631,"Estudios, formulación y evaluación de proyectos productivos no incluidos en conceptos anteriores de este capítulo",{"$f":"'COG-M'!P2524","v":0},{"$f":"'COG-M'!P2525","v":0},{"$f":"'COG-M'!P2526","v":0},{"$f":"'COG-M'!P2527","v":0},{"$f":"'COG-M'!P2528","v":0},{"$f":"'COG-M'!P2529","v":0},{"$f":"'COG-M'!P2530","v":0},{"$f":"'COG-M'!P2531","v":0},{"$f":"'COG-M'!P2532","v":0},{"$f":"'COG-M'!P2533","v":0},{"$f":"SUM(C329:L329)","v":0}]
[632,"Ejecución de proyectos productivos no incluidos en conceptos anteriores de este capítulo",{"$f":"'COG-M'!P2534","v":0},{"$f":"'COG-M'!P2535","v":0},{"$f":"'COG-M'!P2536","v":0},{"$f":"'COG-M'!P2537","v":0},{"$f":"'COG-M'!P2538","v":0},{"$f":"'COG-M'!P2539","v":0},{"$f":"'COG-M'!P2540","v":0},{"$f":"'COG-M'!P2541","v":0},{"$f":"'COG-M'!P2542","v":0},{"$f":"'COG-M'!P2543","v":0},{"$f":"SUM(C330:L330)","v":0}]
[7000,"INVERSIONES FINANCIERAS Y OTRAS PROVISIONES",{"$f":"C332+C335+C345+C352+C362+C372+C375","v":0},{"$f":"D332+D335+D345+D352+D362+D372+D375","v":0},0,0,0,0,0,0,0,0,0]
[7100,"INVERSIONES PARA EL FOMENTO DE ACTIVIDADES PRODUCTIVAS",{"$f":"SUM(C333:C334)","v":0},{"$f":"SUM(D333:D334)","v":0},0,0,0,0,0,0,0,0,0]
[711,"Créditos otorgados por entidades federativas y municipios al sector social y privado para el fomento de actividades productivas",{"$f":"'COG-M'!P2546","v":0},{"$f":"'COG-M'!P2547","v":0},{"$f":"'COG-M'!P2548","v":0},{"$f":"'COG-M'!P2549","v":0},{"$f":"'COG-M'!P2550","v":0},{"$f":"'COG-M'!P2551","v":0},{"$f":"'COG-M'!P2552","v":0},{"$f":"'COG-M'!P2553","v":0},{"$f":"'COG-M'!P2554","v":0},{"$f":"'COG-M'!P2555","v":0},{"$f":"SUM(C333:L333)","v":0}]
[712,"Créditos otorgados por las entidades federativas a municipios para el fomento de actividades productivas",null,null,null,null,null,null,null,null,null,null,{"$f":"SUM(C334:L334)","v":0}]
[7200,"ACCIONES Y PARTICIPACIONES DE CAPITAL",{"$f":"SUM(C336:C344)","v":0},{"$f":"SUM(D336:D344)","v":0},0,0,0,0,0,0,0,0,0]
[721,"Acciones y participaciones de capital en entidades paraestatales no empresariales y no financieras con fines de política económica",{"$f":"'COG-M'!P2558","v":0},{"$f":"'COG-M'!P2559","v":0},{"$f":"'COG-M'!P2560","v":0},{"$f":"'COG-M'!P2561","v":0},{"$f":"'COG-M'!P2562","v":0},{"$f":"'COG-M'!P2563","v":0},{"$f":"'COG-M'!P2564","v":0},{"$f":"'COG-M'!P2565","v":0},{"$f":"'COG-M'!P2566","v":0},{"$f":"'COG-M'!P2567","v":0},{"$f":"SUM(C336:L336)","v":0}]
[722,"Acciones y participaciones de capital en entidades paraestatales empresariales y no financieras con fines de política económica",null,null,null,null,null,null,null,null,null,null,0]
[723,"Acciones  y participaciones de capital en instituciones paraestatales públicas financieras con fines de política económica",null,null,null,null,null,null,null,null,null,null,0]
[724,"Acciones y participaciones  de capital en el sector privado con fines de política económica",{"$f":"'COG-M'!P2570","v":0},{"$f":"'COG-M'!P2571","v":0},{"$f":"'COG-M'!P2572","v":0},{"$f":"'COG-M'!P2573","v":0},{"$f":"'COG-M'!P2574","v":0},{"$f":"'COG-M'!P2575","v":0},{"$f":"'COG-M'!P2576","v":0},{"$f":"'COG-M'!P2577","v":0},{"$f":"'COG-M'!P2578","v":0},{"$f":"'COG-M'!P2579","v":0},0]
[725,"Acciones y participaciones de capital en organismos internacionales con fines de política económica",{"$f":"'COG-M'!P2580","v":0},{"$f":"'COG-M'!P2581","v":0},{"$f":"'COG-M'!P2582","v":0},{"$f":"'COG-M'!P2583","v":0},{"$f":"'COG-M'!P2584","v":0},{"$f":"'COG-M'!P2585","v":0},{"$f":"'COG-M'!P2586","v":0},{"$f":"'COG-M'!P2587","v":0},{"$f":"'COG-M'!P2588","v":0},{"$f":"'COG-M'!P2589","v":0},0]
[726,"Acciones y participaciones de capital en el sector externo con fines de política económica",{"$f":"'COG-M'!P2590","v":0},{"$f":"'COG-M'!P2591","v":0},{"$f":"'COG-M'!P2592","v":0},{"$f":"'COG-M'!P2593","v":0},{"$f":"'COG-M'!P2594","v":0},{"$f":"'COG-M'!P2595","v":0},{"$f":"'COG-M'!P2596","v":0},{"$f":"'COG-M'!P2597","v":0},{"$f":"'COG-M'!P2598","v":0},{"$f":"'COG-M'!P2599","v":0},0]
[727,"Acciones y participaciones de capital en el sector público con fines de gestión de la liquidez",{"$f":"'COG-M'!P2600","v":0},{"$f":"'COG-M'!P2601","v":0},{"$f":"'COG-M'!P2602","v":0},{"$f":"'COG-M'!P2603","v":0},{"$f":"'COG-M'!P2604","v":0},{"$f":"'COG-M'!P2605","v":0},{"$f":"'COG-M'!P2606","v":0},{"$f":"'COG-M'!P2607","v":0},{"$f":"'COG-M'!P2608","v":0},{"$f":"'COG-M'!P2609","v":0},0]
[728,"Acciones y participaciones de capital  en el sector privado con fines de gestión de liquidez",{"$f":"'COG-M'!P2610","v":0},{"$f":"'COG-M'!P2611","v":0},{"$f":"'COG-M'!P2612","v":0},{"$f":"'COG-M'!P2613","v":0},{"$f":"'COG-M'!P2614","v":0},{"$f":"'COG-M'!P2615","v":0},{"$f":"'COG-M'!P2616","v":0},{"$f":"'COG-M'!P2617","v":0},{"$f":"'COG-M'!P2618","v":0},{"$f":"'COG-M'!P2619","v":0},0]
[729,"Acciones y participaciones de capital en el sector externo con fines de gestión  de liquidez",{"$f":"'COG-M'!P2620","v":0},{"$f":"'COG-M'!P2621","v":0},{"$f":"'COG-M'!P2622","v":0},{"$f":"'COG-M'!P2623","v":0},{"$f":"'COG-M'!P2624","v":0},{"$f":"'COG-M'!P2625","v":0},{"$f":"'COG-M'!P2626","v":0},{"$f":"'COG-M'!P2627","v":0},{"$f":"'COG-M'!P2628","v":0},{"$f":"'COG-M'!P2629","v":0},0]
[7300,"COMPRA DE TÍTULOS Y VALORES",{"$f":"SUM(C346:C351)","v":0},{"$f":"SUM(D346:D351)","v":0},0,0,0,0,0,0,0,0,0]
[731,"Bonos",{"$f":"'COG-M'!P2631","v":0},{"$f":"'COG-M'!P2632","v":0},{"$f":"'COG-M'!P2633","v":0},{"$f":"'COG-M'!P2634","v":0},{"$f":"'COG-M'!P2635","v":0},{"$f":"'COG-M'!P2636","v":0},{"$f":"'COG-M'!P2637","v":0},{"$f":"'COG-M'!P2638","v":0},{"$f":"'COG-M'!P2639","v":0},{"$f":"'COG-M'!P2640","v":0},{"$f":"SUM(C346:L346)","v":0}]
[732,"Valores representativos de deuda adquiridos con fines de política económica",{"$f":"'COG-M'!P2641","v":0},{"$f":"'COG-M'!P2642","v":0},{"$f":"'COG-M'!P2643","v":0},{"$f":"'COG-M'!P2644","v":0},{"$f":"'COG-M'!P2645","v":0},{"$f":"'COG-M'!P2646","v":0},{"$f":"'COG-M'!P2647","v":0},{"$f":"'COG-M'!P2648","v":0},{"$f":"'COG-M'!P2649","v":0},{"$f":"'COG-M'!P2650","v":0},0]
[733,"Valores representativos de deuda  adquiridos con fines de gestión de liquidez",{"$f":"'COG-M'!P2651","v":0},{"$f":"'COG-M'!P2652","v":0},{"$f":"'COG-M'!P2653","v":0},{"$f":"'COG-M'!P2654","v":0},{"$f":"'COG-M'!P2655","v":0},{"$f":"'COG-M'!P2656","v":0},{"$f":"'COG-M'!P2657","v":0},{"$f":"'COG-M'!P2658","v":0},{"$f":"'COG-M'!P2659","v":0},{"$f":"'COG-M'!P2660","v":0},0]
[734,"Obligaciones negociables adquiridas con fines de política económica",{"$f":"'COG-M'!P2661","v":0},{"$f":"'COG-M'!P2662","v":0},{"$f":"'COG-M'!P2663","v":0},{"$f":"'COG-M'!P2664","v":0},{"$f":"'COG-M'!P2665","v":0},{"$f":"'COG-M'!P2666","v":0},{"$f":"'COG-M'!P2667","v":0},{"$f":"'COG-M'!P2668","v":0},{"$f":"'COG-M'!P2669","v":0},{"$f":"'COG-M'!P2670","v":0},0]
[735,"Obligaciones negociables adquiridas con fines de gestión de liquidez",{"$f":"'COG-M'!P2671","v":0},{"$f":"'COG-M'!P2672","v":0},{"$f":"'COG-M'!P2673","v":0},{"$f":"'COG-M'!P2674","v":0},{"$f":"'COG-M'!P2675","v":0},{"$f":"'COG-M'!P2676","v":0},{"$f":"'COG-M'!P2677","v":0},{"$f":"'COG-M'!P2678","v":0},{"$f":"'COG-M'!P2679","v":0},{"$f":"'COG-M'!P2680","v":0},0]
[739,"Otros valores",{"$f":"'COG-M'!P2681","v":0},{"$f":"'COG-M'!P2682","v":0},{"$f":"'COG-M'!P2683","v":0},{"$f":"'COG-M'!P2684","v":0},{"$f":"'COG-M'!P2685","v":0},{"$f":"'COG-M'!P2686","v":0},{"$f":"'COG-M'!P2687","v":0},{"$f":"'COG-M'!P2688","v":0},{"$f":"'COG-M'!P2689","v":0},{"$f":"'COG-M'!P2690","v":0},0]
[7400,"CONCESIÓN DE PRÉSTAMOS",{"$f":"SUM(C353:C361)","v":0},{"$f":"SUM(D353:D361)","v":0},0,0,0,0,0,0,0,0,0]
[741,"Concesión de préstamos a entidades paraestatales no empresariales y no financieras con fines de política económica",{"$f":"'COG-M'!P2692","v":0},{"$f":"'COG-M'!P2693","v":0},{"$f":"'COG-M'!P2694","v":0},{"$f":"'COG-M'!P2695","v":0},{"$f":"'COG-M'!P2696","v":0},{"$f":"'COG-M'!P2697","v":0},{"$f":"'COG-M'!P2698","v":0},{"$f":"'COG-M'!P2699","v":0},{"$f":"'COG-M'!P2700","v":0},{"$f":"'COG-M'!P2701","v":0},{"$f":"SUM(C353:L353)","v":0}]
[742,"Concesión de préstamos a entidades paraestatales empresariales y no financieras con fines de política económica",null,null,null,null,null,null,null,null,null,null,0]
[743,"Concesión de préstamos a instituciones paraestatales públicas financieras con fines de política económica",null,null,null,null,null,null,null,null,null,null,0]
[744,"Concesión de préstamos a entidades federativas  y municipios con fines de política económica",null,null,null,null,null,null,null,null,null,null,0]
[745,"Concesión de préstamos al sector privado con fines de política económica",{"$f":"'COG-M'!P2705","v":0},{"$f":"'COG-M'!P2706","v":0},{"$f":"'COG-M'!P2707","v":0},{"$f":"'COG-M'!P2708","v":0},{"$f":"'COG-M'!P2709","v":0},{"$f":"'COG-M'!P2710","v":0},{"$f":"'COG-M'!P2711","v":0},{"$f":"'COG-M'!P2712","v":0},{"$f":"'COG-M'!P2713","v":0},{"$f":"'COG-M'!P2714","v":0},0]
[746,"Concesión de préstamos al sector externo con fines de política económica",{"$f":"'COG-M'!P2715","v":0},{"$f":"'COG-M'!P2716","v":0},{"$f":"'COG-M'!P2717","v":0},{"$f":"'COG-M'!P2718","v":0},{"$f":"'COG-M'!P2719","v":0},{"$f":"'COG-M'!P2720","v":0},{"$f":"'COG-M'!P2721","v":0},{"$f":"'COG-M'!P2722","v":0},{"$f":"'COG-M'!P2723","v":0},{"$f":"'COG-M'!P2724","v":0},0]
[747,"Concesión de préstamos al sector público con fines de gestión de liquidez",{"$f":"'COG-M'!P2725","v":0},{"$f":"'COG-M'!P2726","v":0},{"$f":"'COG-M'!P2727","v":0},{"$f":"'COG-M'!P2728","v":0},{"$f":"'COG-M'!P2729","v":0},{"$f":"'COG-M'!P2730","v":0},{"$f":"'COG-M'!P2731","v":0},{"$f":"'COG-M'!P2732","v":0},{"$f":"'COG-M'!P2733","v":0},{"$f":"'COG-M'!P2734","v":0},0]
[748,"Concesión de préstamos al sector privado con fines de gestión de liquidez",{"$f":"'COG-M'!P2735","v":0},{"$f":"'COG-M'!P2736","v":0},{"$f":"'COG-M'!P2737","v":0},{"$f":"'COG-M'!P2738","v":0},{"$f":"'COG-M'!P2739","v":0},{"$f":"'COG-M'!P2740","v":0},{"$f":"'COG-M'!P2741","v":0},{"$f":"'COG-M'!P2742","v":0},{"$f":"'COG-M'!P2743","v":0},{"$f":"'COG-M'!P2744","v":0},0]
[749,"Concesión de  préstamos al sector externo con fines de gestión de liquidez",{"$f":"'COG-M'!P2745","v":0},{"$f":"'COG-M'!P2746","v":0},{"$f":"'COG-M'!P2747","v":0},{"$f":"'COG-M'!P2748","v":0},{"$f":"'COG-M'!P2749","v":0},{"$f":"'COG-M'!P2750","v":0},{"$f":"'COG-M'!P2751","v":0},{"$f":"'COG-M'!P2752","v":0},{"$f":"'COG-M'!P2753","v":0},{"$f":"'COG-M'!P2754","v":0},0]
[7500,"INVERSIONES EN FIDEICOMISOS, MANDATOS Y OTROS  ANÁLOGOS",{"$f":"SUM(C363:C371)","v":0},{"$f":"SUM(D363:D371)","v":0},0,0,0,0,0,0,0,0,0]
[751,"Inversiones en fideicomisos del Poder Ejecutivo",{"$f":"'COG-M'!P2756","v":0},{"$f":"'COG-M'!P2757","v":0},{"$f":"'COG-M'!P2758","v":0},{"$f":"'COG-M'!P2759","v":0},{"$f":"'COG-M'!P2760","v":0},{"$f":"'COG-M'!P2761","v":0},{"$f":"'COG-M'!P2762","v":0},{"$f":"'COG-M'!P2763","v":0},{"$f":"'COG-M'!P2764","v":0},{"$f":"'COG-M'!P2765","v":0},{"$f":"SUM(C363:L363)","v":0}]
[752,"Inversiones en fideicomisos del Poder Legislativo",null,null,null,null,null,null,null,null,null,null,0]
[753,"Inversiones en fideicomisos del Poder Judicial",null,null,null,null,null,null,null,null,null,null,0]
[754,"Inversiones en fideicomisos públicos no empresariales y no financieros",{"$f":"'COG-M'!P2768","v":0},{"$f":"'COG-M'!P2769","v":0},{"$f":"'COG-M'!P2770","v":0},{"$f":"'COG-M'!P2771","v":0},{"$f":"'COG-M'!P2772","v":0},{"$f":"'COG-M'!P2773","v":0},{"$f":"'COG-M'!P2774","v":0},{"$f":"'COG-M'!P2775","v":0},{"$f":"'COG-M'!P2776","v":0},{"$f":"'COG-M'!P2777","v":0},0]
[755,"Inversiones en fideicomisos públicos empresariales y no financieros",null,null,null,null,null,null,null,null,null,null,0]
[756,"Inversiones en fideicomisos públicos financieros ",null,null,null,null,null,null,null,null,null,null,0]
[757,"Inversiones en fideicomisos de entidades federativas",{"$f":"'COG-M'!P2780","v":0},{"$f":"'COG-M'!P2781","v":0},{"$f":"'COG-M'!P2782","v":0},{"$f":"'COG-M'!P2783","v":0},{"$f":"'COG-M'!P2784","v":0},{"$f":"'COG-M'!P2785","v":0},{"$f":"'COG-M'!P2786","v":0},{"$f":"'COG-M'!P2787","v":0},{"$f":"'COG-M'!P2788","v":0},{"$f":"'COG-M'!P2789","v":0},0]
[758,"Inversiones en fideicomisos de municipios",null,null,null,null,null,null,null,null,null,null,0]
[759,"Otras inversiones en fideicomisos",{"$f":"'COG-M'!P2791","v":0},{"$f":"'COG-M'!P2792","v":0},{"$f":"'COG-M'!P2793","v":0},{"$f":"'COG-M'!P2794","v":0},{"$f":"'COG-M'!P2795","v":0},{"$f":"'COG-M'!P2796","v":0},{"$f":"'COG-M'!P2797","v":0},{"$f":"'COG-M'!P2798","v":0},{"$f":"'COG-M'!P2799","v":0},{"$f":"'COG-M'!P2800","v":0},0]
[7600,"OTRAS INVERSIONES FINANCIERAS",{"$f":"SUM(C373:C374)","v":0},{"$f":"SUM(D373:D374)","v":0},0,0,0,0,0,0,0,0,0]
[761,"Depósitos a largo plazo en moneda nacional",{"$f":"'COG-M'!P2802","v":0},{"$f":"'COG-M'!P2803","v":0},{"$f":"'COG-M'!P2804","v":0},{"$f":"'COG-M'!P2805","v":0},{"$f":"'COG-M'!P2806","v":0},{"$f":"'COG-M'!P2807","v":0},{"$f":"'COG-M'!P2808","v":0},{"$f":"'COG-M'!P2809","v":0},{"$f":"'COG-M'!P2810","v":0},{"$f":"'COG-M'!P2811","v":0},{"$f":"SUM(C373:L373)","v":0}]
[762,"Depósitos a largo plazo en moneda extranjera",{"$f":"'COG-M'!P2812","v":0},{"$f":"'COG-M'!P2813","v":0},{"$f":"'COG-M'!P2814","v":0},{"$f":"'COG-M'!P2815","v":0},{"$f":"'COG-M'!P2816","v":0},{"$f":"'COG-M'!P2817","v":0},{"$f":"'COG-M'!P2818","v":0},{"$f":"'COG-M'!P2819","v":0},{"$f":"'COG-M'!P2820","v":0},{"$f":"'COG-M'!P2821","v":0},{"$f":"SUM(C374:L374)","v":0}]
[7900,"PROVISIONES PARA CONTINGENCIAS Y OTRAS EROGACIONES ESPECIALES",{"$f":"SUM(C376:C378)","v":0},{"$f":"SUM(D376:D378)","v":0},0,0,0,0,0,0,0,0,0]
[791,"Contingencias por fenómenos naturales",{"$f":"'COG-M'!P2823","v":0},{"$f":"'COG-M'!P2824","v":0},{"$f":"'COG-M'!P2825","v":0},{"$f":"'COG-M'!P2826","v":0},{"$f":"'COG-M'!P2827","v":0},{"$f":"'COG-M'!P2828","v":0},{"$f":"'COG-M'!P2829","v":0},{"$f":"'COG-M'!P2830","v":0},{"$f":"'COG-M'!P2831","v":0},{"$f":"'COG-M'!P2832","v":0},{"$f":"SUM(C376:L376)","v":0}]
[792,"Contingencias socioeconómicas",{"$f":"'COG-M'!P2833","v":0},{"$f":"'COG-M'!P2834","v":0},{"$f":"'COG-M'!P2835","v":0},{"$f":"'COG-M'!P2836","v":0},{"$f":"'COG-M'!P2837","v":0},{"$f":"'COG-M'!P2838","v":0},{"$f":"'COG-M'!P2839","v":0},{"$f":"'COG-M'!P2840","v":0},{"$f":"'COG-M'!P2841","v":0},{"$f":"'COG-M'!P2842","v":0},{"$f":"SUM(C377:L377)","v":0}]
[799,"Otras erogaciones especiales",{"$f":"'COG-M'!P2843","v":0},{"$f":"'COG-M'!P2844","v":0},{"$f":"'COG-M'!P2845","v":0},{"$f":"'COG-M'!P2846","v":0},{"$f":"'COG-M'!P2847","v":0},{"$f":"'COG-M'!P2848","v":0},{"$f":"'COG-M'!P2849","v":0},{"$f":"'COG-M'!P2850","v":0},{"$f":"'COG-M'!P2851","v":0},{"$f":"'COG-M'!P2852","v":0},{"$f":"SUM(C378:L378)","v":0}]
[8000,"PARTICIPACIONES Y APORTACIONES",{"$f":"C380+C387+C393","v":0},{"$f":"D380+D387+D393","v":0},0,0,0,0,0,0,0,0,0]
[8100,"PARTICIPACIONES",{"$f":"SUM(C381:C386)","v":0},{"$f":"SUM(D381:D386)","v":0},0,0,0,0,0,0,0,0,0]
[811,"Fondo general de participaciones",null,null,null,null,null,null,null,null,null,null,{"$f":"SUM(C381:L381)","v":0}]
[812,"Fondo de fomento municipal",null,null,null,null,null,null,null,null,null,null,0]
[813,"Participaciones de las entidades federativas a los municipios",null,null,null,null,null,null,null,null,null,null,0]
[814,"Otros conceptos participables de la Federación a entidades federativas",null,null,null,null,null,null,null,null,null,null,0]
[815,"Otros conceptos participables de la Federación a municipios",null,null,null,null,null,null,null,null,null,null,0]
[816,"Convenios de colaboración administrativa",{"$f":"'COG-M'!P2860","v":0},{"$f":"'COG-M'!P2861","v":0},{"$f":"'COG-M'!P2862","v":0},{"$f":"'COG-M'!P2863","v":0},{"$f":"'COG-M'!P2864","v":0},{"$f":"'COG-M'!P2865","v":0},{"$f":"'COG-M'!P2866","v":0},{"$f":"'COG-M'!P2867","v":0},{"$f":"'COG-M'!P2868","v":0},{"$f":"'COG-M'!P2869","v":0},0]
[8300,"APORTACIONES",{"$f":"SUM(C388:C392)","v":0},{"$f":"SUM(D388:D392)","v":0},0,0,0,0,0,0,0,0,0]
[831,"Aportaciones de la Federación a las entidades federativas",null,null,null,null,null,null,null,null,null,null,{"$f":"SUM(C388:L388)","v":0}]
[832,"Aportaciones de la Federación a municipios",null,null,null,null,null,null,null,null,null,null,{"$f":"SUM(C389:L389)","v":0}]
[833,"Aportaciones de las entidades federativas a los municipios",null,null,null,null,null,null,null,null,null,null,{"$f":"SUM(C390:L390)","v":0}]
[834,"Aportaciones  previstas en leyes y decretos al sistema de protección social",null,null,null,null,null,null,null,null,null,null,{"$f":"SUM(C391:L391)","v":0}]
[835,"Aportaciones previstas en leyes y decretos compensatorias a entidades federativas y municipios",null,null,null,null,null,null,null,null,null,null,{"$f":"SUM(C392:L392)","v":0}]
[8500,"CONVENIOS",{"$f":"SUM(C394:C396)","v":0},{"$f":"SUM(D394:D396)","v":0},0,0,0,0,0,0,0,0,0]
[851,"Convenios de reasignación",{"$f":"'COG-M'!P2877","v":0},{"$f":"'COG-M'!P2878","v":0},{"$f":"'COG-M'!P2879","v":0},{"$f":"'COG-M'!P2880","v":0},{"$f":"'COG-M'!P2881","v":0},{"$f":"'COG-M'!P2882","v":0},{"$f":"'COG-M'!P2883","v":0},{"$f":"'COG-M'!P2884","v":0},{"$f":"'COG-M'!P2885","v":0},{"$f":"'COG-M'!P2886","v":0},{"$f":"SUM(C394:L394)","v":0}]
[852,"Convenios de descentralización",{"$f":"'COG-M'!P2887","v":0},{"$f":"'COG-M'!P2888","v":0},{"$f":"'COG-M'!P2889","v":0},{"$f":"'COG-M'!P2890","v":0},{"$f":"'COG-M'!P2891","v":0},{"$f":"'COG-M'!P2892","v":0},{"$f":"'COG-M'!P2893","v":0},{"$f":"'COG-M'!P2894","v":0},{"$f":"'COG-M'!P2895","v":0},{"$f":"'COG-M'!P2896","v":0},{"$f":"SUM(C395:L395)","v":0}]
[853,"Otros convenios",{"$f":"'COG-M'!P2897","v":0},{"$f":"'COG-M'!P2898","v":0},{"$f":"'COG-M'!P2899","v":0},{"$f":"'COG-M'!P2900","v":0},{"$f":"'COG-M'!P2901","v":0},{"$f":"'COG-M'!P2902","v":0},{"$f":"'COG-M'!P2903","v":0},{"$f":"'COG-M'!P2904","v":0},{"$f":"'COG-M'!P2905","v":0},{"$f":"'COG-M'!P2906","v":0},{"$f":"SUM(C396:L396)","v":0}]
[9000,"DEUDA  PÚBLICA",{"$f":"C398+C407+C416+C419+C422+C424+C427","v":0},{"$f":"D398+D407+D416+D419+D422+D424+D427","v":0},0,0,0,0,0,0,0,0,0]
[9100,"AMORTIZACIÓN DE LA DEUDA PÚBLICA ",{"$f":"SUM(C399:C406)","v":0},{"$f":"SUM(D399:D406)","v":0},0,0,0,0,0,0,0,0,0]
[911,"Amortización de la deuda interna con instituciones de crédito",{"$f":"'COG-M'!P2909","v":0},{"$f":"'COG-M'!P2910","v":0},{"$f":"'COG-M'!P2911","v":0},{"$f":"'COG-M'!P2912","v":0},{"$f":"'COG-M'!P2913","v":0},{"$f":"'COG-M'!P2914","v":0},{"$f":"'COG-M'!P2915","v":0},{"$f":"'COG-M'!P2916","v":0},{"$f":"'COG-M'!P2917","v":0},{"$f":"'COG-M'!P2918","v":0},{"$f":"SUM(C399:L399)","v":0}]
[912,"Amortización  de la deuda interna por emisión de títulos y valores",{"$f":"'COG-M'!P2919","v":0},{"$f":"'COG-M'!P2920","v":0},{"$f":"'COG-M'!P2921","v":0},{"$f":"'COG-M'!P2922","v":0},{"$f":"'COG-M'!P2923","v":0},{"$f":"'COG-M'!P2924","v":0},{"$f":"'COG-M'!P2925","v":0},{"$f":"'COG-M'!P2926","v":0},{"$f":"'COG-M'!P2927","v":0},{"$f":"'COG-M'!P2928","v":0},0]
[913,"Amortización de arrendamientos financieros nacionales",{"$f":"'COG-M'!P2929","v":0},{"$f":"'COG-M'!P2930","v":0},{"$f":"'COG-M'!P2931","v":0},{"$f":"'COG-M'!P2932","v":0},{"$f":"'COG-M'!P2933","v":0},{"$f":"'COG-M'!P2934","v":0},{"$f":"'COG-M'!P2935","v":0},{"$f":"'COG-M'!P2936","v":0},{"$f":"'COG-M'!P2937","v":0},{"$f":"'COG-M'!P2938","v":0},0]
[914,"Amortización de la deuda externa con instituciones de crédito ",null,null,null,null,null,null,null,null,null,null,0]
[915,"Amortización de deuda externa con organismos financieros internacionales",null,null,null,null,null,null,null,null,null,null,0]
[916,"Amortización de la deuda bilateral",null,null,null,null,null,null,null,null,null,null,0]
[917,"Amortización de la deuda externa por emisión de títulos y valores",null,null,null,null,null,null,null,null,null,null,0]
[918,"Amortización de arrendamientos financieros internacionales",null,null,null,null,null,null,null,null,null,null,0]
[9200,"INTERESES DE LA DEUDA PÚBLICA",{"$f":"SUM(C408:C415)","v":0},{"$f":"SUM(D408:D415)","v":0},0,0,0,0,0,0,0,0,0]
[921,"Intereses de la deuda interna con instituciones de crédito",{"$f":"'COG-M'!P2945","v":0},{"$f":"'COG-M'!P2946","v":0},{"$f":"'COG-M'!P2947","v":0},{"$f":"'COG-M'!P2948","v":0},{"$f":"'COG-M'!P2949","v":0},{"$f":"'COG-M'!P2950","v":0},{"$f":"'COG-M'!P2951","v":0},{"$f":"'COG-M'!P2952","v":0},{"$f":"'COG-M'!P2953","v":0},{"$f":"'COG-M'!P2954","v":0},{"$f":"SUM(C408:L408)","v":0}]
[922,"Intereses derivados de la colocación de títulos y valores",{"$f":"'COG-M'!P2955","v":0},{"$f":"'COG-M'!P2956","v":0},{"$f":"'COG-M'!P2957","v":0},{"$f":"'COG-M'!P2958","v":0},{"$f":"'COG-M'!P2959","v":0},{"$f":"'COG-M'!P2960","v":0},{"$f":"'COG-M'!P2961","v":0},{"$f":"'COG-M'!P2962","v":0},{"$f":"'COG-M'!P2963","v":0},{"$f":"'COG-M'!P2964","v":0},0]
[923,"Intereses por arrendamientos  financieros nacionales",{"$f":"'COG-M'!P2965","v":0},{"$f":"'COG-M'!P2966","v":0},{"$f":"'COG-M'!P2967","v":0},{"$f":"'COG-M'!P2968","v":0},{"$f":"'COG-M'!P2969","v":0},{"$f":"'COG-M'!P2970","v":0},{"$f":"'COG-M'!P2971","v":0},{"$f":"'COG-M'!P2972","v":0},{"$f":"'COG-M'!P2973","v":0},{"$f":"'COG-M'!P2974","v":0},0]
[924,"Intereses de la deuda externa con instituciones de crédito ",null,null,null,null,null,null,null,null,null,null,0]
[925,"Intereses de la deuda con organismos financieros internacionales",null,null,null,null,null,null,null,null,null,null,0]
[926,"Intereses de la deuda bilateral  ",null,null,null,null,null,null,null,null,null,null,0]
[927,"Intereses derivados de la colocación de títulos y valores en el exterior",null,null,null,null,null,null,null,null,null,null,0]
[928,"Intereses por arrendamientos financieros internacionales",null,null,null,null,null,null,null,null,null,null,0]
[9300,"COMISIONES DE LA DEUDA PÚBLICA",{"$f":"SUM(C417:C418)","v":0},{"$f":"SUM(D417:D418)","v":0},0,0,0,0,0,0,0,0,0]
[931,"Comisiones de la deuda pública interna",{"$f":"'COG-M'!P2981","v":0},{"$f":"'COG-M'!P2982","v":0},{"$f":"'COG-M'!P2983","v":0},{"$f":"'COG-M'!P2984","v":0},{"$f":"'COG-M'!P2985","v":0},{"$f":"'COG-M'!P2986","v":0},{"$f":"'COG-M'!P2987","v":0},{"$f":"'COG-M'!P2988","v":0},{"$f":"'COG-M'!P2989","v":0},{"$f":"'COG-M'!P2990","v":0},{"$f":"SUM(C417:L417)","v":0}]
[932,"Comisiones de la deuda pública externa",null,null,null,null,null,null,null,null,null,null,{"$f":"SUM(C418:L418)","v":0}]
[9400,"GASTOS DE LA DEUDA PÚBLICA",{"$f":"SUM(C420:C421)","v":0},{"$f":"SUM(D420:D421)","v":0},0,0,0,0,0,0,0,0,{"$f":"SUM(M420:M421)","v":0}]
[941,"Gastos de la deuda pública interna",{"$f":"'COG-M'!P2993","v":0},{"$f":"'COG-M'!P2994","v":0},{"$f":"'COG-M'!P2995","v":0},{"$f":"'COG-M'!P2996","v":0},{"$f":"'COG-M'!P2997","v":0},{"$f":"'COG-M'!P2998","v":0},{"$f":"'COG-M'!P2999","v":0},{"$f":"'COG-M'!P3000","v":0},{"$f":"'COG-M'!P3001","v":0},{"$f":"'COG-M'!P3002","v":0},{"$f":"SUM(C420:L420)","v":0}]
[942,"Gastos de la deuda  pública externa",null,null,null,null,null,null,null,null,null,null,{"$f":"SUM(C421:L421)","v":0}]
[9500,"COSTO POR COBERTURAS",{"$f":"SUM(C423)","v":0},{"$f":"SUM(D423)","v":0},0,0,0,0,0,0,0,0,0]
[951,"Costos por coberturas",{"$f":"'COG-M'!P3005","v":0},{"$f":"'COG-M'!P3006","v":0},{"$f":"'COG-M'!P3007","v":0},{"$f":"'COG-M'!P3008","v":0},{"$f":"'COG-M'!P3009","v":0},{"$f":"'COG-M'!P3010","v":0},{"$f":"'COG-M'!P3011","v":0},{"$f":"'COG-M'!P3012","v":0},{"$f":"'COG-M'!P3013","v":0},{"$f":"'COG-M'!P3014","v":0},{"$f":"SUM(C423:L423)","v":0}]
[9600,"APOYOS FINANCIEROS",{"$f":"SUM(C425:C426)","v":0},{"$f":"SUM(D425:D426)","v":0},0,0,0,0,0,0,0,0,0]
[961,"Apoyos a intermediarios financieros",null,null,null,null,null,null,null,null,null,null,{"$f":"SUM(C425:L425)","v":0}]
[962,"Apoyos a ahorradores y deudores del Sistema Financiero Nacional",null,null,null,null,null,null,null,null,null,null,{"$f":"SUM(C426:L426)","v":0}]
[9900,"ADEUDOS DE EJERCICIOS FISCALES ANTERIORES (ADEFAS)",{"$f":"SUM(C428)","v":0},{"$f":"SUM(D428)","v":0},0,0,0,0,0,0,0,0,0]
[991,"ADEFAS",{"$f":"'COG-M'!P3019","v":0},{"$f":"'COG-M'!P3020","v":0},{"$f":"'COG-M'!P3021","v":0},{"$f":"'COG-M'!P3022","v":0},{"$f":"'COG-M'!P3023","v":0},{"$f":"'COG-M'!P3024","v":0},{"$f":"'COG-M'!P3025","v":0},{"$f":"'COG-M'!P3026","v":0},{"$f":"'COG-M'!P3027","v":0},{"$f":"'COG-M'!P3028","v":0},{"$f":"SUM(C428:L428)","v":0}]
[null,"TOTAL DE EGRESOS",{"$f":"C3+C40+C105+C190+C250+C309+C331+C379+C397","v":0},0,0,0,0,0,0,0,{"$f":"K3+K40+K105+K190+K250+K309+K331+K379+K397","v":0},{"$f":"L3+L40+L105+L190+L250+L309+L331+L379+L397","v":0},{"$f":"M3+M40+M105+M190+M250+M309+M331+M379+M397","v":0}]

{"sheet":"CTG-FF","index":14,"n_rows":19,"n_cols":13,"rows_kept":19,"cut":false,"hidden":false,"merged":[[0,0,1,0],[0,1,1,1],[0,2,0,8],[0,9,0,11],[0,12,1,12]]}
["CTG","DESCRIPCIÓN","1.  NO ETIQUETADO",null,null,null,null,null,null,"2.  ETIQUETADO",null,null,"TOTAL ANUAL"]
[null,null,"1.1\nRECURSOS FISCALES","1.2\nFINANCIAMIENTOS INTERNOS","1.3\nFINANCIAMIENTOS EXTERNOS","1.4\nINGRESOS \nPROPIOS","1.5\nRECURSOS\nFEDERALES","1.6\nRECURSOS ESTATALES","1.7\nOTROS RECURSOS DE LIBRE DISPOSICIÓN","2.5 \nRECURSOS FEDERALES","2.6\nRECURSOS ESTATALES","2.7\nOTROS RECURSOS DE TRANSFERENCIAS FEDERALES ETIQUETADAS"]
[1,"Gasto corriente",{"$f":"SUM('COG-FF'!C3+'COG-FF'!C40+'COG-FF'!C105+'COG-FF'!C190-'COG-FF'!C226)","v":0},{"$f":"SUM('COG-FF'!D3+'COG-FF'!D40+'COG-FF'!D105+'COG-FF'!D190-'COG-FF'!D226)","v":0},{"$f":"SUM('COG-FF'!E3+'COG-FF'!E40+'COG-FF'!E105+'COG-FF'!E190-'COG-FF'!E226)","v":0},{"$f":"SUM('COG-FF'!F3+'COG-FF'!F40+'COG-FF'!F105+'COG-FF'!F190-'COG-FF'!F226)","v":0},{"$f":"SUM('COG-FF'!G3+'COG-FF'!G40+'COG-FF'!G105+'COG-FF'!G190-'COG-FF'!G226)","v":0},{"$f":"SUM('COG-FF'!H3+'COG-FF'!H40+'COG-FF'!H105+'COG-FF'!H190-'COG-FF'!H226)","v":0},{"$f":"SUM('COG-FF'!I3+'COG-FF'!I40+'COG-FF'!I105+'COG-FF'!I190-'COG-FF'!I226)","v":0},{"$f":"SUM('COG-FF'!J3+'COG-FF'!J40+'COG-FF'!J105+'COG-FF'!J190-'COG-FF'!J226)","v":0},{"$f":"SUM('COG-FF'!K3+'COG-FF'!K40+'COG-FF'!K105+'COG-FF'!K190-'COG-FF'!K226)","v":0},{"$f":"SUM('COG-FF'!L3+'COG-FF'!L40+'COG-FF'!L105+'COG-FF'!L190-'COG-FF'!L226)","v":0},{"$f":"SUM(C3:L3)","v":0}]
[2,"Gasto de capital",{"$f":"SUM('COG-FF'!C250+'COG-FF'!C309+'COG-FF'!C331)","v":0},{"$f":"SUM('COG-FF'!D250+'COG-FF'!D309+'COG-FF'!D331)","v":0},{"$f":"SUM('COG-FF'!E250+'COG-FF'!E309+'COG-FF'!E331)","v":0},{"$f":"SUM('COG-FF'!F250+'COG-FF'!F309+'COG-FF'!F331)","v":0},{"$f":"SUM('COG-FF'!G250+'COG-FF'!G309+'COG-FF'!G331)","v":0},{"$f":"SUM('COG-FF'!H250+'COG-FF'!H309+'COG-FF'!H331)","v":0},{"$f":"SUM('COG-FF'!I250+'COG-FF'!I309+'COG-FF'!I331)","v":0},{"$f":"SUM('COG-FF'!J250+'COG-FF'!J309+'COG-FF'!J331)","v":0},{"$f":"SUM('COG-FF'!K250+'COG-FF'!K309+'COG-FF'!K331)","v":0},{"$f":"SUM('COG-FF'!L250+'COG-FF'!L309+'COG-FF'!L331)","v":0},{"$f":"SUM(C4:L4)","v":0}]
[3,"Amortización de la deuda y disminución de pasivos",{"$f":"SUM('COG-FF'!C397)","v":0},{"$f":"SUM('COG-FF'!D397)","v":0},{"$f":"SUM('COG-FF'!E397)","v":0},{"$f":"SUM('COG-FF'!F397)","v":0},{"$f":"SUM('COG-FF'!G397)","v":0},{"$f":"SUM('COG-FF'!H397)","v":0},{"$f":"SUM('COG-FF'!I397)","v":0},{"$f":"SUM('COG-FF'!J397)","v":0},{"$f":"SUM('COG-FF'!K397)","v":0},{"$f":"SUM('COG-FF'!L397)","v":0},{"$f":"SUM(C5:L5)","v":0}]
[4,"Pensiones y jubilaciones",{"$f":"SUM('COG-FF'!C226)","v":0},{"$f":"SUM('COG-FF'!D226)","v":0},{"$f":"SUM('COG-FF'!E226)","v":0},{"$f":"SUM('COG-FF'!F226)","v":0},{"$f":"SUM('COG-FF'!G226)","v":0},{"$f":"SUM('COG-FF'!H226)","v":0},{"$f":"SUM('COG-FF'!I226)","v":0},{"$f":"SUM('COG-FF'!J226)","v":0},{"$f":"SUM('COG-FF'!K226)","v":0},{"$f":"SUM('COG-FF'!L226)","v":0},{"$f":"SUM(C6:L6)","v":0}]
[5,"Participaciones",{"$f":"SUM('COG-FF'!C379)","v":0},{"$f":"SUM('COG-FF'!D379)","v":0},{"$f":"SUM('COG-FF'!E379)","v":0},{"$f":"SUM('COG-FF'!F379)","v":0},{"$f":"SUM('COG-FF'!G379)","v":0},{"$f":"SUM('COG-FF'!H379)","v":0},{"$f":"SUM('COG-FF'!I379)","v":0},{"$f":"SUM('COG-FF'!J379)","v":0},{"$f":"SUM('COG-FF'!K379)","v":0},{"$f":"SUM('COG-FF'!L379)","v":0},{"$f":"SUM(C7:L7)","v":0}]
[null,"TOTAL DE EGRESOS",{"$f":"SUM(C3:C7)","v":0},{"$f":"SUM(D3:D7)","v":0},0,0,0,0,0,0,0,0,0]
[]
[]
[]
[]
["COG","DESCRIPCIÓN","CAPÍTULO 1000","CAPÍTULO 2000","CAPÍTULO 3000","CAPÍTULO 4000","CAPÍTULO 5000","CAPÍTULO 6000","CAPÍTULO 7000","CAPÍTULO 8000","CAPÍTULO 9000","TOTAL ANUAL"]
[1,"Gasto corriente",{"$f":"'COG-FF'!M3","v":0},{"$f":"'COG-FF'!M40","v":0},{"$f":"'COG-FF'!M105","v":0},{"$f":"SUM('COG-FF'!M190-'COG-FF'!M226)","v":0},null,null,null,null,null,{"$f":"SUM(C14:K14)","v":0}]
[2,"Gasto de capital",null,null,null,null,{"$f":"'COG-FF'!M250","v":0},{"$f":"'COG-FF'!M309","v":0},{"$f":"'COG-FF'!M331","v":0},null,null,{"$f":"SUM(C15:K15)","v":0}]
[3,"Amortización de la deuda y disminución de pasivos",null,null,null,null,null,null,null,null,{"$f":"'COG-FF'!M397","v":0},{"$f":"SUM(C16:K16)","v":0}]
[4,"Pensiones y jubilaciones",null,null,null,{"$f":"'COG-FF'!M226","v":0},null,null,null,null,null,{"$f":"SUM(C17:K17)","v":0}]
[5,"Participaciones",null,null,null,null,null,null,null,{"$f":"'COG-FF'!M379","v":0},null,{"$f":"SUM(C18:K18)","v":0}]
[null,"TOTAL DE EGRESOS",{"$f":"C14","v":0},{"$f":"D14","v":0},{"$f":"E14","v":0},{"$f":"SUM(F14+F17)","v":0},{"$f":"G15","v":0},{"$f":"H15","v":0},{"$f":"I15","v":0},{"$f":"J18","v":0},{"$f":"K16","v":0},{"$f":"SUM(L14:L18)","v":0}]